Workbook
Name C_0: OFFSET([0]!Normalization, 0, 1,1, Data!$C$248)
Name C_1: OFFSET([0]!Normalization, 3, 1,1, Data!$C$248)
Name C_10: OFFSET([0]!Normalization, 12, 1,1, Data!$C$248)
Name C_11: OFFSET([0]!Normalization, 13, 1,1, Data!$C$248)
Name C_12: OFFSET([0]!Normalization, 14, 1,1, Data!$C$248)
Name C_13: OFFSET([0]!Normalization, 15, 1,1, Data!$C$248)
Name C_14: OFFSET([0]!Normalization, 16, 1,1, Data!$C$248)
Name C_15: OFFSET([0]!Normalization, 17, 1,1, Data!$C$248)
Name C_16: OFFSET([0]!Normalization, 18, 1,1, Data!$C$248)
Name C_17: OFFSET([0]!Normalization, 19, 1,1, Data!$C$248)
Name C_18: OFFSET([0]!Normalization, 20, 1,1, Data!$C$248)
Name C_19: OFFSET([0]!Normalization, 21, 1,1, Data!$C$248)
Name C_2: OFFSET([0]!Normalization, 4, 1,1, Data!$C$248)
Name C_20: OFFSET([0]!Normalization, 22, 1,1, Data!$C$248)
Name C_21: OFFSET([0]!Normalization, 23, 1,1, Data!$C$248)
Name C_22: OFFSET([0]!Normalization, 24, 1,1, Data!$C$248)
Name C_23: OFFSET([0]!Normalization, 25, 1,1, Data!$C$248)
Name C_24: OFFSET([0]!Normalization, 26, 1,1, Data!$C$248)
Name C_25: OFFSET([0]!Normalization, 27, 1,1, Data!$C$248)
Name C_26: OFFSET([0]!Normalization, 28, 1,1, Data!$C$248)
Name C_27: OFFSET([0]!Normalization, 29, 1,1, Data!$C$248)
Name C_28: OFFSET([0]!Normalization, 30, 1,1, Data!$C$248)
Name C_29: OFFSET([0]!Normalization, 31, 1,1, Data!$C$248)
Name C_3: OFFSET([0]!Normalization, 5, 1,1, Data!$C$248)
Name C_30: OFFSET([0]!Normalization, 32, 1,1, Data!$C$248)
Name C_31: OFFSET([0]!Normalization, 33, 1,1, Data!$C$248)
Name C_32: OFFSET([0]!Normalization, 34, 1,1, Data!$C$248)
Name C_33: OFFSET([0]!Normalization, 35, 1,1, Data!$C$248)
Name C_34: OFFSET([0]!Normalization, 36, 1,1, Data!$C$248)
Name C_35: OFFSET([0]!Normalization, 37, 1,1, Data!$C$248)
Name C_36: OFFSET([0]!Normalization, 38, 1,1, Data!$C$248)
Name C_37: OFFSET([0]!Normalization, 39, 1,1, Data!$C$248)
Name C_38: OFFSET([0]!Normalization, 40, 1,1, Data!$C$248)
Name C_39: OFFSET([0]!Normalization, 41, 1,1, Data!$C$248)
Name C_4: OFFSET([0]!Normalization, 6, 1,1, Data!$C$248)
Name C_40: OFFSET([0]!Normalization, 42, 1,1, Data!$C$248)
Name C_41: OFFSET([0]!Normalization, 43, 1,1, Data!$C$248)
Name C_42: OFFSET([0]!Normalization, 44, 1,1, Data!$C$248)
Name C_43: OFFSET([0]!Normalization, 45, 1,1, Data!$C$248)
Name C_44: OFFSET([0]!Normalization, 46, 1,1, Data!$C$248)
Name C_45: OFFSET([0]!Normalization, 47, 1,1, Data!$C$248)
Name C_46: OFFSET([0]!Normalization, 48, 1,1, Data!$C$248)
Name C_47: OFFSET([0]!Normalization, 49, 1,1, Data!$C$248)
Name C_48: OFFSET([0]!Normalization, 50, 1,1, Data!$C$248)
Name C_49: OFFSET([0]!Normalization, 51, 1,1, Data!$C$248)
Name C_5: OFFSET([0]!Normalization, 7, 1,1, Data!$C$248)
Name C_50: OFFSET([0]!Normalization, 52, 1,1, Data!$C$248)
Name C_51: OFFSET([0]!Normalization, 53, 1,1, Data!$C$248)
Name C_52: OFFSET([0]!Normalization, 54, 1,1, Data!$C$248)
Name C_53: OFFSET([0]!Normalization, 55, 1,1, Data!$C$248)
Name C_54: OFFSET([0]!Normalization, 56, 1,1, Data!$C$248)
Name C_6: OFFSET([0]!Normalization, 8, 1,1, Data!$C$248)
Name C_7: OFFSET([0]!Normalization, 9, 1,1, Data!$C$248)
Name C_8: OFFSET([0]!Normalization, 10, 1,1, Data!$C$248)
Name C_9: OFFSET([0]!Normalization, 11, 1,1, Data!$C$248)
Name Normalization: Data!$B$249
Name P_1: OFFSET([0]!Normalization, 1, 1,1, Data!$C$248)
Name P_2: OFFSET([0]!Normalization, 2, 1,1, Data!$C$248)

Sheet Map
I3: GS Series Software Instructions
B5: POS1 | C5: POS2 | F5: =B5 -> POS1
B6: Caronte | C6: IFNg | F6: =C5 -> POS2 | I6: There are FOUR sheets in this EXCEL based macro software:
B7: IL-6 | C7: IL-10 | F7: =B6 -> Caronte | I7: 1. Map sheet: Array Map. GS serial products use quadruplicate spots for each antibody
B8: IL-12p40 | C8: IL-16 | F8: =C6 -> IFNg | I8: together with two positive controls (POS1 and POS2).
B9: IL-21 | C9: Netrin-2 | F9: =B7 -> IL-6 | I9: 2. Loading sheet: Load local background subtracted spot raw data here. These values are
B10: Pentraxin 3 | C10: RANTES | F10: =C7 -> IL-10 | I10: usually displayed as “F532 median – B532” or “F532 mean – B532”. This software is
F11: =B8 -> IL-12p40 | I11: good for up to 30 slides.
F12: =C8 -> IL-16 | I12: 3. Data sheet: There are three tables in this sheet:
F13: =B9 -> IL-21 | I13: a. Raw Data table: list the original quadruplicate value. Any outliers (35% above the
F14: =C9 -> Netrin-2 | I14: median value of the quadruplicate spots) are automatically flagged.
F15: =B10 -> Pentraxin 3 | I15: b. Average table: list the average value of the quadruplicate spots with outliers’ exclusion.
F16: =C10 -> RANTES | I16: c. Normalization table: All the values are normalized based upon POS-Ave, which is
F17: =B11 -> 0 | I17: calculated based upon the equal contribution of the two positive controls.
F18: =C11 -> 0 | I18: 4. Chart sheet: Clustered column chart for the individual marker and positive controls.
F19: =B12 -> 0
F20: =C12 -> 0
F21: =B13 -> 0
F22: =C13 -> 0
F23: =B14 -> 0
F24: =C14 -> 0
F25: =B15 -> 0
F26: =C15 -> 0
F27: =B16 -> 0
F28: =C16 -> 0
F29: =B17 -> 0
F30: =C17 -> 0
F31: =B18 -> 0
F32: =C18 -> 0

Sheet Loading
B2: Block | C2: Row | D2: Column | E2: Name | F2: Slide 1 | G2: Slide 2 | H2: Slide 3 | I2: Slide 4 | J2: Slide 5 | K2: Slide 6 | L2: Slide 7 | M2: Slide 8 | N2: Slide 9 | O2: Slide 10 | P2: Slide 11 | Q2: Slide 12 | R2: Slide 13 | S2: Slide 14 | T2: Slide 15 | U2: Slide 16 | V2: Slide 17 | W2: Slide 18 | X2: Slide 19 | Y2: Slide 20 | Z2: Slide 21 | AA2: Slide 22 | AB2: Slide 23 | AC2: Slide 24 | AD2: Slide 25 | AE2: Slide 26 | AF2: Slide 27 | AG2: Slide 28 | AH2: Slide 29 | AI2: Slide 30
B3: 1 | C3: 1 | D3: 1 | E3: =Data!B5 -> POS1
B4: 1 | C4: 1 | D4: 2 | E4: =Data!B6 -> POS1
B5: 1 | C5: 1 | D5: 3 | E5: =Data!B7 -> POS1
B6: 1 | C6: 1 | D6: 4 | E6: =Data!B8 -> POS1
B7: 1 | C7: 1 | D7: 5 | E7: =Data!B9 -> POS2
B8: 1 | C8: 1 | D8: 6 | E8: =Data!B10 -> POS2
B9: 1 | C9: 1 | D9: 7 | E9: =Data!B11 -> POS2
B10: 1 | C10: 1 | D10: 8 | E10: =Data!B12 -> POS2
B11: 1 | C11: 2 | D11: 1 | E11: =Data!B13 -> Caronte
B12: 1 | C12: 2 | D12: 2 | E12: =Data!B14 -> Caronte
B13: 1 | C13: 2 | D13: 3 | E13: =Data!B15 -> Caronte
B14: 1 | C14: 2 | D14: 4 | E14: =Data!B16 -> Caronte
... B50: 1 | C50: 6 | D50: 8 | E50: =Data!B52 -> RANTES
B51: 2 | C51: 1 | D51: 1 | E51: =E3 -> POS1
B52: 2 | C52: 1 | D52: 2 | E52: =E4 -> POS1
B53: 2 | C53: 1 | D53: 3 | E53: =E5 -> POS1
B54: 2 | C54: 1 | D54: 4 | E54: =E6 -> POS1
B55: 2 | C55: 1 | D55: 5 | E55: =E7 -> POS2
B56: 2 | C56: 1 | D56: 6 | E56: =E8 -> POS2
B57: 2 | C57: 1 | D57: 7 | E57: =E9 -> POS2
B58: 2 | C58: 1 | D58: 8 | E58: =E10 -> POS2
B59: 2 | C59: 2 | D59: 1 | E59: =E11 -> Caronte
B60: 2 | C60: 2 | D60: 2 | E60: =E12 -> Caronte
B61: 2 | C61: 2 | D61: 3 | E61: =E13 -> Caronte
B62: 2 | C62: 2 | D62: 4 | E62: =E14 -> Caronte
... B770: 16 | C770: 6 | D770: 8 | E770: =E722 -> RANTES

Sheet Data
C2: Raw Input Data | W2: Outliers Definition | Y2: 0.35
C3: Slide 1 | S3: Slide 2 | AI3: Slide 3 | AY3: Slide 4 | BO3: Slide 5 | CE3: Slide 6 | CU3: Slide 7 | DK3: Slide 8 | EA3: Slide 9 | EQ3: Slide 10 | FG3: Slide 11 | FW3: Slide 12 | GM3: Slide 13 | HC3: Slide 14 | HS3: Slide 15 | II3: Slide 16 | IY3: Slide 17 | JO3: Slide 18 | KE3: Slide 19 | KU3: Slide 20 | LK3: Slide 21 | MA3: Slide 22 | MQ3: Slide 23 | NG3: Slide 24 | NW3: Slide 25 | OM3: Slide 26 | PC3: Slide 27 | PS3: Slide 28 | QI3: Slide 29 | QY3: Slide 30
B4: Raw Data | C4: SA1 | D4: SA2 | E4: SA3 | F4: SA4 | G4: SA5 | H4: SA6 | I4: SA7 | J4: SA8 | K4: SA9 | L4: SA10 | M4: SA11 | N4: SA12 | O4: SA13 | P4: SA14 | Q4: SA15 | R4: SA16 | S4: SA17 | T4: SA18 | U4: SA19 | V4: SA20 | W4: SA21 | X4: SA22 | Y4: SA23 | Z4: SA24 | AA4: SA25 | AB4: SA26 | AC4: SA27 | AD4: SA28 | AE4: SA29 | AF4: SA30 | AG4: SA31 | AH4: SA32 | AI4: Std33 | AJ4: Std34 | AK4: Std35 | AL4: Std36 | AM4: Std37 | AN4: Std38 | AO4: Std39 | AP4: Std40 | AQ4: Std41 | AR4: Std42 | AS4: Std43 | AT4: Std44 | AU4: Std45 | AV4: Std46 | AW4: Std47 | AX4: Std48 | AY4: Std49 | AZ4: Std50 | BA4: Std51 | BB4: Std52 | BC4: Std53 | BD4: Std54 | BE4: Std55 | BF4: Std56 | BG4: Std57 | BH4: Std58 | BI4: Std59 | BJ4: Std60 | BK4: Std61 | BL4: Std62 | BM4: Std63 | BN4: Std64 | BO4: Std65 | BP4: Std66 | BQ4: Std67 | BR4: Std68 | BS4: Std69 | BT4: Std70 | BU4: Std71 | BV4: Std72 | BW4: Std73 | BX4: Std74 | BY4: Std75 | BZ4: Std76 | CA4: Std77 | CB4: Std78 | CC4: Std79 | CD4: Std80 | CE4: Std81 | CF4: Std82 | CG4: Std83 | CH4: Std84 | CI4: Std85 | CJ4: Std86 | CK4: Std87 | CL4: Std88 | CM4: Std89 | CN4: Std90 | CO4: Std91 | CP4: Std92 | CQ4: Std93 | CR4: Std94 | CS4: Std95 | CT4: Std96 | CU4: Std97 | CV4: Std98 | CW4: Std99 | CX4: Std100 | CY4: Std101 | CZ4: Std102 | DA4: Std103 | DB4: Std104 | DC4: Std105 | DD4: Std106 | DE4: Std107 | DF4: Std108 | DG4: Std109 | DH4: Std110 | DI4: Std111 | DJ4: Std112 | DK4: Std113 | DL4: Std114 | DM4: Std115 | DN4: Std116 | DO4: Std117 | DP4: Std118 | DQ4: Std119 | DR4: Std120 | DS4: Std121 | DT4: Std122 | DU4: Std123 | DV4: Std124 | DW4: Std125 | DX4: Std126 | DY4: Std127 | DZ4: Std128 | EA4: Std129 | EB4: Std130 | EC4: Std131 | ED4: Std132 | EE4: Std133 | EF4: Std134 | EG4: Std135 | EH4: Std136 | EI4: Std137 | EJ4: Std138 | EK4: Std139 | EL4: Std140 | EM4: Std141 | EN4: Std142 | EO4: Std143 | EP4: Std144 | EQ4: Std145 | ER4: Std146 | ES4: Std147 | ET4: Std148 | EU4: Std149 | EV4: Std150 | EW4: Std151 | EX4: Std152 | EY4: Std153 | EZ4: Std154 | FA4: Std155 | FB4: Std156 | FC4: Std157 | FD4: Std158 | FE4: Std159 | FF4: Std160 | FG4: Std161 | FH4: Std162 | FI4: Std163 | FJ4: Std164 | FK4: Std165 | FL4: Std166 | FM4: Std167 | FN4: Std168 | FO4: Std169 | FP4: Std170 | FQ4: Std171 | FR4: Std172 | FS4: Std173 | FT4: Std174 | FU4: Std175 | FV4: Std176 | FW4: Std177 | FX4: Std178 | FY4: Std179 | FZ4: Std180 | GA4: Std181 | GB4: Std182 | GC4: Std183 | GD4: Std184 | GE4: Std185 | GF4: Std186 | GG4: Std187 | GH4: Std188 | GI4: Std189 | GJ4: Std190 | GK4: Std191 | GL4: Std192 | GM4: Std193 | GN4: Std194 | GO4: Std195 | GP4: Std196 | GQ4: Std197 | GR4: Std198 | GS4: Std199 | GT4: Std200 | GU4: Std201 | GV4: Std202 | GW4: Std203 | GX4: Std204 | GY4: Std205 | GZ4: Std206 | HA4: Std207 | HB4: Std208 | HC4: Std209 | HD4: Std210 | HE4: Std211 | HF4: Std212 | HG4: Std213 | HH4: Std214 | HI4: Std215 | HJ4: Std216 | HK4: Std217 | HL4: Std218 | HM4: Std219 | HN4: Std220 | HO4: Std221 | HP4: Std222 | HQ4: Std223 | HR4: Std224 | HS4: Std225 | HT4: Std226 | HU4: Std227 | HV4: Std228 | HW4: Std229 | HX4: Std230 | HY4: Std231 | HZ4: Std232 | IA4: Std233 | IB4: Std234 | IC4: Std235 | ID4: Std236 | IE4: Std237 | IF4: Std238 | IG4: Std239 | IH4: Std240 | II4: Std241 | IJ4: Std242 | IK4: Std243 | IL4: Std244 | IM4: Std245 | IN4: Std246 | IO4: Std247 | IP4: Std248 | IQ4: Std249 | IR4: Std250 | IS4: Std251 | IT4: Std252 | IU4: Std253 | IV4: Std254 | IW4: Std255 | IX4: Std256 | IY4: Std257 | IZ4: Std258 | JA4: Std259 | JB4: Std260 | JC4: Std261 | JD4: Std262 | JE4: Std263 | JF4: Std264 | JG4: Std265 | JH4: Std266 | JI4: Std267 | JJ4: Std268 | JK4: Std269 | JL4: Std270 | JM4: Std271 | JN4: Std272 | JO4: Std273 | JP4: Std274 | JQ4: Std275 | JR4: Std276 | JS4: Std277 | JT4: Std278 | JU4: Std279 | JV4: Std280 | JW4: Std281 | JX4: Std282 | JY4: Std283 | JZ4: Std284 | KA4: Std285 | KB4: Std286 | KC4: Std287 | KD4: Std288 | KE4: Std289 | KF4: Std290 | KG4: Std291 | KH4: Std292 | KI4: Std293 | KJ4: Std294 | KK4: Std295 | KL4: Std296 | KM4: Std297 | KN4: Std298 | KO4: Std299 | KP4: Std300 | KQ4: Std301 | KR4: Std302 | KS4: Std303 | KT4: Std304 | KU4: Std305 | KV4: Std306 | KW4: Std307 | KX4: Std308 | KY4: Std309 | KZ4: Std310 | LA4: Std311 | LB4: Std312 | LC4: Std313 | LD4: Std314 | LE4: Std315 | LF4: Std316 | LG4: Std317 | LH4: Std318 | LI4: Std319 | LJ4: Std320 | LK4: Std321 | LL4: Std322 | LM4: Std323 | LN4: Std324 | LO4: Std325 | LP4: Std326 | LQ4: Std327 | LR4: Std328 | LS4: Std329 | LT4: Std330 | LU4: Std331 | LV4: Std332 | LW4: Std333 | LX4: Std334 | LY4: Std335 | LZ4: Std336 | MA4: Std337 | MB4: Std338 | MC4: Std339 | MD4: Std340 | ME4: Std341 | MF4: Std342 | MG4: Std343 | MH4: Std344 | MI4: Std345 | MJ4: Std346 | MK4: Std347 | ML4: Std348 | MM4: Std349 | MN4: Std350 | MO4: Std351 | MP4: Std352 | MQ4: Std353 | MR4: Std354 | MS4: Std355 | MT4: Std356 | MU4: Std357 | MV4: Std358 | MW4: Std359 | MX4: Std360 | MY4: Std361 | MZ4: Std362 | NA4: Std363 | NB4: Std364 | NC4: Std365 | ND4: Std366 | NE4: Std367 | NF4: Std368 | NG4: Std369 | NH4: Std370 | NI4: Std371 | NJ4: Std372 | NK4: Std373 | NL4: Std374 | NM4: Std375 | NN4: Std376 | NO4: Std377 | NP4: Std378 | NQ4: Std379 | NR4: Std380 | NS4: Std381 | NT4: Std382 | NU4: Std383 | NV4: Std384 | NW4: Std385 | NX4: Std386 | NY4: Std387 | NZ4: Std388 | OA4: Std389 | OB4: Std390 | OC4: Std391 | OD4: Std392 | OE4: Std393 | OF4: Std394 | OG4: Std395 | OH4: Std396 | OI4: Std397 | OJ4: Std398 | OK4: Std399 | OL4: Std400 | OM4: Std401 | ON4: Std402 | OO4: Std403 | OP4: Std404 | OQ4: Std405 | OR4: Std406 | OS4: Std407 | OT4: Std408 | OU4: Std409 | OV4: Std410 | OW4: Std411 | OX4: Std412 | OY4: Std413 | OZ4: Std414 | PA4: Std415 | PB4: Std416 | PC4: Std417 | PD4: Std418 | PE4: Std419 | PF4: Std420 | PG4: Std421 | PH4: Std422 | PI4: Std423 | PJ4: Std424 | PK4: Std425 | PL4: Std426 | PM4: Std427 | PN4: Std428 | PO4: Std429 | PP4: Std430 | PQ4: Std431 | PR4: Std432 | PS4: Std433 | PT4: Std434 | PU4: Std435 | PV4: Std436 | PW4: Std437 | PX4: Std438 | PY4: Std439 | PZ4: Std440 | QA4: Std441 | QB4: Std442 | QC4: Std443 | QD4: Std444 | QE4: Std445 | QF4: Std446 | QG4: Std447 | QH4: Std448 | QI4: Std449 | QJ4: Std450 | QK4: Std451 | QL4: Std452 | QM4: Std453 | QN4: Std454 | QO4: Std455 | QP4: Std456 | QQ4: Std457 | QR4: Std458 | QS4: Std459 | QT4: Std460 | QU4: Std461 | QV4: Std462 | QW4: Std463 | QX4: Std464 | QY4: Std465 | QZ4: Std466 | RA4: Std467 | RB4: Std468 | RC4: Std469 | RD4: Std470 | RE4: Std471 | RF4: Std472 | RG4: Std473 | RH4: Std474 | RI4: Std475 | RJ4: Std476 | RK4: Std477 | RL4: Std478 | RM4: Std479 | RN4: Std480 | SN4: =C4 -> SA1 | SO4: =D4 -> SA2 | SP4: =E4 -> SA3 | SQ4: =F4 -> SA4 | SR4: =G4 -> SA5 | SS4: =H4 -> SA6 | ST4: =I4 -> SA7 | SU4: =J4 -> SA8 | ... ALS4: =SH4 -> 0
B5: =Map!F5 -> POS1 | C5: =IF(Loading!F3<0, 0, Loading!F3) -> 0 | D5: =IF(Loading!F51<0, 0, Loading!F51) -> 0 | E5: =IF(Loading!F99<0, 0, Loading!F99) -> 0 | F5: =IF(Loading!F147<0, 0, Loading!F147) -> 0 | G5: =IF(Loading!F195<0, 0, Loading!F195) -> 0 | H5: =IF(Loading!F243<0, 0, Loading!F243) -> 0 | I5: =IF(Loading!F291<0, 0, Loading!F291) -> 0 | J5: =IF(Loading!F339<0, 0, Loading!F339) -> 0 | K5: =IF(Loading!F387<0, 0, Loading!F387) -> 0 | L5: =IF(Loading!F435<0, 0, Loading!F435) -> 0 | M5: =IF(Loading!F483<0, 0, Loading!F483) -> 0 | N5: =IF(Loading!F531<0, 0, Loading!F531) -> 0 | O5: =IF(Loading!F579<0, 0, Loading!F579) -> 0 | P5: =IF(Loading!F627<0, 0, Loading!F627) -> 0 | Q5: =IF(Loading!F675<0, 0, Loading!F675) -> 0 | R5: =IF(Loading!F723<0, 0, Loading!F723) -> 0 | S5: =IF(Loading!G3<0, 0, Loading!G3) -> 0 | T5: =IF(Loading!G51<0, 0, Loading!G51) -> 0 | U5: =IF(Loading!G99<0, 0, Loading!G99) -> 0 | V5: =IF(Loading!G147<0, 0, Loading!G147) -> 0 | W5: =IF(Loading!G195<0, 0, Loading!G195) -> 0 | X5: =IF(Loading!G243<0, 0, Loading!G243) -> 0 | Y5: =IF(Loading!G291<0, 0, Loading!G291) -> 0 | Z5: =IF(Loading!G339<0, 0, Loading!G339) -> 0 | AA5: =IF(Loading!G387<0, 0, Loading!G387) -> 0 | AB5: =IF(Loading!G435<0, 0, Loading!G435) -> 0 | AC5: =IF(Loading!G483<0, 0, Loading!G483) -> 0 | AD5: =IF(Loading!G531<0, 0, Loading!G531) -> 0 | AE5: =IF(Loading!G579<0, 0, Loading!G579) -> 0 | AF5: =IF(Loading!G627<0, 0, Loading!G627) -> 0 | AG5: =IF(Loading!G675<0, 0, Loading!G675) -> 0 | AH5: =IF(Loading!G723<0, 0, Loading!G723) -> 0 | AI5: =IF(Loading!H3<0, 0, Loading!H3) -> 0 | AJ5: =IF(Loading!H51<0, 0, Loading!H51) -> 0 | AK5: =IF(Loading!H99<0, 0, Loading!H99) -> 0 | AL5: =IF(Loading!H147<0, 0, Loading!H147) -> 0 | AM5: =IF(Loading!H195<0, 0, Loading!H195) -> 0 | AN5: =IF(Loading!H243<0, 0, Loading!H243) -> 0 | AO5: =IF(Loading!H291<0, 0, Loading!H291) -> 0 | AP5: =IF(Loading!H339<0, 0, Loading!H339) -> 0 | AQ5: =IF(Loading!H387<0, 0, Loading!H387) -> 0 | AR5: =IF(Loading!H435<0, 0, Loading!H435) -> 0 | AS5: =IF(Loading!H483<0, 0, Loading!H483) -> 0 | AT5: =IF(Loading!H531<0, 0, Loading!H531) -> 0 | AU5: =IF(Loading!H579<0, 0, Loading!H579) -> 0 | AV5: =IF(Loading!H627<0, 0, Loading!H627) -> 0 | AW5: =IF(Loading!H675<0, 0, Loading!H675) -> 0 | AX5: =IF(Loading!H723<0, 0, Loading!H723) -> 0 | AY5: =IF(Loading!I3<0, 0, Loading!I3) -> 0 | AZ5: =IF(Loading!I51<0, 0, Loading!I51) -> 0 | BA5: =IF(Loading!I99<0, 0, Loading!I99) -> 0 | BB5: =IF(Loading!I147<0, 0, Loading!I147) -> 0 | BC5: =IF(Loading!I195<0, 0, Loading!I195) -> 0 | BD5: =IF(Loading!I243<0, 0, Loading!I243) -> 0 | BE5: =IF(Loading!I291<0, 0, Loading!I291) -> 0 | BF5: =IF(Loading!I339<0, 0, Loading!I339) -> 0 | BG5: =IF(Loading!I387<0, 0, Loading!I387) -> 0 | BH5: =IF(Loading!I435<0, 0, Loading!I435) -> 0 | BI5: =IF(Loading!I483<0, 0, Loading!I483) -> 0 | BJ5: =IF(Loading!I531<0, 0, Loading!I531) -> 0 | BK5: =IF(Loading!I579<0, 0, Loading!I579) -> 0 | BL5: =IF(Loading!I627<0, 0, Loading!I627) -> 0 | BM5: =IF(Loading!I675<0, 0, Loading!I675) -> 0 | BN5: =IF(Loading!I723<0, 0, Loading!I723) -> 0 | BO5: =IF(Loading!J3<0, 0, Loading!J3) -> 0 | BP5: =IF(Loading!J51<0, 0, Loading!J51) -> 0 | BQ5: =IF(Loading!J99<0, 0, Loading!J99) -> 0 | BR5: =IF(Loading!J147<0, 0, Loading!J147) -> 0 | BS5: =IF(Loading!J195<0, 0, Loading!J195) -> 0 | BT5: =IF(Loading!J243<0, 0, Loading!J243) -> 0 | BU5: =IF(Loading!J291<0, 0, Loading!J291) -> 0 | BV5: =IF(Loading!J339<0, 0, Loading!J339) -> 0 | BW5: =IF(Loading!J387<0, 0, Loading!J387) -> 0 | BX5: =IF(Loading!J435<0, 0, Loading!J435) -> 0 | BY5: =IF(Loading!J483<0, 0, Loading!J483) -> 0 | BZ5: =IF(Loading!J531<0, 0, Loading!J531) -> 0 | CA5: =IF(Loading!J579<0, 0, Loading!J579) -> 0 | CB5: =IF(Loading!J627<0, 0, Loading!J627) -> 0 | CC5: =IF(Loading!J675<0, 0, Loading!J675) -> 0 | CD5: =IF(Loading!J723<0, 0, Loading!J723) -> 0 | CE5: =IF(Loading!K3<0, 0, Loading!K3) -> 0 | CF5: =IF(Loading!K51<0, 0, Loading!K51) -> 0 | CG5: =IF(Loading!K99<0, 0, Loading!K99) -> 0 | CH5: =IF(Loading!K147<0, 0, Loading!K147) -> 0 | CI5: =IF(Loading!K195<0, 0, Loading!K195) -> 0 | CJ5: =IF(Loading!K243<0, 0, Loading!K243) -> 0 | CK5: =IF(Loading!K291<0, 0, Loading!K291) -> 0 | CL5: =IF(Loading!K339<0, 0, Loading!K339) -> 0 | CM5: =IF(Loading!K387<0, 0, Loading!K387) -> 0 | CN5: =IF(Loading!K435<0, 0, Loading!K435) -> 0 | CO5: =IF(Loading!K483<0, 0, Loading!K483) -> 0 | CP5: =IF(Loading!K531<0, 0, Loading!K531) -> 0 | CQ5: =IF(Loading!K579<0, 0, Loading!K579) -> 0 | CR5: =IF(Loading!K627<0, 0, Loading!K627) -> 0 | CS5: =IF(Loading!K675<0, 0, Loading!K675) -> 0 | CT5: =IF(Loading!K723<0, 0, Loading!K723) -> 0 | CU5: =IF(Loading!L3<0, 0, Loading!L3) -> 0 | CV5: =IF(Loading!L51<0, 0, Loading!L51) -> 0 | CW5: =IF(Loading!L99<0, 0, Loading!L99) -> 0 | CX5: =IF(Loading!L147<0, 0, Loading!L147) -> 0 | CY5: =IF(Loading!L195<0, 0, Loading!L195) -> 0 | CZ5: =IF(Loading!L243<0, 0, Loading!L243) -> 0 | DA5: =IF(Loading!L291<0, 0, Loading!L291) -> 0 | DB5: =IF(Loading!L339<0, 0, Loading!L339) -> 0 | DC5: =IF(Loading!L387<0, 0, Loading!L387) -> 0 | DD5: =IF(Loading!L435<0, 0, Loading!L435) -> 0 | DE5: =IF(Loading!L483<0, 0, Loading!L483) -> 0 | DF5: =IF(Loading!L531<0, 0, Loading!L531) -> 0 | DG5: =IF(Loading!L579<0, 0, Loading!L579) -> 0 | DH5: =IF(Loading!L627<0, 0, Loading!L627) -> 0 | DI5: =IF(Loading!L675<0, 0, Loading!L675) -> 0 | DJ5: =IF(Loading!L723<0, 0, Loading!L723) -> 0 | DK5: =IF(Loading!M3<0, 0, Loading!M3) -> 0 | DL5: =IF(Loading!M51<0, 0, Loading!M51) -> 0 | DM5: =IF(Loading!M99<0, 0, Loading!M99) -> 0 | DN5: =IF(Loading!M147<0, 0, Loading!M147) -> 0 | DO5: =IF(Loading!M195<0, 0, Loading!M195) -> 0 | DP5: =IF(Loading!M243<0, 0, Loading!M243) -> 0 | DQ5: =IF(Loading!M291<0, 0, Loading!M291) -> 0 | DR5: =IF(Loading!M339<0, 0, Loading!M339) -> 0 | DS5: =IF(Loading!M387<0, 0, Loading!M387) -> 0 | DT5: =IF(Loading!M435<0, 0, Loading!M435) -> 0 | DU5: =IF(Loading!M483<0, 0, Loading!M483) -> 0 | DV5: =IF(Loading!M531<0, 0, Loading!M531) -> 0 | DW5: =IF(Loading!M579<0, 0, Loading!M579) -> 0 | DX5: =IF(Loading!M627<0, 0, Loading!M627) -> 0 | DY5: =IF(Loading!M675<0, 0, Loading!M675) -> 0 | DZ5: =IF(Loading!M723<0, 0, Loading!M723) -> 0 | EA5: =IF(Loading!N3<0, 0, Loading!N3) -> 0 | EB5: =IF(Loading!N51<0, 0, Loading!N51) -> 0 | EC5: =IF(Loading!N99<0, 0, Loading!N99) -> 0 | ED5: =IF(Loading!N147<0, 0, Loading!N147) -> 0 | EE5: =IF(Loading!N195<0, 0, Loading!N195) -> 0 | EF5: =IF(Loading!N243<0, 0, Loading!N243) -> 0 | EG5: =IF(Loading!N291<0, 0, Loading!N291) -> 0 | EH5: =IF(Loading!N339<0, 0, Loading!N339) -> 0 | EI5: =IF(Loading!N387<0, 0, Loading!N387) -> 0 | EJ5: =IF(Loading!N435<0, 0, Loading!N435) -> 0 | EK5: =IF(Loading!N483<0, 0, Loading!N483) -> 0 | EL5: =IF(Loading!N531<0, 0, Loading!N531) -> 0 | EM5: =IF(Loading!N579<0, 0, Loading!N579) -> 0 | EN5: =IF(Loading!N627<0, 0, Loading!N627) -> 0 | EO5: =IF(Loading!N675<0, 0, Loading!N675) -> 0 | EP5: =IF(Loading!N723<0, 0, Loading!N723) -> 0 | EQ5: =IF(Loading!O3<0, 0, Loading!O3) -> 0 | ER5: =IF(Loading!O51<0, 0, Loading!O51) -> 0 | ES5: =IF(Loading!O99<0, 0, Loading!O99) -> 0 | ET5: =IF(Loading!O147<0, 0, Loading!O147) -> 0 | EU5: =IF(Loading!O195<0, 0, Loading!O195) -> 0 | EV5: =IF(Loading!O243<0, 0, Loading!O243) -> 0 | EW5: =IF(Loading!O291<0, 0, Loading!O291) -> 0 | EX5: =IF(Loading!O339<0, 0, Loading!O339) -> 0 | EY5: =IF(Loading!O387<0, 0, Loading!O387) -> 0 | EZ5: =IF(Loading!O435<0, 0, Loading!O435) -> 0 | FA5: =IF(Loading!O483<0, 0, Loading!O483) -> 0 | FB5: =IF(Loading!O531<0, 0, Loading!O531) -> 0 | FC5: =IF(Loading!O579<0, 0, Loading!O579) -> 0 | FD5: =IF(Loading!O627<0, 0, Loading!O627) -> 0 | FE5: =IF(Loading!O675<0, 0, Loading!O675) -> 0 | FF5: =IF(Loading!O723<0, 0, Loading!O723) -> 0 | FG5: =IF(Loading!P3<0, 0, Loading!P3) -> 0 | FH5: =IF(Loading!P51<0, 0, Loading!P51) -> 0 | FI5: =IF(Loading!P99<0, 0, Loading!P99) -> 0 | FJ5: =IF(Loading!P147<0, 0, Loading!P147) -> 0 | FK5: =IF(Loading!P195<0, 0, Loading!P195) -> 0 | FL5: =IF(Loading!P243<0, 0, Loading!P243) -> 0 | FM5: =IF(Loading!P291<0, 0, Loading!P291) -> 0 | FN5: =IF(Loading!P339<0, 0, Loading!P339) -> 0 | FO5: =IF(Loading!P387<0, 0, Loading!P387) -> 0 | FP5: =IF(Loading!P435<0, 0, Loading!P435) -> 0 | FQ5: =IF(Loading!P483<0, 0, Loading!P483) -> 0 | FR5: =IF(Loading!P531<0, 0, Loading!P531) -> 0 | FS5: =IF(Loading!P579<0, 0, Loading!P579) -> 0 | FT5: =IF(Loading!P627<0, 0, Loading!P627) -> 0 | FU5: =IF(Loading!P675<0, 0, Loading!P675) -> 0 | FV5: =IF(Loading!P723<0, 0, Loading!P723) -> 0 | FW5: =IF(Loading!Q3<0, 0, Loading!Q3) -> 0 | FX5: =IF(Loading!Q51<0, 0, Loading!Q51) -> 0 | FY5: =IF(Loading!Q99<0, 0, Loading!Q99) -> 0 | FZ5: =IF(Loading!Q147<0, 0, Loading!Q147) -> 0 | GA5: =IF(Loading!Q195<0, 0, Loading!Q195) -> 0 | GB5: =IF(Loading!Q243<0, 0, Loading!Q243) -> 0 | GC5: =IF(Loading!Q291<0, 0, Loading!Q291) -> 0 | GD5: =IF(Loading!Q339<0, 0, Loading!Q339) -> 0 | GE5: =IF(Loading!Q387<0, 0, Loading!Q387) -> 0 | GF5: =IF(Loading!Q435<0, 0, Loading!Q435) -> 0 | GG5: =IF(Loading!Q483<0, 0, Loading!Q483) -> 0 | GH5: =IF(Loading!Q531<0, 0, Loading!Q531) -> 0 | GI5: =IF(Loading!Q579<0, 0, Loading!Q579) -> 0 | GJ5: =IF(Loading!Q627<0, 0, Loading!Q627) -> 0 | GK5: =IF(Loading!Q675<0, 0, Loading!Q675) -> 0 | GL5: =IF(Loading!Q723<0, 0, Loading!Q723) -> 0 | GM5: =IF(Loading!R3<0, 0, Loading!R3) -> 0 | GN5: =IF(Loading!R51<0, 0, Loading!R51) -> 0 | GO5: =IF(Loading!R99<0, 0, Loading!R99) -> 0 | GP5: =IF(Loading!R147<0, 0, Loading!R147) -> 0 | GQ5: =IF(Loading!R195<0, 0, Loading!R195) -> 0 | GR5: =IF(Loading!R243<0, 0, Loading!R243) -> 0 | GS5: =IF(Loading!R291<0, 0, Loading!R291) -> 0 | GT5: =IF(Loading!R339<0, 0, Loading!R339) -> 0 | GU5: =IF(Loading!R387<0, 0, Loading!R387) -> 0 | GV5: =IF(Loading!R435<0, 0, Loading!R435) -> 0 | GW5: =IF(Loading!R483<0, 0, Loading!R483) -> 0 | GX5: =IF(Loading!R531<0, 0, Loading!R531) -> 0 | GY5: =IF(Loading!R579<0, 0, Loading!R579) -> 0 | GZ5: =IF(Loading!R627<0, 0, Loading!R627) -> 0 | HA5: =IF(Loading!R675<0, 0, Loading!R675) -> 0 | HB5: =IF(Loading!R723<0, 0, Loading!R723) -> 0 | HC5: =IF(Loading!S3<0, 0, Loading!S3) -> 0 | HD5: =IF(Loading!S51<0, 0, Loading!S51) -> 0 | HE5: =IF(Loading!S99<0, 0, Loading!S99) -> 0 | HF5: =IF(Loading!S147<0, 0, Loading!S147) -> 0 | HG5: =IF(Loading!S195<0, 0, Loading!S195) -> 0 | HH5: =IF(Loading!S243<0, 0, Loading!S243) -> 0 | HI5: =IF(Loading!S291<0, 0, Loading!S291) -> 0 | HJ5: =IF(Loading!S339<0, 0, Loading!S339) -> 0 | HK5: =IF(Loading!S387<0, 0, Loading!S387) -> 0 | HL5: =IF(Loading!S435<0, 0, Loading!S435) -> 0 | HM5: =IF(Loading!S483<0, 0, Loading!S483) -> 0 | HN5: =IF(Loading!S531<0, 0, Loading!S531) -> 0 | HO5: =IF(Loading!S579<0, 0, Loading!S579) -> 0 | HP5: =IF(Loading!S627<0, 0, Loading!S627) -> 0 | HQ5: =IF(Loading!S675<0, 0, Loading!S675) -> 0 | HR5: =IF(Loading!S723<0, 0, Loading!S723) -> 0 | HS5: =IF(Loading!T3<0, 0, Loading!T3) -> 0 | HT5: =IF(Loading!T51<0, 0, Loading!T51) -> 0 | HU5: =IF(Loading!T99<0, 0, Loading!T99) -> 0 | HV5: =IF(Loading!T147<0, 0, Loading!T147) -> 0 | HW5: =IF(Loading!T195<0, 0, Loading!T195) -> 0 | HX5: =IF(Loading!T243<0, 0, Loading!T243) -> 0 | HY5: =IF(Loading!T291<0, 0, Loading!T291) -> 0 | HZ5: =IF(Loading!T339<0, 0, Loading!T339) -> 0 | IA5: =IF(Loading!T387<0, 0, Loading!T387) -> 0 | IB5: =IF(Loading!T435<0, 0, Loading!T435) -> 0 | IC5: =IF(Loading!T483<0, 0, Loading!T483) -> 0 | ID5: =IF(Loading!T531<0, 0, Loading!T531) -> 0 | IE5: =IF(Loading!T579<0, 0, Loading!T579) -> 0 | IF5: =IF(Loading!T627<0, 0, Loading!T627) -> 0 | IG5: =IF(Loading!T675<0, 0, Loading!T675) -> 0 | IH5: =IF(Loading!T723<0, 0, Loading!T723) -> 0 | II5: =IF(Loading!U3<0, 0, Loading!U3) -> 0 | IJ5: =IF(Loading!U51<0, 0, Loading!U51) -> 0 | IK5: =IF(Loading!U99<0, 0, Loading!U99) -> 0 | IL5: =IF(Loading!U147<0, 0, Loading!U147) -> 0 | IM5: =IF(Loading!U195<0, 0, Loading!U195) -> 0 | IN5: =IF(Loading!U243<0, 0, Loading!U243) -> 0 | IO5: =IF(Loading!U291<0, 0, Loading!U291) -> 0 | IP5: =IF(Loading!U339<0, 0, Loading!U339) -> 0 | IQ5: =IF(Loading!U387<0, 0, Loading!U387) -> 0 | IR5: =IF(Loading!U435<0, 0, Loading!U435) -> 0 | IS5: =IF(Loading!U483<0, 0, Loading!U483) -> 0 | IT5: =IF(Loading!U531<0, 0, Loading!U531) -> 0 | IU5: =IF(Loading!U579<0, 0, Loading!U579) -> 0 | IV5: =IF(Loading!U627<0, 0, Loading!U627) -> 0 | IW5: =IF(Loading!U675<0, 0, Loading!U675) -> 0 | IX5: =IF(Loading!U723<0, 0, Loading!U723) -> 0 | IY5: =IF(Loading!V3<0, 0, Loading!V3) -> 0 | IZ5: =IF(Loading!V51<0, 0, Loading!V51) -> 0 | JA5: =IF(Loading!V99<0, 0, Loading!V99) -> 0 | JB5: =IF(Loading!V147<0, 0, Loading!V147) -> 0 | JC5: =IF(Loading!V195<0, 0, Loading!V195) -> 0 | JD5: =IF(Loading!V243<0, 0, Loading!V243) -> 0 | JE5: =IF(Loading!V291<0, 0, Loading!V291) -> 0 | JF5: =IF(Loading!V339<0, 0, Loading!V339) -> 0 | JG5: =IF(Loading!V387<0, 0, Loading!V387) -> 0 | JH5: =IF(Loading!V435<0, 0, Loading!V435) -> 0 | JI5: =IF(Loading!V483<0, 0, Loading!V483) -> 0 | JJ5: =IF(Loading!V531<0, 0, Loading!V531) -> 0 | JK5: =IF(Loading!V579<0, 0, Loading!V579) -> 0 | JL5: =IF(Loading!V627<0, 0, Loading!V627) -> 0 | JM5: =IF(Loading!V675<0, 0, Loading!V675) -> 0 | JN5: =IF(Loading!V723<0, 0, Loading!V723) -> 0 | JO5: =IF(Loading!W3<0, 0, Loading!W3) -> 0 | JP5: =IF(Loading!W51<0, 0, Loading!W51) -> 0 | JQ5: =IF(Loading!W99<0, 0, Loading!W99) -> 0 | JR5: =IF(Loading!W147<0, 0, Loading!W147) -> 0 | JS5: =IF(Loading!W195<0, 0, Loading!W195) -> 0 | JT5: =IF(Loading!W243<0, 0, Loading!W243) -> 0 | JU5: =IF(Loading!W291<0, 0, Loading!W291) -> 0 | JV5: =IF(Loading!W339<0, 0, Loading!W339) -> 0 | JW5: =IF(Loading!W387<0, 0, Loading!W387) -> 0 | JX5: =IF(Loading!W435<0, 0, Loading!W435) -> 0 | JY5: =IF(Loading!W483<0, 0, Loading!W483) -> 0 | JZ5: =IF(Loading!W531<0, 0, Loading!W531) -> 0 | KA5: =IF(Loading!W579<0, 0, Loading!W579) -> 0 | KB5: =IF(Loading!W627<0, 0, Loading!W627) -> 0 | KC5: =IF(Loading!W675<0, 0, Loading!W675) -> 0 | KD5: =IF(Loading!W723<0, 0, Loading!W723) -> 0 | KE5: =IF(Loading!X3<0, 0, Loading!X3) -> 0 | KF5: =IF(Loading!X51<0, 0, Loading!X51) -> 0 | KG5: =IF(Loading!X99<0, 0, Loading!X99) -> 0 | KH5: =IF(Loading!X147<0, 0, Loading!X147) -> 0 | KI5: =IF(Loading!X195<0, 0, Loading!X195) -> 0 | KJ5: =IF(Loading!X243<0, 0, Loading!X243) -> 0 | KK5: =IF(Loading!X291<0, 0, Loading!X291) -> 0 | KL5: =IF(Loading!X339<0, 0, Loading!X339) -> 0 | KM5: =IF(Loading!X387<0, 0, Loading!X387) -> 0 | KN5: =IF(Loading!X435<0, 0, Loading!X435) -> 0 | KO5: =IF(Loading!X483<0, 0, Loading!X483) -> 0 | KP5: =IF(Loading!X531<0, 0, Loading!X531) -> 0 | KQ5: =IF(Loading!X579<0, 0, Loading!X579) -> 0 | KR5: =IF(Loading!X627<0, 0, Loading!X627) -> 0 | KS5: =IF(Loading!X675<0, 0, Loading!X675) -> 0 | KT5: =IF(Loading!X723<0, 0, Loading!X723) -> 0 | KU5: =IF(Loading!Y3<0, 0, Loading!Y3) -> 0 | KV5: =IF(Loading!Y51<0, 0, Loading!Y51) -> 0 | KW5: =IF(Loading!Y99<0, 0, Loading!Y99) -> 0 | KX5: =IF(Loading!Y147<0, 0, Loading!Y147) -> 0 | KY5: =IF(Loading!Y195<0, 0, Loading!Y195) -> 0 | KZ5: =IF(Loading!Y243<0, 0, Loading!Y243) -> 0 | LA5: =IF(Loading!Y291<0, 0, Loading!Y291) -> 0 | LB5: =IF(Loading!Y339<0, 0, Loading!Y339) -> 0 | LC5: =IF(Loading!Y387<0, 0, Loading!Y387) -> 0 | LD5: =IF(Loading!Y435<0, 0, Loading!Y435) -> 0 | LE5: =IF(Loading!Y483<0, 0, Loading!Y483) -> 0 | LF5: =IF(Loading!Y531<0, 0, Loading!Y531) -> 0 | LG5: =IF(Loading!Y579<0, 0, Loading!Y579) -> 0 | LH5: =IF(Loading!Y627<0, 0, Loading!Y627) -> 0 | LI5: =IF(Loading!Y675<0, 0, Loading!Y675) -> 0 | LJ5: =IF(Loading!Y723<0, 0, Loading!Y723) -> 0 | LK5: =IF(Loading!Z3<0, 0, Loading!Z3) -> 0 | LL5: =IF(Loading!Z51<0, 0, Loading!Z51) -> 0 | LM5: =IF(Loading!Z99<0, 0, Loading!Z99) -> 0 | LN5: =IF(Loading!Z147<0, 0, Loading!Z147) -> 0 | LO5: =IF(Loading!Z195<0, 0, Loading!Z195) -> 0 | LP5: =IF(Loading!Z243<0, 0, Loading!Z243) -> 0 | LQ5: =IF(Loading!Z291<0, 0, Loading!Z291) -> 0 | LR5: =IF(Loading!Z339<0, 0, Loading!Z339) -> 0 | LS5: =IF(Loading!Z387<0, 0, Loading!Z387) -> 0 | LT5: =IF(Loading!Z435<0, 0, Loading!Z435) -> 0 | LU5: =IF(Loading!Z483<0, 0, Loading!Z483) -> 0 | LV5: =IF(Loading!Z531<0, 0, Loading!Z531) -> 0 | LW5: =IF(Loading!Z579<0, 0, Loading!Z579) -> 0 | LX5: =IF(Loading!Z627<0, 0, Loading!Z627) -> 0 | LY5: =IF(Loading!Z675<0, 0, Loading!Z675) -> 0 | LZ5: =IF(Loading!Z723<0, 0, Loading!Z723) -> 0 | MA5: =IF(Loading!AA3<0, 0, Loading!AA3) -> 0 | MB5: =IF(Loading!AA51<0, 0, Loading!AA51) -> 0 | MC5: =IF(Loading!AA99<0, 0, Loading!AA99) -> 0 | MD5: =IF(Loading!AA147<0, 0, Loading!AA147) -> 0 | ME5: =IF(Loading!AA195<0, 0, Loading!AA195) -> 0 | MF5: =IF(Loading!AA243<0, 0, Loading!AA243) -> 0 | MG5: =IF(Loading!AA291<0, 0, Loading!AA291) -> 0 | MH5: =IF(Loading!AA339<0, 0, Loading!AA339) -> 0 | MI5: =IF(Loading!AA387<0, 0, Loading!AA387) -> 0 | MJ5: =IF(Loading!AA435<0, 0, Loading!AA435) -> 0 | MK5: =IF(Loading!AA483<0, 0, Loading!AA483) -> 0 | ML5: =IF(Loading!AA531<0, 0, Loading!AA531) -> 0 | MM5: =IF(Loading!AA579<0, 0, Loading!AA579) -> 0 | MN5: =IF(Loading!AA627<0, 0, Loading!AA627) -> 0 | MO5: =IF(Loading!AA675<0, 0, Loading!AA675) -> 0 | MP5: =IF(Loading!AA723<0, 0, Loading!AA723) -> 0 | MQ5: =IF(Loading!AB3<0, 0, Loading!AB3) -> 0 | MR5: =IF(Loading!AB51<0, 0, Loading!AB51) -> 0 | MS5: =IF(Loading!AB99<0, 0, Loading!AB99) -> 0 | MT5: =IF(Loading!AB147<0, 0, Loading!AB147) -> 0 | MU5: =IF(Loading!AB195<0, 0, Loading!AB195) -> 0 | MV5: =IF(Loading!AB243<0, 0, Loading!AB243) -> 0 | MW5: =IF(Loading!AB291<0, 0, Loading!AB291) -> 0 | MX5: =IF(Loading!AB339<0, 0, Loading!AB339) -> 0 | MY5: =IF(Loading!AB387<0, 0, Loading!AB387) -> 0 | MZ5: =IF(Loading!AB435<0, 0, Loading!AB435) -> 0 | NA5: =IF(Loading!AB483<0, 0, Loading!AB483) -> 0 | NB5: =IF(Loading!AB531<0, 0, Loading!AB531) -> 0 | NC5: =IF(Loading!AB579<0, 0, Loading!AB579) -> 0 | ND5: =IF(Loading!AB627<0, 0, Loading!AB627) -> 0 | NE5: =IF(Loading!AB675<0, 0, Loading!AB675) -> 0 | NF5: =IF(Loading!AB723<0, 0, Loading!AB723) -> 0 | NG5: =IF(Loading!AC3<0, 0, Loading!AC3) -> 0 | NH5: =IF(Loading!AC51<0, 0, Loading!AC51) -> 0 | NI5: =IF(Loading!AC99<0, 0, Loading!AC99) -> 0 | NJ5: =IF(Loading!AC147<0, 0, Loading!AC147) -> 0 | NK5: =IF(Loading!AC195<0, 0, Loading!AC195) -> 0 | NL5: =IF(Loading!AC243<0, 0, Loading!AC243) -> 0 | NM5: =IF(Loading!AC291<0, 0, Loading!AC291) -> 0 | NN5: =IF(Loading!AC339<0, 0, Loading!AC339) -> 0 | NO5: =IF(Loading!AC387<0, 0, Loading!AC387) -> 0 | NP5: =IF(Loading!AC435<0, 0, Loading!AC435) -> 0 | NQ5: =IF(Loading!AC483<0, 0, Loading!AC483) -> 0 | NR5: =IF(Loading!AC531<0, 0, Loading!AC531) -> 0 | NS5: =IF(Loading!AC579<0, 0, Loading!AC579) -> 0 | NT5: =IF(Loading!AC627<0, 0, Loading!AC627) -> 0 | NU5: =IF(Loading!AC675<0, 0, Loading!AC675) -> 0 | NV5: =IF(Loading!AC723<0, 0, Loading!AC723) -> 0 | NW5: =IF(Loading!AD3<0, 0, Loading!AD3) -> 0 | NX5: =IF(Loading!AD51<0, 0, Loading!AD51) -> 0 | NY5: =IF(Loading!AD99<0, 0, Loading!AD99) -> 0 | NZ5: =IF(Loading!AD147<0, 0, Loading!AD147) -> 0 | OA5: =IF(Loading!AD195<0, 0, Loading!AD195) -> 0 | OB5: =IF(Loading!AD243<0, 0, Loading!AD243) -> 0 | OC5: =IF(Loading!AD291<0, 0, Loading!AD291) -> 0 | OD5: =IF(Loading!AD339<0, 0, Loading!AD339) -> 0 | OE5: =IF(Loading!AD387<0, 0, Loading!AD387) -> 0 | OF5: =IF(Loading!AD435<0, 0, Loading!AD435) -> 0 | OG5: =IF(Loading!AD483<0, 0, Loading!AD483) -> 0 | OH5: =IF(Loading!AD531<0, 0, Loading!AD531) -> 0 | OI5: =IF(Loading!AD579<0, 0, Loading!AD579) -> 0 | OJ5: =IF(Loading!AD627<0, 0, Loading!AD627) -> 0 | OK5: =IF(Loading!AD675<0, 0, Loading!AD675) -> 0 | OL5: =IF(Loading!AD723<0, 0, Loading!AD723) -> 0 | OM5: =IF(Loading!AE3<0, 0, Loading!AE3) -> 0 | ON5: =IF(Loading!AE51<0, 0, Loading!AE51) -> 0 | OO5: =IF(Loading!AE99<0, 0, Loading!AE99) -> 0 | OP5: =IF(Loading!AE147<0, 0, Loading!AE147) -> 0 | OQ5: =IF(Loading!AE195<0, 0, Loading!AE195) -> 0 | OR5: =IF(Loading!AE243<0, 0, Loading!AE243) -> 0 | OS5: =IF(Loading!AE291<0, 0, Loading!AE291) -> 0 | OT5: =IF(Loading!AE339<0, 0, Loading!AE339) -> 0 | OU5: =IF(Loading!AE387<0, 0, Loading!AE387) -> 0 | OV5: =IF(Loading!AE435<0, 0, Loading!AE435) -> 0 | OW5: =IF(Loading!AE483<0, 0, Loading!AE483) -> 0 | OX5: =IF(Loading!AE531<0, 0, Loading!AE531) -> 0 | OY5: =IF(Loading!AE579<0, 0, Loading!AE579) -> 0 | OZ5: =IF(Loading!AE627<0, 0, Loading!AE627) -> 0 | PA5: =IF(Loading!AE675<0, 0, Loading!AE675) -> 0 | PB5: =IF(Loading!AE723<0, 0, Loading!AE723) -> 0 | PC5: =IF(Loading!AF3<0, 0, Loading!AF3) -> 0 | PD5: =IF(Loading!AF51<0, 0, Loading!AF51) -> 0 | PE5: =IF(Loading!AF99<0, 0, Loading!AF99) -> 0 | PF5: =IF(Loading!AF147<0, 0, Loading!AF147) -> 0 | PG5: =IF(Loading!AF195<0, 0, Loading!AF195) -> 0 | PH5: =IF(Loading!AF243<0, 0, Loading!AF243) -> 0 | PI5: =IF(Loading!AF291<0, 0, Loading!AF291) -> 0 | PJ5: =IF(Loading!AF339<0, 0, Loading!AF339) -> 0 | PK5: =IF(Loading!AF387<0, 0, Loading!AF387) -> 0 | PL5: =IF(Loading!AF435<0, 0, Loading!AF435) -> 0 | PM5: =IF(Loading!AF483<0, 0, Loading!AF483) -> 0 | PN5: =IF(Loading!AF531<0, 0, Loading!AF531) -> 0 | PO5: =IF(Loading!AF579<0, 0, Loading!AF579) -> 0 | PP5: =IF(Loading!AF627<0, 0, Loading!AF627) -> 0 | PQ5: =IF(Loading!AF675<0, 0, Loading!AF675) -> 0 | PR5: =IF(Loading!AF723<0, 0, Loading!AF723) -> 0 | PS5: =IF(Loading!AG3<0, 0, Loading!AG3) -> 0 | PT5: =IF(Loading!AG51<0, 0, Loading!AG51) -> 0 | PU5: =IF(Loading!AG99<0, 0, Loading!AG99) -> 0 | PV5: =IF(Loading!AG147<0, 0, Loading!AG147) -> 0 | PW5: =IF(Loading!AG195<0, 0, Loading!AG195) -> 0 | PX5: =IF(Loading!AG243<0, 0, Loading!AG243) -> 0 | PY5: =IF(Loading!AG291<0, 0, Loading!AG291) -> 0 | PZ5: =IF(Loading!AG339<0, 0, Loading!AG339) -> 0 | QA5: =IF(Loading!AG387<0, 0, Loading!AG387) -> 0 | QB5: =IF(Loading!AG435<0, 0, Loading!AG435) -> 0 | QC5: =IF(Loading!AG483<0, 0, Loading!AG483) -> 0 | QD5: =IF(Loading!AG531<0, 0, Loading!AG531) -> 0 | QE5: =IF(Loading!AG579<0, 0, Loading!AG579) -> 0 | QF5: =IF(Loading!AG627<0, 0, Loading!AG627) -> 0 | QG5: =IF(Loading!AG675<0, 0, Loading!AG675) -> 0 | QH5: =IF(Loading!AG723<0, 0, Loading!AG723) -> 0 | QI5: =IF(Loading!AH3<0, 0, Loading!AH3) -> 0 | QJ5: =IF(Loading!AH51<0, 0, Loading!AH51) -> 0 | QK5: =IF(Loading!AH99<0, 0, Loading!AH99) -> 0 | QL5: =IF(Loading!AH147<0, 0, Loading!AH147) -> 0 | QM5: =IF(Loading!AH195<0, 0, Loading!AH195) -> 0 | QN5: =IF(Loading!AH243<0, 0, Loading!AH243) -> 0 | QO5: =IF(Loading!AH291<0, 0, Loading!AH291) -> 0 | QP5: =IF(Loading!AH339<0, 0, Loading!AH339) -> 0 | QQ5: =IF(Loading!AH387<0, 0, Loading!AH387) -> 0 | QR5: =IF(Loading!AH435<0, 0, Loading!AH435) -> 0 | QS5: =IF(Loading!AH483<0, 0, Loading!AH483) -> 0 | QT5: =IF(Loading!AH531<0, 0, Loading!AH531) -> 0 | QU5: =IF(Loading!AH579<0, 0, Loading!AH579) -> 0 | QV5: =IF(Loading!AH627<0, 0, Loading!AH627) -> 0 | QW5: =IF(Loading!AH675<0, 0, Loading!AH675) -> 0 | QX5: =IF(Loading!AH723<0, 0, Loading!AH723) -> 0 | QY5: =IF(Loading!AI3<0, 0, Loading!AI3) -> 0 | QZ5: =IF(Loading!AI51<0, 0, Loading!AI51) -> 0 | RA5: =IF(Loading!AI99<0, 0, Loading!AI99) -> 0 | RB5: =IF(Loading!AI147<0, 0, Loading!AI147) -> 0 | RC5: =IF(Loading!AI195<0, 0, Loading!AI195) -> 0 | RD5: =IF(Loading!AI243<0, 0, Loading!AI243) -> 0 | RE5: =IF(Loading!AI291<0, 0, Loading!AI291) -> 0 | RF5: =IF(Loading!AI339<0, 0, Loading!AI339) -> 0 | RG5: =IF(Loading!AI387<0, 0, Loading!AI387) -> 0 | RH5: =IF(Loading!AI435<0, 0, Loading!AI435) -> 0 | RI5: =IF(Loading!AI483<0, 0, Loading!AI483) -> 0 | RJ5: =IF(Loading!AI531<0, 0, Loading!AI531) -> 0 | RK5: =IF(Loading!AI579<0, 0, Loading!AI579) -> 0 | RL5: =IF(Loading!AI627<0, 0, Loading!AI627) -> 0 | RM5: =IF(Loading!AI675<0, 0, Loading!AI675) -> 0 | RN5: =IF(Loading!AI723<0, 0, Loading!AI723) -> 0 | SN5: =(1+$Y$2)*MEDIAN(C5:C8) -> 0 | SO5: =(1+$Y$2)*MEDIAN(D5:D8) -> 0 | SP5: =(1+$Y$2)*MEDIAN(E5:E8) -> 0 | SQ5: =(1+$Y$2)*MEDIAN(F5:F8) -> 0 | SR5: =(1+$Y$2)*MEDIAN(G5:G8) -> 0 | SS5: =(1+$Y$2)*MEDIAN(H5:H8) -> 0 | ST5: =(1+$Y$2)*MEDIAN(I5:I8) -> 0 | SU5: =(1+$Y$2)*MEDIAN(J5:J8) -> 0 | ... ALS5: =(1+$Y$2)*MEDIAN(SH5:SH8) -> #NUM!
B6: =B5 -> POS1 | C6: =IF(Loading!F4<0, 0, Loading!F4) -> 0 | D6: =IF(Loading!F52<0, 0, Loading!F52) -> 0 | E6: =IF(Loading!F100<0, 0, Loading!F100) -> 0 | F6: =IF(Loading!F148<0, 0, Loading!F148) -> 0 | G6: =IF(Loading!F196<0, 0, Loading!F196) -> 0 | H6: =IF(Loading!F244<0, 0, Loading!F244) -> 0 | I6: =IF(Loading!F292<0, 0, Loading!F292) -> 0 | J6: =IF(Loading!F340<0, 0, Loading!F340) -> 0 | K6: =IF(Loading!F388<0, 0, Loading!F388) -> 0 | L6: =IF(Loading!F436<0, 0, Loading!F436) -> 0 | M6: =IF(Loading!F484<0, 0, Loading!F484) -> 0 | N6: =IF(Loading!F532<0, 0, Loading!F532) -> 0 | O6: =IF(Loading!F580<0, 0, Loading!F580) -> 0 | P6: =IF(Loading!F628<0, 0, Loading!F628) -> 0 | Q6: =IF(Loading!F676<0, 0, Loading!F676) -> 0 | R6: =IF(Loading!F724<0, 0, Loading!F724) -> 0 | S6: =IF(Loading!G4<0, 0, Loading!G4) -> 0 | T6: =IF(Loading!G52<0, 0, Loading!G52) -> 0 | U6: =IF(Loading!G100<0, 0, Loading!G100) -> 0 | V6: =IF(Loading!G148<0, 0, Loading!G148) -> 0 | W6: =IF(Loading!G196<0, 0, Loading!G196) -> 0 | X6: =IF(Loading!G244<0, 0, Loading!G244) -> 0 | Y6: =IF(Loading!G292<0, 0, Loading!G292) -> 0 | Z6: =IF(Loading!G340<0, 0, Loading!G340) -> 0 | AA6: =IF(Loading!G388<0, 0, Loading!G388) -> 0 | AB6: =IF(Loading!G436<0, 0, Loading!G436) -> 0 | AC6: =IF(Loading!G484<0, 0, Loading!G484) -> 0 | AD6: =IF(Loading!G532<0, 0, Loading!G532) -> 0 | AE6: =IF(Loading!G580<0, 0, Loading!G580) -> 0 | AF6: =IF(Loading!G628<0, 0, Loading!G628) -> 0 | AG6: =IF(Loading!G676<0, 0, Loading!G676) -> 0 | AH6: =IF(Loading!G724<0, 0, Loading!G724) -> 0 | AI6: =IF(Loading!H4<0, 0, Loading!H4) -> 0 | AJ6: =IF(Loading!H52<0, 0, Loading!H52) -> 0 | AK6: =IF(Loading!H100<0, 0, Loading!H100) -> 0 | AL6: =IF(Loading!H148<0, 0, Loading!H148) -> 0 | AM6: =IF(Loading!H196<0, 0, Loading!H196) -> 0 | AN6: =IF(Loading!H244<0, 0, Loading!H244) -> 0 | AO6: =IF(Loading!H292<0, 0, Loading!H292) -> 0 | AP6: =IF(Loading!H340<0, 0, Loading!H340) -> 0 | AQ6: =IF(Loading!H388<0, 0, Loading!H388) -> 0 | AR6: =IF(Loading!H436<0, 0, Loading!H436) -> 0 | AS6: =IF(Loading!H484<0, 0, Loading!H484) -> 0 | AT6: =IF(Loading!H532<0, 0, Loading!H532) -> 0 | AU6: =IF(Loading!H580<0, 0, Loading!H580) -> 0 | AV6: =IF(Loading!H628<0, 0, Loading!H628) -> 0 | AW6: =IF(Loading!H676<0, 0, Loading!H676) -> 0 | AX6: =IF(Loading!H724<0, 0, Loading!H724) -> 0 | AY6: =IF(Loading!I4<0, 0, Loading!I4) -> 0 | AZ6: =IF(Loading!I52<0, 0, Loading!I52) -> 0 | BA6: =IF(Loading!I100<0, 0, Loading!I100) -> 0 | BB6: =IF(Loading!I148<0, 0, Loading!I148) -> 0 | BC6: =IF(Loading!I196<0, 0, Loading!I196) -> 0 | BD6: =IF(Loading!I244<0, 0, Loading!I244) -> 0 | BE6: =IF(Loading!I292<0, 0, Loading!I292) -> 0 | BF6: =IF(Loading!I340<0, 0, Loading!I340) -> 0 | BG6: =IF(Loading!I388<0, 0, Loading!I388) -> 0 | BH6: =IF(Loading!I436<0, 0, Loading!I436) -> 0 | BI6: =IF(Loading!I484<0, 0, Loading!I484) -> 0 | BJ6: =IF(Loading!I532<0, 0, Loading!I532) -> 0 | BK6: =IF(Loading!I580<0, 0, Loading!I580) -> 0 | BL6: =IF(Loading!I628<0, 0, Loading!I628) -> 0 | BM6: =IF(Loading!I676<0, 0, Loading!I676) -> 0 | BN6: =IF(Loading!I724<0, 0, Loading!I724) -> 0 | BO6: =IF(Loading!J4<0, 0, Loading!J4) -> 0 | BP6: =IF(Loading!J52<0, 0, Loading!J52) -> 0 | BQ6: =IF(Loading!J100<0, 0, Loading!J100) -> 0 | BR6: =IF(Loading!J148<0, 0, Loading!J148) -> 0 | BS6: =IF(Loading!J196<0, 0, Loading!J196) -> 0 | BT6: =IF(Loading!J244<0, 0, Loading!J244) -> 0 | BU6: =IF(Loading!J292<0, 0, Loading!J292) -> 0 | BV6: =IF(Loading!J340<0, 0, Loading!J340) -> 0 | BW6: =IF(Loading!J388<0, 0, Loading!J388) -> 0 | BX6: =IF(Loading!J436<0, 0, Loading!J436) -> 0 | BY6: =IF(Loading!J484<0, 0, Loading!J484) -> 0 | BZ6: =IF(Loading!J532<0, 0, Loading!J532) -> 0 | CA6: =IF(Loading!J580<0, 0, Loading!J580) -> 0 | CB6: =IF(Loading!J628<0, 0, Loading!J628) -> 0 | CC6: =IF(Loading!J676<0, 0, Loading!J676) -> 0 | CD6: =IF(Loading!J724<0, 0, Loading!J724) -> 0 | CE6: =IF(Loading!K4<0, 0, Loading!K4) -> 0 | CF6: =IF(Loading!K52<0, 0, Loading!K52) -> 0 | CG6: =IF(Loading!K100<0, 0, Loading!K100) -> 0 | CH6: =IF(Loading!K148<0, 0, Loading!K148) -> 0 | CI6: =IF(Loading!K196<0, 0, Loading!K196) -> 0 | CJ6: =IF(Loading!K244<0, 0, Loading!K244) -> 0 | CK6: =IF(Loading!K292<0, 0, Loading!K292) -> 0 | CL6: =IF(Loading!K340<0, 0, Loading!K340) -> 0 | CM6: =IF(Loading!K388<0, 0, Loading!K388) -> 0 | CN6: =IF(Loading!K436<0, 0, Loading!K436) -> 0 | CO6: =IF(Loading!K484<0, 0, Loading!K484) -> 0 | CP6: =IF(Loading!K532<0, 0, Loading!K532) -> 0 | CQ6: =IF(Loading!K580<0, 0, Loading!K580) -> 0 | CR6: =IF(Loading!K628<0, 0, Loading!K628) -> 0 | CS6: =IF(Loading!K676<0, 0, Loading!K676) -> 0 | CT6: =IF(Loading!K724<0, 0, Loading!K724) -> 0 | CU6: =IF(Loading!L4<0, 0, Loading!L4) -> 0 | CV6: =IF(Loading!L52<0, 0, Loading!L52) -> 0 | CW6: =IF(Loading!L100<0, 0, Loading!L100) -> 0 | CX6: =IF(Loading!L148<0, 0, Loading!L148) -> 0 | CY6: =IF(Loading!L196<0, 0, Loading!L196) -> 0 | CZ6: =IF(Loading!L244<0, 0, Loading!L244) -> 0 | DA6: =IF(Loading!L292<0, 0, Loading!L292) -> 0 | DB6: =IF(Loading!L340<0, 0, Loading!L340) -> 0 | DC6: =IF(Loading!L388<0, 0, Loading!L388) -> 0 | DD6: =IF(Loading!L436<0, 0, Loading!L436) -> 0 | DE6: =IF(Loading!L484<0, 0, Loading!L484) -> 0 | DF6: =IF(Loading!L532<0, 0, Loading!L532) -> 0 | DG6: =IF(Loading!L580<0, 0, Loading!L580) -> 0 | DH6: =IF(Loading!L628<0, 0, Loading!L628) -> 0 | DI6: =IF(Loading!L676<0, 0, Loading!L676) -> 0 | DJ6: =IF(Loading!L724<0, 0, Loading!L724) -> 0 | DK6: =IF(Loading!M4<0, 0, Loading!M4) -> 0 | DL6: =IF(Loading!M52<0, 0, Loading!M52) -> 0 | DM6: =IF(Loading!M100<0, 0, Loading!M100) -> 0 | DN6: =IF(Loading!M148<0, 0, Loading!M148) -> 0 | DO6: =IF(Loading!M196<0, 0, Loading!M196) -> 0 | DP6: =IF(Loading!M244<0, 0, Loading!M244) -> 0 | DQ6: =IF(Loading!M292<0, 0, Loading!M292) -> 0 | DR6: =IF(Loading!M340<0, 0, Loading!M340) -> 0 | DS6: =IF(Loading!M388<0, 0, Loading!M388) -> 0 | DT6: =IF(Loading!M436<0, 0, Loading!M436) -> 0 | DU6: =IF(Loading!M484<0, 0, Loading!M484) -> 0 | DV6: =IF(Loading!M532<0, 0, Loading!M532) -> 0 | DW6: =IF(Loading!M580<0, 0, Loading!M580) -> 0 | DX6: =IF(Loading!M628<0, 0, Loading!M628) -> 0 | DY6: =IF(Loading!M676<0, 0, Loading!M676) -> 0 | DZ6: =IF(Loading!M724<0, 0, Loading!M724) -> 0 | EA6: =IF(Loading!N4<0, 0, Loading!N4) -> 0 | EB6: =IF(Loading!N52<0, 0, Loading!N52) -> 0 | EC6: =IF(Loading!N100<0, 0, Loading!N100) -> 0 | ED6: =IF(Loading!N148<0, 0, Loading!N148) -> 0 | EE6: =IF(Loading!N196<0, 0, Loading!N196) -> 0 | EF6: =IF(Loading!N244<0, 0, Loading!N244) -> 0 | EG6: =IF(Loading!N292<0, 0, Loading!N292) -> 0 | EH6: =IF(Loading!N340<0, 0, Loading!N340) -> 0 | EI6: =IF(Loading!N388<0, 0, Loading!N388) -> 0 | EJ6: =IF(Loading!N436<0, 0, Loading!N436) -> 0 | EK6: =IF(Loading!N484<0, 0, Loading!N484) -> 0 | EL6: =IF(Loading!N532<0, 0, Loading!N532) -> 0 | EM6: =IF(Loading!N580<0, 0, Loading!N580) -> 0 | EN6: =IF(Loading!N628<0, 0, Loading!N628) -> 0 | EO6: =IF(Loading!N676<0, 0, Loading!N676) -> 0 | EP6: =IF(Loading!N724<0, 0, Loading!N724) -> 0 | EQ6: =IF(Loading!O4<0, 0, Loading!O4) -> 0 | ER6: =IF(Loading!O52<0, 0, Loading!O52) -> 0 | ES6: =IF(Loading!O100<0, 0, Loading!O100) -> 0 | ET6: =IF(Loading!O148<0, 0, Loading!O148) -> 0 | EU6: =IF(Loading!O196<0, 0, Loading!O196) -> 0 | EV6: =IF(Loading!O244<0, 0, Loading!O244) -> 0 | EW6: =IF(Loading!O292<0, 0, Loading!O292) -> 0 | EX6: =IF(Loading!O340<0, 0, Loading!O340) -> 0 | EY6: =IF(Loading!O388<0, 0, Loading!O388) -> 0 | EZ6: =IF(Loading!O436<0, 0, Loading!O436) -> 0 | FA6: =IF(Loading!O484<0, 0, Loading!O484) -> 0 | FB6: =IF(Loading!O532<0, 0, Loading!O532) -> 0 | FC6: =IF(Loading!O580<0, 0, Loading!O580) -> 0 | FD6: =IF(Loading!O628<0, 0, Loading!O628) -> 0 | FE6: =IF(Loading!O676<0, 0, Loading!O676) -> 0 | FF6: =IF(Loading!O724<0, 0, Loading!O724) -> 0 | FG6: =IF(Loading!P4<0, 0, Loading!P4) -> 0 | FH6: =IF(Loading!P52<0, 0, Loading!P52) -> 0 | FI6: =IF(Loading!P100<0, 0, Loading!P100) -> 0 | FJ6: =IF(Loading!P148<0, 0, Loading!P148) -> 0 | FK6: =IF(Loading!P196<0, 0, Loading!P196) -> 0 | FL6: =IF(Loading!P244<0, 0, Loading!P244) -> 0 | FM6: =IF(Loading!P292<0, 0, Loading!P292) -> 0 | FN6: =IF(Loading!P340<0, 0, Loading!P340) -> 0 | FO6: =IF(Loading!P388<0, 0, Loading!P388) -> 0 | FP6: =IF(Loading!P436<0, 0, Loading!P436) -> 0 | FQ6: =IF(Loading!P484<0, 0, Loading!P484) -> 0 | FR6: =IF(Loading!P532<0, 0, Loading!P532) -> 0 | FS6: =IF(Loading!P580<0, 0, Loading!P580) -> 0 | FT6: =IF(Loading!P628<0, 0, Loading!P628) -> 0 | FU6: =IF(Loading!P676<0, 0, Loading!P676) -> 0 | FV6: =IF(Loading!P724<0, 0, Loading!P724) -> 0 | FW6: =IF(Loading!Q4<0, 0, Loading!Q4) -> 0 | FX6: =IF(Loading!Q52<0, 0, Loading!Q52) -> 0 | FY6: =IF(Loading!Q100<0, 0, Loading!Q100) -> 0 | FZ6: =IF(Loading!Q148<0, 0, Loading!Q148) -> 0 | GA6: =IF(Loading!Q196<0, 0, Loading!Q196) -> 0 | GB6: =IF(Loading!Q244<0, 0, Loading!Q244) -> 0 | GC6: =IF(Loading!Q292<0, 0, Loading!Q292) -> 0 | GD6: =IF(Loading!Q340<0, 0, Loading!Q340) -> 0 | GE6: =IF(Loading!Q388<0, 0, Loading!Q388) -> 0 | GF6: =IF(Loading!Q436<0, 0, Loading!Q436) -> 0 | GG6: =IF(Loading!Q484<0, 0, Loading!Q484) -> 0 | GH6: =IF(Loading!Q532<0, 0, Loading!Q532) -> 0 | GI6: =IF(Loading!Q580<0, 0, Loading!Q580) -> 0 | GJ6: =IF(Loading!Q628<0, 0, Loading!Q628) -> 0 | GK6: =IF(Loading!Q676<0, 0, Loading!Q676) -> 0 | GL6: =IF(Loading!Q724<0, 0, Loading!Q724) -> 0 | GM6: =IF(Loading!R4<0, 0, Loading!R4) -> 0 | GN6: =IF(Loading!R52<0, 0, Loading!R52) -> 0 | GO6: =IF(Loading!R100<0, 0, Loading!R100) -> 0 | GP6: =IF(Loading!R148<0, 0, Loading!R148) -> 0 | GQ6: =IF(Loading!R196<0, 0, Loading!R196) -> 0 | GR6: =IF(Loading!R244<0, 0, Loading!R244) -> 0 | GS6: =IF(Loading!R292<0, 0, Loading!R292) -> 0 | GT6: =IF(Loading!R340<0, 0, Loading!R340) -> 0 | GU6: =IF(Loading!R388<0, 0, Loading!R388) -> 0 | GV6: =IF(Loading!R436<0, 0, Loading!R436) -> 0 | GW6: =IF(Loading!R484<0, 0, Loading!R484) -> 0 | GX6: =IF(Loading!R532<0, 0, Loading!R532) -> 0 | GY6: =IF(Loading!R580<0, 0, Loading!R580) -> 0 | GZ6: =IF(Loading!R628<0, 0, Loading!R628) -> 0 | HA6: =IF(Loading!R676<0, 0, Loading!R676) -> 0 | HB6: =IF(Loading!R724<0, 0, Loading!R724) -> 0 | HC6: =IF(Loading!S4<0, 0, Loading!S4) -> 0 | HD6: =IF(Loading!S52<0, 0, Loading!S52) -> 0 | HE6: =IF(Loading!S100<0, 0, Loading!S100) -> 0 | HF6: =IF(Loading!S148<0, 0, Loading!S148) -> 0 | HG6: =IF(Loading!S196<0, 0, Loading!S196) -> 0 | HH6: =IF(Loading!S244<0, 0, Loading!S244) -> 0 | HI6: =IF(Loading!S292<0, 0, Loading!S292) -> 0 | HJ6: =IF(Loading!S340<0, 0, Loading!S340) -> 0 | HK6: =IF(Loading!S388<0, 0, Loading!S388) -> 0 | HL6: =IF(Loading!S436<0, 0, Loading!S436) -> 0 | HM6: =IF(Loading!S484<0, 0, Loading!S484) -> 0 | HN6: =IF(Loading!S532<0, 0, Loading!S532) -> 0 | HO6: =IF(Loading!S580<0, 0, Loading!S580) -> 0 | HP6: =IF(Loading!S628<0, 0, Loading!S628) -> 0 | HQ6: =IF(Loading!S676<0, 0, Loading!S676) -> 0 | HR6: =IF(Loading!S724<0, 0, Loading!S724) -> 0 | HS6: =IF(Loading!T4<0, 0, Loading!T4) -> 0 | HT6: =IF(Loading!T52<0, 0, Loading!T52) -> 0 | HU6: =IF(Loading!T100<0, 0, Loading!T100) -> 0 | HV6: =IF(Loading!T148<0, 0, Loading!T148) -> 0 | HW6: =IF(Loading!T196<0, 0, Loading!T196) -> 0 | HX6: =IF(Loading!T244<0, 0, Loading!T244) -> 0 | HY6: =IF(Loading!T292<0, 0, Loading!T292) -> 0 | HZ6: =IF(Loading!T340<0, 0, Loading!T340) -> 0 | IA6: =IF(Loading!T388<0, 0, Loading!T388) -> 0 | IB6: =IF(Loading!T436<0, 0, Loading!T436) -> 0 | IC6: =IF(Loading!T484<0, 0, Loading!T484) -> 0 | ID6: =IF(Loading!T532<0, 0, Loading!T532) -> 0 | IE6: =IF(Loading!T580<0, 0, Loading!T580) -> 0 | IF6: =IF(Loading!T628<0, 0, Loading!T628) -> 0 | IG6: =IF(Loading!T676<0, 0, Loading!T676) -> 0 | IH6: =IF(Loading!T724<0, 0, Loading!T724) -> 0 | II6: =IF(Loading!U4<0, 0, Loading!U4) -> 0 | IJ6: =IF(Loading!U52<0, 0, Loading!U52) -> 0 | IK6: =IF(Loading!U100<0, 0, Loading!U100) -> 0 | IL6: =IF(Loading!U148<0, 0, Loading!U148) -> 0 | IM6: =IF(Loading!U196<0, 0, Loading!U196) -> 0 | IN6: =IF(Loading!U244<0, 0, Loading!U244) -> 0 | IO6: =IF(Loading!U292<0, 0, Loading!U292) -> 0 | IP6: =IF(Loading!U340<0, 0, Loading!U340) -> 0 | IQ6: =IF(Loading!U388<0, 0, Loading!U388) -> 0 | IR6: =IF(Loading!U436<0, 0, Loading!U436) -> 0 | IS6: =IF(Loading!U484<0, 0, Loading!U484) -> 0 | IT6: =IF(Loading!U532<0, 0, Loading!U532) -> 0 | IU6: =IF(Loading!U580<0, 0, Loading!U580) -> 0 | IV6: =IF(Loading!U628<0, 0, Loading!U628) -> 0 | IW6: =IF(Loading!U676<0, 0, Loading!U676) -> 0 | IX6: =IF(Loading!U724<0, 0, Loading!U724) -> 0 | IY6: =IF(Loading!V4<0, 0, Loading!V4) -> 0 | IZ6: =IF(Loading!V52<0, 0, Loading!V52) -> 0 | JA6: =IF(Loading!V100<0, 0, Loading!V100) -> 0 | JB6: =IF(Loading!V148<0, 0, Loading!V148) -> 0 | JC6: =IF(Loading!V196<0, 0, Loading!V196) -> 0 | JD6: =IF(Loading!V244<0, 0, Loading!V244) -> 0 | JE6: =IF(Loading!V292<0, 0, Loading!V292) -> 0 | JF6: =IF(Loading!V340<0, 0, Loading!V340) -> 0 | JG6: =IF(Loading!V388<0, 0, Loading!V388) -> 0 | JH6: =IF(Loading!V436<0, 0, Loading!V436) -> 0 | JI6: =IF(Loading!V484<0, 0, Loading!V484) -> 0 | JJ6: =IF(Loading!V532<0, 0, Loading!V532) -> 0 | JK6: =IF(Loading!V580<0, 0, Loading!V580) -> 0 | JL6: =IF(Loading!V628<0, 0, Loading!V628) -> 0 | JM6: =IF(Loading!V676<0, 0, Loading!V676) -> 0 | JN6: =IF(Loading!V724<0, 0, Loading!V724) -> 0 | JO6: =IF(Loading!W4<0, 0, Loading!W4) -> 0 | JP6: =IF(Loading!W52<0, 0, Loading!W52) -> 0 | JQ6: =IF(Loading!W100<0, 0, Loading!W100) -> 0 | JR6: =IF(Loading!W148<0, 0, Loading!W148) -> 0 | JS6: =IF(Loading!W196<0, 0, Loading!W196) -> 0 | JT6: =IF(Loading!W244<0, 0, Loading!W244) -> 0 | JU6: =IF(Loading!W292<0, 0, Loading!W292) -> 0 | JV6: =IF(Loading!W340<0, 0, Loading!W340) -> 0 | JW6: =IF(Loading!W388<0, 0, Loading!W388) -> 0 | JX6: =IF(Loading!W436<0, 0, Loading!W436) -> 0 | JY6: =IF(Loading!W484<0, 0, Loading!W484) -> 0 | JZ6: =IF(Loading!W532<0, 0, Loading!W532) -> 0 | KA6: =IF(Loading!W580<0, 0, Loading!W580) -> 0 | KB6: =IF(Loading!W628<0, 0, Loading!W628) -> 0 | KC6: =IF(Loading!W676<0, 0, Loading!W676) -> 0 | KD6: =IF(Loading!W724<0, 0, Loading!W724) -> 0 | KE6: =IF(Loading!X4<0, 0, Loading!X4) -> 0 | KF6: =IF(Loading!X52<0, 0, Loading!X52) -> 0 | KG6: =IF(Loading!X100<0, 0, Loading!X100) -> 0 | KH6: =IF(Loading!X148<0, 0, Loading!X148) -> 0 | KI6: =IF(Loading!X196<0, 0, Loading!X196) -> 0 | KJ6: =IF(Loading!X244<0, 0, Loading!X244) -> 0 | KK6: =IF(Loading!X292<0, 0, Loading!X292) -> 0 | KL6: =IF(Loading!X340<0, 0, Loading!X340) -> 0 | KM6: =IF(Loading!X388<0, 0, Loading!X388) -> 0 | KN6: =IF(Loading!X436<0, 0, Loading!X436) -> 0 | KO6: =IF(Loading!X484<0, 0, Loading!X484) -> 0 | KP6: =IF(Loading!X532<0, 0, Loading!X532) -> 0 | KQ6: =IF(Loading!X580<0, 0, Loading!X580) -> 0 | KR6: =IF(Loading!X628<0, 0, Loading!X628) -> 0 | KS6: =IF(Loading!X676<0, 0, Loading!X676) -> 0 | KT6: =IF(Loading!X724<0, 0, Loading!X724) -> 0 | KU6: =IF(Loading!Y4<0, 0, Loading!Y4) -> 0 | KV6: =IF(Loading!Y52<0, 0, Loading!Y52) -> 0 | KW6: =IF(Loading!Y100<0, 0, Loading!Y100) -> 0 | KX6: =IF(Loading!Y148<0, 0, Loading!Y148) -> 0 | KY6: =IF(Loading!Y196<0, 0, Loading!Y196) -> 0 | KZ6: =IF(Loading!Y244<0, 0, Loading!Y244) -> 0 | LA6: =IF(Loading!Y292<0, 0, Loading!Y292) -> 0 | LB6: =IF(Loading!Y340<0, 0, Loading!Y340) -> 0 | LC6: =IF(Loading!Y388<0, 0, Loading!Y388) -> 0 | LD6: =IF(Loading!Y436<0, 0, Loading!Y436) -> 0 | LE6: =IF(Loading!Y484<0, 0, Loading!Y484) -> 0 | LF6: =IF(Loading!Y532<0, 0, Loading!Y532) -> 0 | LG6: =IF(Loading!Y580<0, 0, Loading!Y580) -> 0 | LH6: =IF(Loading!Y628<0, 0, Loading!Y628) -> 0 | LI6: =IF(Loading!Y676<0, 0, Loading!Y676) -> 0 | LJ6: =IF(Loading!Y724<0, 0, Loading!Y724) -> 0 | LK6: =IF(Loading!Z4<0, 0, Loading!Z4) -> 0 | LL6: =IF(Loading!Z52<0, 0, Loading!Z52) -> 0 | LM6: =IF(Loading!Z100<0, 0, Loading!Z100) -> 0 | LN6: =IF(Loading!Z148<0, 0, Loading!Z148) -> 0 | LO6: =IF(Loading!Z196<0, 0, Loading!Z196) -> 0 | LP6: =IF(Loading!Z244<0, 0, Loading!Z244) -> 0 | LQ6: =IF(Loading!Z292<0, 0, Loading!Z292) -> 0 | LR6: =IF(Loading!Z340<0, 0, Loading!Z340) -> 0 | LS6: =IF(Loading!Z388<0, 0, Loading!Z388) -> 0 | LT6: =IF(Loading!Z436<0, 0, Loading!Z436) -> 0 | LU6: =IF(Loading!Z484<0, 0, Loading!Z484) -> 0 | LV6: =IF(Loading!Z532<0, 0, Loading!Z532) -> 0 | LW6: =IF(Loading!Z580<0, 0, Loading!Z580) -> 0 | LX6: =IF(Loading!Z628<0, 0, Loading!Z628) -> 0 | LY6: =IF(Loading!Z676<0, 0, Loading!Z676) -> 0 | LZ6: =IF(Loading!Z724<0, 0, Loading!Z724) -> 0 | MA6: =IF(Loading!AA4<0, 0, Loading!AA4) -> 0 | MB6: =IF(Loading!AA52<0, 0, Loading!AA52) -> 0 | MC6: =IF(Loading!AA100<0, 0, Loading!AA100) -> 0 | MD6: =IF(Loading!AA148<0, 0, Loading!AA148) -> 0 | ME6: =IF(Loading!AA196<0, 0, Loading!AA196) -> 0 | MF6: =IF(Loading!AA244<0, 0, Loading!AA244) -> 0 | MG6: =IF(Loading!AA292<0, 0, Loading!AA292) -> 0 | MH6: =IF(Loading!AA340<0, 0, Loading!AA340) -> 0 | MI6: =IF(Loading!AA388<0, 0, Loading!AA388) -> 0 | MJ6: =IF(Loading!AA436<0, 0, Loading!AA436) -> 0 | MK6: =IF(Loading!AA484<0, 0, Loading!AA484) -> 0 | ML6: =IF(Loading!AA532<0, 0, Loading!AA532) -> 0 | MM6: =IF(Loading!AA580<0, 0, Loading!AA580) -> 0 | MN6: =IF(Loading!AA628<0, 0, Loading!AA628) -> 0 | MO6: =IF(Loading!AA676<0, 0, Loading!AA676) -> 0 | MP6: =IF(Loading!AA724<0, 0, Loading!AA724) -> 0 | MQ6: =IF(Loading!AB4<0, 0, Loading!AB4) -> 0 | MR6: =IF(Loading!AB52<0, 0, Loading!AB52) -> 0 | MS6: =IF(Loading!AB100<0, 0, Loading!AB100) -> 0 | MT6: =IF(Loading!AB148<0, 0, Loading!AB148) -> 0 | MU6: =IF(Loading!AB196<0, 0, Loading!AB196) -> 0 | MV6: =IF(Loading!AB244<0, 0, Loading!AB244) -> 0 | MW6: =IF(Loading!AB292<0, 0, Loading!AB292) -> 0 | MX6: =IF(Loading!AB340<0, 0, Loading!AB340) -> 0 | MY6: =IF(Loading!AB388<0, 0, Loading!AB388) -> 0 | MZ6: =IF(Loading!AB436<0, 0, Loading!AB436) -> 0 | NA6: =IF(Loading!AB484<0, 0, Loading!AB484) -> 0 | NB6: =IF(Loading!AB532<0, 0, Loading!AB532) -> 0 | NC6: =IF(Loading!AB580<0, 0, Loading!AB580) -> 0 | ND6: =IF(Loading!AB628<0, 0, Loading!AB628) -> 0 | NE6: =IF(Loading!AB676<0, 0, Loading!AB676) -> 0 | NF6: =IF(Loading!AB724<0, 0, Loading!AB724) -> 0 | NG6: =IF(Loading!AC4<0, 0, Loading!AC4) -> 0 | NH6: =IF(Loading!AC52<0, 0, Loading!AC52) -> 0 | NI6: =IF(Loading!AC100<0, 0, Loading!AC100) -> 0 | NJ6: =IF(Loading!AC148<0, 0, Loading!AC148) -> 0 | NK6: =IF(Loading!AC196<0, 0, Loading!AC196) -> 0 | NL6: =IF(Loading!AC244<0, 0, Loading!AC244) -> 0 | NM6: =IF(Loading!AC292<0, 0, Loading!AC292) -> 0 | NN6: =IF(Loading!AC340<0, 0, Loading!AC340) -> 0 | NO6: =IF(Loading!AC388<0, 0, Loading!AC388) -> 0 | NP6: =IF(Loading!AC436<0, 0, Loading!AC436) -> 0 | NQ6: =IF(Loading!AC484<0, 0, Loading!AC484) -> 0 | NR6: =IF(Loading!AC532<0, 0, Loading!AC532) -> 0 | NS6: =IF(Loading!AC580<0, 0, Loading!AC580) -> 0 | NT6: =IF(Loading!AC628<0, 0, Loading!AC628) -> 0 | NU6: =IF(Loading!AC676<0, 0, Loading!AC676) -> 0 | NV6: =IF(Loading!AC724<0, 0, Loading!AC724) -> 0 | NW6: =IF(Loading!AD4<0, 0, Loading!AD4) -> 0 | NX6: =IF(Loading!AD52<0, 0, Loading!AD52) -> 0 | NY6: =IF(Loading!AD100<0, 0, Loading!AD100) -> 0 | NZ6: =IF(Loading!AD148<0, 0, Loading!AD148) -> 0 | OA6: =IF(Loading!AD196<0, 0, Loading!AD196) -> 0 | OB6: =IF(Loading!AD244<0, 0, Loading!AD244) -> 0 | OC6: =IF(Loading!AD292<0, 0, Loading!AD292) -> 0 | OD6: =IF(Loading!AD340<0, 0, Loading!AD340) -> 0 | OE6: =IF(Loading!AD388<0, 0, Loading!AD388) -> 0 | OF6: =IF(Loading!AD436<0, 0, Loading!AD436) -> 0 | OG6: =IF(Loading!AD484<0, 0, Loading!AD484) -> 0 | OH6: =IF(Loading!AD532<0, 0, Loading!AD532) -> 0 | OI6: =IF(Loading!AD580<0, 0, Loading!AD580) -> 0 | OJ6: =IF(Loading!AD628<0, 0, Loading!AD628) -> 0 | OK6: =IF(Loading!AD676<0, 0, Loading!AD676) -> 0 | OL6: =IF(Loading!AD724<0, 0, Loading!AD724) -> 0 | OM6: =IF(Loading!AE4<0, 0, Loading!AE4) -> 0 | ON6: =IF(Loading!AE52<0, 0, Loading!AE52) -> 0 | OO6: =IF(Loading!AE100<0, 0, Loading!AE100) -> 0 | OP6: =IF(Loading!AE148<0, 0, Loading!AE148) -> 0 | OQ6: =IF(Loading!AE196<0, 0, Loading!AE196) -> 0 | OR6: =IF(Loading!AE244<0, 0, Loading!AE244) -> 0 | OS6: =IF(Loading!AE292<0, 0, Loading!AE292) -> 0 | OT6: =IF(Loading!AE340<0, 0, Loading!AE340) -> 0 | OU6: =IF(Loading!AE388<0, 0, Loading!AE388) -> 0 | OV6: =IF(Loading!AE436<0, 0, Loading!AE436) -> 0 | OW6: =IF(Loading!AE484<0, 0, Loading!AE484) -> 0 | OX6: =IF(Loading!AE532<0, 0, Loading!AE532) -> 0 | OY6: =IF(Loading!AE580<0, 0, Loading!AE580) -> 0 | OZ6: =IF(Loading!AE628<0, 0, Loading!AE628) -> 0 | PA6: =IF(Loading!AE676<0, 0, Loading!AE676) -> 0 | PB6: =IF(Loading!AE724<0, 0, Loading!AE724) -> 0 | PC6: =IF(Loading!AF4<0, 0, Loading!AF4) -> 0 | PD6: =IF(Loading!AF52<0, 0, Loading!AF52) -> 0 | PE6: =IF(Loading!AF100<0, 0, Loading!AF100) -> 0 | PF6: =IF(Loading!AF148<0, 0, Loading!AF148) -> 0 | PG6: =IF(Loading!AF196<0, 0, Loading!AF196) -> 0 | PH6: =IF(Loading!AF244<0, 0, Loading!AF244) -> 0 | PI6: =IF(Loading!AF292<0, 0, Loading!AF292) -> 0 | PJ6: =IF(Loading!AF340<0, 0, Loading!AF340) -> 0 | PK6: =IF(Loading!AF388<0, 0, Loading!AF388) -> 0 | PL6: =IF(Loading!AF436<0, 0, Loading!AF436) -> 0 | PM6: =IF(Loading!AF484<0, 0, Loading!AF484) -> 0 | PN6: =IF(Loading!AF532<0, 0, Loading!AF532) -> 0 | PO6: =IF(Loading!AF580<0, 0, Loading!AF580) -> 0 | PP6: =IF(Loading!AF628<0, 0, Loading!AF628) -> 0 | PQ6: =IF(Loading!AF676<0, 0, Loading!AF676) -> 0 | PR6: =IF(Loading!AF724<0, 0, Loading!AF724) -> 0 | PS6: =IF(Loading!AG4<0, 0, Loading!AG4) -> 0 | PT6: =IF(Loading!AG52<0, 0, Loading!AG52) -> 0 | PU6: =IF(Loading!AG100<0, 0, Loading!AG100) -> 0 | PV6: =IF(Loading!AG148<0, 0, Loading!AG148) -> 0 | PW6: =IF(Loading!AG196<0, 0, Loading!AG196) -> 0 | PX6: =IF(Loading!AG244<0, 0, Loading!AG244) -> 0 | PY6: =IF(Loading!AG292<0, 0, Loading!AG292) -> 0 | PZ6: =IF(Loading!AG340<0, 0, Loading!AG340) -> 0 | QA6: =IF(Loading!AG388<0, 0, Loading!AG388) -> 0 | QB6: =IF(Loading!AG436<0, 0, Loading!AG436) -> 0 | QC6: =IF(Loading!AG484<0, 0, Loading!AG484) -> 0 | QD6: =IF(Loading!AG532<0, 0, Loading!AG532) -> 0 | QE6: =IF(Loading!AG580<0, 0, Loading!AG580) -> 0 | QF6: =IF(Loading!AG628<0, 0, Loading!AG628) -> 0 | QG6: =IF(Loading!AG676<0, 0, Loading!AG676) -> 0 | QH6: =IF(Loading!AG724<0, 0, Loading!AG724) -> 0 | QI6: =IF(Loading!AH4<0, 0, Loading!AH4) -> 0 | QJ6: =IF(Loading!AH52<0, 0, Loading!AH52) -> 0 | QK6: =IF(Loading!AH100<0, 0, Loading!AH100) -> 0 | QL6: =IF(Loading!AH148<0, 0, Loading!AH148) -> 0 | QM6: =IF(Loading!AH196<0, 0, Loading!AH196) -> 0 | QN6: =IF(Loading!AH244<0, 0, Loading!AH244) -> 0 | QO6: =IF(Loading!AH292<0, 0, Loading!AH292) -> 0 | QP6: =IF(Loading!AH340<0, 0, Loading!AH340) -> 0 | QQ6: =IF(Loading!AH388<0, 0, Loading!AH388) -> 0 | QR6: =IF(Loading!AH436<0, 0, Loading!AH436) -> 0 | QS6: =IF(Loading!AH484<0, 0, Loading!AH484) -> 0 | QT6: =IF(Loading!AH532<0, 0, Loading!AH532) -> 0 | QU6: =IF(Loading!AH580<0, 0, Loading!AH580) -> 0 | QV6: =IF(Loading!AH628<0, 0, Loading!AH628) -> 0 | QW6: =IF(Loading!AH676<0, 0, Loading!AH676) -> 0 | QX6: =IF(Loading!AH724<0, 0, Loading!AH724) -> 0 | QY6: =IF(Loading!AI4<0, 0, Loading!AI4) -> 0 | QZ6: =IF(Loading!AI52<0, 0, Loading!AI52) -> 0 | RA6: =IF(Loading!AI100<0, 0, Loading!AI100) -> 0 | RB6: =IF(Loading!AI148<0, 0, Loading!AI148) -> 0 | RC6: =IF(Loading!AI196<0, 0, Loading!AI196) -> 0 | RD6: =IF(Loading!AI244<0, 0, Loading!AI244) -> 0 | RE6: =IF(Loading!AI292<0, 0, Loading!AI292) -> 0 | RF6: =IF(Loading!AI340<0, 0, Loading!AI340) -> 0 | RG6: =IF(Loading!AI388<0, 0, Loading!AI388) -> 0 | RH6: =IF(Loading!AI436<0, 0, Loading!AI436) -> 0 | RI6: =IF(Loading!AI484<0, 0, Loading!AI484) -> 0 | RJ6: =IF(Loading!AI532<0, 0, Loading!AI532) -> 0 | RK6: =IF(Loading!AI580<0, 0, Loading!AI580) -> 0 | RL6: =IF(Loading!AI628<0, 0, Loading!AI628) -> 0 | RM6: =IF(Loading!AI676<0, 0, Loading!AI676) -> 0 | RN6: =IF(Loading!AI724<0, 0, Loading!AI724) -> 0 | SN6: =(1-$Y$2)*MEDIAN(C5:C8) -> 0 | SO6: =(1-$Y$2)*MEDIAN(D5:D8) -> 0 | SP6: =(1-$Y$2)*MEDIAN(E5:E8) -> 0 | SQ6: =(1-$Y$2)*MEDIAN(F5:F8) -> 0 | SR6: =(1-$Y$2)*MEDIAN(G5:G8) -> 0 | SS6: =(1-$Y$2)*MEDIAN(H5:H8) -> 0 | ST6: =(1-$Y$2)*MEDIAN(I5:I8) -> 0 | SU6: =(1-$Y$2)*MEDIAN(J5:J8) -> 0 | ... ALS6: =(1-$Y$2)*MEDIAN(SH5:SH8) -> #NUM!
B7: =B6 -> POS1 | C7: =IF(Loading!F5<0, 0, Loading!F5) -> 0 | D7: =IF(Loading!F53<0, 0, Loading!F53) -> 0 | E7: =IF(Loading!F101<0, 0, Loading!F101) -> 0 | F7: =IF(Loading!F149<0, 0, Loading!F149) -> 0 | G7: =IF(Loading!F197<0, 0, Loading!F197) -> 0 | H7: =IF(Loading!F245<0, 0, Loading!F245) -> 0 | I7: =IF(Loading!F293<0, 0, Loading!F293) -> 0 | J7: =IF(Loading!F341<0, 0, Loading!F341) -> 0 | K7: =IF(Loading!F389<0, 0, Loading!F389) -> 0 | L7: =IF(Loading!F437<0, 0, Loading!F437) -> 0 | M7: =IF(Loading!F485<0, 0, Loading!F485) -> 0 | N7: =IF(Loading!F533<0, 0, Loading!F533) -> 0 | O7: =IF(Loading!F581<0, 0, Loading!F581) -> 0 | P7: =IF(Loading!F629<0, 0, Loading!F629) -> 0 | Q7: =IF(Loading!F677<0, 0, Loading!F677) -> 0 | R7: =IF(Loading!F725<0, 0, Loading!F725) -> 0 | S7: =IF(Loading!G5<0, 0, Loading!G5) -> 0 | T7: =IF(Loading!G53<0, 0, Loading!G53) -> 0 | U7: =IF(Loading!G101<0, 0, Loading!G101) -> 0 | V7: =IF(Loading!G149<0, 0, Loading!G149) -> 0 | W7: =IF(Loading!G197<0, 0, Loading!G197) -> 0 | X7: =IF(Loading!G245<0, 0, Loading!G245) -> 0 | Y7: =IF(Loading!G293<0, 0, Loading!G293) -> 0 | Z7: =IF(Loading!G341<0, 0, Loading!G341) -> 0 | AA7: =IF(Loading!G389<0, 0, Loading!G389) -> 0 | AB7: =IF(Loading!G437<0, 0, Loading!G437) -> 0 | AC7: =IF(Loading!G485<0, 0, Loading!G485) -> 0 | AD7: =IF(Loading!G533<0, 0, Loading!G533) -> 0 | AE7: =IF(Loading!G581<0, 0, Loading!G581) -> 0 | AF7: =IF(Loading!G629<0, 0, Loading!G629) -> 0 | AG7: =IF(Loading!G677<0, 0, Loading!G677) -> 0 | AH7: =IF(Loading!G725<0, 0, Loading!G725) -> 0 | AI7: =IF(Loading!H5<0, 0, Loading!H5) -> 0 | AJ7: =IF(Loading!H53<0, 0, Loading!H53) -> 0 | AK7: =IF(Loading!H101<0, 0, Loading!H101) -> 0 | AL7: =IF(Loading!H149<0, 0, Loading!H149) -> 0 | AM7: =IF(Loading!H197<0, 0, Loading!H197) -> 0 | AN7: =IF(Loading!H245<0, 0, Loading!H245) -> 0 | AO7: =IF(Loading!H293<0, 0, Loading!H293) -> 0 | AP7: =IF(Loading!H341<0, 0, Loading!H341) -> 0 | AQ7: =IF(Loading!H389<0, 0, Loading!H389) -> 0 | AR7: =IF(Loading!H437<0, 0, Loading!H437) -> 0 | AS7: =IF(Loading!H485<0, 0, Loading!H485) -> 0 | AT7: =IF(Loading!H533<0, 0, Loading!H533) -> 0 | AU7: =IF(Loading!H581<0, 0, Loading!H581) -> 0 | AV7: =IF(Loading!H629<0, 0, Loading!H629) -> 0 | AW7: =IF(Loading!H677<0, 0, Loading!H677) -> 0 | AX7: =IF(Loading!H725<0, 0, Loading!H725) -> 0 | AY7: =IF(Loading!I5<0, 0, Loading!I5) -> 0 | AZ7: =IF(Loading!I53<0, 0, Loading!I53) -> 0 | BA7: =IF(Loading!I101<0, 0, Loading!I101) -> 0 | BB7: =IF(Loading!I149<0, 0, Loading!I149) -> 0 | BC7: =IF(Loading!I197<0, 0, Loading!I197) -> 0 | BD7: =IF(Loading!I245<0, 0, Loading!I245) -> 0 | BE7: =IF(Loading!I293<0, 0, Loading!I293) -> 0 | BF7: =IF(Loading!I341<0, 0, Loading!I341) -> 0 | BG7: =IF(Loading!I389<0, 0, Loading!I389) -> 0 | BH7: =IF(Loading!I437<0, 0, Loading!I437) -> 0 | BI7: =IF(Loading!I485<0, 0, Loading!I485) -> 0 | BJ7: =IF(Loading!I533<0, 0, Loading!I533) -> 0 | BK7: =IF(Loading!I581<0, 0, Loading!I581) -> 0 | BL7: =IF(Loading!I629<0, 0, Loading!I629) -> 0 | BM7: =IF(Loading!I677<0, 0, Loading!I677) -> 0 | BN7: =IF(Loading!I725<0, 0, Loading!I725) -> 0 | BO7: =IF(Loading!J5<0, 0, Loading!J5) -> 0 | BP7: =IF(Loading!J53<0, 0, Loading!J53) -> 0 | BQ7: =IF(Loading!J101<0, 0, Loading!J101) -> 0 | BR7: =IF(Loading!J149<0, 0, Loading!J149) -> 0 | BS7: =IF(Loading!J197<0, 0, Loading!J197) -> 0 | BT7: =IF(Loading!J245<0, 0, Loading!J245) -> 0 | BU7: =IF(Loading!J293<0, 0, Loading!J293) -> 0 | BV7: =IF(Loading!J341<0, 0, Loading!J341) -> 0 | BW7: =IF(Loading!J389<0, 0, Loading!J389) -> 0 | BX7: =IF(Loading!J437<0, 0, Loading!J437) -> 0 | BY7: =IF(Loading!J485<0, 0, Loading!J485) -> 0 | BZ7: =IF(Loading!J533<0, 0, Loading!J533) -> 0 | CA7: =IF(Loading!J581<0, 0, Loading!J581) -> 0 | CB7: =IF(Loading!J629<0, 0, Loading!J629) -> 0 | CC7: =IF(Loading!J677<0, 0, Loading!J677) -> 0 | CD7: =IF(Loading!J725<0, 0, Loading!J725) -> 0 | CE7: =IF(Loading!K5<0, 0, Loading!K5) -> 0 | CF7: =IF(Loading!K53<0, 0, Loading!K53) -> 0 | CG7: =IF(Loading!K101<0, 0, Loading!K101) -> 0 | CH7: =IF(Loading!K149<0, 0, Loading!K149) -> 0 | CI7: =IF(Loading!K197<0, 0, Loading!K197) -> 0 | CJ7: =IF(Loading!K245<0, 0, Loading!K245) -> 0 | CK7: =IF(Loading!K293<0, 0, Loading!K293) -> 0 | CL7: =IF(Loading!K341<0, 0, Loading!K341) -> 0 | CM7: =IF(Loading!K389<0, 0, Loading!K389) -> 0 | CN7: =IF(Loading!K437<0, 0, Loading!K437) -> 0 | CO7: =IF(Loading!K485<0, 0, Loading!K485) -> 0 | CP7: =IF(Loading!K533<0, 0, Loading!K533) -> 0 | CQ7: =IF(Loading!K581<0, 0, Loading!K581) -> 0 | CR7: =IF(Loading!K629<0, 0, Loading!K629) -> 0 | CS7: =IF(Loading!K677<0, 0, Loading!K677) -> 0 | CT7: =IF(Loading!K725<0, 0, Loading!K725) -> 0 | CU7: =IF(Loading!L5<0, 0, Loading!L5) -> 0 | CV7: =IF(Loading!L53<0, 0, Loading!L53) -> 0 | CW7: =IF(Loading!L101<0, 0, Loading!L101) -> 0 | CX7: =IF(Loading!L149<0, 0, Loading!L149) -> 0 | CY7: =IF(Loading!L197<0, 0, Loading!L197) -> 0 | CZ7: =IF(Loading!L245<0, 0, Loading!L245) -> 0 | DA7: =IF(Loading!L293<0, 0, Loading!L293) -> 0 | DB7: =IF(Loading!L341<0, 0, Loading!L341) -> 0 | DC7: =IF(Loading!L389<0, 0, Loading!L389) -> 0 | DD7: =IF(Loading!L437<0, 0, Loading!L437) -> 0 | DE7: =IF(Loading!L485<0, 0, Loading!L485) -> 0 | DF7: =IF(Loading!L533<0, 0, Loading!L533) -> 0 | DG7: =IF(Loading!L581<0, 0, Loading!L581) -> 0 | DH7: =IF(Loading!L629<0, 0, Loading!L629) -> 0 | DI7: =IF(Loading!L677<0, 0, Loading!L677) -> 0 | DJ7: =IF(Loading!L725<0, 0, Loading!L725) -> 0 | DK7: =IF(Loading!M5<0, 0, Loading!M5) -> 0 | DL7: =IF(Loading!M53<0, 0, Loading!M53) -> 0 | DM7: =IF(Loading!M101<0, 0, Loading!M101) -> 0 | DN7: =IF(Loading!M149<0, 0, Loading!M149) -> 0 | DO7: =IF(Loading!M197<0, 0, Loading!M197) -> 0 | DP7: =IF(Loading!M245<0, 0, Loading!M245) -> 0 | DQ7: =IF(Loading!M293<0, 0, Loading!M293) -> 0 | DR7: =IF(Loading!M341<0, 0, Loading!M341) -> 0 | DS7: =IF(Loading!M389<0, 0, Loading!M389) -> 0 | DT7: =IF(Loading!M437<0, 0, Loading!M437) -> 0 | DU7: =IF(Loading!M485<0, 0, Loading!M485) -> 0 | DV7: =IF(Loading!M533<0, 0, Loading!M533) -> 0 | DW7: =IF(Loading!M581<0, 0, Loading!M581) -> 0 | DX7: =IF(Loading!M629<0, 0, Loading!M629) -> 0 | DY7: =IF(Loading!M677<0, 0, Loading!M677) -> 0 | DZ7: =IF(Loading!M725<0, 0, Loading!M725) -> 0 | EA7: =IF(Loading!N5<0, 0, Loading!N5) -> 0 | EB7: =IF(Loading!N53<0, 0, Loading!N53) -> 0 | EC7: =IF(Loading!N101<0, 0, Loading!N101) -> 0 | ED7: =IF(Loading!N149<0, 0, Loading!N149) -> 0 | EE7: =IF(Loading!N197<0, 0, Loading!N197) -> 0 | EF7: =IF(Loading!N245<0, 0, Loading!N245) -> 0 | EG7: =IF(Loading!N293<0, 0, Loading!N293) -> 0 | EH7: =IF(Loading!N341<0, 0, Loading!N341) -> 0 | EI7: =IF(Loading!N389<0, 0, Loading!N389) -> 0 | EJ7: =IF(Loading!N437<0, 0, Loading!N437) -> 0 | EK7: =IF(Loading!N485<0, 0, Loading!N485) -> 0 | EL7: =IF(Loading!N533<0, 0, Loading!N533) -> 0 | EM7: =IF(Loading!N581<0, 0, Loading!N581) -> 0 | EN7: =IF(Loading!N629<0, 0, Loading!N629) -> 0 | EO7: =IF(Loading!N677<0, 0, Loading!N677) -> 0 | EP7: =IF(Loading!N725<0, 0, Loading!N725) -> 0 | EQ7: =IF(Loading!O5<0, 0, Loading!O5) -> 0 | ER7: =IF(Loading!O53<0, 0, Loading!O53) -> 0 | ES7: =IF(Loading!O101<0, 0, Loading!O101) -> 0 | ET7: =IF(Loading!O149<0, 0, Loading!O149) -> 0 | EU7: =IF(Loading!O197<0, 0, Loading!O197) -> 0 | EV7: =IF(Loading!O245<0, 0, Loading!O245) -> 0 | EW7: =IF(Loading!O293<0, 0, Loading!O293) -> 0 | EX7: =IF(Loading!O341<0, 0, Loading!O341) -> 0 | EY7: =IF(Loading!O389<0, 0, Loading!O389) -> 0 | EZ7: =IF(Loading!O437<0, 0, Loading!O437) -> 0 | FA7: =IF(Loading!O485<0, 0, Loading!O485) -> 0 | FB7: =IF(Loading!O533<0, 0, Loading!O533) -> 0 | FC7: =IF(Loading!O581<0, 0, Loading!O581) -> 0 | FD7: =IF(Loading!O629<0, 0, Loading!O629) -> 0 | FE7: =IF(Loading!O677<0, 0, Loading!O677) -> 0 | FF7: =IF(Loading!O725<0, 0, Loading!O725) -> 0 | FG7: =IF(Loading!P5<0, 0, Loading!P5) -> 0 | FH7: =IF(Loading!P53<0, 0, Loading!P53) -> 0 | FI7: =IF(Loading!P101<0, 0, Loading!P101) -> 0 | FJ7: =IF(Loading!P149<0, 0, Loading!P149) -> 0 | FK7: =IF(Loading!P197<0, 0, Loading!P197) -> 0 | FL7: =IF(Loading!P245<0, 0, Loading!P245) -> 0 | FM7: =IF(Loading!P293<0, 0, Loading!P293) -> 0 | FN7: =IF(Loading!P341<0, 0, Loading!P341) -> 0 | FO7: =IF(Loading!P389<0, 0, Loading!P389) -> 0 | FP7: =IF(Loading!P437<0, 0, Loading!P437) -> 0 | FQ7: =IF(Loading!P485<0, 0, Loading!P485) -> 0 | FR7: =IF(Loading!P533<0, 0, Loading!P533) -> 0 | FS7: =IF(Loading!P581<0, 0, Loading!P581) -> 0 | FT7: =IF(Loading!P629<0, 0, Loading!P629) -> 0 | FU7: =IF(Loading!P677<0, 0, Loading!P677) -> 0 | FV7: =IF(Loading!P725<0, 0, Loading!P725) -> 0 | FW7: =IF(Loading!Q5<0, 0, Loading!Q5) -> 0 | FX7: =IF(Loading!Q53<0, 0, Loading!Q53) -> 0 | FY7: =IF(Loading!Q101<0, 0, Loading!Q101) -> 0 | FZ7: =IF(Loading!Q149<0, 0, Loading!Q149) -> 0 | GA7: =IF(Loading!Q197<0, 0, Loading!Q197) -> 0 | GB7: =IF(Loading!Q245<0, 0, Loading!Q245) -> 0 | GC7: =IF(Loading!Q293<0, 0, Loading!Q293) -> 0 | GD7: =IF(Loading!Q341<0, 0, Loading!Q341) -> 0 | GE7: =IF(Loading!Q389<0, 0, Loading!Q389) -> 0 | GF7: =IF(Loading!Q437<0, 0, Loading!Q437) -> 0 | GG7: =IF(Loading!Q485<0, 0, Loading!Q485) -> 0 | GH7: =IF(Loading!Q533<0, 0, Loading!Q533) -> 0 | GI7: =IF(Loading!Q581<0, 0, Loading!Q581) -> 0 | GJ7: =IF(Loading!Q629<0, 0, Loading!Q629) -> 0 | GK7: =IF(Loading!Q677<0, 0, Loading!Q677) -> 0 | GL7: =IF(Loading!Q725<0, 0, Loading!Q725) -> 0 | GM7: =IF(Loading!R5<0, 0, Loading!R5) -> 0 | GN7: =IF(Loading!R53<0, 0, Loading!R53) -> 0 | GO7: =IF(Loading!R101<0, 0, Loading!R101) -> 0 | GP7: =IF(Loading!R149<0, 0, Loading!R149) -> 0 | GQ7: =IF(Loading!R197<0, 0, Loading!R197) -> 0 | GR7: =IF(Loading!R245<0, 0, Loading!R245) -> 0 | GS7: =IF(Loading!R293<0, 0, Loading!R293) -> 0 | GT7: =IF(Loading!R341<0, 0, Loading!R341) -> 0 | GU7: =IF(Loading!R389<0, 0, Loading!R389) -> 0 | GV7: =IF(Loading!R437<0, 0, Loading!R437) -> 0 | GW7: =IF(Loading!R485<0, 0, Loading!R485) -> 0 | GX7: =IF(Loading!R533<0, 0, Loading!R533) -> 0 | GY7: =IF(Loading!R581<0, 0, Loading!R581) -> 0 | GZ7: =IF(Loading!R629<0, 0, Loading!R629) -> 0 | HA7: =IF(Loading!R677<0, 0, Loading!R677) -> 0 | HB7: =IF(Loading!R725<0, 0, Loading!R725) -> 0 | HC7: =IF(Loading!S5<0, 0, Loading!S5) -> 0 | HD7: =IF(Loading!S53<0, 0, Loading!S53) -> 0 | HE7: =IF(Loading!S101<0, 0, Loading!S101) -> 0 | HF7: =IF(Loading!S149<0, 0, Loading!S149) -> 0 | HG7: =IF(Loading!S197<0, 0, Loading!S197) -> 0 | HH7: =IF(Loading!S245<0, 0, Loading!S245) -> 0 | HI7: =IF(Loading!S293<0, 0, Loading!S293) -> 0 | HJ7: =IF(Loading!S341<0, 0, Loading!S341) -> 0 | HK7: =IF(Loading!S389<0, 0, Loading!S389) -> 0 | HL7: =IF(Loading!S437<0, 0, Loading!S437) -> 0 | HM7: =IF(Loading!S485<0, 0, Loading!S485) -> 0 | HN7: =IF(Loading!S533<0, 0, Loading!S533) -> 0 | HO7: =IF(Loading!S581<0, 0, Loading!S581) -> 0 | HP7: =IF(Loading!S629<0, 0, Loading!S629) -> 0 | HQ7: =IF(Loading!S677<0, 0, Loading!S677) -> 0 | HR7: =IF(Loading!S725<0, 0, Loading!S725) -> 0 | HS7: =IF(Loading!T5<0, 0, Loading!T5) -> 0 | HT7: =IF(Loading!T53<0, 0, Loading!T53) -> 0 | HU7: =IF(Loading!T101<0, 0, Loading!T101) -> 0 | HV7: =IF(Loading!T149<0, 0, Loading!T149) -> 0 | HW7: =IF(Loading!T197<0, 0, Loading!T197) -> 0 | HX7: =IF(Loading!T245<0, 0, Loading!T245) -> 0 | HY7: =IF(Loading!T293<0, 0, Loading!T293) -> 0 | HZ7: =IF(Loading!T341<0, 0, Loading!T341) -> 0 | IA7: =IF(Loading!T389<0, 0, Loading!T389) -> 0 | IB7: =IF(Loading!T437<0, 0, Loading!T437) -> 0 | IC7: =IF(Loading!T485<0, 0, Loading!T485) -> 0 | ID7: =IF(Loading!T533<0, 0, Loading!T533) -> 0 | IE7: =IF(Loading!T581<0, 0, Loading!T581) -> 0 | IF7: =IF(Loading!T629<0, 0, Loading!T629) -> 0 | IG7: =IF(Loading!T677<0, 0, Loading!T677) -> 0 | IH7: =IF(Loading!T725<0, 0, Loading!T725) -> 0 | II7: =IF(Loading!U5<0, 0, Loading!U5) -> 0 | IJ7: =IF(Loading!U53<0, 0, Loading!U53) -> 0 | IK7: =IF(Loading!U101<0, 0, Loading!U101) -> 0 | IL7: =IF(Loading!U149<0, 0, Loading!U149) -> 0 | IM7: =IF(Loading!U197<0, 0, Loading!U197) -> 0 | IN7: =IF(Loading!U245<0, 0, Loading!U245) -> 0 | IO7: =IF(Loading!U293<0, 0, Loading!U293) -> 0 | IP7: =IF(Loading!U341<0, 0, Loading!U341) -> 0 | IQ7: =IF(Loading!U389<0, 0, Loading!U389) -> 0 | IR7: =IF(Loading!U437<0, 0, Loading!U437) -> 0 | IS7: =IF(Loading!U485<0, 0, Loading!U485) -> 0 | IT7: =IF(Loading!U533<0, 0, Loading!U533) -> 0 | IU7: =IF(Loading!U581<0, 0, Loading!U581) -> 0 | IV7: =IF(Loading!U629<0, 0, Loading!U629) -> 0 | IW7: =IF(Loading!U677<0, 0, Loading!U677) -> 0 | IX7: =IF(Loading!U725<0, 0, Loading!U725) -> 0 | IY7: =IF(Loading!V5<0, 0, Loading!V5) -> 0 | IZ7: =IF(Loading!V53<0, 0, Loading!V53) -> 0 | JA7: =IF(Loading!V101<0, 0, Loading!V101) -> 0 | JB7: =IF(Loading!V149<0, 0, Loading!V149) -> 0 | JC7: =IF(Loading!V197<0, 0, Loading!V197) -> 0 | JD7: =IF(Loading!V245<0, 0, Loading!V245) -> 0 | JE7: =IF(Loading!V293<0, 0, Loading!V293) -> 0 | JF7: =IF(Loading!V341<0, 0, Loading!V341) -> 0 | JG7: =IF(Loading!V389<0, 0, Loading!V389) -> 0 | JH7: =IF(Loading!V437<0, 0, Loading!V437) -> 0 | JI7: =IF(Loading!V485<0, 0, Loading!V485) -> 0 | JJ7: =IF(Loading!V533<0, 0, Loading!V533) -> 0 | JK7: =IF(Loading!V581<0, 0, Loading!V581) -> 0 | JL7: =IF(Loading!V629<0, 0, Loading!V629) -> 0 | JM7: =IF(Loading!V677<0, 0, Loading!V677) -> 0 | JN7: =IF(Loading!V725<0, 0, Loading!V725) -> 0 | JO7: =IF(Loading!W5<0, 0, Loading!W5) -> 0 | JP7: =IF(Loading!W53<0, 0, Loading!W53) -> 0 | JQ7: =IF(Loading!W101<0, 0, Loading!W101) -> 0 | JR7: =IF(Loading!W149<0, 0, Loading!W149) -> 0 | JS7: =IF(Loading!W197<0, 0, Loading!W197) -> 0 | JT7: =IF(Loading!W245<0, 0, Loading!W245) -> 0 | JU7: =IF(Loading!W293<0, 0, Loading!W293) -> 0 | JV7: =IF(Loading!W341<0, 0, Loading!W341) -> 0 | JW7: =IF(Loading!W389<0, 0, Loading!W389) -> 0 | JX7: =IF(Loading!W437<0, 0, Loading!W437) -> 0 | JY7: =IF(Loading!W485<0, 0, Loading!W485) -> 0 | JZ7: =IF(Loading!W533<0, 0, Loading!W533) -> 0 | KA7: =IF(Loading!W581<0, 0, Loading!W581) -> 0 | KB7: =IF(Loading!W629<0, 0, Loading!W629) -> 0 | KC7: =IF(Loading!W677<0, 0, Loading!W677) -> 0 | KD7: =IF(Loading!W725<0, 0, Loading!W725) -> 0 | KE7: =IF(Loading!X5<0, 0, Loading!X5) -> 0 | KF7: =IF(Loading!X53<0, 0, Loading!X53) -> 0 | KG7: =IF(Loading!X101<0, 0, Loading!X101) -> 0 | KH7: =IF(Loading!X149<0, 0, Loading!X149) -> 0 | KI7: =IF(Loading!X197<0, 0, Loading!X197) -> 0 | KJ7: =IF(Loading!X245<0, 0, Loading!X245) -> 0 | KK7: =IF(Loading!X293<0, 0, Loading!X293) -> 0 | KL7: =IF(Loading!X341<0, 0, Loading!X341) -> 0 | KM7: =IF(Loading!X389<0, 0, Loading!X389) -> 0 | KN7: =IF(Loading!X437<0, 0, Loading!X437) -> 0 | KO7: =IF(Loading!X485<0, 0, Loading!X485) -> 0 | KP7: =IF(Loading!X533<0, 0, Loading!X533) -> 0 | KQ7: =IF(Loading!X581<0, 0, Loading!X581) -> 0 | KR7: =IF(Loading!X629<0, 0, Loading!X629) -> 0 | KS7: =IF(Loading!X677<0, 0, Loading!X677) -> 0 | KT7: =IF(Loading!X725<0, 0, Loading!X725) -> 0 | KU7: =IF(Loading!Y5<0, 0, Loading!Y5) -> 0 | KV7: =IF(Loading!Y53<0, 0, Loading!Y53) -> 0 | KW7: =IF(Loading!Y101<0, 0, Loading!Y101) -> 0 | KX7: =IF(Loading!Y149<0, 0, Loading!Y149) -> 0 | KY7: =IF(Loading!Y197<0, 0, Loading!Y197) -> 0 | KZ7: =IF(Loading!Y245<0, 0, Loading!Y245) -> 0 | LA7: =IF(Loading!Y293<0, 0, Loading!Y293) -> 0 | LB7: =IF(Loading!Y341<0, 0, Loading!Y341) -> 0 | LC7: =IF(Loading!Y389<0, 0, Loading!Y389) -> 0 | LD7: =IF(Loading!Y437<0, 0, Loading!Y437) -> 0 | LE7: =IF(Loading!Y485<0, 0, Loading!Y485) -> 0 | LF7: =IF(Loading!Y533<0, 0, Loading!Y533) -> 0 | LG7: =IF(Loading!Y581<0, 0, Loading!Y581) -> 0 | LH7: =IF(Loading!Y629<0, 0, Loading!Y629) -> 0 | LI7: =IF(Loading!Y677<0, 0, Loading!Y677) -> 0 | LJ7: =IF(Loading!Y725<0, 0, Loading!Y725) -> 0 | LK7: =IF(Loading!Z5<0, 0, Loading!Z5) -> 0 | LL7: =IF(Loading!Z53<0, 0, Loading!Z53) -> 0 | LM7: =IF(Loading!Z101<0, 0, Loading!Z101) -> 0 | LN7: =IF(Loading!Z149<0, 0, Loading!Z149) -> 0 | LO7: =IF(Loading!Z197<0, 0, Loading!Z197) -> 0 | LP7: =IF(Loading!Z245<0, 0, Loading!Z245) -> 0 | LQ7: =IF(Loading!Z293<0, 0, Loading!Z293) -> 0 | LR7: =IF(Loading!Z341<0, 0, Loading!Z341) -> 0 | LS7: =IF(Loading!Z389<0, 0, Loading!Z389) -> 0 | LT7: =IF(Loading!Z437<0, 0, Loading!Z437) -> 0 | LU7: =IF(Loading!Z485<0, 0, Loading!Z485) -> 0 | LV7: =IF(Loading!Z533<0, 0, Loading!Z533) -> 0 | LW7: =IF(Loading!Z581<0, 0, Loading!Z581) -> 0 | LX7: =IF(Loading!Z629<0, 0, Loading!Z629) -> 0 | LY7: =IF(Loading!Z677<0, 0, Loading!Z677) -> 0 | LZ7: =IF(Loading!Z725<0, 0, Loading!Z725) -> 0 | MA7: =IF(Loading!AA5<0, 0, Loading!AA5) -> 0 | MB7: =IF(Loading!AA53<0, 0, Loading!AA53) -> 0 | MC7: =IF(Loading!AA101<0, 0, Loading!AA101) -> 0 | MD7: =IF(Loading!AA149<0, 0, Loading!AA149) -> 0 | ME7: =IF(Loading!AA197<0, 0, Loading!AA197) -> 0 | MF7: =IF(Loading!AA245<0, 0, Loading!AA245) -> 0 | MG7: =IF(Loading!AA293<0, 0, Loading!AA293) -> 0 | MH7: =IF(Loading!AA341<0, 0, Loading!AA341) -> 0 | MI7: =IF(Loading!AA389<0, 0, Loading!AA389) -> 0 | MJ7: =IF(Loading!AA437<0, 0, Loading!AA437) -> 0 | MK7: =IF(Loading!AA485<0, 0, Loading!AA485) -> 0 | ML7: =IF(Loading!AA533<0, 0, Loading!AA533) -> 0 | MM7: =IF(Loading!AA581<0, 0, Loading!AA581) -> 0 | MN7: =IF(Loading!AA629<0, 0, Loading!AA629) -> 0 | MO7: =IF(Loading!AA677<0, 0, Loading!AA677) -> 0 | MP7: =IF(Loading!AA725<0, 0, Loading!AA725) -> 0 | MQ7: =IF(Loading!AB5<0, 0, Loading!AB5) -> 0 | MR7: =IF(Loading!AB53<0, 0, Loading!AB53) -> 0 | MS7: =IF(Loading!AB101<0, 0, Loading!AB101) -> 0 | MT7: =IF(Loading!AB149<0, 0, Loading!AB149) -> 0 | MU7: =IF(Loading!AB197<0, 0, Loading!AB197) -> 0 | MV7: =IF(Loading!AB245<0, 0, Loading!AB245) -> 0 | MW7: =IF(Loading!AB293<0, 0, Loading!AB293) -> 0 | MX7: =IF(Loading!AB341<0, 0, Loading!AB341) -> 0 | MY7: =IF(Loading!AB389<0, 0, Loading!AB389) -> 0 | MZ7: =IF(Loading!AB437<0, 0, Loading!AB437) -> 0 | NA7: =IF(Loading!AB485<0, 0, Loading!AB485) -> 0 | NB7: =IF(Loading!AB533<0, 0, Loading!AB533) -> 0 | NC7: =IF(Loading!AB581<0, 0, Loading!AB581) -> 0 | ND7: =IF(Loading!AB629<0, 0, Loading!AB629) -> 0 | NE7: =IF(Loading!AB677<0, 0, Loading!AB677) -> 0 | NF7: =IF(Loading!AB725<0, 0, Loading!AB725) -> 0 | NG7: =IF(Loading!AC5<0, 0, Loading!AC5) -> 0 | NH7: =IF(Loading!AC53<0, 0, Loading!AC53) -> 0 | NI7: =IF(Loading!AC101<0, 0, Loading!AC101) -> 0 | NJ7: =IF(Loading!AC149<0, 0, Loading!AC149) -> 0 | NK7: =IF(Loading!AC197<0, 0, Loading!AC197) -> 0 | NL7: =IF(Loading!AC245<0, 0, Loading!AC245) -> 0 | NM7: =IF(Loading!AC293<0, 0, Loading!AC293) -> 0 | NN7: =IF(Loading!AC341<0, 0, Loading!AC341) -> 0 | NO7: =IF(Loading!AC389<0, 0, Loading!AC389) -> 0 | NP7: =IF(Loading!AC437<0, 0, Loading!AC437) -> 0 | NQ7: =IF(Loading!AC485<0, 0, Loading!AC485) -> 0 | NR7: =IF(Loading!AC533<0, 0, Loading!AC533) -> 0 | NS7: =IF(Loading!AC581<0, 0, Loading!AC581) -> 0 | NT7: =IF(Loading!AC629<0, 0, Loading!AC629) -> 0 | NU7: =IF(Loading!AC677<0, 0, Loading!AC677) -> 0 | NV7: =IF(Loading!AC725<0, 0, Loading!AC725) -> 0 | NW7: =IF(Loading!AD5<0, 0, Loading!AD5) -> 0 | NX7: =IF(Loading!AD53<0, 0, Loading!AD53) -> 0 | NY7: =IF(Loading!AD101<0, 0, Loading!AD101) -> 0 | NZ7: =IF(Loading!AD149<0, 0, Loading!AD149) -> 0 | OA7: =IF(Loading!AD197<0, 0, Loading!AD197) -> 0 | OB7: =IF(Loading!AD245<0, 0, Loading!AD245) -> 0 | OC7: =IF(Loading!AD293<0, 0, Loading!AD293) -> 0 | OD7: =IF(Loading!AD341<0, 0, Loading!AD341) -> 0 | OE7: =IF(Loading!AD389<0, 0, Loading!AD389) -> 0 | OF7: =IF(Loading!AD437<0, 0, Loading!AD437) -> 0 | OG7: =IF(Loading!AD485<0, 0, Loading!AD485) -> 0 | OH7: =IF(Loading!AD533<0, 0, Loading!AD533) -> 0 | OI7: =IF(Loading!AD581<0, 0, Loading!AD581) -> 0 | OJ7: =IF(Loading!AD629<0, 0, Loading!AD629) -> 0 | OK7: =IF(Loading!AD677<0, 0, Loading!AD677) -> 0 | OL7: =IF(Loading!AD725<0, 0, Loading!AD725) -> 0 | OM7: =IF(Loading!AE5<0, 0, Loading!AE5) -> 0 | ON7: =IF(Loading!AE53<0, 0, Loading!AE53) -> 0 | OO7: =IF(Loading!AE101<0, 0, Loading!AE101) -> 0 | OP7: =IF(Loading!AE149<0, 0, Loading!AE149) -> 0 | OQ7: =IF(Loading!AE197<0, 0, Loading!AE197) -> 0 | OR7: =IF(Loading!AE245<0, 0, Loading!AE245) -> 0 | OS7: =IF(Loading!AE293<0, 0, Loading!AE293) -> 0 | OT7: =IF(Loading!AE341<0, 0, Loading!AE341) -> 0 | OU7: =IF(Loading!AE389<0, 0, Loading!AE389) -> 0 | OV7: =IF(Loading!AE437<0, 0, Loading!AE437) -> 0 | OW7: =IF(Loading!AE485<0, 0, Loading!AE485) -> 0 | OX7: =IF(Loading!AE533<0, 0, Loading!AE533) -> 0 | OY7: =IF(Loading!AE581<0, 0, Loading!AE581) -> 0 | OZ7: =IF(Loading!AE629<0, 0, Loading!AE629) -> 0 | PA7: =IF(Loading!AE677<0, 0, Loading!AE677) -> 0 | PB7: =IF(Loading!AE725<0, 0, Loading!AE725) -> 0 | PC7: =IF(Loading!AF5<0, 0, Loading!AF5) -> 0 | PD7: =IF(Loading!AF53<0, 0, Loading!AF53) -> 0 | PE7: =IF(Loading!AF101<0, 0, Loading!AF101) -> 0 | PF7: =IF(Loading!AF149<0, 0, Loading!AF149) -> 0 | PG7: =IF(Loading!AF197<0, 0, Loading!AF197) -> 0 | PH7: =IF(Loading!AF245<0, 0, Loading!AF245) -> 0 | PI7: =IF(Loading!AF293<0, 0, Loading!AF293) -> 0 | PJ7: =IF(Loading!AF341<0, 0, Loading!AF341) -> 0 | PK7: =IF(Loading!AF389<0, 0, Loading!AF389) -> 0 | PL7: =IF(Loading!AF437<0, 0, Loading!AF437) -> 0 | PM7: =IF(Loading!AF485<0, 0, Loading!AF485) -> 0 | PN7: =IF(Loading!AF533<0, 0, Loading!AF533) -> 0 | PO7: =IF(Loading!AF581<0, 0, Loading!AF581) -> 0 | PP7: =IF(Loading!AF629<0, 0, Loading!AF629) -> 0 | PQ7: =IF(Loading!AF677<0, 0, Loading!AF677) -> 0 | PR7: =IF(Loading!AF725<0, 0, Loading!AF725) -> 0 | PS7: =IF(Loading!AG5<0, 0, Loading!AG5) -> 0 | PT7: =IF(Loading!AG53<0, 0, Loading!AG53) -> 0 | PU7: =IF(Loading!AG101<0, 0, Loading!AG101) -> 0 | PV7: =IF(Loading!AG149<0, 0, Loading!AG149) -> 0 | PW7: =IF(Loading!AG197<0, 0, Loading!AG197) -> 0 | PX7: =IF(Loading!AG245<0, 0, Loading!AG245) -> 0 | PY7: =IF(Loading!AG293<0, 0, Loading!AG293) -> 0 | PZ7: =IF(Loading!AG341<0, 0, Loading!AG341) -> 0 | QA7: =IF(Loading!AG389<0, 0, Loading!AG389) -> 0 | QB7: =IF(Loading!AG437<0, 0, Loading!AG437) -> 0 | QC7: =IF(Loading!AG485<0, 0, Loading!AG485) -> 0 | QD7: =IF(Loading!AG533<0, 0, Loading!AG533) -> 0 | QE7: =IF(Loading!AG581<0, 0, Loading!AG581) -> 0 | QF7: =IF(Loading!AG629<0, 0, Loading!AG629) -> 0 | QG7: =IF(Loading!AG677<0, 0, Loading!AG677) -> 0 | QH7: =IF(Loading!AG725<0, 0, Loading!AG725) -> 0 | QI7: =IF(Loading!AH5<0, 0, Loading!AH5) -> 0 | QJ7: =IF(Loading!AH53<0, 0, Loading!AH53) -> 0 | QK7: =IF(Loading!AH101<0, 0, Loading!AH101) -> 0 | QL7: =IF(Loading!AH149<0, 0, Loading!AH149) -> 0 | QM7: =IF(Loading!AH197<0, 0, Loading!AH197) -> 0 | QN7: =IF(Loading!AH245<0, 0, Loading!AH245) -> 0 | QO7: =IF(Loading!AH293<0, 0, Loading!AH293) -> 0 | QP7: =IF(Loading!AH341<0, 0, Loading!AH341) -> 0 | QQ7: =IF(Loading!AH389<0, 0, Loading!AH389) -> 0 | QR7: =IF(Loading!AH437<0, 0, Loading!AH437) -> 0 | QS7: =IF(Loading!AH485<0, 0, Loading!AH485) -> 0 | QT7: =IF(Loading!AH533<0, 0, Loading!AH533) -> 0 | QU7: =IF(Loading!AH581<0, 0, Loading!AH581) -> 0 | QV7: =IF(Loading!AH629<0, 0, Loading!AH629) -> 0 | QW7: =IF(Loading!AH677<0, 0, Loading!AH677) -> 0 | QX7: =IF(Loading!AH725<0, 0, Loading!AH725) -> 0 | QY7: =IF(Loading!AI5<0, 0, Loading!AI5) -> 0 | QZ7: =IF(Loading!AI53<0, 0, Loading!AI53) -> 0 | RA7: =IF(Loading!AI101<0, 0, Loading!AI101) -> 0 | RB7: =IF(Loading!AI149<0, 0, Loading!AI149) -> 0 | RC7: =IF(Loading!AI197<0, 0, Loading!AI197) -> 0 | RD7: =IF(Loading!AI245<0, 0, Loading!AI245) -> 0 | RE7: =IF(Loading!AI293<0, 0, Loading!AI293) -> 0 | RF7: =IF(Loading!AI341<0, 0, Loading!AI341) -> 0 | RG7: =IF(Loading!AI389<0, 0, Loading!AI389) -> 0 | RH7: =IF(Loading!AI437<0, 0, Loading!AI437) -> 0 | RI7: =IF(Loading!AI485<0, 0, Loading!AI485) -> 0 | RJ7: =IF(Loading!AI533<0, 0, Loading!AI533) -> 0 | RK7: =IF(Loading!AI581<0, 0, Loading!AI581) -> 0 | RL7: =IF(Loading!AI629<0, 0, Loading!AI629) -> 0 | RM7: =IF(Loading!AI677<0, 0, Loading!AI677) -> 0 | RN7: =IF(Loading!AI725<0, 0, Loading!AI725) -> 0
B8: =B7 -> POS1 | C8: =IF(Loading!F6<0, 0, Loading!F6) -> 0 | D8: =IF(Loading!F54<0, 0, Loading!F54) -> 0 | E8: =IF(Loading!F102<0, 0, Loading!F102) -> 0 | F8: =IF(Loading!F150<0, 0, Loading!F150) -> 0 | G8: =IF(Loading!F198<0, 0, Loading!F198) -> 0 | H8: =IF(Loading!F246<0, 0, Loading!F246) -> 0 | I8: =IF(Loading!F294<0, 0, Loading!F294) -> 0 | J8: =IF(Loading!F342<0, 0, Loading!F342) -> 0 | K8: =IF(Loading!F390<0, 0, Loading!F390) -> 0 | L8: =IF(Loading!F438<0, 0, Loading!F438) -> 0 | M8: =IF(Loading!F486<0, 0, Loading!F486) -> 0 | N8: =IF(Loading!F534<0, 0, Loading!F534) -> 0 | O8: =IF(Loading!F582<0, 0, Loading!F582) -> 0 | P8: =IF(Loading!F630<0, 0, Loading!F630) -> 0 | Q8: =IF(Loading!F678<0, 0, Loading!F678) -> 0 | R8: =IF(Loading!F726<0, 0, Loading!F726) -> 0 | S8: =IF(Loading!G6<0, 0, Loading!G6) -> 0 | T8: =IF(Loading!G54<0, 0, Loading!G54) -> 0 | U8: =IF(Loading!G102<0, 0, Loading!G102) -> 0 | V8: =IF(Loading!G150<0, 0, Loading!G150) -> 0 | W8: =IF(Loading!G198<0, 0, Loading!G198) -> 0 | X8: =IF(Loading!G246<0, 0, Loading!G246) -> 0 | Y8: =IF(Loading!G294<0, 0, Loading!G294) -> 0 | Z8: =IF(Loading!G342<0, 0, Loading!G342) -> 0 | AA8: =IF(Loading!G390<0, 0, Loading!G390) -> 0 | AB8: =IF(Loading!G438<0, 0, Loading!G438) -> 0 | AC8: =IF(Loading!G486<0, 0, Loading!G486) -> 0 | AD8: =IF(Loading!G534<0, 0, Loading!G534) -> 0 | AE8: =IF(Loading!G582<0, 0, Loading!G582) -> 0 | AF8: =IF(Loading!G630<0, 0, Loading!G630) -> 0 | AG8: =IF(Loading!G678<0, 0, Loading!G678) -> 0 | AH8: =IF(Loading!G726<0, 0, Loading!G726) -> 0 | AI8: =IF(Loading!H6<0, 0, Loading!H6) -> 0 | AJ8: =IF(Loading!H54<0, 0, Loading!H54) -> 0 | AK8: =IF(Loading!H102<0, 0, Loading!H102) -> 0 | AL8: =IF(Loading!H150<0, 0, Loading!H150) -> 0 | AM8: =IF(Loading!H198<0, 0, Loading!H198) -> 0 | AN8: =IF(Loading!H246<0, 0, Loading!H246) -> 0 | AO8: =IF(Loading!H294<0, 0, Loading!H294) -> 0 | AP8: =IF(Loading!H342<0, 0, Loading!H342) -> 0 | AQ8: =IF(Loading!H390<0, 0, Loading!H390) -> 0 | AR8: =IF(Loading!H438<0, 0, Loading!H438) -> 0 | AS8: =IF(Loading!H486<0, 0, Loading!H486) -> 0 | AT8: =IF(Loading!H534<0, 0, Loading!H534) -> 0 | AU8: =IF(Loading!H582<0, 0, Loading!H582) -> 0 | AV8: =IF(Loading!H630<0, 0, Loading!H630) -> 0 | AW8: =IF(Loading!H678<0, 0, Loading!H678) -> 0 | AX8: =IF(Loading!H726<0, 0, Loading!H726) -> 0 | AY8: =IF(Loading!I6<0, 0, Loading!I6) -> 0 | AZ8: =IF(Loading!I54<0, 0, Loading!I54) -> 0 | BA8: =IF(Loading!I102<0, 0, Loading!I102) -> 0 | BB8: =IF(Loading!I150<0, 0, Loading!I150) -> 0 | BC8: =IF(Loading!I198<0, 0, Loading!I198) -> 0 | BD8: =IF(Loading!I246<0, 0, Loading!I246) -> 0 | BE8: =IF(Loading!I294<0, 0, Loading!I294) -> 0 | BF8: =IF(Loading!I342<0, 0, Loading!I342) -> 0 | BG8: =IF(Loading!I390<0, 0, Loading!I390) -> 0 | BH8: =IF(Loading!I438<0, 0, Loading!I438) -> 0 | BI8: =IF(Loading!I486<0, 0, Loading!I486) -> 0 | BJ8: =IF(Loading!I534<0, 0, Loading!I534) -> 0 | BK8: =IF(Loading!I582<0, 0, Loading!I582) -> 0 | BL8: =IF(Loading!I630<0, 0, Loading!I630) -> 0 | BM8: =IF(Loading!I678<0, 0, Loading!I678) -> 0 | BN8: =IF(Loading!I726<0, 0, Loading!I726) -> 0 | BO8: =IF(Loading!J6<0, 0, Loading!J6) -> 0 | BP8: =IF(Loading!J54<0, 0, Loading!J54) -> 0 | BQ8: =IF(Loading!J102<0, 0, Loading!J102) -> 0 | BR8: =IF(Loading!J150<0, 0, Loading!J150) -> 0 | BS8: =IF(Loading!J198<0, 0, Loading!J198) -> 0 | BT8: =IF(Loading!J246<0, 0, Loading!J246) -> 0 | BU8: =IF(Loading!J294<0, 0, Loading!J294) -> 0 | BV8: =IF(Loading!J342<0, 0, Loading!J342) -> 0 | BW8: =IF(Loading!J390<0, 0, Loading!J390) -> 0 | BX8: =IF(Loading!J438<0, 0, Loading!J438) -> 0 | BY8: =IF(Loading!J486<0, 0, Loading!J486) -> 0 | BZ8: =IF(Loading!J534<0, 0, Loading!J534) -> 0 | CA8: =IF(Loading!J582<0, 0, Loading!J582) -> 0 | CB8: =IF(Loading!J630<0, 0, Loading!J630) -> 0 | CC8: =IF(Loading!J678<0, 0, Loading!J678) -> 0 | CD8: =IF(Loading!J726<0, 0, Loading!J726) -> 0 | CE8: =IF(Loading!K6<0, 0, Loading!K6) -> 0 | CF8: =IF(Loading!K54<0, 0, Loading!K54) -> 0 | CG8: =IF(Loading!K102<0, 0, Loading!K102) -> 0 | CH8: =IF(Loading!K150<0, 0, Loading!K150) -> 0 | CI8: =IF(Loading!K198<0, 0, Loading!K198) -> 0 | CJ8: =IF(Loading!K246<0, 0, Loading!K246) -> 0 | CK8: =IF(Loading!K294<0, 0, Loading!K294) -> 0 | CL8: =IF(Loading!K342<0, 0, Loading!K342) -> 0 | CM8: =IF(Loading!K390<0, 0, Loading!K390) -> 0 | CN8: =IF(Loading!K438<0, 0, Loading!K438) -> 0 | CO8: =IF(Loading!K486<0, 0, Loading!K486) -> 0 | CP8: =IF(Loading!K534<0, 0, Loading!K534) -> 0 | CQ8: =IF(Loading!K582<0, 0, Loading!K582) -> 0 | CR8: =IF(Loading!K630<0, 0, Loading!K630) -> 0 | CS8: =IF(Loading!K678<0, 0, Loading!K678) -> 0 | CT8: =IF(Loading!K726<0, 0, Loading!K726) -> 0 | CU8: =IF(Loading!L6<0, 0, Loading!L6) -> 0 | CV8: =IF(Loading!L54<0, 0, Loading!L54) -> 0 | CW8: =IF(Loading!L102<0, 0, Loading!L102) -> 0 | CX8: =IF(Loading!L150<0, 0, Loading!L150) -> 0 | CY8: =IF(Loading!L198<0, 0, Loading!L198) -> 0 | CZ8: =IF(Loading!L246<0, 0, Loading!L246) -> 0 | DA8: =IF(Loading!L294<0, 0, Loading!L294) -> 0 | DB8: =IF(Loading!L342<0, 0, Loading!L342) -> 0 | DC8: =IF(Loading!L390<0, 0, Loading!L390) -> 0 | DD8: =IF(Loading!L438<0, 0, Loading!L438) -> 0 | DE8: =IF(Loading!L486<0, 0, Loading!L486) -> 0 | DF8: =IF(Loading!L534<0, 0, Loading!L534) -> 0 | DG8: =IF(Loading!L582<0, 0, Loading!L582) -> 0 | DH8: =IF(Loading!L630<0, 0, Loading!L630) -> 0 | DI8: =IF(Loading!L678<0, 0, Loading!L678) -> 0 | DJ8: =IF(Loading!L726<0, 0, Loading!L726) -> 0 | DK8: =IF(Loading!M6<0, 0, Loading!M6) -> 0 | DL8: =IF(Loading!M54<0, 0, Loading!M54) -> 0 | DM8: =IF(Loading!M102<0, 0, Loading!M102) -> 0 | DN8: =IF(Loading!M150<0, 0, Loading!M150) -> 0 | DO8: =IF(Loading!M198<0, 0, Loading!M198) -> 0 | DP8: =IF(Loading!M246<0, 0, Loading!M246) -> 0 | DQ8: =IF(Loading!M294<0, 0, Loading!M294) -> 0 | DR8: =IF(Loading!M342<0, 0, Loading!M342) -> 0 | DS8: =IF(Loading!M390<0, 0, Loading!M390) -> 0 | DT8: =IF(Loading!M438<0, 0, Loading!M438) -> 0 | DU8: =IF(Loading!M486<0, 0, Loading!M486) -> 0 | DV8: =IF(Loading!M534<0, 0, Loading!M534) -> 0 | DW8: =IF(Loading!M582<0, 0, Loading!M582) -> 0 | DX8: =IF(Loading!M630<0, 0, Loading!M630) -> 0 | DY8: =IF(Loading!M678<0, 0, Loading!M678) -> 0 | DZ8: =IF(Loading!M726<0, 0, Loading!M726) -> 0 | EA8: =IF(Loading!N6<0, 0, Loading!N6) -> 0 | EB8: =IF(Loading!N54<0, 0, Loading!N54) -> 0 | EC8: =IF(Loading!N102<0, 0, Loading!N102) -> 0 | ED8: =IF(Loading!N150<0, 0, Loading!N150) -> 0 | EE8: =IF(Loading!N198<0, 0, Loading!N198) -> 0 | EF8: =IF(Loading!N246<0, 0, Loading!N246) -> 0 | EG8: =IF(Loading!N294<0, 0, Loading!N294) -> 0 | EH8: =IF(Loading!N342<0, 0, Loading!N342) -> 0 | EI8: =IF(Loading!N390<0, 0, Loading!N390) -> 0 | EJ8: =IF(Loading!N438<0, 0, Loading!N438) -> 0 | EK8: =IF(Loading!N486<0, 0, Loading!N486) -> 0 | EL8: =IF(Loading!N534<0, 0, Loading!N534) -> 0 | EM8: =IF(Loading!N582<0, 0, Loading!N582) -> 0 | EN8: =IF(Loading!N630<0, 0, Loading!N630) -> 0 | EO8: =IF(Loading!N678<0, 0, Loading!N678) -> 0 | EP8: =IF(Loading!N726<0, 0, Loading!N726) -> 0 | EQ8: =IF(Loading!O6<0, 0, Loading!O6) -> 0 | ER8: =IF(Loading!O54<0, 0, Loading!O54) -> 0 | ES8: =IF(Loading!O102<0, 0, Loading!O102) -> 0 | ET8: =IF(Loading!O150<0, 0, Loading!O150) -> 0 | EU8: =IF(Loading!O198<0, 0, Loading!O198) -> 0 | EV8: =IF(Loading!O246<0, 0, Loading!O246) -> 0 | EW8: =IF(Loading!O294<0, 0, Loading!O294) -> 0 | EX8: =IF(Loading!O342<0, 0, Loading!O342) -> 0 | EY8: =IF(Loading!O390<0, 0, Loading!O390) -> 0 | EZ8: =IF(Loading!O438<0, 0, Loading!O438) -> 0 | FA8: =IF(Loading!O486<0, 0, Loading!O486) -> 0 | FB8: =IF(Loading!O534<0, 0, Loading!O534) -> 0 | FC8: =IF(Loading!O582<0, 0, Loading!O582) -> 0 | FD8: =IF(Loading!O630<0, 0, Loading!O630) -> 0 | FE8: =IF(Loading!O678<0, 0, Loading!O678) -> 0 | FF8: =IF(Loading!O726<0, 0, Loading!O726) -> 0 | FG8: =IF(Loading!P6<0, 0, Loading!P6) -> 0 | FH8: =IF(Loading!P54<0, 0, Loading!P54) -> 0 | FI8: =IF(Loading!P102<0, 0, Loading!P102) -> 0 | FJ8: =IF(Loading!P150<0, 0, Loading!P150) -> 0 | FK8: =IF(Loading!P198<0, 0, Loading!P198) -> 0 | FL8: =IF(Loading!P246<0, 0, Loading!P246) -> 0 | FM8: =IF(Loading!P294<0, 0, Loading!P294) -> 0 | FN8: =IF(Loading!P342<0, 0, Loading!P342) -> 0 | FO8: =IF(Loading!P390<0, 0, Loading!P390) -> 0 | FP8: =IF(Loading!P438<0, 0, Loading!P438) -> 0 | FQ8: =IF(Loading!P486<0, 0, Loading!P486) -> 0 | FR8: =IF(Loading!P534<0, 0, Loading!P534) -> 0 | FS8: =IF(Loading!P582<0, 0, Loading!P582) -> 0 | FT8: =IF(Loading!P630<0, 0, Loading!P630) -> 0 | FU8: =IF(Loading!P678<0, 0, Loading!P678) -> 0 | FV8: =IF(Loading!P726<0, 0, Loading!P726) -> 0 | FW8: =IF(Loading!Q6<0, 0, Loading!Q6) -> 0 | FX8: =IF(Loading!Q54<0, 0, Loading!Q54) -> 0 | FY8: =IF(Loading!Q102<0, 0, Loading!Q102) -> 0 | FZ8: =IF(Loading!Q150<0, 0, Loading!Q150) -> 0 | GA8: =IF(Loading!Q198<0, 0, Loading!Q198) -> 0 | GB8: =IF(Loading!Q246<0, 0, Loading!Q246) -> 0 | GC8: =IF(Loading!Q294<0, 0, Loading!Q294) -> 0 | GD8: =IF(Loading!Q342<0, 0, Loading!Q342) -> 0 | GE8: =IF(Loading!Q390<0, 0, Loading!Q390) -> 0 | GF8: =IF(Loading!Q438<0, 0, Loading!Q438) -> 0 | GG8: =IF(Loading!Q486<0, 0, Loading!Q486) -> 0 | GH8: =IF(Loading!Q534<0, 0, Loading!Q534) -> 0 | GI8: =IF(Loading!Q582<0, 0, Loading!Q582) -> 0 | GJ8: =IF(Loading!Q630<0, 0, Loading!Q630) -> 0 | GK8: =IF(Loading!Q678<0, 0, Loading!Q678) -> 0 | GL8: =IF(Loading!Q726<0, 0, Loading!Q726) -> 0 | GM8: =IF(Loading!R6<0, 0, Loading!R6) -> 0 | GN8: =IF(Loading!R54<0, 0, Loading!R54) -> 0 | GO8: =IF(Loading!R102<0, 0, Loading!R102) -> 0 | GP8: =IF(Loading!R150<0, 0, Loading!R150) -> 0 | GQ8: =IF(Loading!R198<0, 0, Loading!R198) -> 0 | GR8: =IF(Loading!R246<0, 0, Loading!R246) -> 0 | GS8: =IF(Loading!R294<0, 0, Loading!R294) -> 0 | GT8: =IF(Loading!R342<0, 0, Loading!R342) -> 0 | GU8: =IF(Loading!R390<0, 0, Loading!R390) -> 0 | GV8: =IF(Loading!R438<0, 0, Loading!R438) -> 0 | GW8: =IF(Loading!R486<0, 0, Loading!R486) -> 0 | GX8: =IF(Loading!R534<0, 0, Loading!R534) -> 0 | GY8: =IF(Loading!R582<0, 0, Loading!R582) -> 0 | GZ8: =IF(Loading!R630<0, 0, Loading!R630) -> 0 | HA8: =IF(Loading!R678<0, 0, Loading!R678) -> 0 | HB8: =IF(Loading!R726<0, 0, Loading!R726) -> 0 | HC8: =IF(Loading!S6<0, 0, Loading!S6) -> 0 | HD8: =IF(Loading!S54<0, 0, Loading!S54) -> 0 | HE8: =IF(Loading!S102<0, 0, Loading!S102) -> 0 | HF8: =IF(Loading!S150<0, 0, Loading!S150) -> 0 | HG8: =IF(Loading!S198<0, 0, Loading!S198) -> 0 | HH8: =IF(Loading!S246<0, 0, Loading!S246) -> 0 | HI8: =IF(Loading!S294<0, 0, Loading!S294) -> 0 | HJ8: =IF(Loading!S342<0, 0, Loading!S342) -> 0 | HK8: =IF(Loading!S390<0, 0, Loading!S390) -> 0 | HL8: =IF(Loading!S438<0, 0, Loading!S438) -> 0 | HM8: =IF(Loading!S486<0, 0, Loading!S486) -> 0 | HN8: =IF(Loading!S534<0, 0, Loading!S534) -> 0 | HO8: =IF(Loading!S582<0, 0, Loading!S582) -> 0 | HP8: =IF(Loading!S630<0, 0, Loading!S630) -> 0 | HQ8: =IF(Loading!S678<0, 0, Loading!S678) -> 0 | HR8: =IF(Loading!S726<0, 0, Loading!S726) -> 0 | HS8: =IF(Loading!T6<0, 0, Loading!T6) -> 0 | HT8: =IF(Loading!T54<0, 0, Loading!T54) -> 0 | HU8: =IF(Loading!T102<0, 0, Loading!T102) -> 0 | HV8: =IF(Loading!T150<0, 0, Loading!T150) -> 0 | HW8: =IF(Loading!T198<0, 0, Loading!T198) -> 0 | HX8: =IF(Loading!T246<0, 0, Loading!T246) -> 0 | HY8: =IF(Loading!T294<0, 0, Loading!T294) -> 0 | HZ8: =IF(Loading!T342<0, 0, Loading!T342) -> 0 | IA8: =IF(Loading!T390<0, 0, Loading!T390) -> 0 | IB8: =IF(Loading!T438<0, 0, Loading!T438) -> 0 | IC8: =IF(Loading!T486<0, 0, Loading!T486) -> 0 | ID8: =IF(Loading!T534<0, 0, Loading!T534) -> 0 | IE8: =IF(Loading!T582<0, 0, Loading!T582) -> 0 | IF8: =IF(Loading!T630<0, 0, Loading!T630) -> 0 | IG8: =IF(Loading!T678<0, 0, Loading!T678) -> 0 | IH8: =IF(Loading!T726<0, 0, Loading!T726) -> 0 | II8: =IF(Loading!U6<0, 0, Loading!U6) -> 0 | IJ8: =IF(Loading!U54<0, 0, Loading!U54) -> 0 | IK8: =IF(Loading!U102<0, 0, Loading!U102) -> 0 | IL8: =IF(Loading!U150<0, 0, Loading!U150) -> 0 | IM8: =IF(Loading!U198<0, 0, Loading!U198) -> 0 | IN8: =IF(Loading!U246<0, 0, Loading!U246) -> 0 | IO8: =IF(Loading!U294<0, 0, Loading!U294) -> 0 | IP8: =IF(Loading!U342<0, 0, Loading!U342) -> 0 | IQ8: =IF(Loading!U390<0, 0, Loading!U390) -> 0 | IR8: =IF(Loading!U438<0, 0, Loading!U438) -> 0 | IS8: =IF(Loading!U486<0, 0, Loading!U486) -> 0 | IT8: =IF(Loading!U534<0, 0, Loading!U534) -> 0 | IU8: =IF(Loading!U582<0, 0, Loading!U582) -> 0 | IV8: =IF(Loading!U630<0, 0, Loading!U630) -> 0 | IW8: =IF(Loading!U678<0, 0, Loading!U678) -> 0 | IX8: =IF(Loading!U726<0, 0, Loading!U726) -> 0 | IY8: =IF(Loading!V6<0, 0, Loading!V6) -> 0 | IZ8: =IF(Loading!V54<0, 0, Loading!V54) -> 0 | JA8: =IF(Loading!V102<0, 0, Loading!V102) -> 0 | JB8: =IF(Loading!V150<0, 0, Loading!V150) -> 0 | JC8: =IF(Loading!V198<0, 0, Loading!V198) -> 0 | JD8: =IF(Loading!V246<0, 0, Loading!V246) -> 0 | JE8: =IF(Loading!V294<0, 0, Loading!V294) -> 0 | JF8: =IF(Loading!V342<0, 0, Loading!V342) -> 0 | JG8: =IF(Loading!V390<0, 0, Loading!V390) -> 0 | JH8: =IF(Loading!V438<0, 0, Loading!V438) -> 0 | JI8: =IF(Loading!V486<0, 0, Loading!V486) -> 0 | JJ8: =IF(Loading!V534<0, 0, Loading!V534) -> 0 | JK8: =IF(Loading!V582<0, 0, Loading!V582) -> 0 | JL8: =IF(Loading!V630<0, 0, Loading!V630) -> 0 | JM8: =IF(Loading!V678<0, 0, Loading!V678) -> 0 | JN8: =IF(Loading!V726<0, 0, Loading!V726) -> 0 | JO8: =IF(Loading!W6<0, 0, Loading!W6) -> 0 | JP8: =IF(Loading!W54<0, 0, Loading!W54) -> 0 | JQ8: =IF(Loading!W102<0, 0, Loading!W102) -> 0 | JR8: =IF(Loading!W150<0, 0, Loading!W150) -> 0 | JS8: =IF(Loading!W198<0, 0, Loading!W198) -> 0 | JT8: =IF(Loading!W246<0, 0, Loading!W246) -> 0 | JU8: =IF(Loading!W294<0, 0, Loading!W294) -> 0 | JV8: =IF(Loading!W342<0, 0, Loading!W342) -> 0 | JW8: =IF(Loading!W390<0, 0, Loading!W390) -> 0 | JX8: =IF(Loading!W438<0, 0, Loading!W438) -> 0 | JY8: =IF(Loading!W486<0, 0, Loading!W486) -> 0 | JZ8: =IF(Loading!W534<0, 0, Loading!W534) -> 0 | KA8: =IF(Loading!W582<0, 0, Loading!W582) -> 0 | KB8: =IF(Loading!W630<0, 0, Loading!W630) -> 0 | KC8: =IF(Loading!W678<0, 0, Loading!W678) -> 0 | KD8: =IF(Loading!W726<0, 0, Loading!W726) -> 0 | KE8: =IF(Loading!X6<0, 0, Loading!X6) -> 0 | KF8: =IF(Loading!X54<0, 0, Loading!X54) -> 0 | KG8: =IF(Loading!X102<0, 0, Loading!X102) -> 0 | KH8: =IF(Loading!X150<0, 0, Loading!X150) -> 0 | KI8: =IF(Loading!X198<0, 0, Loading!X198) -> 0 | KJ8: =IF(Loading!X246<0, 0, Loading!X246) -> 0 | KK8: =IF(Loading!X294<0, 0, Loading!X294) -> 0 | KL8: =IF(Loading!X342<0, 0, Loading!X342) -> 0 | KM8: =IF(Loading!X390<0, 0, Loading!X390) -> 0 | KN8: =IF(Loading!X438<0, 0, Loading!X438) -> 0 | KO8: =IF(Loading!X486<0, 0, Loading!X486) -> 0 | KP8: =IF(Loading!X534<0, 0, Loading!X534) -> 0 | KQ8: =IF(Loading!X582<0, 0, Loading!X582) -> 0 | KR8: =IF(Loading!X630<0, 0, Loading!X630) -> 0 | KS8: =IF(Loading!X678<0, 0, Loading!X678) -> 0 | KT8: =IF(Loading!X726<0, 0, Loading!X726) -> 0 | KU8: =IF(Loading!Y6<0, 0, Loading!Y6) -> 0 | KV8: =IF(Loading!Y54<0, 0, Loading!Y54) -> 0 | KW8: =IF(Loading!Y102<0, 0, Loading!Y102) -> 0 | KX8: =IF(Loading!Y150<0, 0, Loading!Y150) -> 0 | KY8: =IF(Loading!Y198<0, 0, Loading!Y198) -> 0 | KZ8: =IF(Loading!Y246<0, 0, Loading!Y246) -> 0 | LA8: =IF(Loading!Y294<0, 0, Loading!Y294) -> 0 | LB8: =IF(Loading!Y342<0, 0, Loading!Y342) -> 0 | LC8: =IF(Loading!Y390<0, 0, Loading!Y390) -> 0 | LD8: =IF(Loading!Y438<0, 0, Loading!Y438) -> 0 | LE8: =IF(Loading!Y486<0, 0, Loading!Y486) -> 0 | LF8: =IF(Loading!Y534<0, 0, Loading!Y534) -> 0 | LG8: =IF(Loading!Y582<0, 0, Loading!Y582) -> 0 | LH8: =IF(Loading!Y630<0, 0, Loading!Y630) -> 0 | LI8: =IF(Loading!Y678<0, 0, Loading!Y678) -> 0 | LJ8: =IF(Loading!Y726<0, 0, Loading!Y726) -> 0 | LK8: =IF(Loading!Z6<0, 0, Loading!Z6) -> 0 | LL8: =IF(Loading!Z54<0, 0, Loading!Z54) -> 0 | LM8: =IF(Loading!Z102<0, 0, Loading!Z102) -> 0 | LN8: =IF(Loading!Z150<0, 0, Loading!Z150) -> 0 | LO8: =IF(Loading!Z198<0, 0, Loading!Z198) -> 0 | LP8: =IF(Loading!Z246<0, 0, Loading!Z246) -> 0 | LQ8: =IF(Loading!Z294<0, 0, Loading!Z294) -> 0 | LR8: =IF(Loading!Z342<0, 0, Loading!Z342) -> 0 | LS8: =IF(Loading!Z390<0, 0, Loading!Z390) -> 0 | LT8: =IF(Loading!Z438<0, 0, Loading!Z438) -> 0 | LU8: =IF(Loading!Z486<0, 0, Loading!Z486) -> 0 | LV8: =IF(Loading!Z534<0, 0, Loading!Z534) -> 0 | LW8: =IF(Loading!Z582<0, 0, Loading!Z582) -> 0 | LX8: =IF(Loading!Z630<0, 0, Loading!Z630) -> 0 | LY8: =IF(Loading!Z678<0, 0, Loading!Z678) -> 0 | LZ8: =IF(Loading!Z726<0, 0, Loading!Z726) -> 0 | MA8: =IF(Loading!AA6<0, 0, Loading!AA6) -> 0 | MB8: =IF(Loading!AA54<0, 0, Loading!AA54) -> 0 | MC8: =IF(Loading!AA102<0, 0, Loading!AA102) -> 0 | MD8: =IF(Loading!AA150<0, 0, Loading!AA150) -> 0 | ME8: =IF(Loading!AA198<0, 0, Loading!AA198) -> 0 | MF8: =IF(Loading!AA246<0, 0, Loading!AA246) -> 0 | MG8: =IF(Loading!AA294<0, 0, Loading!AA294) -> 0 | MH8: =IF(Loading!AA342<0, 0, Loading!AA342) -> 0 | MI8: =IF(Loading!AA390<0, 0, Loading!AA390) -> 0 | MJ8: =IF(Loading!AA438<0, 0, Loading!AA438) -> 0 | MK8: =IF(Loading!AA486<0, 0, Loading!AA486) -> 0 | ML8: =IF(Loading!AA534<0, 0, Loading!AA534) -> 0 | MM8: =IF(Loading!AA582<0, 0, Loading!AA582) -> 0 | MN8: =IF(Loading!AA630<0, 0, Loading!AA630) -> 0 | MO8: =IF(Loading!AA678<0, 0, Loading!AA678) -> 0 | MP8: =IF(Loading!AA726<0, 0, Loading!AA726) -> 0 | MQ8: =IF(Loading!AB6<0, 0, Loading!AB6) -> 0 | MR8: =IF(Loading!AB54<0, 0, Loading!AB54) -> 0 | MS8: =IF(Loading!AB102<0, 0, Loading!AB102) -> 0 | MT8: =IF(Loading!AB150<0, 0, Loading!AB150) -> 0 | MU8: =IF(Loading!AB198<0, 0, Loading!AB198) -> 0 | MV8: =IF(Loading!AB246<0, 0, Loading!AB246) -> 0 | MW8: =IF(Loading!AB294<0, 0, Loading!AB294) -> 0 | MX8: =IF(Loading!AB342<0, 0, Loading!AB342) -> 0 | MY8: =IF(Loading!AB390<0, 0, Loading!AB390) -> 0 | MZ8: =IF(Loading!AB438<0, 0, Loading!AB438) -> 0 | NA8: =IF(Loading!AB486<0, 0, Loading!AB486) -> 0 | NB8: =IF(Loading!AB534<0, 0, Loading!AB534) -> 0 | NC8: =IF(Loading!AB582<0, 0, Loading!AB582) -> 0 | ND8: =IF(Loading!AB630<0, 0, Loading!AB630) -> 0 | NE8: =IF(Loading!AB678<0, 0, Loading!AB678) -> 0 | NF8: =IF(Loading!AB726<0, 0, Loading!AB726) -> 0 | NG8: =IF(Loading!AC6<0, 0, Loading!AC6) -> 0 | NH8: =IF(Loading!AC54<0, 0, Loading!AC54) -> 0 | NI8: =IF(Loading!AC102<0, 0, Loading!AC102) -> 0 | NJ8: =IF(Loading!AC150<0, 0, Loading!AC150) -> 0 | NK8: =IF(Loading!AC198<0, 0, Loading!AC198) -> 0 | NL8: =IF(Loading!AC246<0, 0, Loading!AC246) -> 0 | NM8: =IF(Loading!AC294<0, 0, Loading!AC294) -> 0 | NN8: =IF(Loading!AC342<0, 0, Loading!AC342) -> 0 | NO8: =IF(Loading!AC390<0, 0, Loading!AC390) -> 0 | NP8: =IF(Loading!AC438<0, 0, Loading!AC438) -> 0 | NQ8: =IF(Loading!AC486<0, 0, Loading!AC486) -> 0 | NR8: =IF(Loading!AC534<0, 0, Loading!AC534) -> 0 | NS8: =IF(Loading!AC582<0, 0, Loading!AC582) -> 0 | NT8: =IF(Loading!AC630<0, 0, Loading!AC630) -> 0 | NU8: =IF(Loading!AC678<0, 0, Loading!AC678) -> 0 | NV8: =IF(Loading!AC726<0, 0, Loading!AC726) -> 0 | NW8: =IF(Loading!AD6<0, 0, Loading!AD6) -> 0 | NX8: =IF(Loading!AD54<0, 0, Loading!AD54) -> 0 | NY8: =IF(Loading!AD102<0, 0, Loading!AD102) -> 0 | NZ8: =IF(Loading!AD150<0, 0, Loading!AD150) -> 0 | OA8: =IF(Loading!AD198<0, 0, Loading!AD198) -> 0 | OB8: =IF(Loading!AD246<0, 0, Loading!AD246) -> 0 | OC8: =IF(Loading!AD294<0, 0, Loading!AD294) -> 0 | OD8: =IF(Loading!AD342<0, 0, Loading!AD342) -> 0 | OE8: =IF(Loading!AD390<0, 0, Loading!AD390) -> 0 | OF8: =IF(Loading!AD438<0, 0, Loading!AD438) -> 0 | OG8: =IF(Loading!AD486<0, 0, Loading!AD486) -> 0 | OH8: =IF(Loading!AD534<0, 0, Loading!AD534) -> 0 | OI8: =IF(Loading!AD582<0, 0, Loading!AD582) -> 0 | OJ8: =IF(Loading!AD630<0, 0, Loading!AD630) -> 0 | OK8: =IF(Loading!AD678<0, 0, Loading!AD678) -> 0 | OL8: =IF(Loading!AD726<0, 0, Loading!AD726) -> 0 | OM8: =IF(Loading!AE6<0, 0, Loading!AE6) -> 0 | ON8: =IF(Loading!AE54<0, 0, Loading!AE54) -> 0 | OO8: =IF(Loading!AE102<0, 0, Loading!AE102) -> 0 | OP8: =IF(Loading!AE150<0, 0, Loading!AE150) -> 0 | OQ8: =IF(Loading!AE198<0, 0, Loading!AE198) -> 0 | OR8: =IF(Loading!AE246<0, 0, Loading!AE246) -> 0 | OS8: =IF(Loading!AE294<0, 0, Loading!AE294) -> 0 | OT8: =IF(Loading!AE342<0, 0, Loading!AE342) -> 0 | OU8: =IF(Loading!AE390<0, 0, Loading!AE390) -> 0 | OV8: =IF(Loading!AE438<0, 0, Loading!AE438) -> 0 | OW8: =IF(Loading!AE486<0, 0, Loading!AE486) -> 0 | OX8: =IF(Loading!AE534<0, 0, Loading!AE534) -> 0 | OY8: =IF(Loading!AE582<0, 0, Loading!AE582) -> 0 | OZ8: =IF(Loading!AE630<0, 0, Loading!AE630) -> 0 | PA8: =IF(Loading!AE678<0, 0, Loading!AE678) -> 0 | PB8: =IF(Loading!AE726<0, 0, Loading!AE726) -> 0 | PC8: =IF(Loading!AF6<0, 0, Loading!AF6) -> 0 | PD8: =IF(Loading!AF54<0, 0, Loading!AF54) -> 0 | PE8: =IF(Loading!AF102<0, 0, Loading!AF102) -> 0 | PF8: =IF(Loading!AF150<0, 0, Loading!AF150) -> 0 | PG8: =IF(Loading!AF198<0, 0, Loading!AF198) -> 0 | PH8: =IF(Loading!AF246<0, 0, Loading!AF246) -> 0 | PI8: =IF(Loading!AF294<0, 0, Loading!AF294) -> 0 | PJ8: =IF(Loading!AF342<0, 0, Loading!AF342) -> 0 | PK8: =IF(Loading!AF390<0, 0, Loading!AF390) -> 0 | PL8: =IF(Loading!AF438<0, 0, Loading!AF438) -> 0 | PM8: =IF(Loading!AF486<0, 0, Loading!AF486) -> 0 | PN8: =IF(Loading!AF534<0, 0, Loading!AF534) -> 0 | PO8: =IF(Loading!AF582<0, 0, Loading!AF582) -> 0 | PP8: =IF(Loading!AF630<0, 0, Loading!AF630) -> 0 | PQ8: =IF(Loading!AF678<0, 0, Loading!AF678) -> 0 | PR8: =IF(Loading!AF726<0, 0, Loading!AF726) -> 0 | PS8: =IF(Loading!AG6<0, 0, Loading!AG6) -> 0 | PT8: =IF(Loading!AG54<0, 0, Loading!AG54) -> 0 | PU8: =IF(Loading!AG102<0, 0, Loading!AG102) -> 0 | PV8: =IF(Loading!AG150<0, 0, Loading!AG150) -> 0 | PW8: =IF(Loading!AG198<0, 0, Loading!AG198) -> 0 | PX8: =IF(Loading!AG246<0, 0, Loading!AG246) -> 0 | PY8: =IF(Loading!AG294<0, 0, Loading!AG294) -> 0 | PZ8: =IF(Loading!AG342<0, 0, Loading!AG342) -> 0 | QA8: =IF(Loading!AG390<0, 0, Loading!AG390) -> 0 | QB8: =IF(Loading!AG438<0, 0, Loading!AG438) -> 0 | QC8: =IF(Loading!AG486<0, 0, Loading!AG486) -> 0 | QD8: =IF(Loading!AG534<0, 0, Loading!AG534) -> 0 | QE8: =IF(Loading!AG582<0, 0, Loading!AG582) -> 0 | QF8: =IF(Loading!AG630<0, 0, Loading!AG630) -> 0 | QG8: =IF(Loading!AG678<0, 0, Loading!AG678) -> 0 | QH8: =IF(Loading!AG726<0, 0, Loading!AG726) -> 0 | QI8: =IF(Loading!AH6<0, 0, Loading!AH6) -> 0 | QJ8: =IF(Loading!AH54<0, 0, Loading!AH54) -> 0 | QK8: =IF(Loading!AH102<0, 0, Loading!AH102) -> 0 | QL8: =IF(Loading!AH150<0, 0, Loading!AH150) -> 0 | QM8: =IF(Loading!AH198<0, 0, Loading!AH198) -> 0 | QN8: =IF(Loading!AH246<0, 0, Loading!AH246) -> 0 | QO8: =IF(Loading!AH294<0, 0, Loading!AH294) -> 0 | QP8: =IF(Loading!AH342<0, 0, Loading!AH342) -> 0 | QQ8: =IF(Loading!AH390<0, 0, Loading!AH390) -> 0 | QR8: =IF(Loading!AH438<0, 0, Loading!AH438) -> 0 | QS8: =IF(Loading!AH486<0, 0, Loading!AH486) -> 0 | QT8: =IF(Loading!AH534<0, 0, Loading!AH534) -> 0 | QU8: =IF(Loading!AH582<0, 0, Loading!AH582) -> 0 | QV8: =IF(Loading!AH630<0, 0, Loading!AH630) -> 0 | QW8: =IF(Loading!AH678<0, 0, Loading!AH678) -> 0 | QX8: =IF(Loading!AH726<0, 0, Loading!AH726) -> 0 | QY8: =IF(Loading!AI6<0, 0, Loading!AI6) -> 0 | QZ8: =IF(Loading!AI54<0, 0, Loading!AI54) -> 0 | RA8: =IF(Loading!AI102<0, 0, Loading!AI102) -> 0 | RB8: =IF(Loading!AI150<0, 0, Loading!AI150) -> 0 | RC8: =IF(Loading!AI198<0, 0, Loading!AI198) -> 0 | RD8: =IF(Loading!AI246<0, 0, Loading!AI246) -> 0 | RE8: =IF(Loading!AI294<0, 0, Loading!AI294) -> 0 | RF8: =IF(Loading!AI342<0, 0, Loading!AI342) -> 0 | RG8: =IF(Loading!AI390<0, 0, Loading!AI390) -> 0 | RH8: =IF(Loading!AI438<0, 0, Loading!AI438) -> 0 | RI8: =IF(Loading!AI486<0, 0, Loading!AI486) -> 0 | RJ8: =IF(Loading!AI534<0, 0, Loading!AI534) -> 0 | RK8: =IF(Loading!AI582<0, 0, Loading!AI582) -> 0 | RL8: =IF(Loading!AI630<0, 0, Loading!AI630) -> 0 | RM8: =IF(Loading!AI678<0, 0, Loading!AI678) -> 0 | RN8: =IF(Loading!AI726<0, 0, Loading!AI726) -> 0
B9: =Map!F6 -> POS2 | C9: =IF(Loading!F7<0, 0, Loading!F7) -> 0 | D9: =IF(Loading!F55<0, 0, Loading!F55) -> 0 | E9: =IF(Loading!F103<0, 0, Loading!F103) -> 0 | F9: =IF(Loading!F151<0, 0, Loading!F151) -> 0 | G9: =IF(Loading!F199<0, 0, Loading!F199) -> 0 | H9: =IF(Loading!F247<0, 0, Loading!F247) -> 0 | I9: =IF(Loading!F295<0, 0, Loading!F295) -> 0 | J9: =IF(Loading!F343<0, 0, Loading!F343) -> 0 | K9: =IF(Loading!F391<0, 0, Loading!F391) -> 0 | L9: =IF(Loading!F439<0, 0, Loading!F439) -> 0 | M9: =IF(Loading!F487<0, 0, Loading!F487) -> 0 | N9: =IF(Loading!F535<0, 0, Loading!F535) -> 0 | O9: =IF(Loading!F583<0, 0, Loading!F583) -> 0 | P9: =IF(Loading!F631<0, 0, Loading!F631) -> 0 | Q9: =IF(Loading!F679<0, 0, Loading!F679) -> 0 | R9: =IF(Loading!F727<0, 0, Loading!F727) -> 0 | S9: =IF(Loading!G7<0, 0, Loading!G7) -> 0 | T9: =IF(Loading!G55<0, 0, Loading!G55) -> 0 | U9: =IF(Loading!G103<0, 0, Loading!G103) -> 0 | V9: =IF(Loading!G151<0, 0, Loading!G151) -> 0 | W9: =IF(Loading!G199<0, 0, Loading!G199) -> 0 | X9: =IF(Loading!G247<0, 0, Loading!G247) -> 0 | Y9: =IF(Loading!G295<0, 0, Loading!G295) -> 0 | Z9: =IF(Loading!G343<0, 0, Loading!G343) -> 0 | AA9: =IF(Loading!G391<0, 0, Loading!G391) -> 0 | AB9: =IF(Loading!G439<0, 0, Loading!G439) -> 0 | AC9: =IF(Loading!G487<0, 0, Loading!G487) -> 0 | AD9: =IF(Loading!G535<0, 0, Loading!G535) -> 0 | AE9: =IF(Loading!G583<0, 0, Loading!G583) -> 0 | AF9: =IF(Loading!G631<0, 0, Loading!G631) -> 0 | AG9: =IF(Loading!G679<0, 0, Loading!G679) -> 0 | AH9: =IF(Loading!G727<0, 0, Loading!G727) -> 0 | AI9: =IF(Loading!H7<0, 0, Loading!H7) -> 0 | AJ9: =IF(Loading!H55<0, 0, Loading!H55) -> 0 | AK9: =IF(Loading!H103<0, 0, Loading!H103) -> 0 | AL9: =IF(Loading!H151<0, 0, Loading!H151) -> 0 | AM9: =IF(Loading!H199<0, 0, Loading!H199) -> 0 | AN9: =IF(Loading!H247<0, 0, Loading!H247) -> 0 | AO9: =IF(Loading!H295<0, 0, Loading!H295) -> 0 | AP9: =IF(Loading!H343<0, 0, Loading!H343) -> 0 | AQ9: =IF(Loading!H391<0, 0, Loading!H391) -> 0 | AR9: =IF(Loading!H439<0, 0, Loading!H439) -> 0 | AS9: =IF(Loading!H487<0, 0, Loading!H487) -> 0 | AT9: =IF(Loading!H535<0, 0, Loading!H535) -> 0 | AU9: =IF(Loading!H583<0, 0, Loading!H583) -> 0 | AV9: =IF(Loading!H631<0, 0, Loading!H631) -> 0 | AW9: =IF(Loading!H679<0, 0, Loading!H679) -> 0 | AX9: =IF(Loading!H727<0, 0, Loading!H727) -> 0 | AY9: =IF(Loading!I7<0, 0, Loading!I7) -> 0 | AZ9: =IF(Loading!I55<0, 0, Loading!I55) -> 0 | BA9: =IF(Loading!I103<0, 0, Loading!I103) -> 0 | BB9: =IF(Loading!I151<0, 0, Loading!I151) -> 0 | BC9: =IF(Loading!I199<0, 0, Loading!I199) -> 0 | BD9: =IF(Loading!I247<0, 0, Loading!I247) -> 0 | BE9: =IF(Loading!I295<0, 0, Loading!I295) -> 0 | BF9: =IF(Loading!I343<0, 0, Loading!I343) -> 0 | BG9: =IF(Loading!I391<0, 0, Loading!I391) -> 0 | BH9: =IF(Loading!I439<0, 0, Loading!I439) -> 0 | BI9: =IF(Loading!I487<0, 0, Loading!I487) -> 0 | BJ9: =IF(Loading!I535<0, 0, Loading!I535) -> 0 | BK9: =IF(Loading!I583<0, 0, Loading!I583) -> 0 | BL9: =IF(Loading!I631<0, 0, Loading!I631) -> 0 | BM9: =IF(Loading!I679<0, 0, Loading!I679) -> 0 | BN9: =IF(Loading!I727<0, 0, Loading!I727) -> 0 | BO9: =IF(Loading!J7<0, 0, Loading!J7) -> 0 | BP9: =IF(Loading!J55<0, 0, Loading!J55) -> 0 | BQ9: =IF(Loading!J103<0, 0, Loading!J103) -> 0 | BR9: =IF(Loading!J151<0, 0, Loading!J151) -> 0 | BS9: =IF(Loading!J199<0, 0, Loading!J199) -> 0 | BT9: =IF(Loading!J247<0, 0, Loading!J247) -> 0 | BU9: =IF(Loading!J295<0, 0, Loading!J295) -> 0 | BV9: =IF(Loading!J343<0, 0, Loading!J343) -> 0 | BW9: =IF(Loading!J391<0, 0, Loading!J391) -> 0 | BX9: =IF(Loading!J439<0, 0, Loading!J439) -> 0 | BY9: =IF(Loading!J487<0, 0, Loading!J487) -> 0 | BZ9: =IF(Loading!J535<0, 0, Loading!J535) -> 0 | CA9: =IF(Loading!J583<0, 0, Loading!J583) -> 0 | CB9: =IF(Loading!J631<0, 0, Loading!J631) -> 0 | CC9: =IF(Loading!J679<0, 0, Loading!J679) -> 0 | CD9: =IF(Loading!J727<0, 0, Loading!J727) -> 0 | CE9: =IF(Loading!K7<0, 0, Loading!K7) -> 0 | CF9: =IF(Loading!K55<0, 0, Loading!K55) -> 0 | CG9: =IF(Loading!K103<0, 0, Loading!K103) -> 0 | CH9: =IF(Loading!K151<0, 0, Loading!K151) -> 0 | CI9: =IF(Loading!K199<0, 0, Loading!K199) -> 0 | CJ9: =IF(Loading!K247<0, 0, Loading!K247) -> 0 | CK9: =IF(Loading!K295<0, 0, Loading!K295) -> 0 | CL9: =IF(Loading!K343<0, 0, Loading!K343) -> 0 | CM9: =IF(Loading!K391<0, 0, Loading!K391) -> 0 | CN9: =IF(Loading!K439<0, 0, Loading!K439) -> 0 | CO9: =IF(Loading!K487<0, 0, Loading!K487) -> 0 | CP9: =IF(Loading!K535<0, 0, Loading!K535) -> 0 | CQ9: =IF(Loading!K583<0, 0, Loading!K583) -> 0 | CR9: =IF(Loading!K631<0, 0, Loading!K631) -> 0 | CS9: =IF(Loading!K679<0, 0, Loading!K679) -> 0 | CT9: =IF(Loading!K727<0, 0, Loading!K727) -> 0 | CU9: =IF(Loading!L7<0, 0, Loading!L7) -> 0 | CV9: =IF(Loading!L55<0, 0, Loading!L55) -> 0 | CW9: =IF(Loading!L103<0, 0, Loading!L103) -> 0 | CX9: =IF(Loading!L151<0, 0, Loading!L151) -> 0 | CY9: =IF(Loading!L199<0, 0, Loading!L199) -> 0 | CZ9: =IF(Loading!L247<0, 0, Loading!L247) -> 0 | DA9: =IF(Loading!L295<0, 0, Loading!L295) -> 0 | DB9: =IF(Loading!L343<0, 0, Loading!L343) -> 0 | DC9: =IF(Loading!L391<0, 0, Loading!L391) -> 0 | DD9: =IF(Loading!L439<0, 0, Loading!L439) -> 0 | DE9: =IF(Loading!L487<0, 0, Loading!L487) -> 0 | DF9: =IF(Loading!L535<0, 0, Loading!L535) -> 0 | DG9: =IF(Loading!L583<0, 0, Loading!L583) -> 0 | DH9: =IF(Loading!L631<0, 0, Loading!L631) -> 0 | DI9: =IF(Loading!L679<0, 0, Loading!L679) -> 0 | DJ9: =IF(Loading!L727<0, 0, Loading!L727) -> 0 | DK9: =IF(Loading!M7<0, 0, Loading!M7) -> 0 | DL9: =IF(Loading!M55<0, 0, Loading!M55) -> 0 | DM9: =IF(Loading!M103<0, 0, Loading!M103) -> 0 | DN9: =IF(Loading!M151<0, 0, Loading!M151) -> 0 | DO9: =IF(Loading!M199<0, 0, Loading!M199) -> 0 | DP9: =IF(Loading!M247<0, 0, Loading!M247) -> 0 | DQ9: =IF(Loading!M295<0, 0, Loading!M295) -> 0 | DR9: =IF(Loading!M343<0, 0, Loading!M343) -> 0 | DS9: =IF(Loading!M391<0, 0, Loading!M391) -> 0 | DT9: =IF(Loading!M439<0, 0, Loading!M439) -> 0 | DU9: =IF(Loading!M487<0, 0, Loading!M487) -> 0 | DV9: =IF(Loading!M535<0, 0, Loading!M535) -> 0 | DW9: =IF(Loading!M583<0, 0, Loading!M583) -> 0 | DX9: =IF(Loading!M631<0, 0, Loading!M631) -> 0 | DY9: =IF(Loading!M679<0, 0, Loading!M679) -> 0 | DZ9: =IF(Loading!M727<0, 0, Loading!M727) -> 0 | EA9: =IF(Loading!N7<0, 0, Loading!N7) -> 0 | EB9: =IF(Loading!N55<0, 0, Loading!N55) -> 0 | EC9: =IF(Loading!N103<0, 0, Loading!N103) -> 0 | ED9: =IF(Loading!N151<0, 0, Loading!N151) -> 0 | EE9: =IF(Loading!N199<0, 0, Loading!N199) -> 0 | EF9: =IF(Loading!N247<0, 0, Loading!N247) -> 0 | EG9: =IF(Loading!N295<0, 0, Loading!N295) -> 0 | EH9: =IF(Loading!N343<0, 0, Loading!N343) -> 0 | EI9: =IF(Loading!N391<0, 0, Loading!N391) -> 0 | EJ9: =IF(Loading!N439<0, 0, Loading!N439) -> 0 | EK9: =IF(Loading!N487<0, 0, Loading!N487) -> 0 | EL9: =IF(Loading!N535<0, 0, Loading!N535) -> 0 | EM9: =IF(Loading!N583<0, 0, Loading!N583) -> 0 | EN9: =IF(Loading!N631<0, 0, Loading!N631) -> 0 | EO9: =IF(Loading!N679<0, 0, Loading!N679) -> 0 | EP9: =IF(Loading!N727<0, 0, Loading!N727) -> 0 | EQ9: =IF(Loading!O7<0, 0, Loading!O7) -> 0 | ER9: =IF(Loading!O55<0, 0, Loading!O55) -> 0 | ES9: =IF(Loading!O103<0, 0, Loading!O103) -> 0 | ET9: =IF(Loading!O151<0, 0, Loading!O151) -> 0 | EU9: =IF(Loading!O199<0, 0, Loading!O199) -> 0 | EV9: =IF(Loading!O247<0, 0, Loading!O247) -> 0 | EW9: =IF(Loading!O295<0, 0, Loading!O295) -> 0 | EX9: =IF(Loading!O343<0, 0, Loading!O343) -> 0 | EY9: =IF(Loading!O391<0, 0, Loading!O391) -> 0 | EZ9: =IF(Loading!O439<0, 0, Loading!O439) -> 0 | FA9: =IF(Loading!O487<0, 0, Loading!O487) -> 0 | FB9: =IF(Loading!O535<0, 0, Loading!O535) -> 0 | FC9: =IF(Loading!O583<0, 0, Loading!O583) -> 0 | FD9: =IF(Loading!O631<0, 0, Loading!O631) -> 0 | FE9: =IF(Loading!O679<0, 0, Loading!O679) -> 0 | FF9: =IF(Loading!O727<0, 0, Loading!O727) -> 0 | FG9: =IF(Loading!P7<0, 0, Loading!P7) -> 0 | FH9: =IF(Loading!P55<0, 0, Loading!P55) -> 0 | FI9: =IF(Loading!P103<0, 0, Loading!P103) -> 0 | FJ9: =IF(Loading!P151<0, 0, Loading!P151) -> 0 | FK9: =IF(Loading!P199<0, 0, Loading!P199) -> 0 | FL9: =IF(Loading!P247<0, 0, Loading!P247) -> 0 | FM9: =IF(Loading!P295<0, 0, Loading!P295) -> 0 | FN9: =IF(Loading!P343<0, 0, Loading!P343) -> 0 | FO9: =IF(Loading!P391<0, 0, Loading!P391) -> 0 | FP9: =IF(Loading!P439<0, 0, Loading!P439) -> 0 | FQ9: =IF(Loading!P487<0, 0, Loading!P487) -> 0 | FR9: =IF(Loading!P535<0, 0, Loading!P535) -> 0 | FS9: =IF(Loading!P583<0, 0, Loading!P583) -> 0 | FT9: =IF(Loading!P631<0, 0, Loading!P631) -> 0 | FU9: =IF(Loading!P679<0, 0, Loading!P679) -> 0 | FV9: =IF(Loading!P727<0, 0, Loading!P727) -> 0 | FW9: =IF(Loading!Q7<0, 0, Loading!Q7) -> 0 | FX9: =IF(Loading!Q55<0, 0, Loading!Q55) -> 0 | FY9: =IF(Loading!Q103<0, 0, Loading!Q103) -> 0 | FZ9: =IF(Loading!Q151<0, 0, Loading!Q151) -> 0 | GA9: =IF(Loading!Q199<0, 0, Loading!Q199) -> 0 | GB9: =IF(Loading!Q247<0, 0, Loading!Q247) -> 0 | GC9: =IF(Loading!Q295<0, 0, Loading!Q295) -> 0 | GD9: =IF(Loading!Q343<0, 0, Loading!Q343) -> 0 | GE9: =IF(Loading!Q391<0, 0, Loading!Q391) -> 0 | GF9: =IF(Loading!Q439<0, 0, Loading!Q439) -> 0 | GG9: =IF(Loading!Q487<0, 0, Loading!Q487) -> 0 | GH9: =IF(Loading!Q535<0, 0, Loading!Q535) -> 0 | GI9: =IF(Loading!Q583<0, 0, Loading!Q583) -> 0 | GJ9: =IF(Loading!Q631<0, 0, Loading!Q631) -> 0 | GK9: =IF(Loading!Q679<0, 0, Loading!Q679) -> 0 | GL9: =IF(Loading!Q727<0, 0, Loading!Q727) -> 0 | GM9: =IF(Loading!R7<0, 0, Loading!R7) -> 0 | GN9: =IF(Loading!R55<0, 0, Loading!R55) -> 0 | GO9: =IF(Loading!R103<0, 0, Loading!R103) -> 0 | GP9: =IF(Loading!R151<0, 0, Loading!R151) -> 0 | GQ9: =IF(Loading!R199<0, 0, Loading!R199) -> 0 | GR9: =IF(Loading!R247<0, 0, Loading!R247) -> 0 | GS9: =IF(Loading!R295<0, 0, Loading!R295) -> 0 | GT9: =IF(Loading!R343<0, 0, Loading!R343) -> 0 | GU9: =IF(Loading!R391<0, 0, Loading!R391) -> 0 | GV9: =IF(Loading!R439<0, 0, Loading!R439) -> 0 | GW9: =IF(Loading!R487<0, 0, Loading!R487) -> 0 | GX9: =IF(Loading!R535<0, 0, Loading!R535) -> 0 | GY9: =IF(Loading!R583<0, 0, Loading!R583) -> 0 | GZ9: =IF(Loading!R631<0, 0, Loading!R631) -> 0 | HA9: =IF(Loading!R679<0, 0, Loading!R679) -> 0 | HB9: =IF(Loading!R727<0, 0, Loading!R727) -> 0 | HC9: =IF(Loading!S7<0, 0, Loading!S7) -> 0 | HD9: =IF(Loading!S55<0, 0, Loading!S55) -> 0 | HE9: =IF(Loading!S103<0, 0, Loading!S103) -> 0 | HF9: =IF(Loading!S151<0, 0, Loading!S151) -> 0 | HG9: =IF(Loading!S199<0, 0, Loading!S199) -> 0 | HH9: =IF(Loading!S247<0, 0, Loading!S247) -> 0 | HI9: =IF(Loading!S295<0, 0, Loading!S295) -> 0 | HJ9: =IF(Loading!S343<0, 0, Loading!S343) -> 0 | HK9: =IF(Loading!S391<0, 0, Loading!S391) -> 0 | HL9: =IF(Loading!S439<0, 0, Loading!S439) -> 0 | HM9: =IF(Loading!S487<0, 0, Loading!S487) -> 0 | HN9: =IF(Loading!S535<0, 0, Loading!S535) -> 0 | HO9: =IF(Loading!S583<0, 0, Loading!S583) -> 0 | HP9: =IF(Loading!S631<0, 0, Loading!S631) -> 0 | HQ9: =IF(Loading!S679<0, 0, Loading!S679) -> 0 | HR9: =IF(Loading!S727<0, 0, Loading!S727) -> 0 | HS9: =IF(Loading!T7<0, 0, Loading!T7) -> 0 | HT9: =IF(Loading!T55<0, 0, Loading!T55) -> 0 | HU9: =IF(Loading!T103<0, 0, Loading!T103) -> 0 | HV9: =IF(Loading!T151<0, 0, Loading!T151) -> 0 | HW9: =IF(Loading!T199<0, 0, Loading!T199) -> 0 | HX9: =IF(Loading!T247<0, 0, Loading!T247) -> 0 | HY9: =IF(Loading!T295<0, 0, Loading!T295) -> 0 | HZ9: =IF(Loading!T343<0, 0, Loading!T343) -> 0 | IA9: =IF(Loading!T391<0, 0, Loading!T391) -> 0 | IB9: =IF(Loading!T439<0, 0, Loading!T439) -> 0 | IC9: =IF(Loading!T487<0, 0, Loading!T487) -> 0 | ID9: =IF(Loading!T535<0, 0, Loading!T535) -> 0 | IE9: =IF(Loading!T583<0, 0, Loading!T583) -> 0 | IF9: =IF(Loading!T631<0, 0, Loading!T631) -> 0 | IG9: =IF(Loading!T679<0, 0, Loading!T679) -> 0 | IH9: =IF(Loading!T727<0, 0, Loading!T727) -> 0 | II9: =IF(Loading!U7<0, 0, Loading!U7) -> 0 | IJ9: =IF(Loading!U55<0, 0, Loading!U55) -> 0 | IK9: =IF(Loading!U103<0, 0, Loading!U103) -> 0 | IL9: =IF(Loading!U151<0, 0, Loading!U151) -> 0 | IM9: =IF(Loading!U199<0, 0, Loading!U199) -> 0 | IN9: =IF(Loading!U247<0, 0, Loading!U247) -> 0 | IO9: =IF(Loading!U295<0, 0, Loading!U295) -> 0 | IP9: =IF(Loading!U343<0, 0, Loading!U343) -> 0 | IQ9: =IF(Loading!U391<0, 0, Loading!U391) -> 0 | IR9: =IF(Loading!U439<0, 0, Loading!U439) -> 0 | IS9: =IF(Loading!U487<0, 0, Loading!U487) -> 0 | IT9: =IF(Loading!U535<0, 0, Loading!U535) -> 0 | IU9: =IF(Loading!U583<0, 0, Loading!U583) -> 0 | IV9: =IF(Loading!U631<0, 0, Loading!U631) -> 0 | IW9: =IF(Loading!U679<0, 0, Loading!U679) -> 0 | IX9: =IF(Loading!U727<0, 0, Loading!U727) -> 0 | IY9: =IF(Loading!V7<0, 0, Loading!V7) -> 0 | IZ9: =IF(Loading!V55<0, 0, Loading!V55) -> 0 | JA9: =IF(Loading!V103<0, 0, Loading!V103) -> 0 | JB9: =IF(Loading!V151<0, 0, Loading!V151) -> 0 | JC9: =IF(Loading!V199<0, 0, Loading!V199) -> 0 | JD9: =IF(Loading!V247<0, 0, Loading!V247) -> 0 | JE9: =IF(Loading!V295<0, 0, Loading!V295) -> 0 | JF9: =IF(Loading!V343<0, 0, Loading!V343) -> 0 | JG9: =IF(Loading!V391<0, 0, Loading!V391) -> 0 | JH9: =IF(Loading!V439<0, 0, Loading!V439) -> 0 | JI9: =IF(Loading!V487<0, 0, Loading!V487) -> 0 | JJ9: =IF(Loading!V535<0, 0, Loading!V535) -> 0 | JK9: =IF(Loading!V583<0, 0, Loading!V583) -> 0 | JL9: =IF(Loading!V631<0, 0, Loading!V631) -> 0 | JM9: =IF(Loading!V679<0, 0, Loading!V679) -> 0 | JN9: =IF(Loading!V727<0, 0, Loading!V727) -> 0 | JO9: =IF(Loading!W7<0, 0, Loading!W7) -> 0 | JP9: =IF(Loading!W55<0, 0, Loading!W55) -> 0 | JQ9: =IF(Loading!W103<0, 0, Loading!W103) -> 0 | JR9: =IF(Loading!W151<0, 0, Loading!W151) -> 0 | JS9: =IF(Loading!W199<0, 0, Loading!W199) -> 0 | JT9: =IF(Loading!W247<0, 0, Loading!W247) -> 0 | JU9: =IF(Loading!W295<0, 0, Loading!W295) -> 0 | JV9: =IF(Loading!W343<0, 0, Loading!W343) -> 0 | JW9: =IF(Loading!W391<0, 0, Loading!W391) -> 0 | JX9: =IF(Loading!W439<0, 0, Loading!W439) -> 0 | JY9: =IF(Loading!W487<0, 0, Loading!W487) -> 0 | JZ9: =IF(Loading!W535<0, 0, Loading!W535) -> 0 | KA9: =IF(Loading!W583<0, 0, Loading!W583) -> 0 | KB9: =IF(Loading!W631<0, 0, Loading!W631) -> 0 | KC9: =IF(Loading!W679<0, 0, Loading!W679) -> 0 | KD9: =IF(Loading!W727<0, 0, Loading!W727) -> 0 | KE9: =IF(Loading!X7<0, 0, Loading!X7) -> 0 | KF9: =IF(Loading!X55<0, 0, Loading!X55) -> 0 | KG9: =IF(Loading!X103<0, 0, Loading!X103) -> 0 | KH9: =IF(Loading!X151<0, 0, Loading!X151) -> 0 | KI9: =IF(Loading!X199<0, 0, Loading!X199) -> 0 | KJ9: =IF(Loading!X247<0, 0, Loading!X247) -> 0 | KK9: =IF(Loading!X295<0, 0, Loading!X295) -> 0 | KL9: =IF(Loading!X343<0, 0, Loading!X343) -> 0 | KM9: =IF(Loading!X391<0, 0, Loading!X391) -> 0 | KN9: =IF(Loading!X439<0, 0, Loading!X439) -> 0 | KO9: =IF(Loading!X487<0, 0, Loading!X487) -> 0 | KP9: =IF(Loading!X535<0, 0, Loading!X535) -> 0 | KQ9: =IF(Loading!X583<0, 0, Loading!X583) -> 0 | KR9: =IF(Loading!X631<0, 0, Loading!X631) -> 0 | KS9: =IF(Loading!X679<0, 0, Loading!X679) -> 0 | KT9: =IF(Loading!X727<0, 0, Loading!X727) -> 0 | KU9: =IF(Loading!Y7<0, 0, Loading!Y7) -> 0 | KV9: =IF(Loading!Y55<0, 0, Loading!Y55) -> 0 | KW9: =IF(Loading!Y103<0, 0, Loading!Y103) -> 0 | KX9: =IF(Loading!Y151<0, 0, Loading!Y151) -> 0 | KY9: =IF(Loading!Y199<0, 0, Loading!Y199) -> 0 | KZ9: =IF(Loading!Y247<0, 0, Loading!Y247) -> 0 | LA9: =IF(Loading!Y295<0, 0, Loading!Y295) -> 0 | LB9: =IF(Loading!Y343<0, 0, Loading!Y343) -> 0 | LC9: =IF(Loading!Y391<0, 0, Loading!Y391) -> 0 | LD9: =IF(Loading!Y439<0, 0, Loading!Y439) -> 0 | LE9: =IF(Loading!Y487<0, 0, Loading!Y487) -> 0 | LF9: =IF(Loading!Y535<0, 0, Loading!Y535) -> 0 | LG9: =IF(Loading!Y583<0, 0, Loading!Y583) -> 0 | LH9: =IF(Loading!Y631<0, 0, Loading!Y631) -> 0 | LI9: =IF(Loading!Y679<0, 0, Loading!Y679) -> 0 | LJ9: =IF(Loading!Y727<0, 0, Loading!Y727) -> 0 | LK9: =IF(Loading!Z7<0, 0, Loading!Z7) -> 0 | LL9: =IF(Loading!Z55<0, 0, Loading!Z55) -> 0 | LM9: =IF(Loading!Z103<0, 0, Loading!Z103) -> 0 | LN9: =IF(Loading!Z151<0, 0, Loading!Z151) -> 0 | LO9: =IF(Loading!Z199<0, 0, Loading!Z199) -> 0 | LP9: =IF(Loading!Z247<0, 0, Loading!Z247) -> 0 | LQ9: =IF(Loading!Z295<0, 0, Loading!Z295) -> 0 | LR9: =IF(Loading!Z343<0, 0, Loading!Z343) -> 0 | LS9: =IF(Loading!Z391<0, 0, Loading!Z391) -> 0 | LT9: =IF(Loading!Z439<0, 0, Loading!Z439) -> 0 | LU9: =IF(Loading!Z487<0, 0, Loading!Z487) -> 0 | LV9: =IF(Loading!Z535<0, 0, Loading!Z535) -> 0 | LW9: =IF(Loading!Z583<0, 0, Loading!Z583) -> 0 | LX9: =IF(Loading!Z631<0, 0, Loading!Z631) -> 0 | LY9: =IF(Loading!Z679<0, 0, Loading!Z679) -> 0 | LZ9: =IF(Loading!Z727<0, 0, Loading!Z727) -> 0 | MA9: =IF(Loading!AA7<0, 0, Loading!AA7) -> 0 | MB9: =IF(Loading!AA55<0, 0, Loading!AA55) -> 0 | MC9: =IF(Loading!AA103<0, 0, Loading!AA103) -> 0 | MD9: =IF(Loading!AA151<0, 0, Loading!AA151) -> 0 | ME9: =IF(Loading!AA199<0, 0, Loading!AA199) -> 0 | MF9: =IF(Loading!AA247<0, 0, Loading!AA247) -> 0 | MG9: =IF(Loading!AA295<0, 0, Loading!AA295) -> 0 | MH9: =IF(Loading!AA343<0, 0, Loading!AA343) -> 0 | MI9: =IF(Loading!AA391<0, 0, Loading!AA391) -> 0 | MJ9: =IF(Loading!AA439<0, 0, Loading!AA439) -> 0 | MK9: =IF(Loading!AA487<0, 0, Loading!AA487) -> 0 | ML9: =IF(Loading!AA535<0, 0, Loading!AA535) -> 0 | MM9: =IF(Loading!AA583<0, 0, Loading!AA583) -> 0 | MN9: =IF(Loading!AA631<0, 0, Loading!AA631) -> 0 | MO9: =IF(Loading!AA679<0, 0, Loading!AA679) -> 0 | MP9: =IF(Loading!AA727<0, 0, Loading!AA727) -> 0 | MQ9: =IF(Loading!AB7<0, 0, Loading!AB7) -> 0 | MR9: =IF(Loading!AB55<0, 0, Loading!AB55) -> 0 | MS9: =IF(Loading!AB103<0, 0, Loading!AB103) -> 0 | MT9: =IF(Loading!AB151<0, 0, Loading!AB151) -> 0 | MU9: =IF(Loading!AB199<0, 0, Loading!AB199) -> 0 | MV9: =IF(Loading!AB247<0, 0, Loading!AB247) -> 0 | MW9: =IF(Loading!AB295<0, 0, Loading!AB295) -> 0 | MX9: =IF(Loading!AB343<0, 0, Loading!AB343) -> 0 | MY9: =IF(Loading!AB391<0, 0, Loading!AB391) -> 0 | MZ9: =IF(Loading!AB439<0, 0, Loading!AB439) -> 0 | NA9: =IF(Loading!AB487<0, 0, Loading!AB487) -> 0 | NB9: =IF(Loading!AB535<0, 0, Loading!AB535) -> 0 | NC9: =IF(Loading!AB583<0, 0, Loading!AB583) -> 0 | ND9: =IF(Loading!AB631<0, 0, Loading!AB631) -> 0 | NE9: =IF(Loading!AB679<0, 0, Loading!AB679) -> 0 | NF9: =IF(Loading!AB727<0, 0, Loading!AB727) -> 0 | NG9: =IF(Loading!AC7<0, 0, Loading!AC7) -> 0 | NH9: =IF(Loading!AC55<0, 0, Loading!AC55) -> 0 | NI9: =IF(Loading!AC103<0, 0, Loading!AC103) -> 0 | NJ9: =IF(Loading!AC151<0, 0, Loading!AC151) -> 0 | NK9: =IF(Loading!AC199<0, 0, Loading!AC199) -> 0 | NL9: =IF(Loading!AC247<0, 0, Loading!AC247) -> 0 | NM9: =IF(Loading!AC295<0, 0, Loading!AC295) -> 0 | NN9: =IF(Loading!AC343<0, 0, Loading!AC343) -> 0 | NO9: =IF(Loading!AC391<0, 0, Loading!AC391) -> 0 | NP9: =IF(Loading!AC439<0, 0, Loading!AC439) -> 0 | NQ9: =IF(Loading!AC487<0, 0, Loading!AC487) -> 0 | NR9: =IF(Loading!AC535<0, 0, Loading!AC535) -> 0 | NS9: =IF(Loading!AC583<0, 0, Loading!AC583) -> 0 | NT9: =IF(Loading!AC631<0, 0, Loading!AC631) -> 0 | NU9: =IF(Loading!AC679<0, 0, Loading!AC679) -> 0 | NV9: =IF(Loading!AC727<0, 0, Loading!AC727) -> 0 | NW9: =IF(Loading!AD7<0, 0, Loading!AD7) -> 0 | NX9: =IF(Loading!AD55<0, 0, Loading!AD55) -> 0 | NY9: =IF(Loading!AD103<0, 0, Loading!AD103) -> 0 | NZ9: =IF(Loading!AD151<0, 0, Loading!AD151) -> 0 | OA9: =IF(Loading!AD199<0, 0, Loading!AD199) -> 0 | OB9: =IF(Loading!AD247<0, 0, Loading!AD247) -> 0 | OC9: =IF(Loading!AD295<0, 0, Loading!AD295) -> 0 | OD9: =IF(Loading!AD343<0, 0, Loading!AD343) -> 0 | OE9: =IF(Loading!AD391<0, 0, Loading!AD391) -> 0 | OF9: =IF(Loading!AD439<0, 0, Loading!AD439) -> 0 | OG9: =IF(Loading!AD487<0, 0, Loading!AD487) -> 0 | OH9: =IF(Loading!AD535<0, 0, Loading!AD535) -> 0 | OI9: =IF(Loading!AD583<0, 0, Loading!AD583) -> 0 | OJ9: =IF(Loading!AD631<0, 0, Loading!AD631) -> 0 | OK9: =IF(Loading!AD679<0, 0, Loading!AD679) -> 0 | OL9: =IF(Loading!AD727<0, 0, Loading!AD727) -> 0 | OM9: =IF(Loading!AE7<0, 0, Loading!AE7) -> 0 | ON9: =IF(Loading!AE55<0, 0, Loading!AE55) -> 0 | OO9: =IF(Loading!AE103<0, 0, Loading!AE103) -> 0 | OP9: =IF(Loading!AE151<0, 0, Loading!AE151) -> 0 | OQ9: =IF(Loading!AE199<0, 0, Loading!AE199) -> 0 | OR9: =IF(Loading!AE247<0, 0, Loading!AE247) -> 0 | OS9: =IF(Loading!AE295<0, 0, Loading!AE295) -> 0 | OT9: =IF(Loading!AE343<0, 0, Loading!AE343) -> 0 | OU9: =IF(Loading!AE391<0, 0, Loading!AE391) -> 0 | OV9: =IF(Loading!AE439<0, 0, Loading!AE439) -> 0 | OW9: =IF(Loading!AE487<0, 0, Loading!AE487) -> 0 | OX9: =IF(Loading!AE535<0, 0, Loading!AE535) -> 0 | OY9: =IF(Loading!AE583<0, 0, Loading!AE583) -> 0 | OZ9: =IF(Loading!AE631<0, 0, Loading!AE631) -> 0 | PA9: =IF(Loading!AE679<0, 0, Loading!AE679) -> 0 | PB9: =IF(Loading!AE727<0, 0, Loading!AE727) -> 0 | PC9: =IF(Loading!AF7<0, 0, Loading!AF7) -> 0 | PD9: =IF(Loading!AF55<0, 0, Loading!AF55) -> 0 | PE9: =IF(Loading!AF103<0, 0, Loading!AF103) -> 0 | PF9: =IF(Loading!AF151<0, 0, Loading!AF151) -> 0 | PG9: =IF(Loading!AF199<0, 0, Loading!AF199) -> 0 | PH9: =IF(Loading!AF247<0, 0, Loading!AF247) -> 0 | PI9: =IF(Loading!AF295<0, 0, Loading!AF295) -> 0 | PJ9: =IF(Loading!AF343<0, 0, Loading!AF343) -> 0 | PK9: =IF(Loading!AF391<0, 0, Loading!AF391) -> 0 | PL9: =IF(Loading!AF439<0, 0, Loading!AF439) -> 0 | PM9: =IF(Loading!AF487<0, 0, Loading!AF487) -> 0 | PN9: =IF(Loading!AF535<0, 0, Loading!AF535) -> 0 | PO9: =IF(Loading!AF583<0, 0, Loading!AF583) -> 0 | PP9: =IF(Loading!AF631<0, 0, Loading!AF631) -> 0 | PQ9: =IF(Loading!AF679<0, 0, Loading!AF679) -> 0 | PR9: =IF(Loading!AF727<0, 0, Loading!AF727) -> 0 | PS9: =IF(Loading!AG7<0, 0, Loading!AG7) -> 0 | PT9: =IF(Loading!AG55<0, 0, Loading!AG55) -> 0 | PU9: =IF(Loading!AG103<0, 0, Loading!AG103) -> 0 | PV9: =IF(Loading!AG151<0, 0, Loading!AG151) -> 0 | PW9: =IF(Loading!AG199<0, 0, Loading!AG199) -> 0 | PX9: =IF(Loading!AG247<0, 0, Loading!AG247) -> 0 | PY9: =IF(Loading!AG295<0, 0, Loading!AG295) -> 0 | PZ9: =IF(Loading!AG343<0, 0, Loading!AG343) -> 0 | QA9: =IF(Loading!AG391<0, 0, Loading!AG391) -> 0 | QB9: =IF(Loading!AG439<0, 0, Loading!AG439) -> 0 | QC9: =IF(Loading!AG487<0, 0, Loading!AG487) -> 0 | QD9: =IF(Loading!AG535<0, 0, Loading!AG535) -> 0 | QE9: =IF(Loading!AG583<0, 0, Loading!AG583) -> 0 | QF9: =IF(Loading!AG631<0, 0, Loading!AG631) -> 0 | QG9: =IF(Loading!AG679<0, 0, Loading!AG679) -> 0 | QH9: =IF(Loading!AG727<0, 0, Loading!AG727) -> 0 | QI9: =IF(Loading!AH7<0, 0, Loading!AH7) -> 0 | QJ9: =IF(Loading!AH55<0, 0, Loading!AH55) -> 0 | QK9: =IF(Loading!AH103<0, 0, Loading!AH103) -> 0 | QL9: =IF(Loading!AH151<0, 0, Loading!AH151) -> 0 | QM9: =IF(Loading!AH199<0, 0, Loading!AH199) -> 0 | QN9: =IF(Loading!AH247<0, 0, Loading!AH247) -> 0 | QO9: =IF(Loading!AH295<0, 0, Loading!AH295) -> 0 | QP9: =IF(Loading!AH343<0, 0, Loading!AH343) -> 0 | QQ9: =IF(Loading!AH391<0, 0, Loading!AH391) -> 0 | QR9: =IF(Loading!AH439<0, 0, Loading!AH439) -> 0 | QS9: =IF(Loading!AH487<0, 0, Loading!AH487) -> 0 | QT9: =IF(Loading!AH535<0, 0, Loading!AH535) -> 0 | QU9: =IF(Loading!AH583<0, 0, Loading!AH583) -> 0 | QV9: =IF(Loading!AH631<0, 0, Loading!AH631) -> 0 | QW9: =IF(Loading!AH679<0, 0, Loading!AH679) -> 0 | QX9: =IF(Loading!AH727<0, 0, Loading!AH727) -> 0 | QY9: =IF(Loading!AI7<0, 0, Loading!AI7) -> 0 | QZ9: =IF(Loading!AI55<0, 0, Loading!AI55) -> 0 | RA9: =IF(Loading!AI103<0, 0, Loading!AI103) -> 0 | RB9: =IF(Loading!AI151<0, 0, Loading!AI151) -> 0 | RC9: =IF(Loading!AI199<0, 0, Loading!AI199) -> 0 | RD9: =IF(Loading!AI247<0, 0, Loading!AI247) -> 0 | RE9: =IF(Loading!AI295<0, 0, Loading!AI295) -> 0 | RF9: =IF(Loading!AI343<0, 0, Loading!AI343) -> 0 | RG9: =IF(Loading!AI391<0, 0, Loading!AI391) -> 0 | RH9: =IF(Loading!AI439<0, 0, Loading!AI439) -> 0 | RI9: =IF(Loading!AI487<0, 0, Loading!AI487) -> 0 | RJ9: =IF(Loading!AI535<0, 0, Loading!AI535) -> 0 | RK9: =IF(Loading!AI583<0, 0, Loading!AI583) -> 0 | RL9: =IF(Loading!AI631<0, 0, Loading!AI631) -> 0 | RM9: =IF(Loading!AI679<0, 0, Loading!AI679) -> 0 | RN9: =IF(Loading!AI727<0, 0, Loading!AI727) -> 0 | SN9: =(1+$Y$2)*MEDIAN(C9:C12) -> 0 | SO9: =(1+$Y$2)*MEDIAN(D9:D12) -> 0 | SP9: =(1+$Y$2)*MEDIAN(E9:E12) -> 0 | SQ9: =(1+$Y$2)*MEDIAN(F9:F12) -> 0 | SR9: =(1+$Y$2)*MEDIAN(G9:G12) -> 0 | SS9: =(1+$Y$2)*MEDIAN(H9:H12) -> 0 | ST9: =(1+$Y$2)*MEDIAN(I9:I12) -> 0 | SU9: =(1+$Y$2)*MEDIAN(J9:J12) -> 0 | ... ALS9: =(1+$Y$2)*MEDIAN(SH9:SH12) -> #NUM!
B10: =B9 -> POS2 | C10: =IF(Loading!F8<0, 0, Loading!F8) -> 0 | D10: =IF(Loading!F56<0, 0, Loading!F56) -> 0 | E10: =IF(Loading!F104<0, 0, Loading!F104) -> 0 | F10: =IF(Loading!F152<0, 0, Loading!F152) -> 0 | G10: =IF(Loading!F200<0, 0, Loading!F200) -> 0 | H10: =IF(Loading!F248<0, 0, Loading!F248) -> 0 | I10: =IF(Loading!F296<0, 0, Loading!F296) -> 0 | J10: =IF(Loading!F344<0, 0, Loading!F344) -> 0 | K10: =IF(Loading!F392<0, 0, Loading!F392) -> 0 | L10: =IF(Loading!F440<0, 0, Loading!F440) -> 0 | M10: =IF(Loading!F488<0, 0, Loading!F488) -> 0 | N10: =IF(Loading!F536<0, 0, Loading!F536) -> 0 | O10: =IF(Loading!F584<0, 0, Loading!F584) -> 0 | P10: =IF(Loading!F632<0, 0, Loading!F632) -> 0 | Q10: =IF(Loading!F680<0, 0, Loading!F680) -> 0 | R10: =IF(Loading!F728<0, 0, Loading!F728) -> 0 | S10: =IF(Loading!G8<0, 0, Loading!G8) -> 0 | T10: =IF(Loading!G56<0, 0, Loading!G56) -> 0 | U10: =IF(Loading!G104<0, 0, Loading!G104) -> 0 | V10: =IF(Loading!G152<0, 0, Loading!G152) -> 0 | W10: =IF(Loading!G200<0, 0, Loading!G200) -> 0 | X10: =IF(Loading!G248<0, 0, Loading!G248) -> 0 | Y10: =IF(Loading!G296<0, 0, Loading!G296) -> 0 | Z10: =IF(Loading!G344<0, 0, Loading!G344) -> 0 | AA10: =IF(Loading!G392<0, 0, Loading!G392) -> 0 | AB10: =IF(Loading!G440<0, 0, Loading!G440) -> 0 | AC10: =IF(Loading!G488<0, 0, Loading!G488) -> 0 | AD10: =IF(Loading!G536<0, 0, Loading!G536) -> 0 | AE10: =IF(Loading!G584<0, 0, Loading!G584) -> 0 | AF10: =IF(Loading!G632<0, 0, Loading!G632) -> 0 | AG10: =IF(Loading!G680<0, 0, Loading!G680) -> 0 | AH10: =IF(Loading!G728<0, 0, Loading!G728) -> 0 | AI10: =IF(Loading!H8<0, 0, Loading!H8) -> 0 | AJ10: =IF(Loading!H56<0, 0, Loading!H56) -> 0 | AK10: =IF(Loading!H104<0, 0, Loading!H104) -> 0 | AL10: =IF(Loading!H152<0, 0, Loading!H152) -> 0 | AM10: =IF(Loading!H200<0, 0, Loading!H200) -> 0 | AN10: =IF(Loading!H248<0, 0, Loading!H248) -> 0 | AO10: =IF(Loading!H296<0, 0, Loading!H296) -> 0 | AP10: =IF(Loading!H344<0, 0, Loading!H344) -> 0 | AQ10: =IF(Loading!H392<0, 0, Loading!H392) -> 0 | AR10: =IF(Loading!H440<0, 0, Loading!H440) -> 0 | AS10: =IF(Loading!H488<0, 0, Loading!H488) -> 0 | AT10: =IF(Loading!H536<0, 0, Loading!H536) -> 0 | AU10: =IF(Loading!H584<0, 0, Loading!H584) -> 0 | AV10: =IF(Loading!H632<0, 0, Loading!H632) -> 0 | AW10: =IF(Loading!H680<0, 0, Loading!H680) -> 0 | AX10: =IF(Loading!H728<0, 0, Loading!H728) -> 0 | AY10: =IF(Loading!I8<0, 0, Loading!I8) -> 0 | AZ10: =IF(Loading!I56<0, 0, Loading!I56) -> 0 | BA10: =IF(Loading!I104<0, 0, Loading!I104) -> 0 | BB10: =IF(Loading!I152<0, 0, Loading!I152) -> 0 | BC10: =IF(Loading!I200<0, 0, Loading!I200) -> 0 | BD10: =IF(Loading!I248<0, 0, Loading!I248) -> 0 | BE10: =IF(Loading!I296<0, 0, Loading!I296) -> 0 | BF10: =IF(Loading!I344<0, 0, Loading!I344) -> 0 | BG10: =IF(Loading!I392<0, 0, Loading!I392) -> 0 | BH10: =IF(Loading!I440<0, 0, Loading!I440) -> 0 | BI10: =IF(Loading!I488<0, 0, Loading!I488) -> 0 | BJ10: =IF(Loading!I536<0, 0, Loading!I536) -> 0 | BK10: =IF(Loading!I584<0, 0, Loading!I584) -> 0 | BL10: =IF(Loading!I632<0, 0, Loading!I632) -> 0 | BM10: =IF(Loading!I680<0, 0, Loading!I680) -> 0 | BN10: =IF(Loading!I728<0, 0, Loading!I728) -> 0 | BO10: =IF(Loading!J8<0, 0, Loading!J8) -> 0 | BP10: =IF(Loading!J56<0, 0, Loading!J56) -> 0 | BQ10: =IF(Loading!J104<0, 0, Loading!J104) -> 0 | BR10: =IF(Loading!J152<0, 0, Loading!J152) -> 0 | BS10: =IF(Loading!J200<0, 0, Loading!J200) -> 0 | BT10: =IF(Loading!J248<0, 0, Loading!J248) -> 0 | BU10: =IF(Loading!J296<0, 0, Loading!J296) -> 0 | BV10: =IF(Loading!J344<0, 0, Loading!J344) -> 0 | BW10: =IF(Loading!J392<0, 0, Loading!J392) -> 0 | BX10: =IF(Loading!J440<0, 0, Loading!J440) -> 0 | BY10: =IF(Loading!J488<0, 0, Loading!J488) -> 0 | BZ10: =IF(Loading!J536<0, 0, Loading!J536) -> 0 | CA10: =IF(Loading!J584<0, 0, Loading!J584) -> 0 | CB10: =IF(Loading!J632<0, 0, Loading!J632) -> 0 | CC10: =IF(Loading!J680<0, 0, Loading!J680) -> 0 | CD10: =IF(Loading!J728<0, 0, Loading!J728) -> 0 | CE10: =IF(Loading!K8<0, 0, Loading!K8) -> 0 | CF10: =IF(Loading!K56<0, 0, Loading!K56) -> 0 | CG10: =IF(Loading!K104<0, 0, Loading!K104) -> 0 | CH10: =IF(Loading!K152<0, 0, Loading!K152) -> 0 | CI10: =IF(Loading!K200<0, 0, Loading!K200) -> 0 | CJ10: =IF(Loading!K248<0, 0, Loading!K248) -> 0 | CK10: =IF(Loading!K296<0, 0, Loading!K296) -> 0 | CL10: =IF(Loading!K344<0, 0, Loading!K344) -> 0 | CM10: =IF(Loading!K392<0, 0, Loading!K392) -> 0 | CN10: =IF(Loading!K440<0, 0, Loading!K440) -> 0 | CO10: =IF(Loading!K488<0, 0, Loading!K488) -> 0 | CP10: =IF(Loading!K536<0, 0, Loading!K536) -> 0 | CQ10: =IF(Loading!K584<0, 0, Loading!K584) -> 0 | CR10: =IF(Loading!K632<0, 0, Loading!K632) -> 0 | CS10: =IF(Loading!K680<0, 0, Loading!K680) -> 0 | CT10: =IF(Loading!K728<0, 0, Loading!K728) -> 0 | CU10: =IF(Loading!L8<0, 0, Loading!L8) -> 0 | CV10: =IF(Loading!L56<0, 0, Loading!L56) -> 0 | CW10: =IF(Loading!L104<0, 0, Loading!L104) -> 0 | CX10: =IF(Loading!L152<0, 0, Loading!L152) -> 0 | CY10: =IF(Loading!L200<0, 0, Loading!L200) -> 0 | CZ10: =IF(Loading!L248<0, 0, Loading!L248) -> 0 | DA10: =IF(Loading!L296<0, 0, Loading!L296) -> 0 | DB10: =IF(Loading!L344<0, 0, Loading!L344) -> 0 | DC10: =IF(Loading!L392<0, 0, Loading!L392) -> 0 | DD10: =IF(Loading!L440<0, 0, Loading!L440) -> 0 | DE10: =IF(Loading!L488<0, 0, Loading!L488) -> 0 | DF10: =IF(Loading!L536<0, 0, Loading!L536) -> 0 | DG10: =IF(Loading!L584<0, 0, Loading!L584) -> 0 | DH10: =IF(Loading!L632<0, 0, Loading!L632) -> 0 | DI10: =IF(Loading!L680<0, 0, Loading!L680) -> 0 | DJ10: =IF(Loading!L728<0, 0, Loading!L728) -> 0 | DK10: =IF(Loading!M8<0, 0, Loading!M8) -> 0 | DL10: =IF(Loading!M56<0, 0, Loading!M56) -> 0 | DM10: =IF(Loading!M104<0, 0, Loading!M104) -> 0 | DN10: =IF(Loading!M152<0, 0, Loading!M152) -> 0 | DO10: =IF(Loading!M200<0, 0, Loading!M200) -> 0 | DP10: =IF(Loading!M248<0, 0, Loading!M248) -> 0 | DQ10: =IF(Loading!M296<0, 0, Loading!M296) -> 0 | DR10: =IF(Loading!M344<0, 0, Loading!M344) -> 0 | DS10: =IF(Loading!M392<0, 0, Loading!M392) -> 0 | DT10: =IF(Loading!M440<0, 0, Loading!M440) -> 0 | DU10: =IF(Loading!M488<0, 0, Loading!M488) -> 0 | DV10: =IF(Loading!M536<0, 0, Loading!M536) -> 0 | DW10: =IF(Loading!M584<0, 0, Loading!M584) -> 0 | DX10: =IF(Loading!M632<0, 0, Loading!M632) -> 0 | DY10: =IF(Loading!M680<0, 0, Loading!M680) -> 0 | DZ10: =IF(Loading!M728<0, 0, Loading!M728) -> 0 | EA10: =IF(Loading!N8<0, 0, Loading!N8) -> 0 | EB10: =IF(Loading!N56<0, 0, Loading!N56) -> 0 | EC10: =IF(Loading!N104<0, 0, Loading!N104) -> 0 | ED10: =IF(Loading!N152<0, 0, Loading!N152) -> 0 | EE10: =IF(Loading!N200<0, 0, Loading!N200) -> 0 | EF10: =IF(Loading!N248<0, 0, Loading!N248) -> 0 | EG10: =IF(Loading!N296<0, 0, Loading!N296) -> 0 | EH10: =IF(Loading!N344<0, 0, Loading!N344) -> 0 | EI10: =IF(Loading!N392<0, 0, Loading!N392) -> 0 | EJ10: =IF(Loading!N440<0, 0, Loading!N440) -> 0 | EK10: =IF(Loading!N488<0, 0, Loading!N488) -> 0 | EL10: =IF(Loading!N536<0, 0, Loading!N536) -> 0 | EM10: =IF(Loading!N584<0, 0, Loading!N584) -> 0 | EN10: =IF(Loading!N632<0, 0, Loading!N632) -> 0 | EO10: =IF(Loading!N680<0, 0, Loading!N680) -> 0 | EP10: =IF(Loading!N728<0, 0, Loading!N728) -> 0 | EQ10: =IF(Loading!O8<0, 0, Loading!O8) -> 0 | ER10: =IF(Loading!O56<0, 0, Loading!O56) -> 0 | ES10: =IF(Loading!O104<0, 0, Loading!O104) -> 0 | ET10: =IF(Loading!O152<0, 0, Loading!O152) -> 0 | EU10: =IF(Loading!O200<0, 0, Loading!O200) -> 0 | EV10: =IF(Loading!O248<0, 0, Loading!O248) -> 0 | EW10: =IF(Loading!O296<0, 0, Loading!O296) -> 0 | EX10: =IF(Loading!O344<0, 0, Loading!O344) -> 0 | EY10: =IF(Loading!O392<0, 0, Loading!O392) -> 0 | EZ10: =IF(Loading!O440<0, 0, Loading!O440) -> 0 | FA10: =IF(Loading!O488<0, 0, Loading!O488) -> 0 | FB10: =IF(Loading!O536<0, 0, Loading!O536) -> 0 | FC10: =IF(Loading!O584<0, 0, Loading!O584) -> 0 | FD10: =IF(Loading!O632<0, 0, Loading!O632) -> 0 | FE10: =IF(Loading!O680<0, 0, Loading!O680) -> 0 | FF10: =IF(Loading!O728<0, 0, Loading!O728) -> 0 | FG10: =IF(Loading!P8<0, 0, Loading!P8) -> 0 | FH10: =IF(Loading!P56<0, 0, Loading!P56) -> 0 | FI10: =IF(Loading!P104<0, 0, Loading!P104) -> 0 | FJ10: =IF(Loading!P152<0, 0, Loading!P152) -> 0 | FK10: =IF(Loading!P200<0, 0, Loading!P200) -> 0 | FL10: =IF(Loading!P248<0, 0, Loading!P248) -> 0 | FM10: =IF(Loading!P296<0, 0, Loading!P296) -> 0 | FN10: =IF(Loading!P344<0, 0, Loading!P344) -> 0 | FO10: =IF(Loading!P392<0, 0, Loading!P392) -> 0 | FP10: =IF(Loading!P440<0, 0, Loading!P440) -> 0 | FQ10: =IF(Loading!P488<0, 0, Loading!P488) -> 0 | FR10: =IF(Loading!P536<0, 0, Loading!P536) -> 0 | FS10: =IF(Loading!P584<0, 0, Loading!P584) -> 0 | FT10: =IF(Loading!P632<0, 0, Loading!P632) -> 0 | FU10: =IF(Loading!P680<0, 0, Loading!P680) -> 0 | FV10: =IF(Loading!P728<0, 0, Loading!P728) -> 0 | FW10: =IF(Loading!Q8<0, 0, Loading!Q8) -> 0 | FX10: =IF(Loading!Q56<0, 0, Loading!Q56) -> 0 | FY10: =IF(Loading!Q104<0, 0, Loading!Q104) -> 0 | FZ10: =IF(Loading!Q152<0, 0, Loading!Q152) -> 0 | GA10: =IF(Loading!Q200<0, 0, Loading!Q200) -> 0 | GB10: =IF(Loading!Q248<0, 0, Loading!Q248) -> 0 | GC10: =IF(Loading!Q296<0, 0, Loading!Q296) -> 0 | GD10: =IF(Loading!Q344<0, 0, Loading!Q344) -> 0 | GE10: =IF(Loading!Q392<0, 0, Loading!Q392) -> 0 | GF10: =IF(Loading!Q440<0, 0, Loading!Q440) -> 0 | GG10: =IF(Loading!Q488<0, 0, Loading!Q488) -> 0 | GH10: =IF(Loading!Q536<0, 0, Loading!Q536) -> 0 | GI10: =IF(Loading!Q584<0, 0, Loading!Q584) -> 0 | GJ10: =IF(Loading!Q632<0, 0, Loading!Q632) -> 0 | GK10: =IF(Loading!Q680<0, 0, Loading!Q680) -> 0 | GL10: =IF(Loading!Q728<0, 0, Loading!Q728) -> 0 | GM10: =IF(Loading!R8<0, 0, Loading!R8) -> 0 | GN10: =IF(Loading!R56<0, 0, Loading!R56) -> 0 | GO10: =IF(Loading!R104<0, 0, Loading!R104) -> 0 | GP10: =IF(Loading!R152<0, 0, Loading!R152) -> 0 | GQ10: =IF(Loading!R200<0, 0, Loading!R200) -> 0 | GR10: =IF(Loading!R248<0, 0, Loading!R248) -> 0 | GS10: =IF(Loading!R296<0, 0, Loading!R296) -> 0 | GT10: =IF(Loading!R344<0, 0, Loading!R344) -> 0 | GU10: =IF(Loading!R392<0, 0, Loading!R392) -> 0 | GV10: =IF(Loading!R440<0, 0, Loading!R440) -> 0 | GW10: =IF(Loading!R488<0, 0, Loading!R488) -> 0 | GX10: =IF(Loading!R536<0, 0, Loading!R536) -> 0 | GY10: =IF(Loading!R584<0, 0, Loading!R584) -> 0 | GZ10: =IF(Loading!R632<0, 0, Loading!R632) -> 0 | HA10: =IF(Loading!R680<0, 0, Loading!R680) -> 0 | HB10: =IF(Loading!R728<0, 0, Loading!R728) -> 0 | HC10: =IF(Loading!S8<0, 0, Loading!S8) -> 0 | HD10: =IF(Loading!S56<0, 0, Loading!S56) -> 0 | HE10: =IF(Loading!S104<0, 0, Loading!S104) -> 0 | HF10: =IF(Loading!S152<0, 0, Loading!S152) -> 0 | HG10: =IF(Loading!S200<0, 0, Loading!S200) -> 0 | HH10: =IF(Loading!S248<0, 0, Loading!S248) -> 0 | HI10: =IF(Loading!S296<0, 0, Loading!S296) -> 0 | HJ10: =IF(Loading!S344<0, 0, Loading!S344) -> 0 | HK10: =IF(Loading!S392<0, 0, Loading!S392) -> 0 | HL10: =IF(Loading!S440<0, 0, Loading!S440) -> 0 | HM10: =IF(Loading!S488<0, 0, Loading!S488) -> 0 | HN10: =IF(Loading!S536<0, 0, Loading!S536) -> 0 | HO10: =IF(Loading!S584<0, 0, Loading!S584) -> 0 | HP10: =IF(Loading!S632<0, 0, Loading!S632) -> 0 | HQ10: =IF(Loading!S680<0, 0, Loading!S680) -> 0 | HR10: =IF(Loading!S728<0, 0, Loading!S728) -> 0 | HS10: =IF(Loading!T8<0, 0, Loading!T8) -> 0 | HT10: =IF(Loading!T56<0, 0, Loading!T56) -> 0 | HU10: =IF(Loading!T104<0, 0, Loading!T104) -> 0 | HV10: =IF(Loading!T152<0, 0, Loading!T152) -> 0 | HW10: =IF(Loading!T200<0, 0, Loading!T200) -> 0 | HX10: =IF(Loading!T248<0, 0, Loading!T248) -> 0 | HY10: =IF(Loading!T296<0, 0, Loading!T296) -> 0 | HZ10: =IF(Loading!T344<0, 0, Loading!T344) -> 0 | IA10: =IF(Loading!T392<0, 0, Loading!T392) -> 0 | IB10: =IF(Loading!T440<0, 0, Loading!T440) -> 0 | IC10: =IF(Loading!T488<0, 0, Loading!T488) -> 0 | ID10: =IF(Loading!T536<0, 0, Loading!T536) -> 0 | IE10: =IF(Loading!T584<0, 0, Loading!T584) -> 0 | IF10: =IF(Loading!T632<0, 0, Loading!T632) -> 0 | IG10: =IF(Loading!T680<0, 0, Loading!T680) -> 0 | IH10: =IF(Loading!T728<0, 0, Loading!T728) -> 0 | II10: =IF(Loading!U8<0, 0, Loading!U8) -> 0 | IJ10: =IF(Loading!U56<0, 0, Loading!U56) -> 0 | IK10: =IF(Loading!U104<0, 0, Loading!U104) -> 0 | IL10: =IF(Loading!U152<0, 0, Loading!U152) -> 0 | IM10: =IF(Loading!U200<0, 0, Loading!U200) -> 0 | IN10: =IF(Loading!U248<0, 0, Loading!U248) -> 0 | IO10: =IF(Loading!U296<0, 0, Loading!U296) -> 0 | IP10: =IF(Loading!U344<0, 0, Loading!U344) -> 0 | IQ10: =IF(Loading!U392<0, 0, Loading!U392) -> 0 | IR10: =IF(Loading!U440<0, 0, Loading!U440) -> 0 | IS10: =IF(Loading!U488<0, 0, Loading!U488) -> 0 | IT10: =IF(Loading!U536<0, 0, Loading!U536) -> 0 | IU10: =IF(Loading!U584<0, 0, Loading!U584) -> 0 | IV10: =IF(Loading!U632<0, 0, Loading!U632) -> 0 | IW10: =IF(Loading!U680<0, 0, Loading!U680) -> 0 | IX10: =IF(Loading!U728<0, 0, Loading!U728) -> 0 | IY10: =IF(Loading!V8<0, 0, Loading!V8) -> 0 | IZ10: =IF(Loading!V56<0, 0, Loading!V56) -> 0 | JA10: =IF(Loading!V104<0, 0, Loading!V104) -> 0 | JB10: =IF(Loading!V152<0, 0, Loading!V152) -> 0 | JC10: =IF(Loading!V200<0, 0, Loading!V200) -> 0 | JD10: =IF(Loading!V248<0, 0, Loading!V248) -> 0 | JE10: =IF(Loading!V296<0, 0, Loading!V296) -> 0 | JF10: =IF(Loading!V344<0, 0, Loading!V344) -> 0 | JG10: =IF(Loading!V392<0, 0, Loading!V392) -> 0 | JH10: =IF(Loading!V440<0, 0, Loading!V440) -> 0 | JI10: =IF(Loading!V488<0, 0, Loading!V488) -> 0 | JJ10: =IF(Loading!V536<0, 0, Loading!V536) -> 0 | JK10: =IF(Loading!V584<0, 0, Loading!V584) -> 0 | JL10: =IF(Loading!V632<0, 0, Loading!V632) -> 0 | JM10: =IF(Loading!V680<0, 0, Loading!V680) -> 0 | JN10: =IF(Loading!V728<0, 0, Loading!V728) -> 0 | JO10: =IF(Loading!W8<0, 0, Loading!W8) -> 0 | JP10: =IF(Loading!W56<0, 0, Loading!W56) -> 0 | JQ10: =IF(Loading!W104<0, 0, Loading!W104) -> 0 | JR10: =IF(Loading!W152<0, 0, Loading!W152) -> 0 | JS10: =IF(Loading!W200<0, 0, Loading!W200) -> 0 | JT10: =IF(Loading!W248<0, 0, Loading!W248) -> 0 | JU10: =IF(Loading!W296<0, 0, Loading!W296) -> 0 | JV10: =IF(Loading!W344<0, 0, Loading!W344) -> 0 | JW10: =IF(Loading!W392<0, 0, Loading!W392) -> 0 | JX10: =IF(Loading!W440<0, 0, Loading!W440) -> 0 | JY10: =IF(Loading!W488<0, 0, Loading!W488) -> 0 | JZ10: =IF(Loading!W536<0, 0, Loading!W536) -> 0 | KA10: =IF(Loading!W584<0, 0, Loading!W584) -> 0 | KB10: =IF(Loading!W632<0, 0, Loading!W632) -> 0 | KC10: =IF(Loading!W680<0, 0, Loading!W680) -> 0 | KD10: =IF(Loading!W728<0, 0, Loading!W728) -> 0 | KE10: =IF(Loading!X8<0, 0, Loading!X8) -> 0 | KF10: =IF(Loading!X56<0, 0, Loading!X56) -> 0 | KG10: =IF(Loading!X104<0, 0, Loading!X104) -> 0 | KH10: =IF(Loading!X152<0, 0, Loading!X152) -> 0 | KI10: =IF(Loading!X200<0, 0, Loading!X200) -> 0 | KJ10: =IF(Loading!X248<0, 0, Loading!X248) -> 0 | KK10: =IF(Loading!X296<0, 0, Loading!X296) -> 0 | KL10: =IF(Loading!X344<0, 0, Loading!X344) -> 0 | KM10: =IF(Loading!X392<0, 0, Loading!X392) -> 0 | KN10: =IF(Loading!X440<0, 0, Loading!X440) -> 0 | KO10: =IF(Loading!X488<0, 0, Loading!X488) -> 0 | KP10: =IF(Loading!X536<0, 0, Loading!X536) -> 0 | KQ10: =IF(Loading!X584<0, 0, Loading!X584) -> 0 | KR10: =IF(Loading!X632<0, 0, Loading!X632) -> 0 | KS10: =IF(Loading!X680<0, 0, Loading!X680) -> 0 | KT10: =IF(Loading!X728<0, 0, Loading!X728) -> 0 | KU10: =IF(Loading!Y8<0, 0, Loading!Y8) -> 0 | KV10: =IF(Loading!Y56<0, 0, Loading!Y56) -> 0 | KW10: =IF(Loading!Y104<0, 0, Loading!Y104) -> 0 | KX10: =IF(Loading!Y152<0, 0, Loading!Y152) -> 0 | KY10: =IF(Loading!Y200<0, 0, Loading!Y200) -> 0 | KZ10: =IF(Loading!Y248<0, 0, Loading!Y248) -> 0 | LA10: =IF(Loading!Y296<0, 0, Loading!Y296) -> 0 | LB10: =IF(Loading!Y344<0, 0, Loading!Y344) -> 0 | LC10: =IF(Loading!Y392<0, 0, Loading!Y392) -> 0 | LD10: =IF(Loading!Y440<0, 0, Loading!Y440) -> 0 | LE10: =IF(Loading!Y488<0, 0, Loading!Y488) -> 0 | LF10: =IF(Loading!Y536<0, 0, Loading!Y536) -> 0 | LG10: =IF(Loading!Y584<0, 0, Loading!Y584) -> 0 | LH10: =IF(Loading!Y632<0, 0, Loading!Y632) -> 0 | LI10: =IF(Loading!Y680<0, 0, Loading!Y680) -> 0 | LJ10: =IF(Loading!Y728<0, 0, Loading!Y728) -> 0 | LK10: =IF(Loading!Z8<0, 0, Loading!Z8) -> 0 | LL10: =IF(Loading!Z56<0, 0, Loading!Z56) -> 0 | LM10: =IF(Loading!Z104<0, 0, Loading!Z104) -> 0 | LN10: =IF(Loading!Z152<0, 0, Loading!Z152) -> 0 | LO10: =IF(Loading!Z200<0, 0, Loading!Z200) -> 0 | LP10: =IF(Loading!Z248<0, 0, Loading!Z248) -> 0 | LQ10: =IF(Loading!Z296<0, 0, Loading!Z296) -> 0 | LR10: =IF(Loading!Z344<0, 0, Loading!Z344) -> 0 | LS10: =IF(Loading!Z392<0, 0, Loading!Z392) -> 0 | LT10: =IF(Loading!Z440<0, 0, Loading!Z440) -> 0 | LU10: =IF(Loading!Z488<0, 0, Loading!Z488) -> 0 | LV10: =IF(Loading!Z536<0, 0, Loading!Z536) -> 0 | LW10: =IF(Loading!Z584<0, 0, Loading!Z584) -> 0 | LX10: =IF(Loading!Z632<0, 0, Loading!Z632) -> 0 | LY10: =IF(Loading!Z680<0, 0, Loading!Z680) -> 0 | LZ10: =IF(Loading!Z728<0, 0, Loading!Z728) -> 0 | MA10: =IF(Loading!AA8<0, 0, Loading!AA8) -> 0 | MB10: =IF(Loading!AA56<0, 0, Loading!AA56) -> 0 | MC10: =IF(Loading!AA104<0, 0, Loading!AA104) -> 0 | MD10: =IF(Loading!AA152<0, 0, Loading!AA152) -> 0 | ME10: =IF(Loading!AA200<0, 0, Loading!AA200) -> 0 | MF10: =IF(Loading!AA248<0, 0, Loading!AA248) -> 0 | MG10: =IF(Loading!AA296<0, 0, Loading!AA296) -> 0 | MH10: =IF(Loading!AA344<0, 0, Loading!AA344) -> 0 | MI10: =IF(Loading!AA392<0, 0, Loading!AA392) -> 0 | MJ10: =IF(Loading!AA440<0, 0, Loading!AA440) -> 0 | MK10: =IF(Loading!AA488<0, 0, Loading!AA488) -> 0 | ML10: =IF(Loading!AA536<0, 0, Loading!AA536) -> 0 | MM10: =IF(Loading!AA584<0, 0, Loading!AA584) -> 0 | MN10: =IF(Loading!AA632<0, 0, Loading!AA632) -> 0 | MO10: =IF(Loading!AA680<0, 0, Loading!AA680) -> 0 | MP10: =IF(Loading!AA728<0, 0, Loading!AA728) -> 0 | MQ10: =IF(Loading!AB8<0, 0, Loading!AB8) -> 0 | MR10: =IF(Loading!AB56<0, 0, Loading!AB56) -> 0 | MS10: =IF(Loading!AB104<0, 0, Loading!AB104) -> 0 | MT10: =IF(Loading!AB152<0, 0, Loading!AB152) -> 0 | MU10: =IF(Loading!AB200<0, 0, Loading!AB200) -> 0 | MV10: =IF(Loading!AB248<0, 0, Loading!AB248) -> 0 | MW10: =IF(Loading!AB296<0, 0, Loading!AB296) -> 0 | MX10: =IF(Loading!AB344<0, 0, Loading!AB344) -> 0 | MY10: =IF(Loading!AB392<0, 0, Loading!AB392) -> 0 | MZ10: =IF(Loading!AB440<0, 0, Loading!AB440) -> 0 | NA10: =IF(Loading!AB488<0, 0, Loading!AB488) -> 0 | NB10: =IF(Loading!AB536<0, 0, Loading!AB536) -> 0 | NC10: =IF(Loading!AB584<0, 0, Loading!AB584) -> 0 | ND10: =IF(Loading!AB632<0, 0, Loading!AB632) -> 0 | NE10: =IF(Loading!AB680<0, 0, Loading!AB680) -> 0 | NF10: =IF(Loading!AB728<0, 0, Loading!AB728) -> 0 | NG10: =IF(Loading!AC8<0, 0, Loading!AC8) -> 0 | NH10: =IF(Loading!AC56<0, 0, Loading!AC56) -> 0 | NI10: =IF(Loading!AC104<0, 0, Loading!AC104) -> 0 | NJ10: =IF(Loading!AC152<0, 0, Loading!AC152) -> 0 | NK10: =IF(Loading!AC200<0, 0, Loading!AC200) -> 0 | NL10: =IF(Loading!AC248<0, 0, Loading!AC248) -> 0 | NM10: =IF(Loading!AC296<0, 0, Loading!AC296) -> 0 | NN10: =IF(Loading!AC344<0, 0, Loading!AC344) -> 0 | NO10: =IF(Loading!AC392<0, 0, Loading!AC392) -> 0 | NP10: =IF(Loading!AC440<0, 0, Loading!AC440) -> 0 | NQ10: =IF(Loading!AC488<0, 0, Loading!AC488) -> 0 | NR10: =IF(Loading!AC536<0, 0, Loading!AC536) -> 0 | NS10: =IF(Loading!AC584<0, 0, Loading!AC584) -> 0 | NT10: =IF(Loading!AC632<0, 0, Loading!AC632) -> 0 | NU10: =IF(Loading!AC680<0, 0, Loading!AC680) -> 0 | NV10: =IF(Loading!AC728<0, 0, Loading!AC728) -> 0 | NW10: =IF(Loading!AD8<0, 0, Loading!AD8) -> 0 | NX10: =IF(Loading!AD56<0, 0, Loading!AD56) -> 0 | NY10: =IF(Loading!AD104<0, 0, Loading!AD104) -> 0 | NZ10: =IF(Loading!AD152<0, 0, Loading!AD152) -> 0 | OA10: =IF(Loading!AD200<0, 0, Loading!AD200) -> 0 | OB10: =IF(Loading!AD248<0, 0, Loading!AD248) -> 0 | OC10: =IF(Loading!AD296<0, 0, Loading!AD296) -> 0 | OD10: =IF(Loading!AD344<0, 0, Loading!AD344) -> 0 | OE10: =IF(Loading!AD392<0, 0, Loading!AD392) -> 0 | OF10: =IF(Loading!AD440<0, 0, Loading!AD440) -> 0 | OG10: =IF(Loading!AD488<0, 0, Loading!AD488) -> 0 | OH10: =IF(Loading!AD536<0, 0, Loading!AD536) -> 0 | OI10: =IF(Loading!AD584<0, 0, Loading!AD584) -> 0 | OJ10: =IF(Loading!AD632<0, 0, Loading!AD632) -> 0 | OK10: =IF(Loading!AD680<0, 0, Loading!AD680) -> 0 | OL10: =IF(Loading!AD728<0, 0, Loading!AD728) -> 0 | OM10: =IF(Loading!AE8<0, 0, Loading!AE8) -> 0 | ON10: =IF(Loading!AE56<0, 0, Loading!AE56) -> 0 | OO10: =IF(Loading!AE104<0, 0, Loading!AE104) -> 0 | OP10: =IF(Loading!AE152<0, 0, Loading!AE152) -> 0 | OQ10: =IF(Loading!AE200<0, 0, Loading!AE200) -> 0 | OR10: =IF(Loading!AE248<0, 0, Loading!AE248) -> 0 | OS10: =IF(Loading!AE296<0, 0, Loading!AE296) -> 0 | OT10: =IF(Loading!AE344<0, 0, Loading!AE344) -> 0 | OU10: =IF(Loading!AE392<0, 0, Loading!AE392) -> 0 | OV10: =IF(Loading!AE440<0, 0, Loading!AE440) -> 0 | OW10: =IF(Loading!AE488<0, 0, Loading!AE488) -> 0 | OX10: =IF(Loading!AE536<0, 0, Loading!AE536) -> 0 | OY10: =IF(Loading!AE584<0, 0, Loading!AE584) -> 0 | OZ10: =IF(Loading!AE632<0, 0, Loading!AE632) -> 0 | PA10: =IF(Loading!AE680<0, 0, Loading!AE680) -> 0 | PB10: =IF(Loading!AE728<0, 0, Loading!AE728) -> 0 | PC10: =IF(Loading!AF8<0, 0, Loading!AF8) -> 0 | PD10: =IF(Loading!AF56<0, 0, Loading!AF56) -> 0 | PE10: =IF(Loading!AF104<0, 0, Loading!AF104) -> 0 | PF10: =IF(Loading!AF152<0, 0, Loading!AF152) -> 0 | PG10: =IF(Loading!AF200<0, 0, Loading!AF200) -> 0 | PH10: =IF(Loading!AF248<0, 0, Loading!AF248) -> 0 | PI10: =IF(Loading!AF296<0, 0, Loading!AF296) -> 0 | PJ10: =IF(Loading!AF344<0, 0, Loading!AF344) -> 0 | PK10: =IF(Loading!AF392<0, 0, Loading!AF392) -> 0 | PL10: =IF(Loading!AF440<0, 0, Loading!AF440) -> 0 | PM10: =IF(Loading!AF488<0, 0, Loading!AF488) -> 0 | PN10: =IF(Loading!AF536<0, 0, Loading!AF536) -> 0 | PO10: =IF(Loading!AF584<0, 0, Loading!AF584) -> 0 | PP10: =IF(Loading!AF632<0, 0, Loading!AF632) -> 0 | PQ10: =IF(Loading!AF680<0, 0, Loading!AF680) -> 0 | PR10: =IF(Loading!AF728<0, 0, Loading!AF728) -> 0 | PS10: =IF(Loading!AG8<0, 0, Loading!AG8) -> 0 | PT10: =IF(Loading!AG56<0, 0, Loading!AG56) -> 0 | PU10: =IF(Loading!AG104<0, 0, Loading!AG104) -> 0 | PV10: =IF(Loading!AG152<0, 0, Loading!AG152) -> 0 | PW10: =IF(Loading!AG200<0, 0, Loading!AG200) -> 0 | PX10: =IF(Loading!AG248<0, 0, Loading!AG248) -> 0 | PY10: =IF(Loading!AG296<0, 0, Loading!AG296) -> 0 | PZ10: =IF(Loading!AG344<0, 0, Loading!AG344) -> 0 | QA10: =IF(Loading!AG392<0, 0, Loading!AG392) -> 0 | QB10: =IF(Loading!AG440<0, 0, Loading!AG440) -> 0 | QC10: =IF(Loading!AG488<0, 0, Loading!AG488) -> 0 | QD10: =IF(Loading!AG536<0, 0, Loading!AG536) -> 0 | QE10: =IF(Loading!AG584<0, 0, Loading!AG584) -> 0 | QF10: =IF(Loading!AG632<0, 0, Loading!AG632) -> 0 | QG10: =IF(Loading!AG680<0, 0, Loading!AG680) -> 0 | QH10: =IF(Loading!AG728<0, 0, Loading!AG728) -> 0 | QI10: =IF(Loading!AH8<0, 0, Loading!AH8) -> 0 | QJ10: =IF(Loading!AH56<0, 0, Loading!AH56) -> 0 | QK10: =IF(Loading!AH104<0, 0, Loading!AH104) -> 0 | QL10: =IF(Loading!AH152<0, 0, Loading!AH152) -> 0 | QM10: =IF(Loading!AH200<0, 0, Loading!AH200) -> 0 | QN10: =IF(Loading!AH248<0, 0, Loading!AH248) -> 0 | QO10: =IF(Loading!AH296<0, 0, Loading!AH296) -> 0 | QP10: =IF(Loading!AH344<0, 0, Loading!AH344) -> 0 | QQ10: =IF(Loading!AH392<0, 0, Loading!AH392) -> 0 | QR10: =IF(Loading!AH440<0, 0, Loading!AH440) -> 0 | QS10: =IF(Loading!AH488<0, 0, Loading!AH488) -> 0 | QT10: =IF(Loading!AH536<0, 0, Loading!AH536) -> 0 | QU10: =IF(Loading!AH584<0, 0, Loading!AH584) -> 0 | QV10: =IF(Loading!AH632<0, 0, Loading!AH632) -> 0 | QW10: =IF(Loading!AH680<0, 0, Loading!AH680) -> 0 | QX10: =IF(Loading!AH728<0, 0, Loading!AH728) -> 0 | QY10: =IF(Loading!AI8<0, 0, Loading!AI8) -> 0 | QZ10: =IF(Loading!AI56<0, 0, Loading!AI56) -> 0 | RA10: =IF(Loading!AI104<0, 0, Loading!AI104) -> 0 | RB10: =IF(Loading!AI152<0, 0, Loading!AI152) -> 0 | RC10: =IF(Loading!AI200<0, 0, Loading!AI200) -> 0 | RD10: =IF(Loading!AI248<0, 0, Loading!AI248) -> 0 | RE10: =IF(Loading!AI296<0, 0, Loading!AI296) -> 0 | RF10: =IF(Loading!AI344<0, 0, Loading!AI344) -> 0 | RG10: =IF(Loading!AI392<0, 0, Loading!AI392) -> 0 | RH10: =IF(Loading!AI440<0, 0, Loading!AI440) -> 0 | RI10: =IF(Loading!AI488<0, 0, Loading!AI488) -> 0 | RJ10: =IF(Loading!AI536<0, 0, Loading!AI536) -> 0 | RK10: =IF(Loading!AI584<0, 0, Loading!AI584) -> 0 | RL10: =IF(Loading!AI632<0, 0, Loading!AI632) -> 0 | RM10: =IF(Loading!AI680<0, 0, Loading!AI680) -> 0 | RN10: =IF(Loading!AI728<0, 0, Loading!AI728) -> 0 | SN10: =(1-$Y$2)*MEDIAN(C9:C12) -> 0 | SO10: =(1-$Y$2)*MEDIAN(D9:D12) -> 0 | SP10: =(1-$Y$2)*MEDIAN(E9:E12) -> 0 | SQ10: =(1-$Y$2)*MEDIAN(F9:F12) -> 0 | SR10: =(1-$Y$2)*MEDIAN(G9:G12) -> 0 | SS10: =(1-$Y$2)*MEDIAN(H9:H12) -> 0 | ST10: =(1-$Y$2)*MEDIAN(I9:I12) -> 0 | SU10: =(1-$Y$2)*MEDIAN(J9:J12) -> 0 | ... ALS10: =(1-$Y$2)*MEDIAN(SH9:SH12) -> #NUM!
B11: =B10 -> POS2 | C11: =IF(Loading!F9<0, 0, Loading!F9) -> 0 | D11: =IF(Loading!F57<0, 0, Loading!F57) -> 0 | E11: =IF(Loading!F105<0, 0, Loading!F105) -> 0 | F11: =IF(Loading!F153<0, 0, Loading!F153) -> 0 | G11: =IF(Loading!F201<0, 0, Loading!F201) -> 0 | H11: =IF(Loading!F249<0, 0, Loading!F249) -> 0 | I11: =IF(Loading!F297<0, 0, Loading!F297) -> 0 | J11: =IF(Loading!F345<0, 0, Loading!F345) -> 0 | K11: =IF(Loading!F393<0, 0, Loading!F393) -> 0 | L11: =IF(Loading!F441<0, 0, Loading!F441) -> 0 | M11: =IF(Loading!F489<0, 0, Loading!F489) -> 0 | N11: =IF(Loading!F537<0, 0, Loading!F537) -> 0 | O11: =IF(Loading!F585<0, 0, Loading!F585) -> 0 | P11: =IF(Loading!F633<0, 0, Loading!F633) -> 0 | Q11: =IF(Loading!F681<0, 0, Loading!F681) -> 0 | R11: =IF(Loading!F729<0, 0, Loading!F729) -> 0 | S11: =IF(Loading!G9<0, 0, Loading!G9) -> 0 | T11: =IF(Loading!G57<0, 0, Loading!G57) -> 0 | U11: =IF(Loading!G105<0, 0, Loading!G105) -> 0 | V11: =IF(Loading!G153<0, 0, Loading!G153) -> 0 | W11: =IF(Loading!G201<0, 0, Loading!G201) -> 0 | X11: =IF(Loading!G249<0, 0, Loading!G249) -> 0 | Y11: =IF(Loading!G297<0, 0, Loading!G297) -> 0 | Z11: =IF(Loading!G345<0, 0, Loading!G345) -> 0 | AA11: =IF(Loading!G393<0, 0, Loading!G393) -> 0 | AB11: =IF(Loading!G441<0, 0, Loading!G441) -> 0 | AC11: =IF(Loading!G489<0, 0, Loading!G489) -> 0 | AD11: =IF(Loading!G537<0, 0, Loading!G537) -> 0 | AE11: =IF(Loading!G585<0, 0, Loading!G585) -> 0 | AF11: =IF(Loading!G633<0, 0, Loading!G633) -> 0 | AG11: =IF(Loading!G681<0, 0, Loading!G681) -> 0 | AH11: =IF(Loading!G729<0, 0, Loading!G729) -> 0 | AI11: =IF(Loading!H9<0, 0, Loading!H9) -> 0 | AJ11: =IF(Loading!H57<0, 0, Loading!H57) -> 0 | AK11: =IF(Loading!H105<0, 0, Loading!H105) -> 0 | AL11: =IF(Loading!H153<0, 0, Loading!H153) -> 0 | AM11: =IF(Loading!H201<0, 0, Loading!H201) -> 0 | AN11: =IF(Loading!H249<0, 0, Loading!H249) -> 0 | AO11: =IF(Loading!H297<0, 0, Loading!H297) -> 0 | AP11: =IF(Loading!H345<0, 0, Loading!H345) -> 0 | AQ11: =IF(Loading!H393<0, 0, Loading!H393) -> 0 | AR11: =IF(Loading!H441<0, 0, Loading!H441) -> 0 | AS11: =IF(Loading!H489<0, 0, Loading!H489) -> 0 | AT11: =IF(Loading!H537<0, 0, Loading!H537) -> 0 | AU11: =IF(Loading!H585<0, 0, Loading!H585) -> 0 | AV11: =IF(Loading!H633<0, 0, Loading!H633) -> 0 | AW11: =IF(Loading!H681<0, 0, Loading!H681) -> 0 | AX11: =IF(Loading!H729<0, 0, Loading!H729) -> 0 | AY11: =IF(Loading!I9<0, 0, Loading!I9) -> 0 | AZ11: =IF(Loading!I57<0, 0, Loading!I57) -> 0 | BA11: =IF(Loading!I105<0, 0, Loading!I105) -> 0 | BB11: =IF(Loading!I153<0, 0, Loading!I153) -> 0 | BC11: =IF(Loading!I201<0, 0, Loading!I201) -> 0 | BD11: =IF(Loading!I249<0, 0, Loading!I249) -> 0 | BE11: =IF(Loading!I297<0, 0, Loading!I297) -> 0 | BF11: =IF(Loading!I345<0, 0, Loading!I345) -> 0 | BG11: =IF(Loading!I393<0, 0, Loading!I393) -> 0 | BH11: =IF(Loading!I441<0, 0, Loading!I441) -> 0 | BI11: =IF(Loading!I489<0, 0, Loading!I489) -> 0 | BJ11: =IF(Loading!I537<0, 0, Loading!I537) -> 0 | BK11: =IF(Loading!I585<0, 0, Loading!I585) -> 0 | BL11: =IF(Loading!I633<0, 0, Loading!I633) -> 0 | BM11: =IF(Loading!I681<0, 0, Loading!I681) -> 0 | BN11: =IF(Loading!I729<0, 0, Loading!I729) -> 0 | BO11: =IF(Loading!J9<0, 0, Loading!J9) -> 0 | BP11: =IF(Loading!J57<0, 0, Loading!J57) -> 0 | BQ11: =IF(Loading!J105<0, 0, Loading!J105) -> 0 | BR11: =IF(Loading!J153<0, 0, Loading!J153) -> 0 | BS11: =IF(Loading!J201<0, 0, Loading!J201) -> 0 | BT11: =IF(Loading!J249<0, 0, Loading!J249) -> 0 | BU11: =IF(Loading!J297<0, 0, Loading!J297) -> 0 | BV11: =IF(Loading!J345<0, 0, Loading!J345) -> 0 | BW11: =IF(Loading!J393<0, 0, Loading!J393) -> 0 | BX11: =IF(Loading!J441<0, 0, Loading!J441) -> 0 | BY11: =IF(Loading!J489<0, 0, Loading!J489) -> 0 | BZ11: =IF(Loading!J537<0, 0, Loading!J537) -> 0 | CA11: =IF(Loading!J585<0, 0, Loading!J585) -> 0 | CB11: =IF(Loading!J633<0, 0, Loading!J633) -> 0 | CC11: =IF(Loading!J681<0, 0, Loading!J681) -> 0 | CD11: =IF(Loading!J729<0, 0, Loading!J729) -> 0 | CE11: =IF(Loading!K9<0, 0, Loading!K9) -> 0 | CF11: =IF(Loading!K57<0, 0, Loading!K57) -> 0 | CG11: =IF(Loading!K105<0, 0, Loading!K105) -> 0 | CH11: =IF(Loading!K153<0, 0, Loading!K153) -> 0 | CI11: =IF(Loading!K201<0, 0, Loading!K201) -> 0 | CJ11: =IF(Loading!K249<0, 0, Loading!K249) -> 0 | CK11: =IF(Loading!K297<0, 0, Loading!K297) -> 0 | CL11: =IF(Loading!K345<0, 0, Loading!K345) -> 0 | CM11: =IF(Loading!K393<0, 0, Loading!K393) -> 0 | CN11: =IF(Loading!K441<0, 0, Loading!K441) -> 0 | CO11: =IF(Loading!K489<0, 0, Loading!K489) -> 0 | CP11: =IF(Loading!K537<0, 0, Loading!K537) -> 0 | CQ11: =IF(Loading!K585<0, 0, Loading!K585) -> 0 | CR11: =IF(Loading!K633<0, 0, Loading!K633) -> 0 | CS11: =IF(Loading!K681<0, 0, Loading!K681) -> 0 | CT11: =IF(Loading!K729<0, 0, Loading!K729) -> 0 | CU11: =IF(Loading!L9<0, 0, Loading!L9) -> 0 | CV11: =IF(Loading!L57<0, 0, Loading!L57) -> 0 | CW11: =IF(Loading!L105<0, 0, Loading!L105) -> 0 | CX11: =IF(Loading!L153<0, 0, Loading!L153) -> 0 | CY11: =IF(Loading!L201<0, 0, Loading!L201) -> 0 | CZ11: =IF(Loading!L249<0, 0, Loading!L249) -> 0 | DA11: =IF(Loading!L297<0, 0, Loading!L297) -> 0 | DB11: =IF(Loading!L345<0, 0, Loading!L345) -> 0 | DC11: =IF(Loading!L393<0, 0, Loading!L393) -> 0 | DD11: =IF(Loading!L441<0, 0, Loading!L441) -> 0 | DE11: =IF(Loading!L489<0, 0, Loading!L489) -> 0 | DF11: =IF(Loading!L537<0, 0, Loading!L537) -> 0 | DG11: =IF(Loading!L585<0, 0, Loading!L585) -> 0 | DH11: =IF(Loading!L633<0, 0, Loading!L633) -> 0 | DI11: =IF(Loading!L681<0, 0, Loading!L681) -> 0 | DJ11: =IF(Loading!L729<0, 0, Loading!L729) -> 0 | DK11: =IF(Loading!M9<0, 0, Loading!M9) -> 0 | DL11: =IF(Loading!M57<0, 0, Loading!M57) -> 0 | DM11: =IF(Loading!M105<0, 0, Loading!M105) -> 0 | DN11: =IF(Loading!M153<0, 0, Loading!M153) -> 0 | DO11: =IF(Loading!M201<0, 0, Loading!M201) -> 0 | DP11: =IF(Loading!M249<0, 0, Loading!M249) -> 0 | DQ11: =IF(Loading!M297<0, 0, Loading!M297) -> 0 | DR11: =IF(Loading!M345<0, 0, Loading!M345) -> 0 | DS11: =IF(Loading!M393<0, 0, Loading!M393) -> 0 | DT11: =IF(Loading!M441<0, 0, Loading!M441) -> 0 | DU11: =IF(Loading!M489<0, 0, Loading!M489) -> 0 | DV11: =IF(Loading!M537<0, 0, Loading!M537) -> 0 | DW11: =IF(Loading!M585<0, 0, Loading!M585) -> 0 | DX11: =IF(Loading!M633<0, 0, Loading!M633) -> 0 | DY11: =IF(Loading!M681<0, 0, Loading!M681) -> 0 | DZ11: =IF(Loading!M729<0, 0, Loading!M729) -> 0 | EA11: =IF(Loading!N9<0, 0, Loading!N9) -> 0 | EB11: =IF(Loading!N57<0, 0, Loading!N57) -> 0 | EC11: =IF(Loading!N105<0, 0, Loading!N105) -> 0 | ED11: =IF(Loading!N153<0, 0, Loading!N153) -> 0 | EE11: =IF(Loading!N201<0, 0, Loading!N201) -> 0 | EF11: =IF(Loading!N249<0, 0, Loading!N249) -> 0 | EG11: =IF(Loading!N297<0, 0, Loading!N297) -> 0 | EH11: =IF(Loading!N345<0, 0, Loading!N345) -> 0 | EI11: =IF(Loading!N393<0, 0, Loading!N393) -> 0 | EJ11: =IF(Loading!N441<0, 0, Loading!N441) -> 0 | EK11: =IF(Loading!N489<0, 0, Loading!N489) -> 0 | EL11: =IF(Loading!N537<0, 0, Loading!N537) -> 0 | EM11: =IF(Loading!N585<0, 0, Loading!N585) -> 0 | EN11: =IF(Loading!N633<0, 0, Loading!N633) -> 0 | EO11: =IF(Loading!N681<0, 0, Loading!N681) -> 0 | EP11: =IF(Loading!N729<0, 0, Loading!N729) -> 0 | EQ11: =IF(Loading!O9<0, 0, Loading!O9) -> 0 | ER11: =IF(Loading!O57<0, 0, Loading!O57) -> 0 | ES11: =IF(Loading!O105<0, 0, Loading!O105) -> 0 | ET11: =IF(Loading!O153<0, 0, Loading!O153) -> 0 | EU11: =IF(Loading!O201<0, 0, Loading!O201) -> 0 | EV11: =IF(Loading!O249<0, 0, Loading!O249) -> 0 | EW11: =IF(Loading!O297<0, 0, Loading!O297) -> 0 | EX11: =IF(Loading!O345<0, 0, Loading!O345) -> 0 | EY11: =IF(Loading!O393<0, 0, Loading!O393) -> 0 | EZ11: =IF(Loading!O441<0, 0, Loading!O441) -> 0 | FA11: =IF(Loading!O489<0, 0, Loading!O489) -> 0 | FB11: =IF(Loading!O537<0, 0, Loading!O537) -> 0 | FC11: =IF(Loading!O585<0, 0, Loading!O585) -> 0 | FD11: =IF(Loading!O633<0, 0, Loading!O633) -> 0 | FE11: =IF(Loading!O681<0, 0, Loading!O681) -> 0 | FF11: =IF(Loading!O729<0, 0, Loading!O729) -> 0 | FG11: =IF(Loading!P9<0, 0, Loading!P9) -> 0 | FH11: =IF(Loading!P57<0, 0, Loading!P57) -> 0 | FI11: =IF(Loading!P105<0, 0, Loading!P105) -> 0 | FJ11: =IF(Loading!P153<0, 0, Loading!P153) -> 0 | FK11: =IF(Loading!P201<0, 0, Loading!P201) -> 0 | FL11: =IF(Loading!P249<0, 0, Loading!P249) -> 0 | FM11: =IF(Loading!P297<0, 0, Loading!P297) -> 0 | FN11: =IF(Loading!P345<0, 0, Loading!P345) -> 0 | FO11: =IF(Loading!P393<0, 0, Loading!P393) -> 0 | FP11: =IF(Loading!P441<0, 0, Loading!P441) -> 0 | FQ11: =IF(Loading!P489<0, 0, Loading!P489) -> 0 | FR11: =IF(Loading!P537<0, 0, Loading!P537) -> 0 | FS11: =IF(Loading!P585<0, 0, Loading!P585) -> 0 | FT11: =IF(Loading!P633<0, 0, Loading!P633) -> 0 | FU11: =IF(Loading!P681<0, 0, Loading!P681) -> 0 | FV11: =IF(Loading!P729<0, 0, Loading!P729) -> 0 | FW11: =IF(Loading!Q9<0, 0, Loading!Q9) -> 0 | FX11: =IF(Loading!Q57<0, 0, Loading!Q57) -> 0 | FY11: =IF(Loading!Q105<0, 0, Loading!Q105) -> 0 | FZ11: =IF(Loading!Q153<0, 0, Loading!Q153) -> 0 | GA11: =IF(Loading!Q201<0, 0, Loading!Q201) -> 0 | GB11: =IF(Loading!Q249<0, 0, Loading!Q249) -> 0 | GC11: =IF(Loading!Q297<0, 0, Loading!Q297) -> 0 | GD11: =IF(Loading!Q345<0, 0, Loading!Q345) -> 0 | GE11: =IF(Loading!Q393<0, 0, Loading!Q393) -> 0 | GF11: =IF(Loading!Q441<0, 0, Loading!Q441) -> 0 | GG11: =IF(Loading!Q489<0, 0, Loading!Q489) -> 0 | GH11: =IF(Loading!Q537<0, 0, Loading!Q537) -> 0 | GI11: =IF(Loading!Q585<0, 0, Loading!Q585) -> 0 | GJ11: =IF(Loading!Q633<0, 0, Loading!Q633) -> 0 | GK11: =IF(Loading!Q681<0, 0, Loading!Q681) -> 0 | GL11: =IF(Loading!Q729<0, 0, Loading!Q729) -> 0 | GM11: =IF(Loading!R9<0, 0, Loading!R9) -> 0 | GN11: =IF(Loading!R57<0, 0, Loading!R57) -> 0 | GO11: =IF(Loading!R105<0, 0, Loading!R105) -> 0 | GP11: =IF(Loading!R153<0, 0, Loading!R153) -> 0 | GQ11: =IF(Loading!R201<0, 0, Loading!R201) -> 0 | GR11: =IF(Loading!R249<0, 0, Loading!R249) -> 0 | GS11: =IF(Loading!R297<0, 0, Loading!R297) -> 0 | GT11: =IF(Loading!R345<0, 0, Loading!R345) -> 0 | GU11: =IF(Loading!R393<0, 0, Loading!R393) -> 0 | GV11: =IF(Loading!R441<0, 0, Loading!R441) -> 0 | GW11: =IF(Loading!R489<0, 0, Loading!R489) -> 0 | GX11: =IF(Loading!R537<0, 0, Loading!R537) -> 0 | GY11: =IF(Loading!R585<0, 0, Loading!R585) -> 0 | GZ11: =IF(Loading!R633<0, 0, Loading!R633) -> 0 | HA11: =IF(Loading!R681<0, 0, Loading!R681) -> 0 | HB11: =IF(Loading!R729<0, 0, Loading!R729) -> 0 | HC11: =IF(Loading!S9<0, 0, Loading!S9) -> 0 | HD11: =IF(Loading!S57<0, 0, Loading!S57) -> 0 | HE11: =IF(Loading!S105<0, 0, Loading!S105) -> 0 | HF11: =IF(Loading!S153<0, 0, Loading!S153) -> 0 | HG11: =IF(Loading!S201<0, 0, Loading!S201) -> 0 | HH11: =IF(Loading!S249<0, 0, Loading!S249) -> 0 | HI11: =IF(Loading!S297<0, 0, Loading!S297) -> 0 | HJ11: =IF(Loading!S345<0, 0, Loading!S345) -> 0 | HK11: =IF(Loading!S393<0, 0, Loading!S393) -> 0 | HL11: =IF(Loading!S441<0, 0, Loading!S441) -> 0 | HM11: =IF(Loading!S489<0, 0, Loading!S489) -> 0 | HN11: =IF(Loading!S537<0, 0, Loading!S537) -> 0 | HO11: =IF(Loading!S585<0, 0, Loading!S585) -> 0 | HP11: =IF(Loading!S633<0, 0, Loading!S633) -> 0 | HQ11: =IF(Loading!S681<0, 0, Loading!S681) -> 0 | HR11: =IF(Loading!S729<0, 0, Loading!S729) -> 0 | HS11: =IF(Loading!T9<0, 0, Loading!T9) -> 0 | HT11: =IF(Loading!T57<0, 0, Loading!T57) -> 0 | HU11: =IF(Loading!T105<0, 0, Loading!T105) -> 0 | HV11: =IF(Loading!T153<0, 0, Loading!T153) -> 0 | HW11: =IF(Loading!T201<0, 0, Loading!T201) -> 0 | HX11: =IF(Loading!T249<0, 0, Loading!T249) -> 0 | HY11: =IF(Loading!T297<0, 0, Loading!T297) -> 0 | HZ11: =IF(Loading!T345<0, 0, Loading!T345) -> 0 | IA11: =IF(Loading!T393<0, 0, Loading!T393) -> 0 | IB11: =IF(Loading!T441<0, 0, Loading!T441) -> 0 | IC11: =IF(Loading!T489<0, 0, Loading!T489) -> 0 | ID11: =IF(Loading!T537<0, 0, Loading!T537) -> 0 | IE11: =IF(Loading!T585<0, 0, Loading!T585) -> 0 | IF11: =IF(Loading!T633<0, 0, Loading!T633) -> 0 | IG11: =IF(Loading!T681<0, 0, Loading!T681) -> 0 | IH11: =IF(Loading!T729<0, 0, Loading!T729) -> 0 | II11: =IF(Loading!U9<0, 0, Loading!U9) -> 0 | IJ11: =IF(Loading!U57<0, 0, Loading!U57) -> 0 | IK11: =IF(Loading!U105<0, 0, Loading!U105) -> 0 | IL11: =IF(Loading!U153<0, 0, Loading!U153) -> 0 | IM11: =IF(Loading!U201<0, 0, Loading!U201) -> 0 | IN11: =IF(Loading!U249<0, 0, Loading!U249) -> 0 | IO11: =IF(Loading!U297<0, 0, Loading!U297) -> 0 | IP11: =IF(Loading!U345<0, 0, Loading!U345) -> 0 | IQ11: =IF(Loading!U393<0, 0, Loading!U393) -> 0 | IR11: =IF(Loading!U441<0, 0, Loading!U441) -> 0 | IS11: =IF(Loading!U489<0, 0, Loading!U489) -> 0 | IT11: =IF(Loading!U537<0, 0, Loading!U537) -> 0 | IU11: =IF(Loading!U585<0, 0, Loading!U585) -> 0 | IV11: =IF(Loading!U633<0, 0, Loading!U633) -> 0 | IW11: =IF(Loading!U681<0, 0, Loading!U681) -> 0 | IX11: =IF(Loading!U729<0, 0, Loading!U729) -> 0 | IY11: =IF(Loading!V9<0, 0, Loading!V9) -> 0 | IZ11: =IF(Loading!V57<0, 0, Loading!V57) -> 0 | JA11: =IF(Loading!V105<0, 0, Loading!V105) -> 0 | JB11: =IF(Loading!V153<0, 0, Loading!V153) -> 0 | JC11: =IF(Loading!V201<0, 0, Loading!V201) -> 0 | JD11: =IF(Loading!V249<0, 0, Loading!V249) -> 0 | JE11: =IF(Loading!V297<0, 0, Loading!V297) -> 0 | JF11: =IF(Loading!V345<0, 0, Loading!V345) -> 0 | JG11: =IF(Loading!V393<0, 0, Loading!V393) -> 0 | JH11: =IF(Loading!V441<0, 0, Loading!V441) -> 0 | JI11: =IF(Loading!V489<0, 0, Loading!V489) -> 0 | JJ11: =IF(Loading!V537<0, 0, Loading!V537) -> 0 | JK11: =IF(Loading!V585<0, 0, Loading!V585) -> 0 | JL11: =IF(Loading!V633<0, 0, Loading!V633) -> 0 | JM11: =IF(Loading!V681<0, 0, Loading!V681) -> 0 | JN11: =IF(Loading!V729<0, 0, Loading!V729) -> 0 | JO11: =IF(Loading!W9<0, 0, Loading!W9) -> 0 | JP11: =IF(Loading!W57<0, 0, Loading!W57) -> 0 | JQ11: =IF(Loading!W105<0, 0, Loading!W105) -> 0 | JR11: =IF(Loading!W153<0, 0, Loading!W153) -> 0 | JS11: =IF(Loading!W201<0, 0, Loading!W201) -> 0 | JT11: =IF(Loading!W249<0, 0, Loading!W249) -> 0 | JU11: =IF(Loading!W297<0, 0, Loading!W297) -> 0 | JV11: =IF(Loading!W345<0, 0, Loading!W345) -> 0 | JW11: =IF(Loading!W393<0, 0, Loading!W393) -> 0 | JX11: =IF(Loading!W441<0, 0, Loading!W441) -> 0 | JY11: =IF(Loading!W489<0, 0, Loading!W489) -> 0 | JZ11: =IF(Loading!W537<0, 0, Loading!W537) -> 0 | KA11: =IF(Loading!W585<0, 0, Loading!W585) -> 0 | KB11: =IF(Loading!W633<0, 0, Loading!W633) -> 0 | KC11: =IF(Loading!W681<0, 0, Loading!W681) -> 0 | KD11: =IF(Loading!W729<0, 0, Loading!W729) -> 0 | KE11: =IF(Loading!X9<0, 0, Loading!X9) -> 0 | KF11: =IF(Loading!X57<0, 0, Loading!X57) -> 0 | KG11: =IF(Loading!X105<0, 0, Loading!X105) -> 0 | KH11: =IF(Loading!X153<0, 0, Loading!X153) -> 0 | KI11: =IF(Loading!X201<0, 0, Loading!X201) -> 0 | KJ11: =IF(Loading!X249<0, 0, Loading!X249) -> 0 | KK11: =IF(Loading!X297<0, 0, Loading!X297) -> 0 | KL11: =IF(Loading!X345<0, 0, Loading!X345) -> 0 | KM11: =IF(Loading!X393<0, 0, Loading!X393) -> 0 | KN11: =IF(Loading!X441<0, 0, Loading!X441) -> 0 | KO11: =IF(Loading!X489<0, 0, Loading!X489) -> 0 | KP11: =IF(Loading!X537<0, 0, Loading!X537) -> 0 | KQ11: =IF(Loading!X585<0, 0, Loading!X585) -> 0 | KR11: =IF(Loading!X633<0, 0, Loading!X633) -> 0 | KS11: =IF(Loading!X681<0, 0, Loading!X681) -> 0 | KT11: =IF(Loading!X729<0, 0, Loading!X729) -> 0 | KU11: =IF(Loading!Y9<0, 0, Loading!Y9) -> 0 | KV11: =IF(Loading!Y57<0, 0, Loading!Y57) -> 0 | KW11: =IF(Loading!Y105<0, 0, Loading!Y105) -> 0 | KX11: =IF(Loading!Y153<0, 0, Loading!Y153) -> 0 | KY11: =IF(Loading!Y201<0, 0, Loading!Y201) -> 0 | KZ11: =IF(Loading!Y249<0, 0, Loading!Y249) -> 0 | LA11: =IF(Loading!Y297<0, 0, Loading!Y297) -> 0 | LB11: =IF(Loading!Y345<0, 0, Loading!Y345) -> 0 | LC11: =IF(Loading!Y393<0, 0, Loading!Y393) -> 0 | LD11: =IF(Loading!Y441<0, 0, Loading!Y441) -> 0 | LE11: =IF(Loading!Y489<0, 0, Loading!Y489) -> 0 | LF11: =IF(Loading!Y537<0, 0, Loading!Y537) -> 0 | LG11: =IF(Loading!Y585<0, 0, Loading!Y585) -> 0 | LH11: =IF(Loading!Y633<0, 0, Loading!Y633) -> 0 | LI11: =IF(Loading!Y681<0, 0, Loading!Y681) -> 0 | LJ11: =IF(Loading!Y729<0, 0, Loading!Y729) -> 0 | LK11: =IF(Loading!Z9<0, 0, Loading!Z9) -> 0 | LL11: =IF(Loading!Z57<0, 0, Loading!Z57) -> 0 | LM11: =IF(Loading!Z105<0, 0, Loading!Z105) -> 0 | LN11: =IF(Loading!Z153<0, 0, Loading!Z153) -> 0 | LO11: =IF(Loading!Z201<0, 0, Loading!Z201) -> 0 | LP11: =IF(Loading!Z249<0, 0, Loading!Z249) -> 0 | LQ11: =IF(Loading!Z297<0, 0, Loading!Z297) -> 0 | LR11: =IF(Loading!Z345<0, 0, Loading!Z345) -> 0 | LS11: =IF(Loading!Z393<0, 0, Loading!Z393) -> 0 | LT11: =IF(Loading!Z441<0, 0, Loading!Z441) -> 0 | LU11: =IF(Loading!Z489<0, 0, Loading!Z489) -> 0 | LV11: =IF(Loading!Z537<0, 0, Loading!Z537) -> 0 | LW11: =IF(Loading!Z585<0, 0, Loading!Z585) -> 0 | LX11: =IF(Loading!Z633<0, 0, Loading!Z633) -> 0 | LY11: =IF(Loading!Z681<0, 0, Loading!Z681) -> 0 | LZ11: =IF(Loading!Z729<0, 0, Loading!Z729) -> 0 | MA11: =IF(Loading!AA9<0, 0, Loading!AA9) -> 0 | MB11: =IF(Loading!AA57<0, 0, Loading!AA57) -> 0 | MC11: =IF(Loading!AA105<0, 0, Loading!AA105) -> 0 | MD11: =IF(Loading!AA153<0, 0, Loading!AA153) -> 0 | ME11: =IF(Loading!AA201<0, 0, Loading!AA201) -> 0 | MF11: =IF(Loading!AA249<0, 0, Loading!AA249) -> 0 | MG11: =IF(Loading!AA297<0, 0, Loading!AA297) -> 0 | MH11: =IF(Loading!AA345<0, 0, Loading!AA345) -> 0 | MI11: =IF(Loading!AA393<0, 0, Loading!AA393) -> 0 | MJ11: =IF(Loading!AA441<0, 0, Loading!AA441) -> 0 | MK11: =IF(Loading!AA489<0, 0, Loading!AA489) -> 0 | ML11: =IF(Loading!AA537<0, 0, Loading!AA537) -> 0 | MM11: =IF(Loading!AA585<0, 0, Loading!AA585) -> 0 | MN11: =IF(Loading!AA633<0, 0, Loading!AA633) -> 0 | MO11: =IF(Loading!AA681<0, 0, Loading!AA681) -> 0 | MP11: =IF(Loading!AA729<0, 0, Loading!AA729) -> 0 | MQ11: =IF(Loading!AB9<0, 0, Loading!AB9) -> 0 | MR11: =IF(Loading!AB57<0, 0, Loading!AB57) -> 0 | MS11: =IF(Loading!AB105<0, 0, Loading!AB105) -> 0 | MT11: =IF(Loading!AB153<0, 0, Loading!AB153) -> 0 | MU11: =IF(Loading!AB201<0, 0, Loading!AB201) -> 0 | MV11: =IF(Loading!AB249<0, 0, Loading!AB249) -> 0 | MW11: =IF(Loading!AB297<0, 0, Loading!AB297) -> 0 | MX11: =IF(Loading!AB345<0, 0, Loading!AB345) -> 0 | MY11: =IF(Loading!AB393<0, 0, Loading!AB393) -> 0 | MZ11: =IF(Loading!AB441<0, 0, Loading!AB441) -> 0 | NA11: =IF(Loading!AB489<0, 0, Loading!AB489) -> 0 | NB11: =IF(Loading!AB537<0, 0, Loading!AB537) -> 0 | NC11: =IF(Loading!AB585<0, 0, Loading!AB585) -> 0 | ND11: =IF(Loading!AB633<0, 0, Loading!AB633) -> 0 | NE11: =IF(Loading!AB681<0, 0, Loading!AB681) -> 0 | NF11: =IF(Loading!AB729<0, 0, Loading!AB729) -> 0 | NG11: =IF(Loading!AC9<0, 0, Loading!AC9) -> 0 | NH11: =IF(Loading!AC57<0, 0, Loading!AC57) -> 0 | NI11: =IF(Loading!AC105<0, 0, Loading!AC105) -> 0 | NJ11: =IF(Loading!AC153<0, 0, Loading!AC153) -> 0 | NK11: =IF(Loading!AC201<0, 0, Loading!AC201) -> 0 | NL11: =IF(Loading!AC249<0, 0, Loading!AC249) -> 0 | NM11: =IF(Loading!AC297<0, 0, Loading!AC297) -> 0 | NN11: =IF(Loading!AC345<0, 0, Loading!AC345) -> 0 | NO11: =IF(Loading!AC393<0, 0, Loading!AC393) -> 0 | NP11: =IF(Loading!AC441<0, 0, Loading!AC441) -> 0 | NQ11: =IF(Loading!AC489<0, 0, Loading!AC489) -> 0 | NR11: =IF(Loading!AC537<0, 0, Loading!AC537) -> 0 | NS11: =IF(Loading!AC585<0, 0, Loading!AC585) -> 0 | NT11: =IF(Loading!AC633<0, 0, Loading!AC633) -> 0 | NU11: =IF(Loading!AC681<0, 0, Loading!AC681) -> 0 | NV11: =IF(Loading!AC729<0, 0, Loading!AC729) -> 0 | NW11: =IF(Loading!AD9<0, 0, Loading!AD9) -> 0 | NX11: =IF(Loading!AD57<0, 0, Loading!AD57) -> 0 | NY11: =IF(Loading!AD105<0, 0, Loading!AD105) -> 0 | NZ11: =IF(Loading!AD153<0, 0, Loading!AD153) -> 0 | OA11: =IF(Loading!AD201<0, 0, Loading!AD201) -> 0 | OB11: =IF(Loading!AD249<0, 0, Loading!AD249) -> 0 | OC11: =IF(Loading!AD297<0, 0, Loading!AD297) -> 0 | OD11: =IF(Loading!AD345<0, 0, Loading!AD345) -> 0 | OE11: =IF(Loading!AD393<0, 0, Loading!AD393) -> 0 | OF11: =IF(Loading!AD441<0, 0, Loading!AD441) -> 0 | OG11: =IF(Loading!AD489<0, 0, Loading!AD489) -> 0 | OH11: =IF(Loading!AD537<0, 0, Loading!AD537) -> 0 | OI11: =IF(Loading!AD585<0, 0, Loading!AD585) -> 0 | OJ11: =IF(Loading!AD633<0, 0, Loading!AD633) -> 0 | OK11: =IF(Loading!AD681<0, 0, Loading!AD681) -> 0 | OL11: =IF(Loading!AD729<0, 0, Loading!AD729) -> 0 | OM11: =IF(Loading!AE9<0, 0, Loading!AE9) -> 0 | ON11: =IF(Loading!AE57<0, 0, Loading!AE57) -> 0 | OO11: =IF(Loading!AE105<0, 0, Loading!AE105) -> 0 | OP11: =IF(Loading!AE153<0, 0, Loading!AE153) -> 0 | OQ11: =IF(Loading!AE201<0, 0, Loading!AE201) -> 0 | OR11: =IF(Loading!AE249<0, 0, Loading!AE249) -> 0 | OS11: =IF(Loading!AE297<0, 0, Loading!AE297) -> 0 | OT11: =IF(Loading!AE345<0, 0, Loading!AE345) -> 0 | OU11: =IF(Loading!AE393<0, 0, Loading!AE393) -> 0 | OV11: =IF(Loading!AE441<0, 0, Loading!AE441) -> 0 | OW11: =IF(Loading!AE489<0, 0, Loading!AE489) -> 0 | OX11: =IF(Loading!AE537<0, 0, Loading!AE537) -> 0 | OY11: =IF(Loading!AE585<0, 0, Loading!AE585) -> 0 | OZ11: =IF(Loading!AE633<0, 0, Loading!AE633) -> 0 | PA11: =IF(Loading!AE681<0, 0, Loading!AE681) -> 0 | PB11: =IF(Loading!AE729<0, 0, Loading!AE729) -> 0 | PC11: =IF(Loading!AF9<0, 0, Loading!AF9) -> 0 | PD11: =IF(Loading!AF57<0, 0, Loading!AF57) -> 0 | PE11: =IF(Loading!AF105<0, 0, Loading!AF105) -> 0 | PF11: =IF(Loading!AF153<0, 0, Loading!AF153) -> 0 | PG11: =IF(Loading!AF201<0, 0, Loading!AF201) -> 0 | PH11: =IF(Loading!AF249<0, 0, Loading!AF249) -> 0 | PI11: =IF(Loading!AF297<0, 0, Loading!AF297) -> 0 | PJ11: =IF(Loading!AF345<0, 0, Loading!AF345) -> 0 | PK11: =IF(Loading!AF393<0, 0, Loading!AF393) -> 0 | PL11: =IF(Loading!AF441<0, 0, Loading!AF441) -> 0 | PM11: =IF(Loading!AF489<0, 0, Loading!AF489) -> 0 | PN11: =IF(Loading!AF537<0, 0, Loading!AF537) -> 0 | PO11: =IF(Loading!AF585<0, 0, Loading!AF585) -> 0 | PP11: =IF(Loading!AF633<0, 0, Loading!AF633) -> 0 | PQ11: =IF(Loading!AF681<0, 0, Loading!AF681) -> 0 | PR11: =IF(Loading!AF729<0, 0, Loading!AF729) -> 0 | PS11: =IF(Loading!AG9<0, 0, Loading!AG9) -> 0 | PT11: =IF(Loading!AG57<0, 0, Loading!AG57) -> 0 | PU11: =IF(Loading!AG105<0, 0, Loading!AG105) -> 0 | PV11: =IF(Loading!AG153<0, 0, Loading!AG153) -> 0 | PW11: =IF(Loading!AG201<0, 0, Loading!AG201) -> 0 | PX11: =IF(Loading!AG249<0, 0, Loading!AG249) -> 0 | PY11: =IF(Loading!AG297<0, 0, Loading!AG297) -> 0 | PZ11: =IF(Loading!AG345<0, 0, Loading!AG345) -> 0 | QA11: =IF(Loading!AG393<0, 0, Loading!AG393) -> 0 | QB11: =IF(Loading!AG441<0, 0, Loading!AG441) -> 0 | QC11: =IF(Loading!AG489<0, 0, Loading!AG489) -> 0 | QD11: =IF(Loading!AG537<0, 0, Loading!AG537) -> 0 | QE11: =IF(Loading!AG585<0, 0, Loading!AG585) -> 0 | QF11: =IF(Loading!AG633<0, 0, Loading!AG633) -> 0 | QG11: =IF(Loading!AG681<0, 0, Loading!AG681) -> 0 | QH11: =IF(Loading!AG729<0, 0, Loading!AG729) -> 0 | QI11: =IF(Loading!AH9<0, 0, Loading!AH9) -> 0 | QJ11: =IF(Loading!AH57<0, 0, Loading!AH57) -> 0 | QK11: =IF(Loading!AH105<0, 0, Loading!AH105) -> 0 | QL11: =IF(Loading!AH153<0, 0, Loading!AH153) -> 0 | QM11: =IF(Loading!AH201<0, 0, Loading!AH201) -> 0 | QN11: =IF(Loading!AH249<0, 0, Loading!AH249) -> 0 | QO11: =IF(Loading!AH297<0, 0, Loading!AH297) -> 0 | QP11: =IF(Loading!AH345<0, 0, Loading!AH345) -> 0 | QQ11: =IF(Loading!AH393<0, 0, Loading!AH393) -> 0 | QR11: =IF(Loading!AH441<0, 0, Loading!AH441) -> 0 | QS11: =IF(Loading!AH489<0, 0, Loading!AH489) -> 0 | QT11: =IF(Loading!AH537<0, 0, Loading!AH537) -> 0 | QU11: =IF(Loading!AH585<0, 0, Loading!AH585) -> 0 | QV11: =IF(Loading!AH633<0, 0, Loading!AH633) -> 0 | QW11: =IF(Loading!AH681<0, 0, Loading!AH681) -> 0 | QX11: =IF(Loading!AH729<0, 0, Loading!AH729) -> 0 | QY11: =IF(Loading!AI9<0, 0, Loading!AI9) -> 0 | QZ11: =IF(Loading!AI57<0, 0, Loading!AI57) -> 0 | RA11: =IF(Loading!AI105<0, 0, Loading!AI105) -> 0 | RB11: =IF(Loading!AI153<0, 0, Loading!AI153) -> 0 | RC11: =IF(Loading!AI201<0, 0, Loading!AI201) -> 0 | RD11: =IF(Loading!AI249<0, 0, Loading!AI249) -> 0 | RE11: =IF(Loading!AI297<0, 0, Loading!AI297) -> 0 | RF11: =IF(Loading!AI345<0, 0, Loading!AI345) -> 0 | RG11: =IF(Loading!AI393<0, 0, Loading!AI393) -> 0 | RH11: =IF(Loading!AI441<0, 0, Loading!AI441) -> 0 | RI11: =IF(Loading!AI489<0, 0, Loading!AI489) -> 0 | RJ11: =IF(Loading!AI537<0, 0, Loading!AI537) -> 0 | RK11: =IF(Loading!AI585<0, 0, Loading!AI585) -> 0 | RL11: =IF(Loading!AI633<0, 0, Loading!AI633) -> 0 | RM11: =IF(Loading!AI681<0, 0, Loading!AI681) -> 0 | RN11: =IF(Loading!AI729<0, 0, Loading!AI729) -> 0
