Workbook

Sheet Guide
A7: Analysis Tool Guide
A8: RayBio® Human Autoimmune Disease Autoantibody Detection Array G1

Sheet Target List
A1: No. | B1: Autoimmunogen | D1: No. | E1: Autoimmunogen
A2: #1 | B2: Alanyl-tRNA Synthetase (PL-12) | D2: #18 | E2: Mi-2
A3: #2 | B3: KRT8 | D3: #19 | E3: Myeloperoxidase (MPO), p-ANCA
A4: #3 | B4: Centromere B (CENP-B) | D4: #20 | E4: Nup62
A5: #4 | B5: Centromere Protein A (CENP-A) | D5: #21 | E5: CCP peptide
A6: #5 | B6: dsDNA | D6: #22 | E6: Proliferating Cell Nuclear Antigen (PCNA)
A7: #6 | B7: Gliadin | D7: #23 | E7: Proteinase-3 (PR3), c-ANCA
A8: #7 | B8: Glycyl-tRNA Synthetase (EJ) | D8: #24 | E8: Ro/SS-A (52 kDa)
A9: #8 | B9: gp-210 | D9: #25 | E9: Ro/SS-A (60 kDa)
A10: #9 | B10: Histone H2A | D10: #26 | E10: Scl-70 (DNA topoisomerase-1)
A11: #10 | B11: Histone H2B | D11: #27 | E11: Sm/Smith/snRNP core protein
A12: #11 | B12: KRT19 | D12: #28 | E12: sp100
... A17: #16 | B17: M/Scl 100 | D17: #33 | E17: U1-snRNP70 kDa
A18: #17 | B18: M2
A20: Positive Controls:
B21: Biotin-BSA (1)
B22: Biotin-BSA (2)
B23: Human IgG
B24: Human IgA
A26: Negative Control:
B27: Water (Blank)
B28: 0.1% BSA-PBS

Sheet Importing data
A1: RayBio® AID Autoantibody Detection Array

Sheet Map
A1: RayBio® AID Autoantibody Detection Array
B2: A | C2: B | D2: C | E2: D | F2: E | G2: F | H2: G | I2: H | J2: I | K2: J | L2: K | M2: L
A3: 1 | B3: POS1 | C3: POS1 | D3: POS1 | E3: #8 | F3: #8 | G3: #8 | H3: #18 | I3: #18 | J3: #18 | K3: Human IgA | L3: Human IgA | M3: Human IgA
A4: 2 | B4: POS2 | C4: POS2 | D4: POS2 | E4: #9 | F4: #9 | G4: #9 | H4: #19 | I4: #19 | J4: #19 | K4: NEG | L4: NEG | M4: NEG
A5: 3 | B5: #1 | C5: #1 | D5: #1 | E5: #10 | F5: #10 | G5: #10 | H5: #20 | I5: #20 | J5: #20 | K5: 0.1% BSA-PBS | L5: 0.1% BSA-PBS | M5: 0.1% BSA-PBS
A6: 4 | B6: #2 | C6: #2 | D6: #2 | E6: #11 | F6: #11 | G6: #11 | H6: #21 | I6: #21 | J6: #21 | K6: #28 | L6: #28 | M6: #28
A7: 5 | B7: #3 | C7: #3 | D7: #3 | E7: #12 | F7: #12 | G7: #12 | H7: #22 | I7: #22 | J7: #22 | K7: #29 | L7: #29 | M7: #29
A8: 6 | B8: #4 | C8: #4 | D8: #4 | E8: #13 | F8: #13 | G8: #13 | H8: #23 | I8: #23 | J8: #23 | K8: #30 | L8: #30 | M8: #30
A9: 7 | B9: #5 | C9: #5 | D9: #5 | E9: #14 | F9: #14 | G9: #14 | H9: #24 | I9: #24 | J9: #24 | K9: #31 | L9: #31 | M9: #31
A10: 8 | B10: #6 | C10: #6 | D10: #6 | E10: #15 | F10: #15 | G10: #15 | H10: #25 | I10: #25 | J10: #25 | K10: #32 | L10: #32 | M10: #32
A11: 9 | B11: #7 | C11: #7 | D11: #7 | E11: #16 | F11: #16 | G11: #16 | H11: #26 | I11: #26 | J11: #26 | K11: #33 | L11: #33 | M11: #33
A12: 10 | B12: Human IgG | C12: Human IgG | D12: Human IgG | E12: #17 | F12: #17 | G12: #17 | H12: #27 | I12: #27 | J12: #27 | K12: POS3 | L12: POS3 | M12: POS3

Sheet Aligning data
A1: RayBio® AID Autoantibody Detection Array
B2: Sample1 | D2: Sample2 | F2: Sample3 | H2: Sample4 | J2: Sample5 | L2: Sample6 | N2: Sample7 | P2: Sample8 | R2: Sample9 | T2: Sample10 | V2: Sample11 | X2: Sample12 | Z2: Sample13 | AB2: Sample14 | AD2: Sample15 | AF2: Sample16 | AH2: Sample17 | AJ2: Sample18 | AL2: Sample19 | AN2: Sample20 | AP2: Sample21 | AR2: Sample22 | AT2: Sample23 | AV2: Sample24
B3: With Background | C3: Without Background | D3: With Background | E3: Without Background | F3: With Background | G3: Without Background | H3: With Background | I3: Without Background | J3: With Background | K3: Without Background | L3: With Background | M3: Without Background | N3: With Background | O3: Without Background | P3: With Background | Q3: Without Background | R3: With Background | S3: Without Background | T3: With Background | U3: Without Background | V3: With Background | W3: Without Background | X3: With Background | Y3: Without Background | Z3: With Background | AA3: Without Background | AB3: With Background | AC3: Without Background | AD3: With Background | AE3: Without Background | AF3: With Background | AG3: Without Background | AH3: With Background | AI3: Without Background | AJ3: With Background | AK3: Without Background | AL3: With Background | AM3: Without Background | AN3: With Background | AO3: Without Background | AP3: With Background | AQ3: Without Background | AR3: With Background | AS3: Without Background | AT3: With Background | AU3: Without Background | AV3: With Background | AW3: Without Background
A4: POS1 | B4: A1 | C4: A1 | D4: A1 | E4: A1 | F4: A1 | G4: A1 | H4: A1 | I4: A1 | J4: A1 | K4: A1 | L4: A1 | M4: A1 | N4: A1 | O4: A1 | P4: A1 | Q4: A1 | R4: A1 | S4: A1 | T4: A1 | U4: A1 | V4: A1 | W4: A1 | X4: A1 | Y4: A1 | Z4: A1 | AA4: A1 | AB4: A1 | AC4: A1 | AD4: A1 | AE4: A1 | AF4: A1 | AG4: A1 | AH4: A1 | AI4: A1 | AJ4: A1 | AK4: A1 | AL4: A1 | AM4: A1 | AN4: A1 | AO4: A1 | AP4: A1 | AQ4: A1 | AR4: A1 | AS4: A1 | AT4: A1 | AU4: A1 | AV4: A1 | AW4: A1
A5: POS1 | B5: B1 | C5: B1 | D5: B1 | E5: B1 | F5: B1 | G5: B1 | H5: B1 | I5: B1 | J5: B1 | K5: B1 | L5: B1 | M5: B1 | N5: B1 | O5: B1 | P5: B1 | Q5: B1 | R5: B1 | S5: B1 | T5: B1 | U5: B1 | V5: B1 | W5: B1 | X5: B1 | Y5: B1 | Z5: B1 | AA5: B1 | AB5: B1 | AC5: B1 | AD5: B1 | AE5: B1 | AF5: B1 | AG5: B1 | AH5: B1 | AI5: B1 | AJ5: B1 | AK5: B1 | AL5: B1 | AM5: B1 | AN5: B1 | AO5: B1 | AP5: B1 | AQ5: B1 | AR5: B1 | AS5: B1 | AT5: B1 | AU5: B1 | AV5: B1 | AW5: B1
A6: POS1 | B6: C1 | C6: C1 | D6: C1 | E6: C1 | F6: C1 | G6: C1 | H6: C1 | I6: C1 | J6: C1 | K6: C1 | L6: C1 | M6: C1 | N6: C1 | O6: C1 | P6: C1 | Q6: C1 | R6: C1 | S6: C1 | T6: C1 | U6: C1 | V6: C1 | W6: C1 | X6: C1 | Y6: C1 | Z6: C1 | AA6: C1 | AB6: C1 | AC6: C1 | AD6: C1 | AE6: C1 | AF6: C1 | AG6: C1 | AH6: C1 | AI6: C1 | AJ6: C1 | AK6: C1 | AL6: C1 | AM6: C1 | AN6: C1 | AO6: C1 | AP6: C1 | AQ6: C1 | AR6: C1 | AS6: C1 | AT6: C1 | AU6: C1 | AV6: C1 | AW6: C1
A7: #8 | B7: D1 | C7: D1 | D7: D1 | E7: D1 | F7: D1 | G7: D1 | H7: D1 | I7: D1 | J7: D1 | K7: D1 | L7: D1 | M7: D1 | N7: D1 | O7: D1 | P7: D1 | Q7: D1 | R7: D1 | S7: D1 | T7: D1 | U7: D1 | V7: D1 | W7: D1 | X7: D1 | Y7: D1 | Z7: D1 | AA7: D1 | AB7: D1 | AC7: D1 | AD7: D1 | AE7: D1 | AF7: D1 | AG7: D1 | AH7: D1 | AI7: D1 | AJ7: D1 | AK7: D1 | AL7: D1 | AM7: D1 | AN7: D1 | AO7: D1 | AP7: D1 | AQ7: D1 | AR7: D1 | AS7: D1 | AT7: D1 | AU7: D1 | AV7: D1 | AW7: D1
A8: #8 | B8: E1 | C8: E1 | D8: E1 | E8: E1 | F8: E1 | G8: E1 | H8: E1 | I8: E1 | J8: E1 | K8: E1 | L8: E1 | M8: E1 | N8: E1 | O8: E1 | P8: E1 | Q8: E1 | R8: E1 | S8: E1 | T8: E1 | U8: E1 | V8: E1 | W8: E1 | X8: E1 | Y8: E1 | Z8: E1 | AA8: E1 | AB8: E1 | AC8: E1 | AD8: E1 | AE8: E1 | AF8: E1 | AG8: E1 | AH8: E1 | AI8: E1 | AJ8: E1 | AK8: E1 | AL8: E1 | AM8: E1 | AN8: E1 | AO8: E1 | AP8: E1 | AQ8: E1 | AR8: E1 | AS8: E1 | AT8: E1 | AU8: E1 | AV8: E1 | AW8: E1
A9: #8 | B9: F1 | C9: F1 | D9: F1 | E9: F1 | F9: F1 | G9: F1 | H9: F1 | I9: F1 | J9: F1 | K9: F1 | L9: F1 | M9: F1 | N9: F1 | O9: F1 | P9: F1 | Q9: F1 | R9: F1 | S9: F1 | T9: F1 | U9: F1 | V9: F1 | W9: F1 | X9: F1 | Y9: F1 | Z9: F1 | AA9: F1 | AB9: F1 | AC9: F1 | AD9: F1 | AE9: F1 | AF9: F1 | AG9: F1 | AH9: F1 | AI9: F1 | AJ9: F1 | AK9: F1 | AL9: F1 | AM9: F1 | AN9: F1 | AO9: F1 | AP9: F1 | AQ9: F1 | AR9: F1 | AS9: F1 | AT9: F1 | AU9: F1 | AV9: F1 | AW9: F1
A10: #18 | B10: G1 | C10: G1 | D10: G1 | E10: G1 | F10: G1 | G10: G1 | H10: G1 | I10: G1 | J10: G1 | K10: G1 | L10: G1 | M10: G1 | N10: G1 | O10: G1 | P10: G1 | Q10: G1 | R10: G1 | S10: G1 | T10: G1 | U10: G1 | V10: G1 | W10: G1 | X10: G1 | Y10: G1 | Z10: G1 | AA10: G1 | AB10: G1 | AC10: G1 | AD10: G1 | AE10: G1 | AF10: G1 | AG10: G1 | AH10: G1 | AI10: G1 | AJ10: G1 | AK10: G1 | AL10: G1 | AM10: G1 | AN10: G1 | AO10: G1 | AP10: G1 | AQ10: G1 | AR10: G1 | AS10: G1 | AT10: G1 | AU10: G1 | AV10: G1 | AW10: G1
A11: #18 | B11: H1 | C11: H1 | D11: H1 | E11: H1 | F11: H1 | G11: H1 | H11: H1 | I11: H1 | J11: H1 | K11: H1 | L11: H1 | M11: H1 | N11: H1 | O11: H1 | P11: H1 | Q11: H1 | R11: H1 | S11: H1 | T11: H1 | U11: H1 | V11: H1 | W11: H1 | X11: H1 | Y11: H1 | Z11: H1 | AA11: H1 | AB11: H1 | AC11: H1 | AD11: H1 | AE11: H1 | AF11: H1 | AG11: H1 | AH11: H1 | AI11: H1 | AJ11: H1 | AK11: H1 | AL11: H1 | AM11: H1 | AN11: H1 | AO11: H1 | AP11: H1 | AQ11: H1 | AR11: H1 | AS11: H1 | AT11: H1 | AU11: H1 | AV11: H1 | AW11: H1
A12: #18 | B12: I1 | C12: I1 | D12: I1 | E12: I1 | F12: I1 | G12: I1 | H12: I1 | I12: I1 | J12: I1 | K12: I1 | L12: I1 | M12: I1 | N12: I1 | O12: I1 | P12: I1 | Q12: I1 | R12: I1 | S12: I1 | T12: I1 | U12: I1 | V12: I1 | W12: I1 | X12: I1 | Y12: I1 | Z12: I1 | AA12: I1 | AB12: I1 | AC12: I1 | AD12: I1 | AE12: I1 | AF12: I1 | AG12: I1 | AH12: I1 | AI12: I1 | AJ12: I1 | AK12: I1 | AL12: I1 | AM12: I1 | AN12: I1 | AO12: I1 | AP12: I1 | AQ12: I1 | AR12: I1 | AS12: I1 | AT12: I1 | AU12: I1 | AV12: I1 | AW12: I1
A13: Human IgA | B13: J1 | C13: J1 | D13: J1 | E13: J1 | F13: J1 | G13: J1 | H13: J1 | I13: J1 | J13: J1 | K13: J1 | L13: J1 | M13: J1 | N13: J1 | O13: J1 | P13: J1 | Q13: J1 | R13: J1 | S13: J1 | T13: J1 | U13: J1 | V13: J1 | W13: J1 | X13: J1 | Y13: J1 | Z13: J1 | AA13: J1 | AB13: J1 | AC13: J1 | AD13: J1 | AE13: J1 | AF13: J1 | AG13: J1 | AH13: J1 | AI13: J1 | AJ13: J1 | AK13: J1 | AL13: J1 | AM13: J1 | AN13: J1 | AO13: J1 | AP13: J1 | AQ13: J1 | AR13: J1 | AS13: J1 | AT13: J1 | AU13: J1 | AV13: J1 | AW13: J1
A14: Human IgA | B14: K1 | C14: K1 | D14: K1 | E14: K1 | F14: K1 | G14: K1 | H14: K1 | I14: K1 | J14: K1 | K14: K1 | L14: K1 | M14: K1 | N14: K1 | O14: K1 | P14: K1 | Q14: K1 | R14: K1 | S14: K1 | T14: K1 | U14: K1 | V14: K1 | W14: K1 | X14: K1 | Y14: K1 | Z14: K1 | AA14: K1 | AB14: K1 | AC14: K1 | AD14: K1 | AE14: K1 | AF14: K1 | AG14: K1 | AH14: K1 | AI14: K1 | AJ14: K1 | AK14: K1 | AL14: K1 | AM14: K1 | AN14: K1 | AO14: K1 | AP14: K1 | AQ14: K1 | AR14: K1 | AS14: K1 | AT14: K1 | AU14: K1 | AV14: K1 | AW14: K1
A15: Human IgA | B15: L1 | C15: L1 | D15: L1 | E15: L1 | F15: L1 | G15: L1 | H15: L1 | I15: L1 | J15: L1 | K15: L1 | L15: L1 | M15: L1 | N15: L1 | O15: L1 | P15: L1 | Q15: L1 | R15: L1 | S15: L1 | T15: L1 | U15: L1 | V15: L1 | W15: L1 | X15: L1 | Y15: L1 | Z15: L1 | AA15: L1 | AB15: L1 | AC15: L1 | AD15: L1 | AE15: L1 | AF15: L1 | AG15: L1 | AH15: L1 | AI15: L1 | AJ15: L1 | AK15: L1 | AL15: L1 | AM15: L1 | AN15: L1 | AO15: L1 | AP15: L1 | AQ15: L1 | AR15: L1 | AS15: L1 | AT15: L1 | AU15: L1 | AV15: L1 | AW15: L1
... A123: POS3 | B123: L10 | C123: L10 | D123: L10 | E123: L10 | F123: L10 | G123: L10 | H123: L10 | I123: L10 | J123: L10 | K123: L10 | L123: L10 | M123: L10 | N123: L10 | O123: L10 | P123: L10 | Q123: L10 | R123: L10 | S123: L10 | T123: L10 | U123: L10 | V123: L10 | W123: L10 | X123: L10 | Y123: L10 | Z123: L10 | AA123: L10 | AB123: L10 | AC123: L10 | AD123: L10 | AE123: L10 | AF123: L10 | AG123: L10 | AH123: L10 | AI123: L10 | AJ123: L10 | AK123: L10 | AL123: L10 | AM123: L10 | AN123: L10 | AO123: L10 | AP123: L10 | AQ123: L10 | AR123: L10 | AS123: L10 | AT123: L10 | AU123: L10 | AV123: L10 | AW123: L10

Sheet Sorting-1
A1: RayBio® AID Autoantibody Detection Array
B2: Sample 1 | F2: Sample 2 | J2: Sample 3 | N2: Sample 4 | R2: Sample 5 | V2: Sample 6 | Z2: Sample 7 | AD2: Sample 8 | AH2: Sample 9 | AL2: Sample 10 | AP2: Sample 11 | AT2: Sample 12 | AX2: Sample 13 | BB2: Sample 14 | BF2: Sample 15 | BJ2: Sample 16 | BN2: Sample 17 | BR2: Sample 18 | BV2: Sample 19 | BZ2: Sample 20 | CD2: Sample 21 | CH2: Sample 22 | CL2: Sample 23 | CP2: Sample 24
B3: With Background | F3: With Background | J3: With Background | N3: With Background | R3: With Background | V3: With Background | Z3: With Background | AD3: With Background | AH3: With Background | AL3: With Background | AP3: With Background | AT3: With Background | AX3: With Background | BB3: With Background | BF3: With Background | BJ3: With Background | BN3: With Background | BR3: With Background | BV3: With Background | BZ3: With Background | CD3: With Background | CH3: With Background | CL3: With Background | CP3: With Background
B4: 1 | C4: 2 | D4: 3 | E4: Average | F4: 1 | G4: 2 | H4: 3 | I4: Average | J4: 1 | K4: 2 | L4: 3 | M4: Average | N4: 1 | O4: 2 | P4: 3 | Q4: Average | R4: 1 | S4: 2 | T4: 3 | U4: Average | V4: 1 | W4: 2 | X4: 3 | Y4: Average | Z4: 1 | AA4: 2 | AB4: 3 | AC4: Average | AD4: 1 | AE4: 2 | AF4: 3 | AG4: Average | AH4: 1 | AI4: 2 | AJ4: 3 | AK4: Average | AL4: 1 | AM4: 2 | AN4: 3 | AO4: Average | AP4: 1 | AQ4: 2 | AR4: 3 | AS4: Average | AT4: 1 | AU4: 2 | AV4: 3 | AW4: Average | AX4: 1 | AY4: 2 | AZ4: 3 | BA4: Average | BB4: 1 | BC4: 2 | BD4: 3 | BE4: Average | BF4: 1 | BG4: 2 | BH4: 3 | BI4: Average | BJ4: 1 | BK4: 2 | BL4: 3 | BM4: Average | BN4: 1 | BO4: 2 | BP4: 3 | BQ4: Average | BR4: 1 | BS4: 2 | BT4: 3 | BU4: Average | BV4: 1 | BW4: 2 | BX4: 3 | BY4: Average | BZ4: 1 | CA4: 2 | CB4: 3 | CC4: Average | CD4: 1 | CE4: 2 | CF4: 3 | CG4: Average | CH4: 1 | CI4: 2 | CJ4: 3 | CK4: Average | CL4: 1 | CM4: 2 | CN4: 3 | CO4: Average | CP4: 1 | CQ4: 2 | CR4: 3 | CS4: Average
A5: POS | E5: =(SUM('Aligning data'!B4:B6)+SUM('Aligning data'!B16:B18)+SUM('Aligning data'!B121:B123))/9 -> 0 | I5: =(SUM('Aligning data'!D4:D6)+SUM('Aligning data'!D16:D18)+SUM('Aligning data'!D121:D123))/9 -> 0 | M5: =(SUM('Aligning data'!F4:F6)+SUM('Aligning data'!F16:F18)+SUM('Aligning data'!F121:F123))/9 -> 0 | Q5: =(SUM('Aligning data'!H4:H6)+SUM('Aligning data'!H16:H18)+SUM('Aligning data'!H121:H123))/9 -> 0 | U5: =(SUM('Aligning data'!J4:J6)+SUM('Aligning data'!J16:J18)+SUM('Aligning data'!J121:J123))/9 -> 0 | Y5: =(SUM('Aligning data'!L4:L6)+SUM('Aligning data'!L16:L18)+SUM('Aligning data'!L121:L123))/9 -> 0 | AC5: =(SUM('Aligning data'!N4:N6)+SUM('Aligning data'!N16:N18)+SUM('Aligning data'!N121:N123))/9 -> 0 | AG5: =(SUM('Aligning data'!P4:P6)+SUM('Aligning data'!P16:P18)+SUM('Aligning data'!P121:P123))/9 -> 0 | AK5: =(SUM('Aligning data'!R4:R6)+SUM('Aligning data'!R16:R18)+SUM('Aligning data'!R121:R123))/9 -> 0 | AO5: =(SUM('Aligning data'!T4:T6)+SUM('Aligning data'!T16:T18)+SUM('Aligning data'!T121:T123))/9 -> 0 | AS5: =(SUM('Aligning data'!V4:V6)+SUM('Aligning data'!V16:V18)+SUM('Aligning data'!V121:V123))/9 -> 0 | AW5: =(SUM('Aligning data'!X4:X6)+SUM('Aligning data'!X16:X18)+SUM('Aligning data'!X121:X123))/9 -> 0 | BA5: =(SUM('Aligning data'!Z4:Z6)+SUM('Aligning data'!Z16:Z18)+SUM('Aligning data'!Z121:Z123))/9 -> 0 | BE5: =(SUM('Aligning data'!AB4:AB6)+SUM('Aligning data'!AB16:AB18)+SUM('Aligning data'!AB121:AB123))/9 -> 0 | BI5: =(SUM('Aligning data'!AD4:AD6)+SUM('Aligning data'!AD16:AD18)+SUM('Aligning data'!AD121:AD123))/9 -> 0 | BM5: =(SUM('Aligning data'!AF4:AF6)+SUM('Aligning data'!AF16:AF18)+SUM('Aligning data'!AF121:AF123))/9 -> 0 | BQ5: =(SUM('Aligning data'!AH4:AH6)+SUM('Aligning data'!AH16:AH18)+SUM('Aligning data'!AH121:AH123))/9 -> 0 | BU5: =(SUM('Aligning data'!AJ4:AJ6)+SUM('Aligning data'!AJ16:AJ18)+SUM('Aligning data'!AJ121:AJ123))/9 -> 0 | BY5: =(SUM('Aligning data'!AL4:AL6)+SUM('Aligning data'!AL16:AL18)+SUM('Aligning data'!AL121:AL123))/9 -> 0 | CC5: =(SUM('Aligning data'!AN4:AN6)+SUM('Aligning data'!AN16:AN18)+SUM('Aligning data'!AN121:AN123))/9 -> 0 | CG5: =(SUM('Aligning data'!AP4:AP6)+SUM('Aligning data'!AP16:AP18)+SUM('Aligning data'!AP121:AP123))/9 -> 0 | CK5: =(SUM('Aligning data'!AR4:AR6)+SUM('Aligning data'!AR16:AR18)+SUM('Aligning data'!AR121:AR123))/9 -> 0 | CO5: =(SUM('Aligning data'!AT4:AT6)+SUM('Aligning data'!AT16:AT18)+SUM('Aligning data'!AT121:AT123))/9 -> 0 | CS5: =(SUM('Aligning data'!AV4:AV6)+SUM('Aligning data'!AV16:AV18)+SUM('Aligning data'!AV121:AV123))/9 -> 0
A6: NEG | E6: =SUM('Aligning data'!B25:B27)/3 -> 0 | I6: =SUM('Aligning data'!D25:D27)/3 -> 0 | M6: =SUM('Aligning data'!F25:F27)/3 -> 0 | Q6: =SUM('Aligning data'!H25:H27)/3 -> 0 | U6: =SUM('Aligning data'!J25:J27)/3 -> 0 | Y6: =SUM('Aligning data'!L25:L27)/3 -> 0 | AC6: =SUM('Aligning data'!N25:N27)/3 -> 0 | AG6: =SUM('Aligning data'!P25:P27)/3 -> 0 | AK6: =SUM('Aligning data'!R25:R27)/3 -> 0 | AO6: =SUM('Aligning data'!T25:T27)/3 -> 0 | AS6: =SUM('Aligning data'!V25:V27)/3 -> 0 | AW6: =SUM('Aligning data'!X25:X27)/3 -> 0 | BA6: =SUM('Aligning data'!Z25:Z27)/3 -> 0 | BE6: =SUM('Aligning data'!AB25:AB27)/3 -> 0 | BI6: =SUM('Aligning data'!AD25:AD27)/3 -> 0 | BM6: =SUM('Aligning data'!AF25:AF27)/3 -> 0 | BQ6: =SUM('Aligning data'!AH25:AH27)/3 -> 0 | BU6: =SUM('Aligning data'!AJ25:AJ27)/3 -> 0 | BY6: =SUM('Aligning data'!AL25:AL27)/3 -> 0 | CC6: =SUM('Aligning data'!AN25:AN27)/3 -> 0 | CG6: =SUM('Aligning data'!AP25:AP27)/3 -> 0 | CK6: =SUM('Aligning data'!AR25:AR27)/3 -> 0 | CO6: =SUM('Aligning data'!AT25:AT27)/3 -> 0 | CS6: =SUM('Aligning data'!AV25:AV27)/3 -> 0
A7: #8 | B7: ='Aligning data'!B7 -> D1 | C7: ='Aligning data'!B8 -> E1 | D7: ='Aligning data'!B9 -> F1 | E7: =SUM(B7:D7)/3 -> 0 | F7: ='Aligning data'!D7 -> D1 | G7: ='Aligning data'!D8 -> E1 | H7: ='Aligning data'!D9 -> F1 | I7: =SUM(F7:H7)/3 -> 0 | J7: ='Aligning data'!F7 -> D1 | K7: ='Aligning data'!F8 -> E1 | L7: ='Aligning data'!F9 -> F1 | M7: =SUM(J7:L7)/3 -> 0 | N7: ='Aligning data'!H7 -> D1 | O7: ='Aligning data'!H8 -> E1 | P7: ='Aligning data'!H9 -> F1 | Q7: =SUM(N7:P7)/3 -> 0 | R7: ='Aligning data'!J7 -> D1 | S7: ='Aligning data'!J8 -> E1 | T7: ='Aligning data'!J9 -> F1 | U7: =SUM(R7:T7)/3 -> 0 | V7: ='Aligning data'!L7 -> D1 | W7: ='Aligning data'!L8 -> E1 | X7: ='Aligning data'!L9 -> F1 | Y7: =SUM(V7:X7)/3 -> 0 | Z7: ='Aligning data'!N7 -> D1 | AA7: ='Aligning data'!N8 -> E1 | AB7: ='Aligning data'!N9 -> F1 | AC7: =SUM(Z7:AB7)/3 -> 0 | AD7: ='Aligning data'!P7 -> D1 | AE7: ='Aligning data'!P8 -> E1 | AF7: ='Aligning data'!P9 -> F1 | AG7: =SUM(AD7:AF7)/3 -> 0 | AH7: ='Aligning data'!R7 -> D1 | AI7: ='Aligning data'!R8 -> E1 | AJ7: ='Aligning data'!R9 -> F1 | AK7: =SUM(AH7:AJ7)/3 -> 0 | AL7: ='Aligning data'!T7 -> D1 | AM7: ='Aligning data'!T8 -> E1 | AN7: ='Aligning data'!T9 -> F1 | AO7: =SUM(AL7:AN7)/3 -> 0 | AP7: ='Aligning data'!V7 -> D1 | AQ7: ='Aligning data'!V8 -> E1 | AR7: ='Aligning data'!V9 -> F1 | AS7: =SUM(AP7:AR7)/3 -> 0 | AT7: ='Aligning data'!X7 -> D1 | AU7: ='Aligning data'!X8 -> E1 | AV7: ='Aligning data'!X9 -> F1 | AW7: =SUM(AT7:AV7)/3 -> 0 | AX7: ='Aligning data'!Z7 -> D1 | AY7: ='Aligning data'!Z8 -> E1 | AZ7: ='Aligning data'!Z9 -> F1 | BA7: =SUM(AX7:AZ7)/3 -> 0 | BB7: ='Aligning data'!AB7 -> D1 | BC7: ='Aligning data'!AB8 -> E1 | BD7: ='Aligning data'!AB9 -> F1 | BE7: =SUM(BB7:BD7)/3 -> 0 | BF7: ='Aligning data'!AD7 -> D1 | BG7: ='Aligning data'!AD8 -> E1 | BH7: ='Aligning data'!AD9 -> F1 | BI7: =SUM(BF7:BH7)/3 -> 0 | BJ7: ='Aligning data'!AF7 -> D1 | BK7: ='Aligning data'!AF8 -> E1 | BL7: ='Aligning data'!AF9 -> F1 | BM7: =SUM(BJ7:BL7)/3 -> 0 | BN7: ='Aligning data'!AH7 -> D1 | BO7: ='Aligning data'!AH8 -> E1 | BP7: ='Aligning data'!AH9 -> F1 | BQ7: =SUM(BN7:BP7)/3 -> 0 | BR7: ='Aligning data'!AJ7 -> D1 | BS7: ='Aligning data'!AJ8 -> E1 | BT7: ='Aligning data'!AJ9 -> F1 | BU7: =SUM(BR7:BT7)/3 -> 0 | BV7: ='Aligning data'!AL7 -> D1 | BW7: ='Aligning data'!AL8 -> E1 | BX7: ='Aligning data'!AL9 -> F1 | BY7: =SUM(BV7:BX7)/3 -> 0 | BZ7: ='Aligning data'!AN7 -> D1 | CA7: ='Aligning data'!AN8 -> E1 | CB7: ='Aligning data'!AN9 -> F1 | CC7: =SUM(BZ7:CB7)/3 -> 0 | CD7: ='Aligning data'!AP7 -> D1 | CE7: ='Aligning data'!AP8 -> E1 | CF7: ='Aligning data'!AP9 -> F1 | CG7: =SUM(CD7:CF7)/3 -> 0 | CH7: ='Aligning data'!AR7 -> D1 | CI7: ='Aligning data'!AR8 -> E1 | CJ7: ='Aligning data'!AR9 -> F1 | CK7: =SUM(CH7:CJ7)/3 -> 0 | CL7: ='Aligning data'!AT7 -> D1 | CM7: ='Aligning data'!AT8 -> E1 | CN7: ='Aligning data'!AT9 -> F1 | CO7: =SUM(CL7:CN7)/3 -> 0 | CP7: ='Aligning data'!AV7 -> D1 | CQ7: ='Aligning data'!AV8 -> E1 | CR7: ='Aligning data'!AV9 -> F1 | CS7: =SUM(CP7:CR7)/3 -> 0
A8: #18 | B8: ='Aligning data'!B10 -> G1 | C8: ='Aligning data'!B11 -> H1 | D8: ='Aligning data'!B12 -> I1 | E8: =SUM(B8:D8)/3 -> 0 | F8: ='Aligning data'!D10 -> G1 | G8: ='Aligning data'!D11 -> H1 | H8: ='Aligning data'!D12 -> I1 | I8: =SUM(F8:H8)/3 -> 0 | J8: ='Aligning data'!F10 -> G1 | K8: ='Aligning data'!F11 -> H1 | L8: ='Aligning data'!F12 -> I1 | M8: =SUM(J8:L8)/3 -> 0 | N8: ='Aligning data'!H10 -> G1 | O8: ='Aligning data'!H11 -> H1 | P8: ='Aligning data'!H12 -> I1 | Q8: =SUM(N8:P8)/3 -> 0 | R8: ='Aligning data'!J10 -> G1 | S8: ='Aligning data'!J11 -> H1 | T8: ='Aligning data'!J12 -> I1 | U8: =SUM(R8:T8)/3 -> 0 | V8: ='Aligning data'!L10 -> G1 | W8: ='Aligning data'!L11 -> H1 | X8: ='Aligning data'!L12 -> I1 | Y8: =SUM(V8:X8)/3 -> 0 | Z8: ='Aligning data'!N10 -> G1 | AA8: ='Aligning data'!N11 -> H1 | AB8: ='Aligning data'!N12 -> I1 | AC8: =SUM(Z8:AB8)/3 -> 0 | AD8: ='Aligning data'!P10 -> G1 | AE8: ='Aligning data'!P11 -> H1 | AF8: ='Aligning data'!P12 -> I1 | AG8: =SUM(AD8:AF8)/3 -> 0 | AH8: ='Aligning data'!R10 -> G1 | AI8: ='Aligning data'!R11 -> H1 | AJ8: ='Aligning data'!R12 -> I1 | AK8: =SUM(AH8:AJ8)/3 -> 0 | AL8: ='Aligning data'!T10 -> G1 | AM8: ='Aligning data'!T11 -> H1 | AN8: ='Aligning data'!T12 -> I1 | AO8: =SUM(AL8:AN8)/3 -> 0 | AP8: ='Aligning data'!V10 -> G1 | AQ8: ='Aligning data'!V11 -> H1 | AR8: ='Aligning data'!V12 -> I1 | AS8: =SUM(AP8:AR8)/3 -> 0 | AT8: ='Aligning data'!X10 -> G1 | AU8: ='Aligning data'!X11 -> H1 | AV8: ='Aligning data'!X12 -> I1 | AW8: =SUM(AT8:AV8)/3 -> 0 | AX8: ='Aligning data'!Z10 -> G1 | AY8: ='Aligning data'!Z11 -> H1 | AZ8: ='Aligning data'!Z12 -> I1 | BA8: =SUM(AX8:AZ8)/3 -> 0 | BB8: ='Aligning data'!AB10 -> G1 | BC8: ='Aligning data'!AB11 -> H1 | BD8: ='Aligning data'!AB12 -> I1 | BE8: =SUM(BB8:BD8)/3 -> 0 | BF8: ='Aligning data'!AD10 -> G1 | BG8: ='Aligning data'!AD11 -> H1 | BH8: ='Aligning data'!AD12 -> I1 | BI8: =SUM(BF8:BH8)/3 -> 0 | BJ8: ='Aligning data'!AF10 -> G1 | BK8: ='Aligning data'!AF11 -> H1 | BL8: ='Aligning data'!AF12 -> I1 | BM8: =SUM(BJ8:BL8)/3 -> 0 | BN8: ='Aligning data'!AH10 -> G1 | BO8: ='Aligning data'!AH11 -> H1 | BP8: ='Aligning data'!AH12 -> I1 | BQ8: =SUM(BN8:BP8)/3 -> 0 | BR8: ='Aligning data'!AJ10 -> G1 | BS8: ='Aligning data'!AJ11 -> H1 | BT8: ='Aligning data'!AJ12 -> I1 | BU8: =SUM(BR8:BT8)/3 -> 0 | BV8: ='Aligning data'!AL10 -> G1 | BW8: ='Aligning data'!AL11 -> H1 | BX8: ='Aligning data'!AL12 -> I1 | BY8: =SUM(BV8:BX8)/3 -> 0 | BZ8: ='Aligning data'!AN10 -> G1 | CA8: ='Aligning data'!AN11 -> H1 | CB8: ='Aligning data'!AN12 -> I1 | CC8: =SUM(BZ8:CB8)/3 -> 0 | CD8: ='Aligning data'!AP10 -> G1 | CE8: ='Aligning data'!AP11 -> H1 | CF8: ='Aligning data'!AP12 -> I1 | CG8: =SUM(CD8:CF8)/3 -> 0 | CH8: ='Aligning data'!AR10 -> G1 | CI8: ='Aligning data'!AR11 -> H1 | CJ8: ='Aligning data'!AR12 -> I1 | CK8: =SUM(CH8:CJ8)/3 -> 0 | CL8: ='Aligning data'!AT10 -> G1 | CM8: ='Aligning data'!AT11 -> H1 | CN8: ='Aligning data'!AT12 -> I1 | CO8: =SUM(CL8:CN8)/3 -> 0 | CP8: ='Aligning data'!AV10 -> G1 | CQ8: ='Aligning data'!AV11 -> H1 | CR8: ='Aligning data'!AV12 -> I1 | CS8: =SUM(CP8:CR8)/3 -> 0
A9: Human IgA | B9: ='Aligning data'!B13 -> J1 | C9: ='Aligning data'!B14 -> K1 | D9: ='Aligning data'!B15 -> L1 | E9: =SUM(B9:D9)/3 -> 0 | F9: ='Aligning data'!D13 -> J1 | G9: ='Aligning data'!D14 -> K1 | H9: ='Aligning data'!D15 -> L1 | I9: =SUM(F9:H9)/3 -> 0 | J9: ='Aligning data'!F13 -> J1 | K9: ='Aligning data'!F14 -> K1 | L9: ='Aligning data'!F15 -> L1 | M9: =SUM(J9:L9)/3 -> 0 | N9: ='Aligning data'!H13 -> J1 | O9: ='Aligning data'!H14 -> K1 | P9: ='Aligning data'!H15 -> L1 | Q9: =SUM(N9:P9)/3 -> 0 | R9: ='Aligning data'!J13 -> J1 | S9: ='Aligning data'!J14 -> K1 | T9: ='Aligning data'!J15 -> L1 | U9: =SUM(R9:T9)/3 -> 0 | V9: ='Aligning data'!L13 -> J1 | W9: ='Aligning data'!L14 -> K1 | X9: ='Aligning data'!L15 -> L1 | Y9: =SUM(V9:X9)/3 -> 0 | Z9: ='Aligning data'!N13 -> J1 | AA9: ='Aligning data'!N14 -> K1 | AB9: ='Aligning data'!N15 -> L1 | AC9: =SUM(Z9:AB9)/3 -> 0 | AD9: ='Aligning data'!P13 -> J1 | AE9: ='Aligning data'!P14 -> K1 | AF9: ='Aligning data'!P15 -> L1 | AG9: =SUM(AD9:AF9)/3 -> 0 | AH9: ='Aligning data'!R13 -> J1 | AI9: ='Aligning data'!R14 -> K1 | AJ9: ='Aligning data'!R15 -> L1 | AK9: =SUM(AH9:AJ9)/3 -> 0 | AL9: ='Aligning data'!T13 -> J1 | AM9: ='Aligning data'!T14 -> K1 | AN9: ='Aligning data'!T15 -> L1 | AO9: =SUM(AL9:AN9)/3 -> 0 | AP9: ='Aligning data'!V13 -> J1 | AQ9: ='Aligning data'!V14 -> K1 | AR9: ='Aligning data'!V15 -> L1 | AS9: =SUM(AP9:AR9)/3 -> 0 | AT9: ='Aligning data'!X13 -> J1 | AU9: ='Aligning data'!X14 -> K1 | AV9: ='Aligning data'!X15 -> L1 | AW9: =SUM(AT9:AV9)/3 -> 0 | AX9: ='Aligning data'!Z13 -> J1 | AY9: ='Aligning data'!Z14 -> K1 | AZ9: ='Aligning data'!Z15 -> L1 | BA9: =SUM(AX9:AZ9)/3 -> 0 | BB9: ='Aligning data'!AB13 -> J1 | BC9: ='Aligning data'!AB14 -> K1 | BD9: ='Aligning data'!AB15 -> L1 | BE9: =SUM(BB9:BD9)/3 -> 0 | BF9: ='Aligning data'!AD13 -> J1 | BG9: ='Aligning data'!AD14 -> K1 | BH9: ='Aligning data'!AD15 -> L1 | BI9: =SUM(BF9:BH9)/3 -> 0 | BJ9: ='Aligning data'!AF13 -> J1 | BK9: ='Aligning data'!AF14 -> K1 | BL9: ='Aligning data'!AF15 -> L1 | BM9: =SUM(BJ9:BL9)/3 -> 0 | BN9: ='Aligning data'!AH13 -> J1 | BO9: ='Aligning data'!AH14 -> K1 | BP9: ='Aligning data'!AH15 -> L1 | BQ9: =SUM(BN9:BP9)/3 -> 0 | BR9: ='Aligning data'!AJ13 -> J1 | BS9: ='Aligning data'!AJ14 -> K1 | BT9: ='Aligning data'!AJ15 -> L1 | BU9: =SUM(BR9:BT9)/3 -> 0 | BV9: ='Aligning data'!AL13 -> J1 | BW9: ='Aligning data'!AL14 -> K1 | BX9: ='Aligning data'!AL15 -> L1 | BY9: =SUM(BV9:BX9)/3 -> 0 | BZ9: ='Aligning data'!AN13 -> J1 | CA9: ='Aligning data'!AN14 -> K1 | CB9: ='Aligning data'!AN15 -> L1 | CC9: =SUM(BZ9:CB9)/3 -> 0 | CD9: ='Aligning data'!AP13 -> J1 | CE9: ='Aligning data'!AP14 -> K1 | CF9: ='Aligning data'!AP15 -> L1 | CG9: =SUM(CD9:CF9)/3 -> 0 | CH9: ='Aligning data'!AR13 -> J1 | CI9: ='Aligning data'!AR14 -> K1 | CJ9: ='Aligning data'!AR15 -> L1 | CK9: =SUM(CH9:CJ9)/3 -> 0 | CL9: ='Aligning data'!AT13 -> J1 | CM9: ='Aligning data'!AT14 -> K1 | CN9: ='Aligning data'!AT15 -> L1 | CO9: =SUM(CL9:CN9)/3 -> 0 | CP9: ='Aligning data'!AV13 -> J1 | CQ9: ='Aligning data'!AV14 -> K1 | CR9: ='Aligning data'!AV15 -> L1 | CS9: =SUM(CP9:CR9)/3 -> 0
A10: #9 | B10: ='Aligning data'!B19 -> D2 | C10: ='Aligning data'!B20 -> E2 | D10: ='Aligning data'!B21 -> F2 | E10: =SUM(B10:D10)/3 -> 0 | F10: ='Aligning data'!D19 -> D2 | G10: ='Aligning data'!D20 -> E2 | H10: ='Aligning data'!D21 -> F2 | I10: =SUM(F10:H10)/3 -> 0 | J10: ='Aligning data'!F19 -> D2 | K10: ='Aligning data'!F20 -> E2 | L10: ='Aligning data'!F21 -> F2 | M10: =SUM(J10:L10)/3 -> 0 | N10: ='Aligning data'!H19 -> D2 | O10: ='Aligning data'!H20 -> E2 | P10: ='Aligning data'!H21 -> F2 | Q10: =SUM(N10:P10)/3 -> 0 | R10: ='Aligning data'!J19 -> D2 | S10: ='Aligning data'!J20 -> E2 | T10: ='Aligning data'!J21 -> F2 | U10: =SUM(R10:T10)/3 -> 0 | V10: ='Aligning data'!L19 -> D2 | W10: ='Aligning data'!L20 -> E2 | X10: ='Aligning data'!L21 -> F2 | Y10: =SUM(V10:X10)/3 -> 0 | Z10: ='Aligning data'!N19 -> D2 | AA10: ='Aligning data'!N20 -> E2 | AB10: ='Aligning data'!N21 -> F2 | AC10: =SUM(Z10:AB10)/3 -> 0 | AD10: ='Aligning data'!P19 -> D2 | AE10: ='Aligning data'!P20 -> E2 | AF10: ='Aligning data'!P21 -> F2 | AG10: =SUM(AD10:AF10)/3 -> 0 | AH10: ='Aligning data'!R19 -> D2 | AI10: ='Aligning data'!R20 -> E2 | AJ10: ='Aligning data'!R21 -> F2 | AK10: =SUM(AH10:AJ10)/3 -> 0 | AL10: ='Aligning data'!T19 -> D2 | AM10: ='Aligning data'!T20 -> E2 | AN10: ='Aligning data'!T21 -> F2 | AO10: =SUM(AL10:AN10)/3 -> 0 | AP10: ='Aligning data'!V19 -> D2 | AQ10: ='Aligning data'!V20 -> E2 | AR10: ='Aligning data'!V21 -> F2 | AS10: =SUM(AP10:AR10)/3 -> 0 | AT10: ='Aligning data'!X19 -> D2 | AU10: ='Aligning data'!X20 -> E2 | AV10: ='Aligning data'!X21 -> F2 | AW10: =SUM(AT10:AV10)/3 -> 0 | AX10: ='Aligning data'!Z19 -> D2 | AY10: ='Aligning data'!Z20 -> E2 | AZ10: ='Aligning data'!Z21 -> F2 | BA10: =SUM(AX10:AZ10)/3 -> 0 | BB10: ='Aligning data'!AB19 -> D2 | BC10: ='Aligning data'!AB20 -> E2 | BD10: ='Aligning data'!AB21 -> F2 | BE10: =SUM(BB10:BD10)/3 -> 0 | BF10: ='Aligning data'!AD19 -> D2 | BG10: ='Aligning data'!AD20 -> E2 | BH10: ='Aligning data'!AD21 -> F2 | BI10: =SUM(BF10:BH10)/3 -> 0 | BJ10: ='Aligning data'!AF19 -> D2 | BK10: ='Aligning data'!AF20 -> E2 | BL10: ='Aligning data'!AF21 -> F2 | BM10: =SUM(BJ10:BL10)/3 -> 0 | BN10: ='Aligning data'!AH19 -> D2 | BO10: ='Aligning data'!AH20 -> E2 | BP10: ='Aligning data'!AH21 -> F2 | BQ10: =SUM(BN10:BP10)/3 -> 0 | BR10: ='Aligning data'!AJ19 -> D2 | BS10: ='Aligning data'!AJ20 -> E2 | BT10: ='Aligning data'!AJ21 -> F2 | BU10: =SUM(BR10:BT10)/3 -> 0 | BV10: ='Aligning data'!AL19 -> D2 | BW10: ='Aligning data'!AL20 -> E2 | BX10: ='Aligning data'!AL21 -> F2 | BY10: =SUM(BV10:BX10)/3 -> 0 | BZ10: ='Aligning data'!AN19 -> D2 | CA10: ='Aligning data'!AN20 -> E2 | CB10: ='Aligning data'!AN21 -> F2 | CC10: =SUM(BZ10:CB10)/3 -> 0 | CD10: ='Aligning data'!AP19 -> D2 | CE10: ='Aligning data'!AP20 -> E2 | CF10: ='Aligning data'!AP21 -> F2 | CG10: =SUM(CD10:CF10)/3 -> 0 | CH10: ='Aligning data'!AR19 -> D2 | CI10: ='Aligning data'!AR20 -> E2 | CJ10: ='Aligning data'!AR21 -> F2 | CK10: =SUM(CH10:CJ10)/3 -> 0 | CL10: ='Aligning data'!AT19 -> D2 | CM10: ='Aligning data'!AT20 -> E2 | CN10: ='Aligning data'!AT21 -> F2 | CO10: =SUM(CL10:CN10)/3 -> 0 | CP10: ='Aligning data'!AV19 -> D2 | CQ10: ='Aligning data'!AV20 -> E2 | CR10: ='Aligning data'!AV21 -> F2 | CS10: =SUM(CP10:CR10)/3 -> 0
A11: #19 | B11: ='Aligning data'!B22 -> G2 | C11: ='Aligning data'!B23 -> H2 | D11: ='Aligning data'!B24 -> I2 | E11: =SUM(B11:D11)/3 -> 0 | F11: ='Aligning data'!D22 -> G2 | G11: ='Aligning data'!D23 -> H2 | H11: ='Aligning data'!D24 -> I2 | I11: =SUM(F11:H11)/3 -> 0 | J11: ='Aligning data'!F22 -> G2 | K11: ='Aligning data'!F23 -> H2 | L11: ='Aligning data'!F24 -> I2 | M11: =SUM(J11:L11)/3 -> 0 | N11: ='Aligning data'!H22 -> G2 | O11: ='Aligning data'!H23 -> H2 | P11: ='Aligning data'!H24 -> I2 | Q11: =SUM(N11:P11)/3 -> 0 | R11: ='Aligning data'!J22 -> G2 | S11: ='Aligning data'!J23 -> H2 | T11: ='Aligning data'!J24 -> I2 | U11: =SUM(R11:T11)/3 -> 0 | V11: ='Aligning data'!L22 -> G2 | W11: ='Aligning data'!L23 -> H2 | X11: ='Aligning data'!L24 -> I2 | Y11: =SUM(V11:X11)/3 -> 0 | Z11: ='Aligning data'!N22 -> G2 | AA11: ='Aligning data'!N23 -> H2 | AB11: ='Aligning data'!N24 -> I2 | AC11: =SUM(Z11:AB11)/3 -> 0 | AD11: ='Aligning data'!P22 -> G2 | AE11: ='Aligning data'!P23 -> H2 | AF11: ='Aligning data'!P24 -> I2 | AG11: =SUM(AD11:AF11)/3 -> 0 | AH11: ='Aligning data'!R22 -> G2 | AI11: ='Aligning data'!R23 -> H2 | AJ11: ='Aligning data'!R24 -> I2 | AK11: =SUM(AH11:AJ11)/3 -> 0 | AL11: ='Aligning data'!T22 -> G2 | AM11: ='Aligning data'!T23 -> H2 | AN11: ='Aligning data'!T24 -> I2 | AO11: =SUM(AL11:AN11)/3 -> 0 | AP11: ='Aligning data'!V22 -> G2 | AQ11: ='Aligning data'!V23 -> H2 | AR11: ='Aligning data'!V24 -> I2 | AS11: =SUM(AP11:AR11)/3 -> 0 | AT11: ='Aligning data'!X22 -> G2 | AU11: ='Aligning data'!X23 -> H2 | AV11: ='Aligning data'!X24 -> I2 | AW11: =SUM(AT11:AV11)/3 -> 0 | AX11: ='Aligning data'!Z22 -> G2 | AY11: ='Aligning data'!Z23 -> H2 | AZ11: ='Aligning data'!Z24 -> I2 | BA11: =SUM(AX11:AZ11)/3 -> 0 | BB11: ='Aligning data'!AB22 -> G2 | BC11: ='Aligning data'!AB23 -> H2 | BD11: ='Aligning data'!AB24 -> I2 | BE11: =SUM(BB11:BD11)/3 -> 0 | BF11: ='Aligning data'!AD22 -> G2 | BG11: ='Aligning data'!AD23 -> H2 | BH11: ='Aligning data'!AD24 -> I2 | BI11: =SUM(BF11:BH11)/3 -> 0 | BJ11: ='Aligning data'!AF22 -> G2 | BK11: ='Aligning data'!AF23 -> H2 | BL11: ='Aligning data'!AF24 -> I2 | BM11: =SUM(BJ11:BL11)/3 -> 0 | BN11: ='Aligning data'!AH22 -> G2 | BO11: ='Aligning data'!AH23 -> H2 | BP11: ='Aligning data'!AH24 -> I2 | BQ11: =SUM(BN11:BP11)/3 -> 0 | BR11: ='Aligning data'!AJ22 -> G2 | BS11: ='Aligning data'!AJ23 -> H2 | BT11: ='Aligning data'!AJ24 -> I2 | BU11: =SUM(BR11:BT11)/3 -> 0 | BV11: ='Aligning data'!AL22 -> G2 | BW11: ='Aligning data'!AL23 -> H2 | BX11: ='Aligning data'!AL24 -> I2 | BY11: =SUM(BV11:BX11)/3 -> 0 | BZ11: ='Aligning data'!AN22 -> G2 | CA11: ='Aligning data'!AN23 -> H2 | CB11: ='Aligning data'!AN24 -> I2 | CC11: =SUM(BZ11:CB11)/3 -> 0 | CD11: ='Aligning data'!AP22 -> G2 | CE11: ='Aligning data'!AP23 -> H2 | CF11: ='Aligning data'!AP24 -> I2 | CG11: =SUM(CD11:CF11)/3 -> 0 | CH11: ='Aligning data'!AR22 -> G2 | CI11: ='Aligning data'!AR23 -> H2 | CJ11: ='Aligning data'!AR24 -> I2 | CK11: =SUM(CH11:CJ11)/3 -> 0 | CL11: ='Aligning data'!AT22 -> G2 | CM11: ='Aligning data'!AT23 -> H2 | CN11: ='Aligning data'!AT24 -> I2 | CO11: =SUM(CL11:CN11)/3 -> 0 | CP11: ='Aligning data'!AV22 -> G2 | CQ11: ='Aligning data'!AV23 -> H2 | CR11: ='Aligning data'!AV24 -> I2 | CS11: =SUM(CP11:CR11)/3 -> 0
A12: #1 | B12: ='Aligning data'!B28 -> A3 | C12: ='Aligning data'!B29 -> B3 | D12: ='Aligning data'!B30 -> C3 | E12: =SUM(B12:D12)/3 -> 0 | F12: ='Aligning data'!D28 -> A3 | G12: ='Aligning data'!D29 -> B3 | H12: ='Aligning data'!D30 -> C3 | I12: =SUM(F12:H12)/3 -> 0 | J12: ='Aligning data'!F28 -> A3 | K12: ='Aligning data'!F29 -> B3 | L12: ='Aligning data'!F30 -> C3 | M12: =SUM(J12:L12)/3 -> 0 | N12: ='Aligning data'!H28 -> A3 | O12: ='Aligning data'!H29 -> B3 | P12: ='Aligning data'!H30 -> C3 | Q12: =SUM(N12:P12)/3 -> 0 | R12: ='Aligning data'!J28 -> A3 | S12: ='Aligning data'!J29 -> B3 | T12: ='Aligning data'!J30 -> C3 | U12: =SUM(R12:T12)/3 -> 0 | V12: ='Aligning data'!L28 -> A3 | W12: ='Aligning data'!L29 -> B3 | X12: ='Aligning data'!L30 -> C3 | Y12: =SUM(V12:X12)/3 -> 0 | Z12: ='Aligning data'!N28 -> A3 | AA12: ='Aligning data'!N29 -> B3 | AB12: ='Aligning data'!N30 -> C3 | AC12: =SUM(Z12:AB12)/3 -> 0 | AD12: ='Aligning data'!P28 -> A3 | AE12: ='Aligning data'!P29 -> B3 | AF12: ='Aligning data'!P30 -> C3 | AG12: =SUM(AD12:AF12)/3 -> 0 | AH12: ='Aligning data'!R28 -> A3 | AI12: ='Aligning data'!R29 -> B3 | AJ12: ='Aligning data'!R30 -> C3 | AK12: =SUM(AH12:AJ12)/3 -> 0 | AL12: ='Aligning data'!T28 -> A3 | AM12: ='Aligning data'!T29 -> B3 | AN12: ='Aligning data'!T30 -> C3 | AO12: =SUM(AL12:AN12)/3 -> 0 | AP12: ='Aligning data'!V28 -> A3 | AQ12: ='Aligning data'!V29 -> B3 | AR12: ='Aligning data'!V30 -> C3 | AS12: =SUM(AP12:AR12)/3 -> 0 | AT12: ='Aligning data'!X28 -> A3 | AU12: ='Aligning data'!X29 -> B3 | AV12: ='Aligning data'!X30 -> C3 | AW12: =SUM(AT12:AV12)/3 -> 0 | AX12: ='Aligning data'!Z28 -> A3 | AY12: ='Aligning data'!Z29 -> B3 | AZ12: ='Aligning data'!Z30 -> C3 | BA12: =SUM(AX12:AZ12)/3 -> 0 | BB12: ='Aligning data'!AB28 -> A3 | BC12: ='Aligning data'!AB29 -> B3 | BD12: ='Aligning data'!AB30 -> C3 | BE12: =SUM(BB12:BD12)/3 -> 0 | BF12: ='Aligning data'!AD28 -> A3 | BG12: ='Aligning data'!AD29 -> B3 | BH12: ='Aligning data'!AD30 -> C3 | BI12: =SUM(BF12:BH12)/3 -> 0 | BJ12: ='Aligning data'!AF28 -> A3 | BK12: ='Aligning data'!AF29 -> B3 | BL12: ='Aligning data'!AF30 -> C3 | BM12: =SUM(BJ12:BL12)/3 -> 0 | BN12: ='Aligning data'!AH28 -> A3 | BO12: ='Aligning data'!AH29 -> B3 | BP12: ='Aligning data'!AH30 -> C3 | BQ12: =SUM(BN12:BP12)/3 -> 0 | BR12: ='Aligning data'!AJ28 -> A3 | BS12: ='Aligning data'!AJ29 -> B3 | BT12: ='Aligning data'!AJ30 -> C3 | BU12: =SUM(BR12:BT12)/3 -> 0 | BV12: ='Aligning data'!AL28 -> A3 | BW12: ='Aligning data'!AL29 -> B3 | BX12: ='Aligning data'!AL30 -> C3 | BY12: =SUM(BV12:BX12)/3 -> 0 | BZ12: ='Aligning data'!AN28 -> A3 | CA12: ='Aligning data'!AN29 -> B3 | CB12: ='Aligning data'!AN30 -> C3 | CC12: =SUM(BZ12:CB12)/3 -> 0 | CD12: ='Aligning data'!AP28 -> A3 | CE12: ='Aligning data'!AP29 -> B3 | CF12: ='Aligning data'!AP30 -> C3 | CG12: =SUM(CD12:CF12)/3 -> 0 | CH12: ='Aligning data'!AR28 -> A3 | CI12: ='Aligning data'!AR29 -> B3 | CJ12: ='Aligning data'!AR30 -> C3 | CK12: =SUM(CH12:CJ12)/3 -> 0 | CL12: ='Aligning data'!AT28 -> A3 | CM12: ='Aligning data'!AT29 -> B3 | CN12: ='Aligning data'!AT30 -> C3 | CO12: =SUM(CL12:CN12)/3 -> 0 | CP12: ='Aligning data'!AV28 -> A3 | CQ12: ='Aligning data'!AV29 -> B3 | CR12: ='Aligning data'!AV30 -> C3 | CS12: =SUM(CP12:CR12)/3 -> 0
A13: #10 | B13: ='Aligning data'!B31 -> D3 | C13: ='Aligning data'!B32 -> E3 | D13: ='Aligning data'!B33 -> F3 | E13: =SUM(B13:D13)/3 -> 0 | F13: ='Aligning data'!D31 -> D3 | G13: ='Aligning data'!D32 -> E3 | H13: ='Aligning data'!D33 -> F3 | I13: =SUM(F13:H13)/3 -> 0 | J13: ='Aligning data'!F31 -> D3 | K13: ='Aligning data'!F32 -> E3 | L13: ='Aligning data'!F33 -> F3 | M13: =SUM(J13:L13)/3 -> 0 | N13: ='Aligning data'!H31 -> D3 | O13: ='Aligning data'!H32 -> E3 | P13: ='Aligning data'!H33 -> F3 | Q13: =SUM(N13:P13)/3 -> 0 | R13: ='Aligning data'!J31 -> D3 | S13: ='Aligning data'!J32 -> E3 | T13: ='Aligning data'!J33 -> F3 | U13: =SUM(R13:T13)/3 -> 0 | V13: ='Aligning data'!L31 -> D3 | W13: ='Aligning data'!L32 -> E3 | X13: ='Aligning data'!L33 -> F3 | Y13: =SUM(V13:X13)/3 -> 0 | Z13: ='Aligning data'!N31 -> D3 | AA13: ='Aligning data'!N32 -> E3 | AB13: ='Aligning data'!N33 -> F3 | AC13: =SUM(Z13:AB13)/3 -> 0 | AD13: ='Aligning data'!P31 -> D3 | AE13: ='Aligning data'!P32 -> E3 | AF13: ='Aligning data'!P33 -> F3 | AG13: =SUM(AD13:AF13)/3 -> 0 | AH13: ='Aligning data'!R31 -> D3 | AI13: ='Aligning data'!R32 -> E3 | AJ13: ='Aligning data'!R33 -> F3 | AK13: =SUM(AH13:AJ13)/3 -> 0 | AL13: ='Aligning data'!T31 -> D3 | AM13: ='Aligning data'!T32 -> E3 | AN13: ='Aligning data'!T33 -> F3 | AO13: =SUM(AL13:AN13)/3 -> 0 | AP13: ='Aligning data'!V31 -> D3 | AQ13: ='Aligning data'!V32 -> E3 | AR13: ='Aligning data'!V33 -> F3 | AS13: =SUM(AP13:AR13)/3 -> 0 | AT13: ='Aligning data'!X31 -> D3 | AU13: ='Aligning data'!X32 -> E3 | AV13: ='Aligning data'!X33 -> F3 | AW13: =SUM(AT13:AV13)/3 -> 0 | AX13: ='Aligning data'!Z31 -> D3 | AY13: ='Aligning data'!Z32 -> E3 | AZ13: ='Aligning data'!Z33 -> F3 | BA13: =SUM(AX13:AZ13)/3 -> 0 | BB13: ='Aligning data'!AB31 -> D3 | BC13: ='Aligning data'!AB32 -> E3 | BD13: ='Aligning data'!AB33 -> F3 | BE13: =SUM(BB13:BD13)/3 -> 0 | BF13: ='Aligning data'!AD31 -> D3 | BG13: ='Aligning data'!AD32 -> E3 | BH13: ='Aligning data'!AD33 -> F3 | BI13: =SUM(BF13:BH13)/3 -> 0 | BJ13: ='Aligning data'!AF31 -> D3 | BK13: ='Aligning data'!AF32 -> E3 | BL13: ='Aligning data'!AF33 -> F3 | BM13: =SUM(BJ13:BL13)/3 -> 0 | BN13: ='Aligning data'!AH31 -> D3 | BO13: ='Aligning data'!AH32 -> E3 | BP13: ='Aligning data'!AH33 -> F3 | BQ13: =SUM(BN13:BP13)/3 -> 0 | BR13: ='Aligning data'!AJ31 -> D3 | BS13: ='Aligning data'!AJ32 -> E3 | BT13: ='Aligning data'!AJ33 -> F3 | BU13: =SUM(BR13:BT13)/3 -> 0 | BV13: ='Aligning data'!AL31 -> D3 | BW13: ='Aligning data'!AL32 -> E3 | BX13: ='Aligning data'!AL33 -> F3 | BY13: =SUM(BV13:BX13)/3 -> 0 | BZ13: ='Aligning data'!AN31 -> D3 | CA13: ='Aligning data'!AN32 -> E3 | CB13: ='Aligning data'!AN33 -> F3 | CC13: =SUM(BZ13:CB13)/3 -> 0 | CD13: ='Aligning data'!AP31 -> D3 | CE13: ='Aligning data'!AP32 -> E3 | CF13: ='Aligning data'!AP33 -> F3 | CG13: =SUM(CD13:CF13)/3 -> 0 | CH13: ='Aligning data'!AR31 -> D3 | CI13: ='Aligning data'!AR32 -> E3 | CJ13: ='Aligning data'!AR33 -> F3 | CK13: =SUM(CH13:CJ13)/3 -> 0 | CL13: ='Aligning data'!AT31 -> D3 | CM13: ='Aligning data'!AT32 -> E3 | CN13: ='Aligning data'!AT33 -> F3 | CO13: =SUM(CL13:CN13)/3 -> 0 | CP13: ='Aligning data'!AV31 -> D3 | CQ13: ='Aligning data'!AV32 -> E3 | CR13: ='Aligning data'!AV33 -> F3 | CS13: =SUM(CP13:CR13)/3 -> 0
A14: #20 | B14: ='Aligning data'!B34 -> G3 | C14: ='Aligning data'!B35 -> H3 | D14: ='Aligning data'!B36 -> I3 | E14: =SUM(B14:D14)/3 -> 0 | F14: ='Aligning data'!D34 -> G3 | G14: ='Aligning data'!D35 -> H3 | H14: ='Aligning data'!D36 -> I3 | I14: =SUM(F14:H14)/3 -> 0 | J14: ='Aligning data'!F34 -> G3 | K14: ='Aligning data'!F35 -> H3 | L14: ='Aligning data'!F36 -> I3 | M14: =SUM(J14:L14)/3 -> 0 | N14: ='Aligning data'!H34 -> G3 | O14: ='Aligning data'!H35 -> H3 | P14: ='Aligning data'!H36 -> I3 | Q14: =SUM(N14:P14)/3 -> 0 | R14: ='Aligning data'!J34 -> G3 | S14: ='Aligning data'!J35 -> H3 | T14: ='Aligning data'!J36 -> I3 | U14: =SUM(R14:T14)/3 -> 0 | V14: ='Aligning data'!L34 -> G3 | W14: ='Aligning data'!L35 -> H3 | X14: ='Aligning data'!L36 -> I3 | Y14: =SUM(V14:X14)/3 -> 0 | Z14: ='Aligning data'!N34 -> G3 | AA14: ='Aligning data'!N35 -> H3 | AB14: ='Aligning data'!N36 -> I3 | AC14: =SUM(Z14:AB14)/3 -> 0 | AD14: ='Aligning data'!P34 -> G3 | AE14: ='Aligning data'!P35 -> H3 | AF14: ='Aligning data'!P36 -> I3 | AG14: =SUM(AD14:AF14)/3 -> 0 | AH14: ='Aligning data'!R34 -> G3 | AI14: ='Aligning data'!R35 -> H3 | AJ14: ='Aligning data'!R36 -> I3 | AK14: =SUM(AH14:AJ14)/3 -> 0 | AL14: ='Aligning data'!T34 -> G3 | AM14: ='Aligning data'!T35 -> H3 | AN14: ='Aligning data'!T36 -> I3 | AO14: =SUM(AL14:AN14)/3 -> 0 | AP14: ='Aligning data'!V34 -> G3 | AQ14: ='Aligning data'!V35 -> H3 | AR14: ='Aligning data'!V36 -> I3 | AS14: =SUM(AP14:AR14)/3 -> 0 | AT14: ='Aligning data'!X34 -> G3 | AU14: ='Aligning data'!X35 -> H3 | AV14: ='Aligning data'!X36 -> I3 | AW14: =SUM(AT14:AV14)/3 -> 0 | AX14: ='Aligning data'!Z34 -> G3 | AY14: ='Aligning data'!Z35 -> H3 | AZ14: ='Aligning data'!Z36 -> I3 | BA14: =SUM(AX14:AZ14)/3 -> 0 | BB14: ='Aligning data'!AB34 -> G3 | BC14: ='Aligning data'!AB35 -> H3 | BD14: ='Aligning data'!AB36 -> I3 | BE14: =SUM(BB14:BD14)/3 -> 0 | BF14: ='Aligning data'!AD34 -> G3 | BG14: ='Aligning data'!AD35 -> H3 | BH14: ='Aligning data'!AD36 -> I3 | BI14: =SUM(BF14:BH14)/3 -> 0 | BJ14: ='Aligning data'!AF34 -> G3 | BK14: ='Aligning data'!AF35 -> H3 | BL14: ='Aligning data'!AF36 -> I3 | BM14: =SUM(BJ14:BL14)/3 -> 0 | BN14: ='Aligning data'!AH34 -> G3 | BO14: ='Aligning data'!AH35 -> H3 | BP14: ='Aligning data'!AH36 -> I3 | BQ14: =SUM(BN14:BP14)/3 -> 0 | BR14: ='Aligning data'!AJ34 -> G3 | BS14: ='Aligning data'!AJ35 -> H3 | BT14: ='Aligning data'!AJ36 -> I3 | BU14: =SUM(BR14:BT14)/3 -> 0 | BV14: ='Aligning data'!AL34 -> G3 | BW14: ='Aligning data'!AL35 -> H3 | BX14: ='Aligning data'!AL36 -> I3 | BY14: =SUM(BV14:BX14)/3 -> 0 | BZ14: ='Aligning data'!AN34 -> G3 | CA14: ='Aligning data'!AN35 -> H3 | CB14: ='Aligning data'!AN36 -> I3 | CC14: =SUM(BZ14:CB14)/3 -> 0 | CD14: ='Aligning data'!AP34 -> G3 | CE14: ='Aligning data'!AP35 -> H3 | CF14: ='Aligning data'!AP36 -> I3 | CG14: =SUM(CD14:CF14)/3 -> 0 | CH14: ='Aligning data'!AR34 -> G3 | CI14: ='Aligning data'!AR35 -> H3 | CJ14: ='Aligning data'!AR36 -> I3 | CK14: =SUM(CH14:CJ14)/3 -> 0 | CL14: ='Aligning data'!AT34 -> G3 | CM14: ='Aligning data'!AT35 -> H3 | CN14: ='Aligning data'!AT36 -> I3 | CO14: =SUM(CL14:CN14)/3 -> 0 | CP14: ='Aligning data'!AV34 -> G3 | CQ14: ='Aligning data'!AV35 -> H3 | CR14: ='Aligning data'!AV36 -> I3 | CS14: =SUM(CP14:CR14)/3 -> 0
A15: 0.1% BSA-PBS | B15: ='Aligning data'!B37 -> J3 | C15: ='Aligning data'!B38 -> K3 | D15: ='Aligning data'!B39 -> L3 | E15: =SUM(B15:D15)/3 -> 0 | F15: ='Aligning data'!D37 -> J3 | G15: ='Aligning data'!D38 -> K3 | H15: ='Aligning data'!D39 -> L3 | I15: =SUM(F15:H15)/3 -> 0 | J15: ='Aligning data'!F37 -> J3 | K15: ='Aligning data'!F38 -> K3 | L15: ='Aligning data'!F39 -> L3 | M15: =SUM(J15:L15)/3 -> 0 | N15: ='Aligning data'!H37 -> J3 | O15: ='Aligning data'!H38 -> K3 | P15: ='Aligning data'!H39 -> L3 | Q15: =SUM(N15:P15)/3 -> 0 | R15: ='Aligning data'!J37 -> J3 | S15: ='Aligning data'!J38 -> K3 | T15: ='Aligning data'!J39 -> L3 | U15: =SUM(R15:T15)/3 -> 0 | V15: ='Aligning data'!L37 -> J3 | W15: ='Aligning data'!L38 -> K3 | X15: ='Aligning data'!L39 -> L3 | Y15: =SUM(V15:X15)/3 -> 0 | Z15: ='Aligning data'!N37 -> J3 | AA15: ='Aligning data'!N38 -> K3 | AB15: ='Aligning data'!N39 -> L3 | AC15: =SUM(Z15:AB15)/3 -> 0 | AD15: ='Aligning data'!P37 -> J3 | AE15: ='Aligning data'!P38 -> K3 | AF15: ='Aligning data'!P39 -> L3 | AG15: =SUM(AD15:AF15)/3 -> 0 | AH15: ='Aligning data'!R37 -> J3 | AI15: ='Aligning data'!R38 -> K3 | AJ15: ='Aligning data'!R39 -> L3 | AK15: =SUM(AH15:AJ15)/3 -> 0 | AL15: ='Aligning data'!T37 -> J3 | AM15: ='Aligning data'!T38 -> K3 | AN15: ='Aligning data'!T39 -> L3 | AO15: =SUM(AL15:AN15)/3 -> 0 | AP15: ='Aligning data'!V37 -> J3 | AQ15: ='Aligning data'!V38 -> K3 | AR15: ='Aligning data'!V39 -> L3 | AS15: =SUM(AP15:AR15)/3 -> 0 | AT15: ='Aligning data'!X37 -> J3 | AU15: ='Aligning data'!X38 -> K3 | AV15: ='Aligning data'!X39 -> L3 | AW15: =SUM(AT15:AV15)/3 -> 0 | AX15: ='Aligning data'!Z37 -> J3 | AY15: ='Aligning data'!Z38 -> K3 | AZ15: ='Aligning data'!Z39 -> L3 | BA15: =SUM(AX15:AZ15)/3 -> 0 | BB15: ='Aligning data'!AB37 -> J3 | BC15: ='Aligning data'!AB38 -> K3 | BD15: ='Aligning data'!AB39 -> L3 | BE15: =SUM(BB15:BD15)/3 -> 0 | BF15: ='Aligning data'!AD37 -> J3 | BG15: ='Aligning data'!AD38 -> K3 | BH15: ='Aligning data'!AD39 -> L3 | BI15: =SUM(BF15:BH15)/3 -> 0 | BJ15: ='Aligning data'!AF37 -> J3 | BK15: ='Aligning data'!AF38 -> K3 | BL15: ='Aligning data'!AF39 -> L3 | BM15: =SUM(BJ15:BL15)/3 -> 0 | BN15: ='Aligning data'!AH37 -> J3 | BO15: ='Aligning data'!AH38 -> K3 | BP15: ='Aligning data'!AH39 -> L3 | BQ15: =SUM(BN15:BP15)/3 -> 0 | BR15: ='Aligning data'!AJ37 -> J3 | BS15: ='Aligning data'!AJ38 -> K3 | BT15: ='Aligning data'!AJ39 -> L3 | BU15: =SUM(BR15:BT15)/3 -> 0 | BV15: ='Aligning data'!AL37 -> J3 | BW15: ='Aligning data'!AL38 -> K3 | BX15: ='Aligning data'!AL39 -> L3 | BY15: =SUM(BV15:BX15)/3 -> 0 | BZ15: ='Aligning data'!AN37 -> J3 | CA15: ='Aligning data'!AN38 -> K3 | CB15: ='Aligning data'!AN39 -> L3 | CC15: =SUM(BZ15:CB15)/3 -> 0 | CD15: ='Aligning data'!AP37 -> J3 | CE15: ='Aligning data'!AP38 -> K3 | CF15: ='Aligning data'!AP39 -> L3 | CG15: =SUM(CD15:CF15)/3 -> 0 | CH15: ='Aligning data'!AR37 -> J3 | CI15: ='Aligning data'!AR38 -> K3 | CJ15: ='Aligning data'!AR39 -> L3 | CK15: =SUM(CH15:CJ15)/3 -> 0 | CL15: ='Aligning data'!AT37 -> J3 | CM15: ='Aligning data'!AT38 -> K3 | CN15: ='Aligning data'!AT39 -> L3 | CO15: =SUM(CL15:CN15)/3 -> 0 | CP15: ='Aligning data'!AV37 -> J3 | CQ15: ='Aligning data'!AV38 -> K3 | CR15: ='Aligning data'!AV39 -> L3 | CS15: =SUM(CP15:CR15)/3 -> 0
A16: #2 | B16: ='Aligning data'!B40 -> A4 | C16: ='Aligning data'!B41 -> B4 | D16: ='Aligning data'!B42 -> C4 | E16: =SUM(B16:D16)/3 -> 0 | F16: ='Aligning data'!D40 -> A4 | G16: ='Aligning data'!D41 -> B4 | H16: ='Aligning data'!D42 -> C4 | I16: =SUM(F16:H16)/3 -> 0 | J16: ='Aligning data'!F40 -> A4 | K16: ='Aligning data'!F41 -> B4 | L16: ='Aligning data'!F42 -> C4 | M16: =SUM(J16:L16)/3 -> 0 | N16: ='Aligning data'!H40 -> A4 | O16: ='Aligning data'!H41 -> B4 | P16: ='Aligning data'!H42 -> C4 | Q16: =SUM(N16:P16)/3 -> 0 | R16: ='Aligning data'!J40 -> A4 | S16: ='Aligning data'!J41 -> B4 | T16: ='Aligning data'!J42 -> C4 | U16: =SUM(R16:T16)/3 -> 0 | V16: ='Aligning data'!L40 -> A4 | W16: ='Aligning data'!L41 -> B4 | X16: ='Aligning data'!L42 -> C4 | Y16: =SUM(V16:X16)/3 -> 0 | Z16: ='Aligning data'!N40 -> A4 | AA16: ='Aligning data'!N41 -> B4 | AB16: ='Aligning data'!N42 -> C4 | AC16: =SUM(Z16:AB16)/3 -> 0 | AD16: ='Aligning data'!P40 -> A4 | AE16: ='Aligning data'!P41 -> B4 | AF16: ='Aligning data'!P42 -> C4 | AG16: =SUM(AD16:AF16)/3 -> 0 | AH16: ='Aligning data'!R40 -> A4 | AI16: ='Aligning data'!R41 -> B4 | AJ16: ='Aligning data'!R42 -> C4 | AK16: =SUM(AH16:AJ16)/3 -> 0 | AL16: ='Aligning data'!T40 -> A4 | AM16: ='Aligning data'!T41 -> B4 | AN16: ='Aligning data'!T42 -> C4 | AO16: =SUM(AL16:AN16)/3 -> 0 | AP16: ='Aligning data'!V40 -> A4 | AQ16: ='Aligning data'!V41 -> B4 | AR16: ='Aligning data'!V42 -> C4 | AS16: =SUM(AP16:AR16)/3 -> 0 | AT16: ='Aligning data'!X40 -> A4 | AU16: ='Aligning data'!X41 -> B4 | AV16: ='Aligning data'!X42 -> C4 | AW16: =SUM(AT16:AV16)/3 -> 0 | AX16: ='Aligning data'!Z40 -> A4 | AY16: ='Aligning data'!Z41 -> B4 | AZ16: ='Aligning data'!Z42 -> C4 | BA16: =SUM(AX16:AZ16)/3 -> 0 | BB16: ='Aligning data'!AB40 -> A4 | BC16: ='Aligning data'!AB41 -> B4 | BD16: ='Aligning data'!AB42 -> C4 | BE16: =SUM(BB16:BD16)/3 -> 0 | BF16: ='Aligning data'!AD40 -> A4 | BG16: ='Aligning data'!AD41 -> B4 | BH16: ='Aligning data'!AD42 -> C4 | BI16: =SUM(BF16:BH16)/3 -> 0 | BJ16: ='Aligning data'!AF40 -> A4 | BK16: ='Aligning data'!AF41 -> B4 | BL16: ='Aligning data'!AF42 -> C4 | BM16: =SUM(BJ16:BL16)/3 -> 0 | BN16: ='Aligning data'!AH40 -> A4 | BO16: ='Aligning data'!AH41 -> B4 | BP16: ='Aligning data'!AH42 -> C4 | BQ16: =SUM(BN16:BP16)/3 -> 0 | BR16: ='Aligning data'!AJ40 -> A4 | BS16: ='Aligning data'!AJ41 -> B4 | BT16: ='Aligning data'!AJ42 -> C4 | BU16: =SUM(BR16:BT16)/3 -> 0 | BV16: ='Aligning data'!AL40 -> A4 | BW16: ='Aligning data'!AL41 -> B4 | BX16: ='Aligning data'!AL42 -> C4 | BY16: =SUM(BV16:BX16)/3 -> 0 | BZ16: ='Aligning data'!AN40 -> A4 | CA16: ='Aligning data'!AN41 -> B4 | CB16: ='Aligning data'!AN42 -> C4 | CC16: =SUM(BZ16:CB16)/3 -> 0 | CD16: ='Aligning data'!AP40 -> A4 | CE16: ='Aligning data'!AP41 -> B4 | CF16: ='Aligning data'!AP42 -> C4 | CG16: =SUM(CD16:CF16)/3 -> 0 | CH16: ='Aligning data'!AR40 -> A4 | CI16: ='Aligning data'!AR41 -> B4 | CJ16: ='Aligning data'!AR42 -> C4 | CK16: =SUM(CH16:CJ16)/3 -> 0 | CL16: ='Aligning data'!AT40 -> A4 | CM16: ='Aligning data'!AT41 -> B4 | CN16: ='Aligning data'!AT42 -> C4 | CO16: =SUM(CL16:CN16)/3 -> 0 | CP16: ='Aligning data'!AV40 -> A4 | CQ16: ='Aligning data'!AV41 -> B4 | CR16: ='Aligning data'!AV42 -> C4 | CS16: =SUM(CP16:CR16)/3 -> 0
A17: #11 | B17: ='Aligning data'!B43 -> D4 | C17: ='Aligning data'!B44 -> E4 | D17: ='Aligning data'!B45 -> F4 | E17: =SUM(B17:D17)/3 -> 0 | F17: ='Aligning data'!D43 -> D4 | G17: ='Aligning data'!D44 -> E4 | H17: ='Aligning data'!D45 -> F4 | I17: =SUM(F17:H17)/3 -> 0 | J17: ='Aligning data'!F43 -> D4 | K17: ='Aligning data'!F44 -> E4 | L17: ='Aligning data'!F45 -> F4 | M17: =SUM(J17:L17)/3 -> 0 | N17: ='Aligning data'!H43 -> D4 | O17: ='Aligning data'!H44 -> E4 | P17: ='Aligning data'!H45 -> F4 | Q17: =SUM(N17:P17)/3 -> 0 | R17: ='Aligning data'!J43 -> D4 | S17: ='Aligning data'!J44 -> E4 | T17: ='Aligning data'!J45 -> F4 | U17: =SUM(R17:T17)/3 -> 0 | V17: ='Aligning data'!L43 -> D4 | W17: ='Aligning data'!L44 -> E4 | X17: ='Aligning data'!L45 -> F4 | Y17: =SUM(V17:X17)/3 -> 0 | Z17: ='Aligning data'!N43 -> D4 | AA17: ='Aligning data'!N44 -> E4 | AB17: ='Aligning data'!N45 -> F4 | AC17: =SUM(Z17:AB17)/3 -> 0 | AD17: ='Aligning data'!P43 -> D4 | AE17: ='Aligning data'!P44 -> E4 | AF17: ='Aligning data'!P45 -> F4 | AG17: =SUM(AD17:AF17)/3 -> 0 | AH17: ='Aligning data'!R43 -> D4 | AI17: ='Aligning data'!R44 -> E4 | AJ17: ='Aligning data'!R45 -> F4 | AK17: =SUM(AH17:AJ17)/3 -> 0 | AL17: ='Aligning data'!T43 -> D4 | AM17: ='Aligning data'!T44 -> E4 | AN17: ='Aligning data'!T45 -> F4 | AO17: =SUM(AL17:AN17)/3 -> 0 | AP17: ='Aligning data'!V43 -> D4 | AQ17: ='Aligning data'!V44 -> E4 | AR17: ='Aligning data'!V45 -> F4 | AS17: =SUM(AP17:AR17)/3 -> 0 | AT17: ='Aligning data'!X43 -> D4 | AU17: ='Aligning data'!X44 -> E4 | AV17: ='Aligning data'!X45 -> F4 | AW17: =SUM(AT17:AV17)/3 -> 0 | AX17: ='Aligning data'!Z43 -> D4 | AY17: ='Aligning data'!Z44 -> E4 | AZ17: ='Aligning data'!Z45 -> F4 | BA17: =SUM(AX17:AZ17)/3 -> 0 | BB17: ='Aligning data'!AB43 -> D4 | BC17: ='Aligning data'!AB44 -> E4 | BD17: ='Aligning data'!AB45 -> F4 | BE17: =SUM(BB17:BD17)/3 -> 0 | BF17: ='Aligning data'!AD43 -> D4 | BG17: ='Aligning data'!AD44 -> E4 | BH17: ='Aligning data'!AD45 -> F4 | BI17: =SUM(BF17:BH17)/3 -> 0 | BJ17: ='Aligning data'!AF43 -> D4 | BK17: ='Aligning data'!AF44 -> E4 | BL17: ='Aligning data'!AF45 -> F4 | BM17: =SUM(BJ17:BL17)/3 -> 0 | BN17: ='Aligning data'!AH43 -> D4 | BO17: ='Aligning data'!AH44 -> E4 | BP17: ='Aligning data'!AH45 -> F4 | BQ17: =SUM(BN17:BP17)/3 -> 0 | BR17: ='Aligning data'!AJ43 -> D4 | BS17: ='Aligning data'!AJ44 -> E4 | BT17: ='Aligning data'!AJ45 -> F4 | BU17: =SUM(BR17:BT17)/3 -> 0 | BV17: ='Aligning data'!AL43 -> D4 | BW17: ='Aligning data'!AL44 -> E4 | BX17: ='Aligning data'!AL45 -> F4 | BY17: =SUM(BV17:BX17)/3 -> 0 | BZ17: ='Aligning data'!AN43 -> D4 | CA17: ='Aligning data'!AN44 -> E4 | CB17: ='Aligning data'!AN45 -> F4 | CC17: =SUM(BZ17:CB17)/3 -> 0 | CD17: ='Aligning data'!AP43 -> D4 | CE17: ='Aligning data'!AP44 -> E4 | CF17: ='Aligning data'!AP45 -> F4 | CG17: =SUM(CD17:CF17)/3 -> 0 | CH17: ='Aligning data'!AR43 -> D4 | CI17: ='Aligning data'!AR44 -> E4 | CJ17: ='Aligning data'!AR45 -> F4 | CK17: =SUM(CH17:CJ17)/3 -> 0 | CL17: ='Aligning data'!AT43 -> D4 | CM17: ='Aligning data'!AT44 -> E4 | CN17: ='Aligning data'!AT45 -> F4 | CO17: =SUM(CL17:CN17)/3 -> 0 | CP17: ='Aligning data'!AV43 -> D4 | CQ17: ='Aligning data'!AV44 -> E4 | CR17: ='Aligning data'!AV45 -> F4 | CS17: =SUM(CP17:CR17)/3 -> 0
A18: #21 | B18: ='Aligning data'!B46 -> G4 | C18: ='Aligning data'!B47 -> H4 | D18: ='Aligning data'!B48 -> I4 | E18: =SUM(B18:D18)/3 -> 0 | F18: ='Aligning data'!D46 -> G4 | G18: ='Aligning data'!D47 -> H4 | H18: ='Aligning data'!D48 -> I4 | I18: =SUM(F18:H18)/3 -> 0 | J18: ='Aligning data'!F46 -> G4 | K18: ='Aligning data'!F47 -> H4 | L18: ='Aligning data'!F48 -> I4 | M18: =SUM(J18:L18)/3 -> 0 | N18: ='Aligning data'!H46 -> G4 | O18: ='Aligning data'!H47 -> H4 | P18: ='Aligning data'!H48 -> I4 | Q18: =SUM(N18:P18)/3 -> 0 | R18: ='Aligning data'!J46 -> G4 | S18: ='Aligning data'!J47 -> H4 | T18: ='Aligning data'!J48 -> I4 | U18: =SUM(R18:T18)/3 -> 0 | V18: ='Aligning data'!L46 -> G4 | W18: ='Aligning data'!L47 -> H4 | X18: ='Aligning data'!L48 -> I4 | Y18: =SUM(V18:X18)/3 -> 0 | Z18: ='Aligning data'!N46 -> G4 | AA18: ='Aligning data'!N47 -> H4 | AB18: ='Aligning data'!N48 -> I4 | AC18: =SUM(Z18:AB18)/3 -> 0 | AD18: ='Aligning data'!P46 -> G4 | AE18: ='Aligning data'!P47 -> H4 | AF18: ='Aligning data'!P48 -> I4 | AG18: =SUM(AD18:AF18)/3 -> 0 | AH18: ='Aligning data'!R46 -> G4 | AI18: ='Aligning data'!R47 -> H4 | AJ18: ='Aligning data'!R48 -> I4 | AK18: =SUM(AH18:AJ18)/3 -> 0 | AL18: ='Aligning data'!T46 -> G4 | AM18: ='Aligning data'!T47 -> H4 | AN18: ='Aligning data'!T48 -> I4 | AO18: =SUM(AL18:AN18)/3 -> 0 | AP18: ='Aligning data'!V46 -> G4 | AQ18: ='Aligning data'!V47 -> H4 | AR18: ='Aligning data'!V48 -> I4 | AS18: =SUM(AP18:AR18)/3 -> 0 | AT18: ='Aligning data'!X46 -> G4 | AU18: ='Aligning data'!X47 -> H4 | AV18: ='Aligning data'!X48 -> I4 | AW18: =SUM(AT18:AV18)/3 -> 0 | AX18: ='Aligning data'!Z46 -> G4 | AY18: ='Aligning data'!Z47 -> H4 | AZ18: ='Aligning data'!Z48 -> I4 | BA18: =SUM(AX18:AZ18)/3 -> 0 | BB18: ='Aligning data'!AB46 -> G4 | BC18: ='Aligning data'!AB47 -> H4 | BD18: ='Aligning data'!AB48 -> I4 | BE18: =SUM(BB18:BD18)/3 -> 0 | BF18: ='Aligning data'!AD46 -> G4 | BG18: ='Aligning data'!AD47 -> H4 | BH18: ='Aligning data'!AD48 -> I4 | BI18: =SUM(BF18:BH18)/3 -> 0 | BJ18: ='Aligning data'!AF46 -> G4 | BK18: ='Aligning data'!AF47 -> H4 | BL18: ='Aligning data'!AF48 -> I4 | BM18: =SUM(BJ18:BL18)/3 -> 0 | BN18: ='Aligning data'!AH46 -> G4 | BO18: ='Aligning data'!AH47 -> H4 | BP18: ='Aligning data'!AH48 -> I4 | BQ18: =SUM(BN18:BP18)/3 -> 0 | BR18: ='Aligning data'!AJ46 -> G4 | BS18: ='Aligning data'!AJ47 -> H4 | BT18: ='Aligning data'!AJ48 -> I4 | BU18: =SUM(BR18:BT18)/3 -> 0 | BV18: ='Aligning data'!AL46 -> G4 | BW18: ='Aligning data'!AL47 -> H4 | BX18: ='Aligning data'!AL48 -> I4 | BY18: =SUM(BV18:BX18)/3 -> 0 | BZ18: ='Aligning data'!AN46 -> G4 | CA18: ='Aligning data'!AN47 -> H4 | CB18: ='Aligning data'!AN48 -> I4 | CC18: =SUM(BZ18:CB18)/3 -> 0 | CD18: ='Aligning data'!AP46 -> G4 | CE18: ='Aligning data'!AP47 -> H4 | CF18: ='Aligning data'!AP48 -> I4 | CG18: =SUM(CD18:CF18)/3 -> 0 | CH18: ='Aligning data'!AR46 -> G4 | CI18: ='Aligning data'!AR47 -> H4 | CJ18: ='Aligning data'!AR48 -> I4 | CK18: =SUM(CH18:CJ18)/3 -> 0 | CL18: ='Aligning data'!AT46 -> G4 | CM18: ='Aligning data'!AT47 -> H4 | CN18: ='Aligning data'!AT48 -> I4 | CO18: =SUM(CL18:CN18)/3 -> 0 | CP18: ='Aligning data'!AV46 -> G4 | CQ18: ='Aligning data'!AV47 -> H4 | CR18: ='Aligning data'!AV48 -> I4 | CS18: =SUM(CP18:CR18)/3 -> 0
A19: #28 | B19: ='Aligning data'!B49 -> J4 | C19: ='Aligning data'!B50 -> K4 | D19: ='Aligning data'!B51 -> L4 | E19: =SUM(B19:D19)/3 -> 0 | F19: ='Aligning data'!D49 -> J4 | G19: ='Aligning data'!D50 -> K4 | H19: ='Aligning data'!D51 -> L4 | I19: =SUM(F19:H19)/3 -> 0 | J19: ='Aligning data'!F49 -> J4 | K19: ='Aligning data'!F50 -> K4 | L19: ='Aligning data'!F51 -> L4 | M19: =SUM(J19:L19)/3 -> 0 | N19: ='Aligning data'!H49 -> J4 | O19: ='Aligning data'!H50 -> K4 | P19: ='Aligning data'!H51 -> L4 | Q19: =SUM(N19:P19)/3 -> 0 | R19: ='Aligning data'!J49 -> J4 | S19: ='Aligning data'!J50 -> K4 | T19: ='Aligning data'!J51 -> L4 | U19: =SUM(R19:T19)/3 -> 0 | V19: ='Aligning data'!L49 -> J4 | W19: ='Aligning data'!L50 -> K4 | X19: ='Aligning data'!L51 -> L4 | Y19: =SUM(V19:X19)/3 -> 0 | Z19: ='Aligning data'!N49 -> J4 | AA19: ='Aligning data'!N50 -> K4 | AB19: ='Aligning data'!N51 -> L4 | AC19: =SUM(Z19:AB19)/3 -> 0 | AD19: ='Aligning data'!P49 -> J4 | AE19: ='Aligning data'!P50 -> K4 | AF19: ='Aligning data'!P51 -> L4 | AG19: =SUM(AD19:AF19)/3 -> 0 | AH19: ='Aligning data'!R49 -> J4 | AI19: ='Aligning data'!R50 -> K4 | AJ19: ='Aligning data'!R51 -> L4 | AK19: =SUM(AH19:AJ19)/3 -> 0 | AL19: ='Aligning data'!T49 -> J4 | AM19: ='Aligning data'!T50 -> K4 | AN19: ='Aligning data'!T51 -> L4 | AO19: =SUM(AL19:AN19)/3 -> 0 | AP19: ='Aligning data'!V49 -> J4 | AQ19: ='Aligning data'!V50 -> K4 | AR19: ='Aligning data'!V51 -> L4 | AS19: =SUM(AP19:AR19)/3 -> 0 | AT19: ='Aligning data'!X49 -> J4 | AU19: ='Aligning data'!X50 -> K4 | AV19: ='Aligning data'!X51 -> L4 | AW19: =SUM(AT19:AV19)/3 -> 0 | AX19: ='Aligning data'!Z49 -> J4 | AY19: ='Aligning data'!Z50 -> K4 | AZ19: ='Aligning data'!Z51 -> L4 | BA19: =SUM(AX19:AZ19)/3 -> 0 | BB19: ='Aligning data'!AB49 -> J4 | BC19: ='Aligning data'!AB50 -> K4 | BD19: ='Aligning data'!AB51 -> L4 | BE19: =SUM(BB19:BD19)/3 -> 0 | BF19: ='Aligning data'!AD49 -> J4 | BG19: ='Aligning data'!AD50 -> K4 | BH19: ='Aligning data'!AD51 -> L4 | BI19: =SUM(BF19:BH19)/3 -> 0 | BJ19: ='Aligning data'!AF49 -> J4 | BK19: ='Aligning data'!AF50 -> K4 | BL19: ='Aligning data'!AF51 -> L4 | BM19: =SUM(BJ19:BL19)/3 -> 0 | BN19: ='Aligning data'!AH49 -> J4 | BO19: ='Aligning data'!AH50 -> K4 | BP19: ='Aligning data'!AH51 -> L4 | BQ19: =SUM(BN19:BP19)/3 -> 0 | BR19: ='Aligning data'!AJ49 -> J4 | BS19: ='Aligning data'!AJ50 -> K4 | BT19: ='Aligning data'!AJ51 -> L4 | BU19: =SUM(BR19:BT19)/3 -> 0 | BV19: ='Aligning data'!AL49 -> J4 | BW19: ='Aligning data'!AL50 -> K4 | BX19: ='Aligning data'!AL51 -> L4 | BY19: =SUM(BV19:BX19)/3 -> 0 | BZ19: ='Aligning data'!AN49 -> J4 | CA19: ='Aligning data'!AN50 -> K4 | CB19: ='Aligning data'!AN51 -> L4 | CC19: =SUM(BZ19:CB19)/3 -> 0 | CD19: ='Aligning data'!AP49 -> J4 | CE19: ='Aligning data'!AP50 -> K4 | CF19: ='Aligning data'!AP51 -> L4 | CG19: =SUM(CD19:CF19)/3 -> 0 | CH19: ='Aligning data'!AR49 -> J4 | CI19: ='Aligning data'!AR50 -> K4 | CJ19: ='Aligning data'!AR51 -> L4 | CK19: =SUM(CH19:CJ19)/3 -> 0 | CL19: ='Aligning data'!AT49 -> J4 | CM19: ='Aligning data'!AT50 -> K4 | CN19: ='Aligning data'!AT51 -> L4 | CO19: =SUM(CL19:CN19)/3 -> 0 | CP19: ='Aligning data'!AV49 -> J4 | CQ19: ='Aligning data'!AV50 -> K4 | CR19: ='Aligning data'!AV51 -> L4 | CS19: =SUM(CP19:CR19)/3 -> 0
