Workbook

Sheet Guide
A7: Analysis Tool Guide
A8: RayBio® Human Autoimmune Disease Autoantibody Detection Array G1

Sheet Target List
A1: No. | B1: Autoimmunogen | D1: No. | E1: Autoimmunogen
A2: #1 | B2: Alanyl-tRNA Synthetase (PL-12) | D2: #18 | E2: Mi-2
A3: #2 | B3: KRT8 | D3: #19 | E3: Myeloperoxidase (MPO), p-ANCA
A4: #3 | B4: Centromere B (CENP-B) | D4: #20 | E4: Nup62
A5: #4 | B5: Centromere Protein A (CENP-A) | D5: #21 | E5: CCP peptide
A6: #5 | B6: dsDNA | D6: #22 | E6: Proliferating Cell Nuclear Antigen (PCNA)
A7: #6 | B7: Gliadin | D7: #23 | E7: Proteinase-3 (PR3), c-ANCA
A8: #7 | B8: Glycyl-tRNA Synthetase (EJ) | D8: #24 | E8: Ro/SS-A (52 kDa)
A9: #8 | B9: gp-210 | D9: #25 | E9: Ro/SS-A (60 kDa)
A10: #9 | B10: Histone H2A | D10: #26 | E10: Scl-70 (DNA topoisomerase-1)
A11: #10 | B11: Histone H2B | D11: #27 | E11: Sm/Smith/snRNP core protein
A12: #11 | B12: KRT19 | D12: #28 | E12: sp100
... A17: #16 | B17: M/Scl 100 | D17: #33 | E17: U1-snRNP70 kDa
A18: #17 | B18: M2
A20: Positive Controls:
B21: Biotin-BSA (1)
B22: Biotin-BSA (2)
B23: Human IgG
B24: Human IgA
A26: Negative Control:
B27: Water (Blank)
B28: 0.1% BSA-PBS

Sheet Importing data
A1: RayBio® AID Autoantibody Detection Array

Sheet Map
A1: RayBio® AID Autoantibody Detection Array
B2: A | C2: B | D2: C | E2: D | F2: E | G2: F | H2: G | I2: H | J2: I | K2: J | L2: K | M2: L
A3: 1 | B3: POS1 | C3: POS1 | D3: POS1 | E3: #8 | F3: #8 | G3: #8 | H3: #18 | I3: #18 | J3: #18 | K3: Human IgA | L3: Human IgA | M3: Human IgA
A4: 2 | B4: POS2 | C4: POS2 | D4: POS2 | E4: #9 | F4: #9 | G4: #9 | H4: #19 | I4: #19 | J4: #19 | K4: NEG | L4: NEG | M4: NEG
A5: 3 | B5: #1 | C5: #1 | D5: #1 | E5: #10 | F5: #10 | G5: #10 | H5: #20 | I5: #20 | J5: #20 | K5: 0.1% BSA-PBS | L5: 0.1% BSA-PBS | M5: 0.1% BSA-PBS
A6: 4 | B6: #2 | C6: #2 | D6: #2 | E6: #11 | F6: #11 | G6: #11 | H6: #21 | I6: #21 | J6: #21 | K6: #28 | L6: #28 | M6: #28
A7: 5 | B7: #3 | C7: #3 | D7: #3 | E7: #12 | F7: #12 | G7: #12 | H7: #22 | I7: #22 | J7: #22 | K7: #29 | L7: #29 | M7: #29
A8: 6 | B8: #4 | C8: #4 | D8: #4 | E8: #13 | F8: #13 | G8: #13 | H8: #23 | I8: #23 | J8: #23 | K8: #30 | L8: #30 | M8: #30
A9: 7 | B9: #5 | C9: #5 | D9: #5 | E9: #14 | F9: #14 | G9: #14 | H9: #24 | I9: #24 | J9: #24 | K9: #31 | L9: #31 | M9: #31
A10: 8 | B10: #6 | C10: #6 | D10: #6 | E10: #15 | F10: #15 | G10: #15 | H10: #25 | I10: #25 | J10: #25 | K10: #32 | L10: #32 | M10: #32
A11: 9 | B11: #7 | C11: #7 | D11: #7 | E11: #16 | F11: #16 | G11: #16 | H11: #26 | I11: #26 | J11: #26 | K11: #33 | L11: #33 | M11: #33
A12: 10 | B12: Human IgG | C12: Human IgG | D12: Human IgG | E12: #17 | F12: #17 | G12: #17 | H12: #27 | I12: #27 | J12: #27 | K12: POS3 | L12: POS3 | M12: POS3

Sheet Aligning data
A1: RayBio® AID Autoantibody Detection Array
B2: Sample1 | D2: Sample2 | F2: Sample3 | H2: Sample4 | J2: Sample5 | L2: Sample6 | N2: Sample7 | P2: Sample8 | R2: Sample9 | T2: Sample10 | V2: Sample11 | X2: Sample12 | Z2: Sample13 | AB2: Sample14 | AD2: Sample15 | AF2: Sample16 | AH2: Sample17 | AJ2: Sample18 | AL2: Sample19 | AN2: Sample20 | AP2: Sample21 | AR2: Sample22 | AT2: Sample23 | AV2: Sample24
B3: With Background | C3: Without Background | D3: With Background | E3: Without Background | F3: With Background | G3: Without Background | H3: With Background | I3: Without Background | J3: With Background | K3: Without Background | L3: With Background | M3: Without Background | N3: With Background | O3: Without Background | P3: With Background | Q3: Without Background | R3: With Background | S3: Without Background | T3: With Background | U3: Without Background | V3: With Background | W3: Without Background | X3: With Background | Y3: Without Background | Z3: With Background | AA3: Without Background | AB3: With Background | AC3: Without Background | AD3: With Background | AE3: Without Background | AF3: With Background | AG3: Without Background | AH3: With Background | AI3: Without Background | AJ3: With Background | AK3: Without Background | AL3: With Background | AM3: Without Background | AN3: With Background | AO3: Without Background | AP3: With Background | AQ3: Without Background | AR3: With Background | AS3: Without Background | AT3: With Background | AU3: Without Background | AV3: With Background | AW3: Without Background
A4: POS1 | B4: A1 | C4: A1 | D4: A1 | E4: A1 | F4: A1 | G4: A1 | H4: A1 | I4: A1 | J4: A1 | K4: A1 | L4: A1 | M4: A1 | N4: A1 | O4: A1 | P4: A1 | Q4: A1 | R4: A1 | S4: A1 | T4: A1 | U4: A1 | V4: A1 | W4: A1 | X4: A1 | Y4: A1 | Z4: A1 | AA4: A1 | AB4: A1 | AC4: A1 | AD4: A1 | AE4: A1 | AF4: A1 | AG4: A1 | AH4: A1 | AI4: A1 | AJ4: A1 | AK4: A1 | AL4: A1 | AM4: A1 | AN4: A1 | AO4: A1 | AP4: A1 | AQ4: A1 | AR4: A1 | AS4: A1 | AT4: A1 | AU4: A1 | AV4: A1 | AW4: A1
A5: POS1 | B5: B1 | C5: B1 | D5: B1 | E5: B1 | F5: B1 | G5: B1 | H5: B1 | I5: B1 | J5: B1 | K5: B1 | L5: B1 | M5: B1 | N5: B1 | O5: B1 | P5: B1 | Q5: B1 | R5: B1 | S5: B1 | T5: B1 | U5: B1 | V5: B1 | W5: B1 | X5: B1 | Y5: B1 | Z5: B1 | AA5: B1 | AB5: B1 | AC5: B1 | AD5: B1 | AE5: B1 | AF5: B1 | AG5: B1 | AH5: B1 | AI5: B1 | AJ5: B1 | AK5: B1 | AL5: B1 | AM5: B1 | AN5: B1 | AO5: B1 | AP5: B1 | AQ5: B1 | AR5: B1 | AS5: B1 | AT5: B1 | AU5: B1 | AV5: B1 | AW5: B1
A6: POS1 | B6: C1 | C6: C1 | D6: C1 | E6: C1 | F6: C1 | G6: C1 | H6: C1 | I6: C1 | J6: C1 | K6: C1 | L6: C1 | M6: C1 | N6: C1 | O6: C1 | P6: C1 | Q6: C1 | R6: C1 | S6: C1 | T6: C1 | U6: C1 | V6: C1 | W6: C1 | X6: C1 | Y6: C1 | Z6: C1 | AA6: C1 | AB6: C1 | AC6: C1 | AD6: C1 | AE6: C1 | AF6: C1 | AG6: C1 | AH6: C1 | AI6: C1 | AJ6: C1 | AK6: C1 | AL6: C1 | AM6: C1 | AN6: C1 | AO6: C1 | AP6: C1 | AQ6: C1 | AR6: C1 | AS6: C1 | AT6: C1 | AU6: C1 | AV6: C1 | AW6: C1
A7: #8 | B7: D1 | C7: D1 | D7: D1 | E7: D1 | F7: D1 | G7: D1 | H7: D1 | I7: D1 | J7: D1 | K7: D1 | L7: D1 | M7: D1 | N7: D1 | O7: D1 | P7: D1 | Q7: D1 | R7: D1 | S7: D1 | T7: D1 | U7: D1 | V7: D1 | W7: D1 | X7: D1 | Y7: D1 | Z7: D1 | AA7: D1 | AB7: D1 | AC7: D1 | AD7: D1 | AE7: D1 | AF7: D1 | AG7: D1 | AH7: D1 | AI7: D1 | AJ7: D1 | AK7: D1 | AL7: D1 | AM7: D1 | AN7: D1 | AO7: D1 | AP7: D1 | AQ7: D1 | AR7: D1 | AS7: D1 | AT7: D1 | AU7: D1 | AV7: D1 | AW7: D1
A8: #8 | B8: E1 | C8: E1 | D8: E1 | E8: E1 | F8: E1 | G8: E1 | H8: E1 | I8: E1 | J8: E1 | K8: E1 | L8: E1 | M8: E1 | N8: E1 | O8: E1 | P8: E1 | Q8: E1 | R8: E1 | S8: E1 | T8: E1 | U8: E1 | V8: E1 | W8: E1 | X8: E1 | Y8: E1 | Z8: E1 | AA8: E1 | AB8: E1 | AC8: E1 | AD8: E1 | AE8: E1 | AF8: E1 | AG8: E1 | AH8: E1 | AI8: E1 | AJ8: E1 | AK8: E1 | AL8: E1 | AM8: E1 | AN8: E1 | AO8: E1 | AP8: E1 | AQ8: E1 | AR8: E1 | AS8: E1 | AT8: E1 | AU8: E1 | AV8: E1 | AW8: E1
A9: #8 | B9: F1 | C9: F1 | D9: F1 | E9: F1 | F9: F1 | G9: F1 | H9: F1 | I9: F1 | J9: F1 | K9: F1 | L9: F1 | M9: F1 | N9: F1 | O9: F1 | P9: F1 | Q9: F1 | R9: F1 | S9: F1 | T9: F1 | U9: F1 | V9: F1 | W9: F1 | X9: F1 | Y9: F1 | Z9: F1 | AA9: F1 | AB9: F1 | AC9: F1 | AD9: F1 | AE9: F1 | AF9: F1 | AG9: F1 | AH9: F1 | AI9: F1 | AJ9: F1 | AK9: F1 | AL9: F1 | AM9: F1 | AN9: F1 | AO9: F1 | AP9: F1 | AQ9: F1 | AR9: F1 | AS9: F1 | AT9: F1 | AU9: F1 | AV9: F1 | AW9: F1
A10: #18 | B10: G1 | C10: G1 | D10: G1 | E10: G1 | F10: G1 | G10: G1 | H10: G1 | I10: G1 | J10: G1 | K10: G1 | L10: G1 | M10: G1 | N10: G1 | O10: G1 | P10: G1 | Q10: G1 | R10: G1 | S10: G1 | T10: G1 | U10: G1 | V10: G1 | W10: G1 | X10: G1 | Y10: G1 | Z10: G1 | AA10: G1 | AB10: G1 | AC10: G1 | AD10: G1 | AE10: G1 | AF10: G1 | AG10: G1 | AH10: G1 | AI10: G1 | AJ10: G1 | AK10: G1 | AL10: G1 | AM10: G1 | AN10: G1 | AO10: G1 | AP10: G1 | AQ10: G1 | AR10: G1 | AS10: G1 | AT10: G1 | AU10: G1 | AV10: G1 | AW10: G1
A11: #18 | B11: H1 | C11: H1 | D11: H1 | E11: H1 | F11: H1 | G11: H1 | H11: H1 | I11: H1 | J11: H1 | K11: H1 | L11: H1 | M11: H1 | N11: H1 | O11: H1 | P11: H1 | Q11: H1 | R11: H1 | S11: H1 | T11: H1 | U11: H1 | V11: H1 | W11: H1 | X11: H1 | Y11: H1 | Z11: H1 | AA11: H1 | AB11: H1 | AC11: H1 | AD11: H1 | AE11: H1 | AF11: H1 | AG11: H1 | AH11: H1 | AI11: H1 | AJ11: H1 | AK11: H1 | AL11: H1 | AM11: H1 | AN11: H1 | AO11: H1 | AP11: H1 | AQ11: H1 | AR11: H1 | AS11: H1 | AT11: H1 | AU11: H1 | AV11: H1 | AW11: H1
A12: #18 | B12: I1 | C12: I1 | D12: I1 | E12: I1 | F12: I1 | G12: I1 | H12: I1 | I12: I1 | J12: I1 | K12: I1 | L12: I1 | M12: I1 | N12: I1 | O12: I1 | P12: I1 | Q12: I1 | R12: I1 | S12: I1 | T12: I1 | U12: I1 | V12: I1 | W12: I1 | X12: I1 | Y12: I1 | Z12: I1 | AA12: I1 | AB12: I1 | AC12: I1 | AD12: I1 | AE12: I1 | AF12: I1 | AG12: I1 | AH12: I1 | AI12: I1 | AJ12: I1 | AK12: I1 | AL12: I1 | AM12: I1 | AN12: I1 | AO12: I1 | AP12: I1 | AQ12: I1 | AR12: I1 | AS12: I1 | AT12: I1 | AU12: I1 | AV12: I1 | AW12: I1
A13: Human IgA | B13: J1 | C13: J1 | D13: J1 | E13: J1 | F13: J1 | G13: J1 | H13: J1 | I13: J1 | J13: J1 | K13: J1 | L13: J1 | M13: J1 | N13: J1 | O13: J1 | P13: J1 | Q13: J1 | R13: J1 | S13: J1 | T13: J1 | U13: J1 | V13: J1 | W13: J1 | X13: J1 | Y13: J1 | Z13: J1 | AA13: J1 | AB13: J1 | AC13: J1 | AD13: J1 | AE13: J1 | AF13: J1 | AG13: J1 | AH13: J1 | AI13: J1 | AJ13: J1 | AK13: J1 | AL13: J1 | AM13: J1 | AN13: J1 | AO13: J1 | AP13: J1 | AQ13: J1 | AR13: J1 | AS13: J1 | AT13: J1 | AU13: J1 | AV13: J1 | AW13: J1
A14: Human IgA | B14: K1 | C14: K1 | D14: K1 | E14: K1 | F14: K1 | G14: K1 | H14: K1 | I14: K1 | J14: K1 | K14: K1 | L14: K1 | M14: K1 | N14: K1 | O14: K1 | P14: K1 | Q14: K1 | R14: K1 | S14: K1 | T14: K1 | U14: K1 | V14: K1 | W14: K1 | X14: K1 | Y14: K1 | Z14: K1 | AA14: K1 | AB14: K1 | AC14: K1 | AD14: K1 | AE14: K1 | AF14: K1 | AG14: K1 | AH14: K1 | AI14: K1 | AJ14: K1 | AK14: K1 | AL14: K1 | AM14: K1 | AN14: K1 | AO14: K1 | AP14: K1 | AQ14: K1 | AR14: K1 | AS14: K1 | AT14: K1 | AU14: K1 | AV14: K1 | AW14: K1
A15: Human IgA | B15: L1 | C15: L1 | D15: L1 | E15: L1 | F15: L1 | G15: L1 | H15: L1 | I15: L1 | J15: L1 | K15: L1 | L15: L1 | M15: L1 | N15: L1 | O15: L1 | P15: L1 | Q15: L1 | R15: L1 | S15: L1 | T15: L1 | U15: L1 | V15: L1 | W15: L1 | X15: L1 | Y15: L1 | Z15: L1 | AA15: L1 | AB15: L1 | AC15: L1 | AD15: L1 | AE15: L1 | AF15: L1 | AG15: L1 | AH15: L1 | AI15: L1 | AJ15: L1 | AK15: L1 | AL15: L1 | AM15: L1 | AN15: L1 | AO15: L1 | AP15: L1 | AQ15: L1 | AR15: L1 | AS15: L1 | AT15: L1 | AU15: L1 | AV15: L1 | AW15: L1
... A123: POS3 | B123: L10 | C123: L10 | D123: L10 | E123: L10 | F123: L10 | G123: L10 | H123: L10 | I123: L10 | J123: L10 | K123: L10 | L123: L10 | M123: L10 | N123: L10 | O123: L10 | P123: L10 | Q123: L10 | R123: L10 | S123: L10 | T123: L10 | U123: L10 | V123: L10 | W123: L10 | X123: L10 | Y123: L10 | Z123: L10 | AA123: L10 | AB123: L10 | AC123: L10 | AD123: L10 | AE123: L10 | AF123: L10 | AG123: L10 | AH123: L10 | AI123: L10 | AJ123: L10 | AK123: L10 | AL123: L10 | AM123: L10 | AN123: L10 | AO123: L10 | AP123: L10 | AQ123: L10 | AR123: L10 | AS123: L10 | AT123: L10 | AU123: L10 | AV123: L10 | AW123: L10

Sheet Sorting-1
A1: RayBio® AID Autoantibody Detection Array
B2: Sample 1 | F2: Sample 2 | J2: Sample 3 | N2: Sample 4 | R2: Sample 5 | V2: Sample 6 | Z2: Sample 7 | AD2: Sample 8 | AH2: Sample 9 | AL2: Sample 10 | AP2: Sample 11 | AT2: Sample 12 | AX2: Sample 13 | BB2: Sample 14 | BF2: Sample 15 | BJ2: Sample 16 | BN2: Sample 17 | BR2: Sample 18 | BV2: Sample 19 | BZ2: Sample 20 | CD2: Sample 21 | CH2: Sample 22 | CL2: Sample 23 | CP2: Sample 24
B3: With Background | F3: With Background | J3: With Background | N3: With Background | R3: With Background | V3: With Background | Z3: With Background | AD3: With Background | AH3: With Background | AL3: With Background | AP3: With Background | AT3: With Background | AX3: With Background | BB3: With Background | BF3: With Background | BJ3: With Background | BN3: With Background | BR3: With Background | BV3: With Background | BZ3: With Background | CD3: With Background | CH3: With Background | CL3: With Background | CP3: With Background
B4: 1 | C4: 2 | D4: 3 | E4: Average | F4: 1 | G4: 2 | H4: 3 | I4: Average | J4: 1 | K4: 2 | L4: 3 | M4: Average | N4: 1 | O4: 2 | P4: 3 | Q4: Average | R4: 1 | S4: 2 | T4: 3 | U4: Average | V4: 1 | W4: 2 | X4: 3 | Y4: Average | Z4: 1 | AA4: 2 | AB4: 3 | AC4: Average | AD4: 1 | AE4: 2 | AF4: 3 | AG4: Average | AH4: 1 | AI4: 2 | AJ4: 3 | AK4: Average | AL4: 1 | AM4: 2 | AN4: 3 | AO4: Average | AP4: 1 | AQ4: 2 | AR4: 3 | AS4: Average | AT4: 1 | AU4: 2 | AV4: 3 | AW4: Average | AX4: 1 | AY4: 2 | AZ4: 3 | BA4: Average | BB4: 1 | BC4: 2 | BD4: 3 | BE4: Average | BF4: 1 | BG4: 2 | BH4: 3 | BI4: Average | BJ4: 1 | BK4: 2 | BL4: 3 | BM4: Average | BN4: 1 | BO4: 2 | BP4: 3 | BQ4: Average | BR4: 1 | BS4: 2 | BT4: 3 | BU4: Average | BV4: 1 | BW4: 2 | BX4: 3 | BY4: Average | BZ4: 1 | CA4: 2 | CB4: 3 | CC4: Average | CD4: 1 | CE4: 2 | CF4: 3 | CG4: Average | CH4: 1 | CI4: 2 | CJ4: 3 | CK4: Average | CL4: 1 | CM4: 2 | CN4: 3 | CO4: Average | CP4: 1 | CQ4: 2 | CR4: 3 | CS4: Average
A5: POS | E5: =(SUM('Aligning data'!B4:B6)+SUM('Aligning data'!B16:B18)+SUM('Aligning data'!B121:B123))/9 -> 0 | I5: =(SUM('Aligning data'!D4:D6)+SUM('Aligning data'!D16:D18)+SUM('Aligning data'!D121:D123))/9 -> 0 | M5: =(SUM('Aligning data'!F4:F6)+SUM('Aligning data'!F16:F18)+SUM('Aligning data'!F121:F123))/9 -> 0 | Q5: =(SUM('Aligning data'!H4:H6)+SUM('Aligning data'!H16:H18)+SUM('Aligning data'!H121:H123))/9 -> 0 | U5: =(SUM('Aligning data'!J4:J6)+SUM('Aligning data'!J16:J18)+SUM('Aligning data'!J121:J123))/9 -> 0 | Y5: =(SUM('Aligning data'!L4:L6)+SUM('Aligning data'!L16:L18)+SUM('Aligning data'!L121:L123))/9 -> 0 | AC5: =(SUM('Aligning data'!N4:N6)+SUM('Aligning data'!N16:N18)+SUM('Aligning data'!N121:N123))/9 -> 0 | AG5: =(SUM('Aligning data'!P4:P6)+SUM('Aligning data'!P16:P18)+SUM('Aligning data'!P121:P123))/9 -> 0 | AK5: =(SUM('Aligning data'!R4:R6)+SUM('Aligning data'!R16:R18)+SUM('Aligning data'!R121:R123))/9 -> 0 | AO5: =(SUM('Aligning data'!T4:T6)+SUM('Aligning data'!T16:T18)+SUM('Aligning data'!T121:T123))/9 -> 0 | AS5: =(SUM('Aligning data'!V4:V6)+SUM('Aligning data'!V16:V18)+SUM('Aligning data'!V121:V123))/9 -> 0 | AW5: =(SUM('Aligning data'!X4:X6)+SUM('Aligning data'!X16:X18)+SUM('Aligning data'!X121:X123))/9 -> 0 | BA5: =(SUM('Aligning data'!Z4:Z6)+SUM('Aligning data'!Z16:Z18)+SUM('Aligning data'!Z121:Z123))/9 -> 0 | BE5: =(SUM('Aligning data'!AB4:AB6)+SUM('Aligning data'!AB16:AB18)+SUM('Aligning data'!AB121:AB123))/9 -> 0 | BI5: =(SUM('Aligning data'!AD4:AD6)+SUM('Aligning data'!AD16:AD18)+SUM('Aligning data'!AD121:AD123))/9 -> 0 | BM5: =(SUM('Aligning data'!AF4:AF6)+SUM('Aligning data'!AF16:AF18)+SUM('Aligning data'!AF121:AF123))/9 -> 0 | BQ5: =(SUM('Aligning data'!AH4:AH6)+SUM('Aligning data'!AH16:AH18)+SUM('Aligning data'!AH121:AH123))/9 -> 0 | BU5: =(SUM('Aligning data'!AJ4:AJ6)+SUM('Aligning data'!AJ16:AJ18)+SUM('Aligning data'!AJ121:AJ123))/9 -> 0 | BY5: =(SUM('Aligning data'!AL4:AL6)+SUM('Aligning data'!AL16:AL18)+SUM('Aligning data'!AL121:AL123))/9 -> 0 | CC5: =(SUM('Aligning data'!AN4:AN6)+SUM('Aligning data'!AN16:AN18)+SUM('Aligning data'!AN121:AN123))/9 -> 0 | CG5: =(SUM('Aligning data'!AP4:AP6)+SUM('Aligning data'!AP16:AP18)+SUM('Aligning data'!AP121:AP123))/9 -> 0 | CK5: =(SUM('Aligning data'!AR4:AR6)+SUM('Aligning data'!AR16:AR18)+SUM('Aligning data'!AR121:AR123))/9 -> 0 | CO5: =(SUM('Aligning data'!AT4:AT6)+SUM('Aligning data'!AT16:AT18)+SUM('Aligning data'!AT121:AT123))/9 -> 0 | CS5: =(SUM('Aligning data'!AV4:AV6)+SUM('Aligning data'!AV16:AV18)+SUM('Aligning data'!AV121:AV123))/9 -> 0
A6: NEG | E6: =SUM('Aligning data'!B25:B27)/3 -> 0 | I6: =SUM('Aligning data'!D25:D27)/3 -> 0 | M6: =SUM('Aligning data'!F25:F27)/3 -> 0 | Q6: =SUM('Aligning data'!H25:H27)/3 -> 0 | U6: =SUM('Aligning data'!J25:J27)/3 -> 0 | Y6: =SUM('Aligning data'!L25:L27)/3 -> 0 | AC6: =SUM('Aligning data'!N25:N27)/3 -> 0 | AG6: =SUM('Aligning data'!P25:P27)/3 -> 0 | AK6: =SUM('Aligning data'!R25:R27)/3 -> 0 | AO6: =SUM('Aligning data'!T25:T27)/3 -> 0 | AS6: =SUM('Aligning data'!V25:V27)/3 -> 0 | AW6: =SUM('Aligning data'!X25:X27)/3 -> 0 | BA6: =SUM('Aligning data'!Z25:Z27)/3 -> 0 | BE6: =SUM('Aligning data'!AB25:AB27)/3 -> 0 | BI6: =SUM('Aligning data'!AD25:AD27)/3 -> 0 | BM6: =SUM('Aligning data'!AF25:AF27)/3 -> 0 | BQ6: =SUM('Aligning data'!AH25:AH27)/3 -> 0 | BU6: =SUM('Aligning data'!AJ25:AJ27)/3 -> 0 | BY6: =SUM('Aligning data'!AL25:AL27)/3 -> 0 | CC6: =SUM('Aligning data'!AN25:AN27)/3 -> 0 | CG6: =SUM('Aligning data'!AP25:AP27)/3 -> 0 | CK6: =SUM('Aligning data'!AR25:AR27)/3 -> 0 | CO6: =SUM('Aligning data'!AT25:AT27)/3 -> 0 | CS6: =SUM('Aligning data'!AV25:AV27)/3 -> 0
A7: #8 | B7: ='Aligning data'!B7 -> D1 | C7: ='Aligning data'!B8 -> E1 | D7: ='Aligning data'!B9 -> F1 | E7: =SUM(B7:D7)/3 -> 0 | F7: ='Aligning data'!D7 -> D1 | G7: ='Aligning data'!D8 -> E1 | H7: ='Aligning data'!D9 -> F1 | I7: =SUM(F7:H7)/3 -> 0 | J7: ='Aligning data'!F7 -> D1 | K7: ='Aligning data'!F8 -> E1 | L7: ='Aligning data'!F9 -> F1 | M7: =SUM(J7:L7)/3 -> 0 | N7: ='Aligning data'!H7 -> D1 | O7: ='Aligning data'!H8 -> E1 | P7: ='Aligning data'!H9 -> F1 | Q7: =SUM(N7:P7)/3 -> 0 | R7: ='Aligning data'!J7 -> D1 | S7: ='Aligning data'!J8 -> E1 | T7: ='Aligning data'!J9 -> F1 | U7: =SUM(R7:T7)/3 -> 0 | V7: ='Aligning data'!L7 -> D1 | W7: ='Aligning data'!L8 -> E1 | X7: ='Aligning data'!L9 -> F1 | Y7: =SUM(V7:X7)/3 -> 0 | Z7: ='Aligning data'!N7 -> D1 | AA7: ='Aligning data'!N8 -> E1 | AB7: ='Aligning data'!N9 -> F1 | AC7: =SUM(Z7:AB7)/3 -> 0 | AD7: ='Aligning data'!P7 -> D1 | AE7: ='Aligning data'!P8 -> E1 | AF7: ='Aligning data'!P9 -> F1 | AG7: =SUM(AD7:AF7)/3 -> 0 | AH7: ='Aligning data'!R7 -> D1 | AI7: ='Aligning data'!R8 -> E1 | AJ7: ='Aligning data'!R9 -> F1 | AK7: =SUM(AH7:AJ7)/3 -> 0 | AL7: ='Aligning data'!T7 -> D1 | AM7: ='Aligning data'!T8 -> E1 | AN7: ='Aligning data'!T9 -> F1 | AO7: =SUM(AL7:AN7)/3 -> 0 | AP7: ='Aligning data'!V7 -> D1 | AQ7: ='Aligning data'!V8 -> E1 | AR7: ='Aligning data'!V9 -> F1 | AS7: =SUM(AP7:AR7)/3 -> 0 | AT7: ='Aligning data'!X7 -> D1 | AU7: ='Aligning data'!X8 -> E1 | AV7: ='Aligning data'!X9 -> F1 | AW7: =SUM(AT7:AV7)/3 -> 0 | AX7: ='Aligning data'!Z7 -> D1 | AY7: ='Aligning data'!Z8 -> E1 | AZ7: ='Aligning data'!Z9 -> F1 | BA7: =SUM(AX7:AZ7)/3 -> 0 | BB7: ='Aligning data'!AB7 -> D1 | BC7: ='Aligning data'!AB8 -> E1 | BD7: ='Aligning data'!AB9 -> F1 | BE7: =SUM(BB7:BD7)/3 -> 0 | BF7: ='Aligning data'!AD7 -> D1 | BG7: ='Aligning data'!AD8 -> E1 | BH7: ='Aligning data'!AD9 -> F1 | BI7: =SUM(BF7:BH7)/3 -> 0 | BJ7: ='Aligning data'!AF7 -> D1 | BK7: ='Aligning data'!AF8 -> E1 | BL7: ='Aligning data'!AF9 -> F1 | BM7: =SUM(BJ7:BL7)/3 -> 0 | BN7: ='Aligning data'!AH7 -> D1 | BO7: ='Aligning data'!AH8 -> E1 | BP7: ='Aligning data'!AH9 -> F1 | BQ7: =SUM(BN7:BP7)/3 -> 0 | BR7: ='Aligning data'!AJ7 -> D1 | BS7: ='Aligning data'!AJ8 -> E1 | BT7: ='Aligning data'!AJ9 -> F1 | BU7: =SUM(BR7:BT7)/3 -> 0 | BV7: ='Aligning data'!AL7 -> D1 | BW7: ='Aligning data'!AL8 -> E1 | BX7: ='Aligning data'!AL9 -> F1 | BY7: =SUM(BV7:BX7)/3 -> 0 | BZ7: ='Aligning data'!AN7 -> D1 | CA7: ='Aligning data'!AN8 -> E1 | CB7: ='Aligning data'!AN9 -> F1 | CC7: =SUM(BZ7:CB7)/3 -> 0 | CD7: ='Aligning data'!AP7 -> D1 | CE7: ='Aligning data'!AP8 -> E1 | CF7: ='Aligning data'!AP9 -> F1 | CG7: =SUM(CD7:CF7)/3 -> 0 | CH7: ='Aligning data'!AR7 -> D1 | CI7: ='Aligning data'!AR8 -> E1 | CJ7: ='Aligning data'!AR9 -> F1 | CK7: =SUM(CH7:CJ7)/3 -> 0 | CL7: ='Aligning data'!AT7 -> D1 | CM7: ='Aligning data'!AT8 -> E1 | CN7: ='Aligning data'!AT9 -> F1 | CO7: =SUM(CL7:CN7)/3 -> 0 | CP7: ='Aligning data'!AV7 -> D1 | CQ7: ='Aligning data'!AV8 -> E1 | CR7: ='Aligning data'!AV9 -> F1 | CS7: =SUM(CP7:CR7)/3 -> 0
A8: #18 | B8: ='Aligning data'!B10 -> G1 | C8: ='Aligning data'!B11 -> H1 | D8: ='Aligning data'!B12 -> I1 | E8: =SUM(B8:D8)/3 -> 0 | F8: ='Aligning data'!D10 -> G1 | G8: ='Aligning data'!D11 -> H1 | H8: ='Aligning data'!D12 -> I1 | I8: =SUM(F8:H8)/3 -> 0 | J8: ='Aligning data'!F10 -> G1 | K8: ='Aligning data'!F11 -> H1 | L8: ='Aligning data'!F12 -> I1 | M8: =SUM(J8:L8)/3 -> 0 | N8: ='Aligning data'!H10 -> G1 | O8: ='Aligning data'!H11 -> H1 | P8: ='Aligning data'!H12 -> I1 | Q8: =SUM(N8:P8)/3 -> 0 | R8: ='Aligning data'!J10 -> G1 | S8: ='Aligning data'!J11 -> H1 | T8: ='Aligning data'!J12 -> I1 | U8: =SUM(R8:T8)/3 -> 0 | V8: ='Aligning data'!L10 -> G1 | W8: ='Aligning data'!L11 -> H1 | X8: ='Aligning data'!L12 -> I1 | Y8: =SUM(V8:X8)/3 -> 0 | Z8: ='Aligning data'!N10 -> G1 | AA8: ='Aligning data'!N11 -> H1 | AB8: ='Aligning data'!N12 -> I1 | AC8: =SUM(Z8:AB8)/3 -> 0 | AD8: ='Aligning data'!P10 -> G1 | AE8: ='Aligning data'!P11 -> H1 | AF8: ='Aligning data'!P12 -> I1 | AG8: =SUM(AD8:AF8)/3 -> 0 | AH8: ='Aligning data'!R10 -> G1 | AI8: ='Aligning data'!R11 -> H1 | AJ8: ='Aligning data'!R12 -> I1 | AK8: =SUM(AH8:AJ8)/3 -> 0 | AL8: ='Aligning data'!T10 -> G1 | AM8: ='Aligning data'!T11 -> H1 | AN8: ='Aligning data'!T12 -> I1 | AO8: =SUM(AL8:AN8)/3 -> 0 | AP8: ='Aligning data'!V10 -> G1 | AQ8: ='Aligning data'!V11 -> H1 | AR8: ='Aligning data'!V12 -> I1 | AS8: =SUM(AP8:AR8)/3 -> 0 | AT8: ='Aligning data'!X10 -> G1 | AU8: ='Aligning data'!X11 -> H1 | AV8: ='Aligning data'!X12 -> I1 | AW8: =SUM(AT8:AV8)/3 -> 0 | AX8: ='Aligning data'!Z10 -> G1 | AY8: ='Aligning data'!Z11 -> H1 | AZ8: ='Aligning data'!Z12 -> I1 | BA8: =SUM(AX8:AZ8)/3 -> 0 | BB8: ='Aligning data'!AB10 -> G1 | BC8: ='Aligning data'!AB11 -> H1 | BD8: ='Aligning data'!AB12 -> I1 | BE8: =SUM(BB8:BD8)/3 -> 0 | BF8: ='Aligning data'!AD10 -> G1 | BG8: ='Aligning data'!AD11 -> H1 | BH8: ='Aligning data'!AD12 -> I1 | BI8: =SUM(BF8:BH8)/3 -> 0 | BJ8: ='Aligning data'!AF10 -> G1 | BK8: ='Aligning data'!AF11 -> H1 | BL8: ='Aligning data'!AF12 -> I1 | BM8: =SUM(BJ8:BL8)/3 -> 0 | BN8: ='Aligning data'!AH10 -> G1 | BO8: ='Aligning data'!AH11 -> H1 | BP8: ='Aligning data'!AH12 -> I1 | BQ8: =SUM(BN8:BP8)/3 -> 0 | BR8: ='Aligning data'!AJ10 -> G1 | BS8: ='Aligning data'!AJ11 -> H1 | BT8: ='Aligning data'!AJ12 -> I1 | BU8: =SUM(BR8:BT8)/3 -> 0 | BV8: ='Aligning data'!AL10 -> G1 | BW8: ='Aligning data'!AL11 -> H1 | BX8: ='Aligning data'!AL12 -> I1 | BY8: =SUM(BV8:BX8)/3 -> 0 | BZ8: ='Aligning data'!AN10 -> G1 | CA8: ='Aligning data'!AN11 -> H1 | CB8: ='Aligning data'!AN12 -> I1 | CC8: =SUM(BZ8:CB8)/3 -> 0 | CD8: ='Aligning data'!AP10 -> G1 | CE8: ='Aligning data'!AP11 -> H1 | CF8: ='Aligning data'!AP12 -> I1 | CG8: =SUM(CD8:CF8)/3 -> 0 | CH8: ='Aligning data'!AR10 -> G1 | CI8: ='Aligning data'!AR11 -> H1 | CJ8: ='Aligning data'!AR12 -> I1 | CK8: =SUM(CH8:CJ8)/3 -> 0 | CL8: ='Aligning data'!AT10 -> G1 | CM8: ='Aligning data'!AT11 -> H1 | CN8: ='Aligning data'!AT12 -> I1 | CO8: =SUM(CL8:CN8)/3 -> 0 | CP8: ='Aligning data'!AV10 -> G1 | CQ8: ='Aligning data'!AV11 -> H1 | CR8: ='Aligning data'!AV12 -> I1 | CS8: =SUM(CP8:CR8)/3 -> 0
A9: Human IgA | B9: ='Aligning data'!B13 -> J1 | C9: ='Aligning data'!B14 -> K1 | D9: ='Aligning data'!B15 -> L1 | E9: =SUM(B9:D9)/3 -> 0 | F9: ='Aligning data'!D13 -> J1 | G9: ='Aligning data'!D14 -> K1 | H9: ='Aligning data'!D15 -> L1 | I9: =SUM(F9:H9)/3 -> 0 | J9: ='Aligning data'!F13 -> J1 | K9: ='Aligning data'!F14 -> K1 | L9: ='Aligning data'!F15 -> L1 | M9: =SUM(J9:L9)/3 -> 0 | N9: ='Aligning data'!H13 -> J1 | O9: ='Aligning data'!H14 -> K1 | P9: ='Aligning data'!H15 -> L1 | Q9: =SUM(N9:P9)/3 -> 0 | R9: ='Aligning data'!J13 -> J1 | S9: ='Aligning data'!J14 -> K1 | T9: ='Aligning data'!J15 -> L1 | U9: =SUM(R9:T9)/3 -> 0 | V9: ='Aligning data'!L13 -> J1 | W9: ='Aligning data'!L14 -> K1 | X9: ='Aligning data'!L15 -> L1 | Y9: =SUM(V9:X9)/3 -> 0 | Z9: ='Aligning data'!N13 -> J1 | AA9: ='Aligning data'!N14 -> K1 | AB9: ='Aligning data'!N15 -> L1 | AC9: =SUM(Z9:AB9)/3 -> 0 | AD9: ='Aligning data'!P13 -> J1 | AE9: ='Aligning data'!P14 -> K1 | AF9: ='Aligning data'!P15 -> L1 | AG9: =SUM(AD9:AF9)/3 -> 0 | AH9: ='Aligning data'!R13 -> J1 | AI9: ='Aligning data'!R14 -> K1 | AJ9: ='Aligning data'!R15 -> L1 | AK9: =SUM(AH9:AJ9)/3 -> 0 | AL9: ='Aligning data'!T13 -> J1 | AM9: ='Aligning data'!T14 -> K1 | AN9: ='Aligning data'!T15 -> L1 | AO9: =SUM(AL9:AN9)/3 -> 0 | AP9: ='Aligning data'!V13 -> J1 | AQ9: ='Aligning data'!V14 -> K1 | AR9: ='Aligning data'!V15 -> L1 | AS9: =SUM(AP9:AR9)/3 -> 0 | AT9: ='Aligning data'!X13 -> J1 | AU9: ='Aligning data'!X14 -> K1 | AV9: ='Aligning data'!X15 -> L1 | AW9: =SUM(AT9:AV9)/3 -> 0 | AX9: ='Aligning data'!Z13 -> J1 | AY9: ='Aligning data'!Z14 -> K1 | AZ9: ='Aligning data'!Z15 -> L1 | BA9: =SUM(AX9:AZ9)/3 -> 0 | BB9: ='Aligning data'!AB13 -> J1 | BC9: ='Aligning data'!AB14 -> K1 | BD9: ='Aligning data'!AB15 -> L1 | BE9: =SUM(BB9:BD9)/3 -> 0 | BF9: ='Aligning data'!AD13 -> J1 | BG9: ='Aligning data'!AD14 -> K1 | BH9: ='Aligning data'!AD15 -> L1 | BI9: =SUM(BF9:BH9)/3 -> 0 | BJ9: ='Aligning data'!AF13 -> J1 | BK9: ='Aligning data'!AF14 -> K1 | BL9: ='Aligning data'!AF15 -> L1 | BM9: =SUM(BJ9:BL9)/3 -> 0 | BN9: ='Aligning data'!AH13 -> J1 | BO9: ='Aligning data'!AH14 -> K1 | BP9: ='Aligning data'!AH15 -> L1 | BQ9: =SUM(BN9:BP9)/3 -> 0 | BR9: ='Aligning data'!AJ13 -> J1 | BS9: ='Aligning data'!AJ14 -> K1 | BT9: ='Aligning data'!AJ15 -> L1 | BU9: =SUM(BR9:BT9)/3 -> 0 | BV9: ='Aligning data'!AL13 -> J1 | BW9: ='Aligning data'!AL14 -> K1 | BX9: ='Aligning data'!AL15 -> L1 | BY9: =SUM(BV9:BX9)/3 -> 0 | BZ9: ='Aligning data'!AN13 -> J1 | CA9: ='Aligning data'!AN14 -> K1 | CB9: ='Aligning data'!AN15 -> L1 | CC9: =SUM(BZ9:CB9)/3 -> 0 | CD9: ='Aligning data'!AP13 -> J1 | CE9: ='Aligning data'!AP14 -> K1 | CF9: ='Aligning data'!AP15 -> L1 | CG9: =SUM(CD9:CF9)/3 -> 0 | CH9: ='Aligning data'!AR13 -> J1 | CI9: ='Aligning data'!AR14 -> K1 | CJ9: ='Aligning data'!AR15 -> L1 | CK9: =SUM(CH9:CJ9)/3 -> 0 | CL9: ='Aligning data'!AT13 -> J1 | CM9: ='Aligning data'!AT14 -> K1 | CN9: ='Aligning data'!AT15 -> L1 | CO9: =SUM(CL9:CN9)/3 -> 0 | CP9: ='Aligning data'!AV13 -> J1 | CQ9: ='Aligning data'!AV14 -> K1 | CR9: ='Aligning data'!AV15 -> L1 | CS9: =SUM(CP9:CR9)/3 -> 0
A10: #9 | B10: ='Aligning data'!B19 -> D2 | C10: ='Aligning data'!B20 -> E2 | D10: ='Aligning data'!B21 -> F2 | E10: =SUM(B10:D10)/3 -> 0 | F10: ='Aligning data'!D19 -> D2 | G10: ='Aligning data'!D20 -> E2 | H10: ='Aligning data'!D21 -> F2 | I10: =SUM(F10:H10)/3 -> 0 | J10: ='Aligning data'!F19 -> D2 | K10: ='Aligning data'!F20 -> E2 | L10: ='Aligning data'!F21 -> F2 | M10: =SUM(J10:L10)/3 -> 0 | N10: ='Aligning data'!H19 -> D2 | O10: ='Aligning data'!H20 -> E2 | P10: ='Aligning data'!H21 -> F2 | Q10: =SUM(N10:P10)/3 -> 0 | R10: ='Aligning data'!J19 -> D2 | S10: ='Aligning data'!J20 -> E2 | T10: ='Aligning data'!J21 -> F2 | U10: =SUM(R10:T10)/3 -> 0 | V10: ='Aligning data'!L19 -> D2 | W10: ='Aligning data'!L20 -> E2 | X10: ='Aligning data'!L21 -> F2 | Y10: =SUM(V10:X10)/3 -> 0 | Z10: ='Aligning data'!N19 -> D2 | AA10: ='Aligning data'!N20 -> E2 | AB10: ='Aligning data'!N21 -> F2 | AC10: =SUM(Z10:AB10)/3 -> 0 | AD10: ='Aligning data'!P19 -> D2 | AE10: ='Aligning data'!P20 -> E2 | AF10: ='Aligning data'!P21 -> F2 | AG10: =SUM(AD10:AF10)/3 -> 0 | AH10: ='Aligning data'!R19 -> D2 | AI10: ='Aligning data'!R20 -> E2 | AJ10: ='Aligning data'!R21 -> F2 | AK10: =SUM(AH10:AJ10)/3 -> 0 | AL10: ='Aligning data'!T19 -> D2 | AM10: ='Aligning data'!T20 -> E2 | AN10: ='Aligning data'!T21 -> F2 | AO10: =SUM(AL10:AN10)/3 -> 0 | AP10: ='Aligning data'!V19 -> D2 | AQ10: ='Aligning data'!V20 -> E2 | AR10: ='Aligning data'!V21 -> F2 | AS10: =SUM(AP10:AR10)/3 -> 0 | AT10: ='Aligning data'!X19 -> D2 | AU10: ='Aligning data'!X20 -> E2 | AV10: ='Aligning data'!X21 -> F2 | AW10: =SUM(AT10:AV10)/3 -> 0 | AX10: ='Aligning data'!Z19 -> D2 | AY10: ='Aligning data'!Z20 -> E2 | AZ10: ='Aligning data'!Z21 -> F2 | BA10: =SUM(AX10:AZ10)/3 -> 0 | BB10: ='Aligning data'!AB19 -> D2 | BC10: ='Aligning data'!AB20 -> E2 | BD10: ='Aligning data'!AB21 -> F2 | BE10: =SUM(BB10:BD10)/3 -> 0 | BF10: ='Aligning data'!AD19 -> D2 | BG10: ='Aligning data'!AD20 -> E2 | BH10: ='Aligning data'!AD21 -> F2 | BI10: =SUM(BF10:BH10)/3 -> 0 | BJ10: ='Aligning data'!AF19 -> D2 | BK10: ='Aligning data'!AF20 -> E2 | BL10: ='Aligning data'!AF21 -> F2 | BM10: =SUM(BJ10:BL10)/3 -> 0 | BN10: ='Aligning data'!AH19 -> D2 | BO10: ='Aligning data'!AH20 -> E2 | BP10: ='Aligning data'!AH21 -> F2 | BQ10: =SUM(BN10:BP10)/3 -> 0 | BR10: ='Aligning data'!AJ19 -> D2 | BS10: ='Aligning data'!AJ20 -> E2 | BT10: ='Aligning data'!AJ21 -> F2 | BU10: =SUM(BR10:BT10)/3 -> 0 | BV10: ='Aligning data'!AL19 -> D2 | BW10: ='Aligning data'!AL20 -> E2 | BX10: ='Aligning data'!AL21 -> F2 | BY10: =SUM(BV10:BX10)/3 -> 0 | BZ10: ='Aligning data'!AN19 -> D2 | CA10: ='Aligning data'!AN20 -> E2 | CB10: ='Aligning data'!AN21 -> F2 | CC10: =SUM(BZ10:CB10)/3 -> 0 | CD10: ='Aligning data'!AP19 -> D2 | CE10: ='Aligning data'!AP20 -> E2 | CF10: ='Aligning data'!AP21 -> F2 | CG10: =SUM(CD10:CF10)/3 -> 0 | CH10: ='Aligning data'!AR19 -> D2 | CI10: ='Aligning data'!AR20 -> E2 | CJ10: ='Aligning data'!AR21 -> F2 | CK10: =SUM(CH10:CJ10)/3 -> 0 | CL10: ='Aligning data'!AT19 -> D2 | CM10: ='Aligning data'!AT20 -> E2 | CN10: ='Aligning data'!AT21 -> F2 | CO10: =SUM(CL10:CN10)/3 -> 0 | CP10: ='Aligning data'!AV19 -> D2 | CQ10: ='Aligning data'!AV20 -> E2 | CR10: ='Aligning data'!AV21 -> F2 | CS10: =SUM(CP10:CR10)/3 -> 0
A11: #19 | B11: ='Aligning data'!B22 -> G2 | C11: ='Aligning data'!B23 -> H2 | D11: ='Aligning data'!B24 -> I2 | E11: =SUM(B11:D11)/3 -> 0 | F11: ='Aligning data'!D22 -> G2 | G11: ='Aligning data'!D23 -> H2 | H11: ='Aligning data'!D24 -> I2 | I11: =SUM(F11:H11)/3 -> 0 | J11: ='Aligning data'!F22 -> G2 | K11: ='Aligning data'!F23 -> H2 | L11: ='Aligning data'!F24 -> I2 | M11: =SUM(J11:L11)/3 -> 0 | N11: ='Aligning data'!H22 -> G2 | O11: ='Aligning data'!H23 -> H2 | P11: ='Aligning data'!H24 -> I2 | Q11: =SUM(N11:P11)/3 -> 0 | R11: ='Aligning data'!J22 -> G2 | S11: ='Aligning data'!J23 -> H2 | T11: ='Aligning data'!J24 -> I2 | U11: =SUM(R11:T11)/3 -> 0 | V11: ='Aligning data'!L22 -> G2 | W11: ='Aligning data'!L23 -> H2 | X11: ='Aligning data'!L24 -> I2 | Y11: =SUM(V11:X11)/3 -> 0 | Z11: ='Aligning data'!N22 -> G2 | AA11: ='Aligning data'!N23 -> H2 | AB11: ='Aligning data'!N24 -> I2 | AC11: =SUM(Z11:AB11)/3 -> 0 | AD11: ='Aligning data'!P22 -> G2 | AE11: ='Aligning data'!P23 -> H2 | AF11: ='Aligning data'!P24 -> I2 | AG11: =SUM(AD11:AF11)/3 -> 0 | AH11: ='Aligning data'!R22 -> G2 | AI11: ='Aligning data'!R23 -> H2 | AJ11: ='Aligning data'!R24 -> I2 | AK11: =SUM(AH11:AJ11)/3 -> 0 | AL11: ='Aligning data'!T22 -> G2 | AM11: ='Aligning data'!T23 -> H2 | AN11: ='Aligning data'!T24 -> I2 | AO11: =SUM(AL11:AN11)/3 -> 0 | AP11: ='Aligning data'!V22 -> G2 | AQ11: ='Aligning data'!V23 -> H2 | AR11: ='Aligning data'!V24 -> I2 | AS11: =SUM(AP11:AR11)/3 -> 0 | AT11: ='Aligning data'!X22 -> G2 | AU11: ='Aligning data'!X23 -> H2 | AV11: ='Aligning data'!X24 -> I2 | AW11: =SUM(AT11:AV11)/3 -> 0 | AX11: ='Aligning data'!Z22 -> G2 | AY11: ='Aligning data'!Z23 -> H2 | AZ11: ='Aligning data'!Z24 -> I2 | BA11: =SUM(AX11:AZ11)/3 -> 0 | BB11: ='Aligning data'!AB22 -> G2 | BC11: ='Aligning data'!AB23 -> H2 | BD11: ='Aligning data'!AB24 -> I2 | BE11: =SUM(BB11:BD11)/3 -> 0 | BF11: ='Aligning data'!AD22 -> G2 | BG11: ='Aligning data'!AD23 -> H2 | BH11: ='Aligning data'!AD24 -> I2 | BI11: =SUM(BF11:BH11)/3 -> 0 | BJ11: ='Aligning data'!AF22 -> G2 | BK11: ='Aligning data'!AF23 -> H2 | BL11: ='Aligning data'!AF24 -> I2 | BM11: =SUM(BJ11:BL11)/3 -> 0 | BN11: ='Aligning data'!AH22 -> G2 | BO11: ='Aligning data'!AH23 -> H2 | BP11: ='Aligning data'!AH24 -> I2 | BQ11: =SUM(BN11:BP11)/3 -> 0 | BR11: ='Aligning data'!AJ22 -> G2 | BS11: ='Aligning data'!AJ23 -> H2 | BT11: ='Aligning data'!AJ24 -> I2 | BU11: =SUM(BR11:BT11)/3 -> 0 | BV11: ='Aligning data'!AL22 -> G2 | BW11: ='Aligning data'!AL23 -> H2 | BX11: ='Aligning data'!AL24 -> I2 | BY11: =SUM(BV11:BX11)/3 -> 0 | BZ11: ='Aligning data'!AN22 -> G2 | CA11: ='Aligning data'!AN23 -> H2 | CB11: ='Aligning data'!AN24 -> I2 | CC11: =SUM(BZ11:CB11)/3 -> 0 | CD11: ='Aligning data'!AP22 -> G2 | CE11: ='Aligning data'!AP23 -> H2 | CF11: ='Aligning data'!AP24 -> I2 | CG11: =SUM(CD11:CF11)/3 -> 0 | CH11: ='Aligning data'!AR22 -> G2 | CI11: ='Aligning data'!AR23 -> H2 | CJ11: ='Aligning data'!AR24 -> I2 | CK11: =SUM(CH11:CJ11)/3 -> 0 | CL11: ='Aligning data'!AT22 -> G2 | CM11: ='Aligning data'!AT23 -> H2 | CN11: ='Aligning data'!AT24 -> I2 | CO11: =SUM(CL11:CN11)/3 -> 0 | CP11: ='Aligning data'!AV22 -> G2 | CQ11: ='Aligning data'!AV23 -> H2 | CR11: ='Aligning data'!AV24 -> I2 | CS11: =SUM(CP11:CR11)/3 -> 0
A12: #1 | B12: ='Aligning data'!B28 -> A3 | C12: ='Aligning data'!B29 -> B3 | D12: ='Aligning data'!B30 -> C3 | E12: =SUM(B12:D12)/3 -> 0 | F12: ='Aligning data'!D28 -> A3 | G12: ='Aligning data'!D29 -> B3 | H12: ='Aligning data'!D30 -> C3 | I12: =SUM(F12:H12)/3 -> 0 | J12: ='Aligning data'!F28 -> A3 | K12: ='Aligning data'!F29 -> B3 | L12: ='Aligning data'!F30 -> C3 | M12: =SUM(J12:L12)/3 -> 0 | N12: ='Aligning data'!H28 -> A3 | O12: ='Aligning data'!H29 -> B3 | P12: ='Aligning data'!H30 -> C3 | Q12: =SUM(N12:P12)/3 -> 0 | R12: ='Aligning data'!J28 -> A3 | S12: ='Aligning data'!J29 -> B3 | T12: ='Aligning data'!J30 -> C3 | U12: =SUM(R12:T12)/3 -> 0 | V12: ='Aligning data'!L28 -> A3 | W12: ='Aligning data'!L29 -> B3 | X12: ='Aligning data'!L30 -> C3 | Y12: =SUM(V12:X12)/3 -> 0 | Z12: ='Aligning data'!N28 -> A3 | AA12: ='Aligning data'!N29 -> B3 | AB12: ='Aligning data'!N30 -> C3 | AC12: =SUM(Z12:AB12)/3 -> 0 | AD12: ='Aligning data'!P28 -> A3 | AE12: ='Aligning data'!P29 -> B3 | AF12: ='Aligning data'!P30 -> C3 | AG12: =SUM(AD12:AF12)/3 -> 0 | AH12: ='Aligning data'!R28 -> A3 | AI12: ='Aligning data'!R29 -> B3 | AJ12: ='Aligning data'!R30 -> C3 | AK12: =SUM(AH12:AJ12)/3 -> 0 | AL12: ='Aligning data'!T28 -> A3 | AM12: ='Aligning data'!T29 -> B3 | AN12: ='Aligning data'!T30 -> C3 | AO12: =SUM(AL12:AN12)/3 -> 0 | AP12: ='Aligning data'!V28 -> A3 | AQ12: ='Aligning data'!V29 -> B3 | AR12: ='Aligning data'!V30 -> C3 | AS12: =SUM(AP12:AR12)/3 -> 0 | AT12: ='Aligning data'!X28 -> A3 | AU12: ='Aligning data'!X29 -> B3 | AV12: ='Aligning data'!X30 -> C3 | AW12: =SUM(AT12:AV12)/3 -> 0 | AX12: ='Aligning data'!Z28 -> A3 | AY12: ='Aligning data'!Z29 -> B3 | AZ12: ='Aligning data'!Z30 -> C3 | BA12: =SUM(AX12:AZ12)/3 -> 0 | BB12: ='Aligning data'!AB28 -> A3 | BC12: ='Aligning data'!AB29 -> B3 | BD12: ='Aligning data'!AB30 -> C3 | BE12: =SUM(BB12:BD12)/3 -> 0 | BF12: ='Aligning data'!AD28 -> A3 | BG12: ='Aligning data'!AD29 -> B3 | BH12: ='Aligning data'!AD30 -> C3 | BI12: =SUM(BF12:BH12)/3 -> 0 | BJ12: ='Aligning data'!AF28 -> A3 | BK12: ='Aligning data'!AF29 -> B3 | BL12: ='Aligning data'!AF30 -> C3 | BM12: =SUM(BJ12:BL12)/3 -> 0 | BN12: ='Aligning data'!AH28 -> A3 | BO12: ='Aligning data'!AH29 -> B3 | BP12: ='Aligning data'!AH30 -> C3 | BQ12: =SUM(BN12:BP12)/3 -> 0 | BR12: ='Aligning data'!AJ28 -> A3 | BS12: ='Aligning data'!AJ29 -> B3 | BT12: ='Aligning data'!AJ30 -> C3 | BU12: =SUM(BR12:BT12)/3 -> 0 | BV12: ='Aligning data'!AL28 -> A3 | BW12: ='Aligning data'!AL29 -> B3 | BX12: ='Aligning data'!AL30 -> C3 | BY12: =SUM(BV12:BX12)/3 -> 0 | BZ12: ='Aligning data'!AN28 -> A3 | CA12: ='Aligning data'!AN29 -> B3 | CB12: ='Aligning data'!AN30 -> C3 | CC12: =SUM(BZ12:CB12)/3 -> 0 | CD12: ='Aligning data'!AP28 -> A3 | CE12: ='Aligning data'!AP29 -> B3 | CF12: ='Aligning data'!AP30 -> C3 | CG12: =SUM(CD12:CF12)/3 -> 0 | CH12: ='Aligning data'!AR28 -> A3 | CI12: ='Aligning data'!AR29 -> B3 | CJ12: ='Aligning data'!AR30 -> C3 | CK12: =SUM(CH12:CJ12)/3 -> 0 | CL12: ='Aligning data'!AT28 -> A3 | CM12: ='Aligning data'!AT29 -> B3 | CN12: ='Aligning data'!AT30 -> C3 | CO12: =SUM(CL12:CN12)/3 -> 0 | CP12: ='Aligning data'!AV28 -> A3 | CQ12: ='Aligning data'!AV29 -> B3 | CR12: ='Aligning data'!AV30 -> C3 | CS12: =SUM(CP12:CR12)/3 -> 0
A13: #10 | B13: ='Aligning data'!B31 -> D3 | C13: ='Aligning data'!B32 -> E3 | D13: ='Aligning data'!B33 -> F3 | E13: =SUM(B13:D13)/3 -> 0 | F13: ='Aligning data'!D31 -> D3 | G13: ='Aligning data'!D32 -> E3 | H13: ='Aligning data'!D33 -> F3 | I13: =SUM(F13:H13)/3 -> 0 | J13: ='Aligning data'!F31 -> D3 | K13: ='Aligning data'!F32 -> E3 | L13: ='Aligning data'!F33 -> F3 | M13: =SUM(J13:L13)/3 -> 0 | N13: ='Aligning data'!H31 -> D3 | O13: ='Aligning data'!H32 -> E3 | P13: ='Aligning data'!H33 -> F3 | Q13: =SUM(N13:P13)/3 -> 0 | R13: ='Aligning data'!J31 -> D3 | S13: ='Aligning data'!J32 -> E3 | T13: ='Aligning data'!J33 -> F3 | U13: =SUM(R13:T13)/3 -> 0 | V13: ='Aligning data'!L31 -> D3 | W13: ='Aligning data'!L32 -> E3 | X13: ='Aligning data'!L33 -> F3 | Y13: =SUM(V13:X13)/3 -> 0 | Z13: ='Aligning data'!N31 -> D3 | AA13: ='Aligning data'!N32 -> E3 | AB13: ='Aligning data'!N33 -> F3 | AC13: =SUM(Z13:AB13)/3 -> 0 | AD13: ='Aligning data'!P31 -> D3 | AE13: ='Aligning data'!P32 -> E3 | AF13: ='Aligning data'!P33 -> F3 | AG13: =SUM(AD13:AF13)/3 -> 0 | AH13: ='Aligning data'!R31 -> D3 | AI13: ='Aligning data'!R32 -> E3 | AJ13: ='Aligning data'!R33 -> F3 | AK13: =SUM(AH13:AJ13)/3 -> 0 | AL13: ='Aligning data'!T31 -> D3 | AM13: ='Aligning data'!T32 -> E3 | AN13: ='Aligning data'!T33 -> F3 | AO13: =SUM(AL13:AN13)/3 -> 0 | AP13: ='Aligning data'!V31 -> D3 | AQ13: ='Aligning data'!V32 -> E3 | AR13: ='Aligning data'!V33 -> F3 | AS13: =SUM(AP13:AR13)/3 -> 0 | AT13: ='Aligning data'!X31 -> D3 | AU13: ='Aligning data'!X32 -> E3 | AV13: ='Aligning data'!X33 -> F3 | AW13: =SUM(AT13:AV13)/3 -> 0 | AX13: ='Aligning data'!Z31 -> D3 | AY13: ='Aligning data'!Z32 -> E3 | AZ13: ='Aligning data'!Z33 -> F3 | BA13: =SUM(AX13:AZ13)/3 -> 0 | BB13: ='Aligning data'!AB31 -> D3 | BC13: ='Aligning data'!AB32 -> E3 | BD13: ='Aligning data'!AB33 -> F3 | BE13: =SUM(BB13:BD13)/3 -> 0 | BF13: ='Aligning data'!AD31 -> D3 | BG13: ='Aligning data'!AD32 -> E3 | BH13: ='Aligning data'!AD33 -> F3 | BI13: =SUM(BF13:BH13)/3 -> 0 | BJ13: ='Aligning data'!AF31 -> D3 | BK13: ='Aligning data'!AF32 -> E3 | BL13: ='Aligning data'!AF33 -> F3 | BM13: =SUM(BJ13:BL13)/3 -> 0 | BN13: ='Aligning data'!AH31 -> D3 | BO13: ='Aligning data'!AH32 -> E3 | BP13: ='Aligning data'!AH33 -> F3 | BQ13: =SUM(BN13:BP13)/3 -> 0 | BR13: ='Aligning data'!AJ31 -> D3 | BS13: ='Aligning data'!AJ32 -> E3 | BT13: ='Aligning data'!AJ33 -> F3 | BU13: =SUM(BR13:BT13)/3 -> 0 | BV13: ='Aligning data'!AL31 -> D3 | BW13: ='Aligning data'!AL32 -> E3 | BX13: ='Aligning data'!AL33 -> F3 | BY13: =SUM(BV13:BX13)/3 -> 0 | BZ13: ='Aligning data'!AN31 -> D3 | CA13: ='Aligning data'!AN32 -> E3 | CB13: ='Aligning data'!AN33 -> F3 | CC13: =SUM(BZ13:CB13)/3 -> 0 | CD13: ='Aligning data'!AP31 -> D3 | CE13: ='Aligning data'!AP32 -> E3 | CF13: ='Aligning data'!AP33 -> F3 | CG13: =SUM(CD13:CF13)/3 -> 0 | CH13: ='Aligning data'!AR31 -> D3 | CI13: ='Aligning data'!AR32 -> E3 | CJ13: ='Aligning data'!AR33 -> F3 | CK13: =SUM(CH13:CJ13)/3 -> 0 | CL13: ='Aligning data'!AT31 -> D3 | CM13: ='Aligning data'!AT32 -> E3 | CN13: ='Aligning data'!AT33 -> F3 | CO13: =SUM(CL13:CN13)/3 -> 0 | CP13: ='Aligning data'!AV31 -> D3 | CQ13: ='Aligning data'!AV32 -> E3 | CR13: ='Aligning data'!AV33 -> F3 | CS13: =SUM(CP13:CR13)/3 -> 0
A14: #20 | B14: ='Aligning data'!B34 -> G3 | C14: ='Aligning data'!B35 -> H3 | D14: ='Aligning data'!B36 -> I3 | E14: =SUM(B14:D14)/3 -> 0 | F14: ='Aligning data'!D34 -> G3 | G14: ='Aligning data'!D35 -> H3 | H14: ='Aligning data'!D36 -> I3 | I14: =SUM(F14:H14)/3 -> 0 | J14: ='Aligning data'!F34 -> G3 | K14: ='Aligning data'!F35 -> H3 | L14: ='Aligning data'!F36 -> I3 | M14: =SUM(J14:L14)/3 -> 0 | N14: ='Aligning data'!H34 -> G3 | O14: ='Aligning data'!H35 -> H3 | P14: ='Aligning data'!H36 -> I3 | Q14: =SUM(N14:P14)/3 -> 0 | R14: ='Aligning data'!J34 -> G3 | S14: ='Aligning data'!J35 -> H3 | T14: ='Aligning data'!J36 -> I3 | U14: =SUM(R14:T14)/3 -> 0 | V14: ='Aligning data'!L34 -> G3 | W14: ='Aligning data'!L35 -> H3 | X14: ='Aligning data'!L36 -> I3 | Y14: =SUM(V14:X14)/3 -> 0 | Z14: ='Aligning data'!N34 -> G3 | AA14: ='Aligning data'!N35 -> H3 | AB14: ='Aligning data'!N36 -> I3 | AC14: =SUM(Z14:AB14)/3 -> 0 | AD14: ='Aligning data'!P34 -> G3 | AE14: ='Aligning data'!P35 -> H3 | AF14: ='Aligning data'!P36 -> I3 | AG14: =SUM(AD14:AF14)/3 -> 0 | AH14: ='Aligning data'!R34 -> G3 | AI14: ='Aligning data'!R35 -> H3 | AJ14: ='Aligning data'!R36 -> I3 | AK14: =SUM(AH14:AJ14)/3 -> 0 | AL14: ='Aligning data'!T34 -> G3 | AM14: ='Aligning data'!T35 -> H3 | AN14: ='Aligning data'!T36 -> I3 | AO14: =SUM(AL14:AN14)/3 -> 0 | AP14: ='Aligning data'!V34 -> G3 | AQ14: ='Aligning data'!V35 -> H3 | AR14: ='Aligning data'!V36 -> I3 | AS14: =SUM(AP14:AR14)/3 -> 0 | AT14: ='Aligning data'!X34 -> G3 | AU14: ='Aligning data'!X35 -> H3 | AV14: ='Aligning data'!X36 -> I3 | AW14: =SUM(AT14:AV14)/3 -> 0 | AX14: ='Aligning data'!Z34 -> G3 | AY14: ='Aligning data'!Z35 -> H3 | AZ14: ='Aligning data'!Z36 -> I3 | BA14: =SUM(AX14:AZ14)/3 -> 0 | BB14: ='Aligning data'!AB34 -> G3 | BC14: ='Aligning data'!AB35 -> H3 | BD14: ='Aligning data'!AB36 -> I3 | BE14: =SUM(BB14:BD14)/3 -> 0 | BF14: ='Aligning data'!AD34 -> G3 | BG14: ='Aligning data'!AD35 -> H3 | BH14: ='Aligning data'!AD36 -> I3 | BI14: =SUM(BF14:BH14)/3 -> 0 | BJ14: ='Aligning data'!AF34 -> G3 | BK14: ='Aligning data'!AF35 -> H3 | BL14: ='Aligning data'!AF36 -> I3 | BM14: =SUM(BJ14:BL14)/3 -> 0 | BN14: ='Aligning data'!AH34 -> G3 | BO14: ='Aligning data'!AH35 -> H3 | BP14: ='Aligning data'!AH36 -> I3 | BQ14: =SUM(BN14:BP14)/3 -> 0 | BR14: ='Aligning data'!AJ34 -> G3 | BS14: ='Aligning data'!AJ35 -> H3 | BT14: ='Aligning data'!AJ36 -> I3 | BU14: =SUM(BR14:BT14)/3 -> 0 | BV14: ='Aligning data'!AL34 -> G3 | BW14: ='Aligning data'!AL35 -> H3 | BX14: ='Aligning data'!AL36 -> I3 | BY14: =SUM(BV14:BX14)/3 -> 0 | BZ14: ='Aligning data'!AN34 -> G3 | CA14: ='Aligning data'!AN35 -> H3 | CB14: ='Aligning data'!AN36 -> I3 | CC14: =SUM(BZ14:CB14)/3 -> 0 | CD14: ='Aligning data'!AP34 -> G3 | CE14: ='Aligning data'!AP35 -> H3 | CF14: ='Aligning data'!AP36 -> I3 | CG14: =SUM(CD14:CF14)/3 -> 0 | CH14: ='Aligning data'!AR34 -> G3 | CI14: ='Aligning data'!AR35 -> H3 | CJ14: ='Aligning data'!AR36 -> I3 | CK14: =SUM(CH14:CJ14)/3 -> 0 | CL14: ='Aligning data'!AT34 -> G3 | CM14: ='Aligning data'!AT35 -> H3 | CN14: ='Aligning data'!AT36 -> I3 | CO14: =SUM(CL14:CN14)/3 -> 0 | CP14: ='Aligning data'!AV34 -> G3 | CQ14: ='Aligning data'!AV35 -> H3 | CR14: ='Aligning data'!AV36 -> I3 | CS14: =SUM(CP14:CR14)/3 -> 0
A15: 0.1% BSA-PBS | B15: ='Aligning data'!B37 -> J3 | C15: ='Aligning data'!B38 -> K3 | D15: ='Aligning data'!B39 -> L3 | E15: =SUM(B15:D15)/3 -> 0 | F15: ='Aligning data'!D37 -> J3 | G15: ='Aligning data'!D38 -> K3 | H15: ='Aligning data'!D39 -> L3 | I15: =SUM(F15:H15)/3 -> 0 | J15: ='Aligning data'!F37 -> J3 | K15: ='Aligning data'!F38 -> K3 | L15: ='Aligning data'!F39 -> L3 | M15: =SUM(J15:L15)/3 -> 0 | N15: ='Aligning data'!H37 -> J3 | O15: ='Aligning data'!H38 -> K3 | P15: ='Aligning data'!H39 -> L3 | Q15: =SUM(N15:P15)/3 -> 0 | R15: ='Aligning data'!J37 -> J3 | S15: ='Aligning data'!J38 -> K3 | T15: ='Aligning data'!J39 -> L3 | U15: =SUM(R15:T15)/3 -> 0 | V15: ='Aligning data'!L37 -> J3 | W15: ='Aligning data'!L38 -> K3 | X15: ='Aligning data'!L39 -> L3 | Y15: =SUM(V15:X15)/3 -> 0 | Z15: ='Aligning data'!N37 -> J3 | AA15: ='Aligning data'!N38 -> K3 | AB15: ='Aligning data'!N39 -> L3 | AC15: =SUM(Z15:AB15)/3 -> 0 | AD15: ='Aligning data'!P37 -> J3 | AE15: ='Aligning data'!P38 -> K3 | AF15: ='Aligning data'!P39 -> L3 | AG15: =SUM(AD15:AF15)/3 -> 0 | AH15: ='Aligning data'!R37 -> J3 | AI15: ='Aligning data'!R38 -> K3 | AJ15: ='Aligning data'!R39 -> L3 | AK15: =SUM(AH15:AJ15)/3 -> 0 | AL15: ='Aligning data'!T37 -> J3 | AM15: ='Aligning data'!T38 -> K3 | AN15: ='Aligning data'!T39 -> L3 | AO15: =SUM(AL15:AN15)/3 -> 0 | AP15: ='Aligning data'!V37 -> J3 | AQ15: ='Aligning data'!V38 -> K3 | AR15: ='Aligning data'!V39 -> L3 | AS15: =SUM(AP15:AR15)/3 -> 0 | AT15: ='Aligning data'!X37 -> J3 | AU15: ='Aligning data'!X38 -> K3 | AV15: ='Aligning data'!X39 -> L3 | AW15: =SUM(AT15:AV15)/3 -> 0 | AX15: ='Aligning data'!Z37 -> J3 | AY15: ='Aligning data'!Z38 -> K3 | AZ15: ='Aligning data'!Z39 -> L3 | BA15: =SUM(AX15:AZ15)/3 -> 0 | BB15: ='Aligning data'!AB37 -> J3 | BC15: ='Aligning data'!AB38 -> K3 | BD15: ='Aligning data'!AB39 -> L3 | BE15: =SUM(BB15:BD15)/3 -> 0 | BF15: ='Aligning data'!AD37 -> J3 | BG15: ='Aligning data'!AD38 -> K3 | BH15: ='Aligning data'!AD39 -> L3 | BI15: =SUM(BF15:BH15)/3 -> 0 | BJ15: ='Aligning data'!AF37 -> J3 | BK15: ='Aligning data'!AF38 -> K3 | BL15: ='Aligning data'!AF39 -> L3 | BM15: =SUM(BJ15:BL15)/3 -> 0 | BN15: ='Aligning data'!AH37 -> J3 | BO15: ='Aligning data'!AH38 -> K3 | BP15: ='Aligning data'!AH39 -> L3 | BQ15: =SUM(BN15:BP15)/3 -> 0 | BR15: ='Aligning data'!AJ37 -> J3 | BS15: ='Aligning data'!AJ38 -> K3 | BT15: ='Aligning data'!AJ39 -> L3 | BU15: =SUM(BR15:BT15)/3 -> 0 | BV15: ='Aligning data'!AL37 -> J3 | BW15: ='Aligning data'!AL38 -> K3 | BX15: ='Aligning data'!AL39 -> L3 | BY15: =SUM(BV15:BX15)/3 -> 0 | BZ15: ='Aligning data'!AN37 -> J3 | CA15: ='Aligning data'!AN38 -> K3 | CB15: ='Aligning data'!AN39 -> L3 | CC15: =SUM(BZ15:CB15)/3 -> 0 | CD15: ='Aligning data'!AP37 -> J3 | CE15: ='Aligning data'!AP38 -> K3 | CF15: ='Aligning data'!AP39 -> L3 | CG15: =SUM(CD15:CF15)/3 -> 0 | CH15: ='Aligning data'!AR37 -> J3 | CI15: ='Aligning data'!AR38 -> K3 | CJ15: ='Aligning data'!AR39 -> L3 | CK15: =SUM(CH15:CJ15)/3 -> 0 | CL15: ='Aligning data'!AT37 -> J3 | CM15: ='Aligning data'!AT38 -> K3 | CN15: ='Aligning data'!AT39 -> L3 | CO15: =SUM(CL15:CN15)/3 -> 0 | CP15: ='Aligning data'!AV37 -> J3 | CQ15: ='Aligning data'!AV38 -> K3 | CR15: ='Aligning data'!AV39 -> L3 | CS15: =SUM(CP15:CR15)/3 -> 0
A16: #2 | B16: ='Aligning data'!B40 -> A4 | C16: ='Aligning data'!B41 -> B4 | D16: ='Aligning data'!B42 -> C4 | E16: =SUM(B16:D16)/3 -> 0 | F16: ='Aligning data'!D40 -> A4 | G16: ='Aligning data'!D41 -> B4 | H16: ='Aligning data'!D42 -> C4 | I16: =SUM(F16:H16)/3 -> 0 | J16: ='Aligning data'!F40 -> A4 | K16: ='Aligning data'!F41 -> B4 | L16: ='Aligning data'!F42 -> C4 | M16: =SUM(J16:L16)/3 -> 0 | N16: ='Aligning data'!H40 -> A4 | O16: ='Aligning data'!H41 -> B4 | P16: ='Aligning data'!H42 -> C4 | Q16: =SUM(N16:P16)/3 -> 0 | R16: ='Aligning data'!J40 -> A4 | S16: ='Aligning data'!J41 -> B4 | T16: ='Aligning data'!J42 -> C4 | U16: =SUM(R16:T16)/3 -> 0 | V16: ='Aligning data'!L40 -> A4 | W16: ='Aligning data'!L41 -> B4 | X16: ='Aligning data'!L42 -> C4 | Y16: =SUM(V16:X16)/3 -> 0 | Z16: ='Aligning data'!N40 -> A4 | AA16: ='Aligning data'!N41 -> B4 | AB16: ='Aligning data'!N42 -> C4 | AC16: =SUM(Z16:AB16)/3 -> 0 | AD16: ='Aligning data'!P40 -> A4 | AE16: ='Aligning data'!P41 -> B4 | AF16: ='Aligning data'!P42 -> C4 | AG16: =SUM(AD16:AF16)/3 -> 0 | AH16: ='Aligning data'!R40 -> A4 | AI16: ='Aligning data'!R41 -> B4 | AJ16: ='Aligning data'!R42 -> C4 | AK16: =SUM(AH16:AJ16)/3 -> 0 | AL16: ='Aligning data'!T40 -> A4 | AM16: ='Aligning data'!T41 -> B4 | AN16: ='Aligning data'!T42 -> C4 | AO16: =SUM(AL16:AN16)/3 -> 0 | AP16: ='Aligning data'!V40 -> A4 | AQ16: ='Aligning data'!V41 -> B4 | AR16: ='Aligning data'!V42 -> C4 | AS16: =SUM(AP16:AR16)/3 -> 0 | AT16: ='Aligning data'!X40 -> A4 | AU16: ='Aligning data'!X41 -> B4 | AV16: ='Aligning data'!X42 -> C4 | AW16: =SUM(AT16:AV16)/3 -> 0 | AX16: ='Aligning data'!Z40 -> A4 | AY16: ='Aligning data'!Z41 -> B4 | AZ16: ='Aligning data'!Z42 -> C4 | BA16: =SUM(AX16:AZ16)/3 -> 0 | BB16: ='Aligning data'!AB40 -> A4 | BC16: ='Aligning data'!AB41 -> B4 | BD16: ='Aligning data'!AB42 -> C4 | BE16: =SUM(BB16:BD16)/3 -> 0 | BF16: ='Aligning data'!AD40 -> A4 | BG16: ='Aligning data'!AD41 -> B4 | BH16: ='Aligning data'!AD42 -> C4 | BI16: =SUM(BF16:BH16)/3 -> 0 | BJ16: ='Aligning data'!AF40 -> A4 | BK16: ='Aligning data'!AF41 -> B4 | BL16: ='Aligning data'!AF42 -> C4 | BM16: =SUM(BJ16:BL16)/3 -> 0 | BN16: ='Aligning data'!AH40 -> A4 | BO16: ='Aligning data'!AH41 -> B4 | BP16: ='Aligning data'!AH42 -> C4 | BQ16: =SUM(BN16:BP16)/3 -> 0 | BR16: ='Aligning data'!AJ40 -> A4 | BS16: ='Aligning data'!AJ41 -> B4 | BT16: ='Aligning data'!AJ42 -> C4 | BU16: =SUM(BR16:BT16)/3 -> 0 | BV16: ='Aligning data'!AL40 -> A4 | BW16: ='Aligning data'!AL41 -> B4 | BX16: ='Aligning data'!AL42 -> C4 | BY16: =SUM(BV16:BX16)/3 -> 0 | BZ16: ='Aligning data'!AN40 -> A4 | CA16: ='Aligning data'!AN41 -> B4 | CB16: ='Aligning data'!AN42 -> C4 | CC16: =SUM(BZ16:CB16)/3 -> 0 | CD16: ='Aligning data'!AP40 -> A4 | CE16: ='Aligning data'!AP41 -> B4 | CF16: ='Aligning data'!AP42 -> C4 | CG16: =SUM(CD16:CF16)/3 -> 0 | CH16: ='Aligning data'!AR40 -> A4 | CI16: ='Aligning data'!AR41 -> B4 | CJ16: ='Aligning data'!AR42 -> C4 | CK16: =SUM(CH16:CJ16)/3 -> 0 | CL16: ='Aligning data'!AT40 -> A4 | CM16: ='Aligning data'!AT41 -> B4 | CN16: ='Aligning data'!AT42 -> C4 | CO16: =SUM(CL16:CN16)/3 -> 0 | CP16: ='Aligning data'!AV40 -> A4 | CQ16: ='Aligning data'!AV41 -> B4 | CR16: ='Aligning data'!AV42 -> C4 | CS16: =SUM(CP16:CR16)/3 -> 0
A17: #11 | B17: ='Aligning data'!B43 -> D4 | C17: ='Aligning data'!B44 -> E4 | D17: ='Aligning data'!B45 -> F4 | E17: =SUM(B17:D17)/3 -> 0 | F17: ='Aligning data'!D43 -> D4 | G17: ='Aligning data'!D44 -> E4 | H17: ='Aligning data'!D45 -> F4 | I17: =SUM(F17:H17)/3 -> 0 | J17: ='Aligning data'!F43 -> D4 | K17: ='Aligning data'!F44 -> E4 | L17: ='Aligning data'!F45 -> F4 | M17: =SUM(J17:L17)/3 -> 0 | N17: ='Aligning data'!H43 -> D4 | O17: ='Aligning data'!H44 -> E4 | P17: ='Aligning data'!H45 -> F4 | Q17: =SUM(N17:P17)/3 -> 0 | R17: ='Aligning data'!J43 -> D4 | S17: ='Aligning data'!J44 -> E4 | T17: ='Aligning data'!J45 -> F4 | U17: =SUM(R17:T17)/3 -> 0 | V17: ='Aligning data'!L43 -> D4 | W17: ='Aligning data'!L44 -> E4 | X17: ='Aligning data'!L45 -> F4 | Y17: =SUM(V17:X17)/3 -> 0 | Z17: ='Aligning data'!N43 -> D4 | AA17: ='Aligning data'!N44 -> E4 | AB17: ='Aligning data'!N45 -> F4 | AC17: =SUM(Z17:AB17)/3 -> 0 | AD17: ='Aligning data'!P43 -> D4 | AE17: ='Aligning data'!P44 -> E4 | AF17: ='Aligning data'!P45 -> F4 | AG17: =SUM(AD17:AF17)/3 -> 0 | AH17: ='Aligning data'!R43 -> D4 | AI17: ='Aligning data'!R44 -> E4 | AJ17: ='Aligning data'!R45 -> F4 | AK17: =SUM(AH17:AJ17)/3 -> 0 | AL17: ='Aligning data'!T43 -> D4 | AM17: ='Aligning data'!T44 -> E4 | AN17: ='Aligning data'!T45 -> F4 | AO17: =SUM(AL17:AN17)/3 -> 0 | AP17: ='Aligning data'!V43 -> D4 | AQ17: ='Aligning data'!V44 -> E4 | AR17: ='Aligning data'!V45 -> F4 | AS17: =SUM(AP17:AR17)/3 -> 0 | AT17: ='Aligning data'!X43 -> D4 | AU17: ='Aligning data'!X44 -> E4 | AV17: ='Aligning data'!X45 -> F4 | AW17: =SUM(AT17:AV17)/3 -> 0 | AX17: ='Aligning data'!Z43 -> D4 | AY17: ='Aligning data'!Z44 -> E4 | AZ17: ='Aligning data'!Z45 -> F4 | BA17: =SUM(AX17:AZ17)/3 -> 0 | BB17: ='Aligning data'!AB43 -> D4 | BC17: ='Aligning data'!AB44 -> E4 | BD17: ='Aligning data'!AB45 -> F4 | BE17: =SUM(BB17:BD17)/3 -> 0 | BF17: ='Aligning data'!AD43 -> D4 | BG17: ='Aligning data'!AD44 -> E4 | BH17: ='Aligning data'!AD45 -> F4 | BI17: =SUM(BF17:BH17)/3 -> 0 | BJ17: ='Aligning data'!AF43 -> D4 | BK17: ='Aligning data'!AF44 -> E4 | BL17: ='Aligning data'!AF45 -> F4 | BM17: =SUM(BJ17:BL17)/3 -> 0 | BN17: ='Aligning data'!AH43 -> D4 | BO17: ='Aligning data'!AH44 -> E4 | BP17: ='Aligning data'!AH45 -> F4 | BQ17: =SUM(BN17:BP17)/3 -> 0 | BR17: ='Aligning data'!AJ43 -> D4 | BS17: ='Aligning data'!AJ44 -> E4 | BT17: ='Aligning data'!AJ45 -> F4 | BU17: =SUM(BR17:BT17)/3 -> 0 | BV17: ='Aligning data'!AL43 -> D4 | BW17: ='Aligning data'!AL44 -> E4 | BX17: ='Aligning data'!AL45 -> F4 | BY17: =SUM(BV17:BX17)/3 -> 0 | BZ17: ='Aligning data'!AN43 -> D4 | CA17: ='Aligning data'!AN44 -> E4 | CB17: ='Aligning data'!AN45 -> F4 | CC17: =SUM(BZ17:CB17)/3 -> 0 | CD17: ='Aligning data'!AP43 -> D4 | CE17: ='Aligning data'!AP44 -> E4 | CF17: ='Aligning data'!AP45 -> F4 | CG17: =SUM(CD17:CF17)/3 -> 0 | CH17: ='Aligning data'!AR43 -> D4 | CI17: ='Aligning data'!AR44 -> E4 | CJ17: ='Aligning data'!AR45 -> F4 | CK17: =SUM(CH17:CJ17)/3 -> 0 | CL17: ='Aligning data'!AT43 -> D4 | CM17: ='Aligning data'!AT44 -> E4 | CN17: ='Aligning data'!AT45 -> F4 | CO17: =SUM(CL17:CN17)/3 -> 0 | CP17: ='Aligning data'!AV43 -> D4 | CQ17: ='Aligning data'!AV44 -> E4 | CR17: ='Aligning data'!AV45 -> F4 | CS17: =SUM(CP17:CR17)/3 -> 0
A18: #21 | B18: ='Aligning data'!B46 -> G4 | C18: ='Aligning data'!B47 -> H4 | D18: ='Aligning data'!B48 -> I4 | E18: =SUM(B18:D18)/3 -> 0 | F18: ='Aligning data'!D46 -> G4 | G18: ='Aligning data'!D47 -> H4 | H18: ='Aligning data'!D48 -> I4 | I18: =SUM(F18:H18)/3 -> 0 | J18: ='Aligning data'!F46 -> G4 | K18: ='Aligning data'!F47 -> H4 | L18: ='Aligning data'!F48 -> I4 | M18: =SUM(J18:L18)/3 -> 0 | N18: ='Aligning data'!H46 -> G4 | O18: ='Aligning data'!H47 -> H4 | P18: ='Aligning data'!H48 -> I4 | Q18: =SUM(N18:P18)/3 -> 0 | R18: ='Aligning data'!J46 -> G4 | S18: ='Aligning data'!J47 -> H4 | T18: ='Aligning data'!J48 -> I4 | U18: =SUM(R18:T18)/3 -> 0 | V18: ='Aligning data'!L46 -> G4 | W18: ='Aligning data'!L47 -> H4 | X18: ='Aligning data'!L48 -> I4 | Y18: =SUM(V18:X18)/3 -> 0 | Z18: ='Aligning data'!N46 -> G4 | AA18: ='Aligning data'!N47 -> H4 | AB18: ='Aligning data'!N48 -> I4 | AC18: =SUM(Z18:AB18)/3 -> 0 | AD18: ='Aligning data'!P46 -> G4 | AE18: ='Aligning data'!P47 -> H4 | AF18: ='Aligning data'!P48 -> I4 | AG18: =SUM(AD18:AF18)/3 -> 0 | AH18: ='Aligning data'!R46 -> G4 | AI18: ='Aligning data'!R47 -> H4 | AJ18: ='Aligning data'!R48 -> I4 | AK18: =SUM(AH18:AJ18)/3 -> 0 | AL18: ='Aligning data'!T46 -> G4 | AM18: ='Aligning data'!T47 -> H4 | AN18: ='Aligning data'!T48 -> I4 | AO18: =SUM(AL18:AN18)/3 -> 0 | AP18: ='Aligning data'!V46 -> G4 | AQ18: ='Aligning data'!V47 -> H4 | AR18: ='Aligning data'!V48 -> I4 | AS18: =SUM(AP18:AR18)/3 -> 0 | AT18: ='Aligning data'!X46 -> G4 | AU18: ='Aligning data'!X47 -> H4 | AV18: ='Aligning data'!X48 -> I4 | AW18: =SUM(AT18:AV18)/3 -> 0 | AX18: ='Aligning data'!Z46 -> G4 | AY18: ='Aligning data'!Z47 -> H4 | AZ18: ='Aligning data'!Z48 -> I4 | BA18: =SUM(AX18:AZ18)/3 -> 0 | BB18: ='Aligning data'!AB46 -> G4 | BC18: ='Aligning data'!AB47 -> H4 | BD18: ='Aligning data'!AB48 -> I4 | BE18: =SUM(BB18:BD18)/3 -> 0 | BF18: ='Aligning data'!AD46 -> G4 | BG18: ='Aligning data'!AD47 -> H4 | BH18: ='Aligning data'!AD48 -> I4 | BI18: =SUM(BF18:BH18)/3 -> 0 | BJ18: ='Aligning data'!AF46 -> G4 | BK18: ='Aligning data'!AF47 -> H4 | BL18: ='Aligning data'!AF48 -> I4 | BM18: =SUM(BJ18:BL18)/3 -> 0 | BN18: ='Aligning data'!AH46 -> G4 | BO18: ='Aligning data'!AH47 -> H4 | BP18: ='Aligning data'!AH48 -> I4 | BQ18: =SUM(BN18:BP18)/3 -> 0 | BR18: ='Aligning data'!AJ46 -> G4 | BS18: ='Aligning data'!AJ47 -> H4 | BT18: ='Aligning data'!AJ48 -> I4 | BU18: =SUM(BR18:BT18)/3 -> 0 | BV18: ='Aligning data'!AL46 -> G4 | BW18: ='Aligning data'!AL47 -> H4 | BX18: ='Aligning data'!AL48 -> I4 | BY18: =SUM(BV18:BX18)/3 -> 0 | BZ18: ='Aligning data'!AN46 -> G4 | CA18: ='Aligning data'!AN47 -> H4 | CB18: ='Aligning data'!AN48 -> I4 | CC18: =SUM(BZ18:CB18)/3 -> 0 | CD18: ='Aligning data'!AP46 -> G4 | CE18: ='Aligning data'!AP47 -> H4 | CF18: ='Aligning data'!AP48 -> I4 | CG18: =SUM(CD18:CF18)/3 -> 0 | CH18: ='Aligning data'!AR46 -> G4 | CI18: ='Aligning data'!AR47 -> H4 | CJ18: ='Aligning data'!AR48 -> I4 | CK18: =SUM(CH18:CJ18)/3 -> 0 | CL18: ='Aligning data'!AT46 -> G4 | CM18: ='Aligning data'!AT47 -> H4 | CN18: ='Aligning data'!AT48 -> I4 | CO18: =SUM(CL18:CN18)/3 -> 0 | CP18: ='Aligning data'!AV46 -> G4 | CQ18: ='Aligning data'!AV47 -> H4 | CR18: ='Aligning data'!AV48 -> I4 | CS18: =SUM(CP18:CR18)/3 -> 0
A19: #28 | B19: ='Aligning data'!B49 -> J4 | C19: ='Aligning data'!B50 -> K4 | D19: ='Aligning data'!B51 -> L4 | E19: =SUM(B19:D19)/3 -> 0 | F19: ='Aligning data'!D49 -> J4 | G19: ='Aligning data'!D50 -> K4 | H19: ='Aligning data'!D51 -> L4 | I19: =SUM(F19:H19)/3 -> 0 | J19: ='Aligning data'!F49 -> J4 | K19: ='Aligning data'!F50 -> K4 | L19: ='Aligning data'!F51 -> L4 | M19: =SUM(J19:L19)/3 -> 0 | N19: ='Aligning data'!H49 -> J4 | O19: ='Aligning data'!H50 -> K4 | P19: ='Aligning data'!H51 -> L4 | Q19: =SUM(N19:P19)/3 -> 0 | R19: ='Aligning data'!J49 -> J4 | S19: ='Aligning data'!J50 -> K4 | T19: ='Aligning data'!J51 -> L4 | U19: =SUM(R19:T19)/3 -> 0 | V19: ='Aligning data'!L49 -> J4 | W19: ='Aligning data'!L50 -> K4 | X19: ='Aligning data'!L51 -> L4 | Y19: =SUM(V19:X19)/3 -> 0 | Z19: ='Aligning data'!N49 -> J4 | AA19: ='Aligning data'!N50 -> K4 | AB19: ='Aligning data'!N51 -> L4 | AC19: =SUM(Z19:AB19)/3 -> 0 | AD19: ='Aligning data'!P49 -> J4 | AE19: ='Aligning data'!P50 -> K4 | AF19: ='Aligning data'!P51 -> L4 | AG19: =SUM(AD19:AF19)/3 -> 0 | AH19: ='Aligning data'!R49 -> J4 | AI19: ='Aligning data'!R50 -> K4 | AJ19: ='Aligning data'!R51 -> L4 | AK19: =SUM(AH19:AJ19)/3 -> 0 | AL19: ='Aligning data'!T49 -> J4 | AM19: ='Aligning data'!T50 -> K4 | AN19: ='Aligning data'!T51 -> L4 | AO19: =SUM(AL19:AN19)/3 -> 0 | AP19: ='Aligning data'!V49 -> J4 | AQ19: ='Aligning data'!V50 -> K4 | AR19: ='Aligning data'!V51 -> L4 | AS19: =SUM(AP19:AR19)/3 -> 0 | AT19: ='Aligning data'!X49 -> J4 | AU19: ='Aligning data'!X50 -> K4 | AV19: ='Aligning data'!X51 -> L4 | AW19: =SUM(AT19:AV19)/3 -> 0 | AX19: ='Aligning data'!Z49 -> J4 | AY19: ='Aligning data'!Z50 -> K4 | AZ19: ='Aligning data'!Z51 -> L4 | BA19: =SUM(AX19:AZ19)/3 -> 0 | BB19: ='Aligning data'!AB49 -> J4 | BC19: ='Aligning data'!AB50 -> K4 | BD19: ='Aligning data'!AB51 -> L4 | BE19: =SUM(BB19:BD19)/3 -> 0 | BF19: ='Aligning data'!AD49 -> J4 | BG19: ='Aligning data'!AD50 -> K4 | BH19: ='Aligning data'!AD51 -> L4 | BI19: =SUM(BF19:BH19)/3 -> 0 | BJ19: ='Aligning data'!AF49 -> J4 | BK19: ='Aligning data'!AF50 -> K4 | BL19: ='Aligning data'!AF51 -> L4 | BM19: =SUM(BJ19:BL19)/3 -> 0 | BN19: ='Aligning data'!AH49 -> J4 | BO19: ='Aligning data'!AH50 -> K4 | BP19: ='Aligning data'!AH51 -> L4 | BQ19: =SUM(BN19:BP19)/3 -> 0 | BR19: ='Aligning data'!AJ49 -> J4 | BS19: ='Aligning data'!AJ50 -> K4 | BT19: ='Aligning data'!AJ51 -> L4 | BU19: =SUM(BR19:BT19)/3 -> 0 | BV19: ='Aligning data'!AL49 -> J4 | BW19: ='Aligning data'!AL50 -> K4 | BX19: ='Aligning data'!AL51 -> L4 | BY19: =SUM(BV19:BX19)/3 -> 0 | BZ19: ='Aligning data'!AN49 -> J4 | CA19: ='Aligning data'!AN50 -> K4 | CB19: ='Aligning data'!AN51 -> L4 | CC19: =SUM(BZ19:CB19)/3 -> 0 | CD19: ='Aligning data'!AP49 -> J4 | CE19: ='Aligning data'!AP50 -> K4 | CF19: ='Aligning data'!AP51 -> L4 | CG19: =SUM(CD19:CF19)/3 -> 0 | CH19: ='Aligning data'!AR49 -> J4 | CI19: ='Aligning data'!AR50 -> K4 | CJ19: ='Aligning data'!AR51 -> L4 | CK19: =SUM(CH19:CJ19)/3 -> 0 | CL19: ='Aligning data'!AT49 -> J4 | CM19: ='Aligning data'!AT50 -> K4 | CN19: ='Aligning data'!AT51 -> L4 | CO19: =SUM(CL19:CN19)/3 -> 0 | CP19: ='Aligning data'!AV49 -> J4 | CQ19: ='Aligning data'!AV50 -> K4 | CR19: ='Aligning data'!AV51 -> L4 | CS19: =SUM(CP19:CR19)/3 -> 0
A20: #3 | B20: ='Aligning data'!B52 -> A5 | C20: ='Aligning data'!B53 -> B5 | D20: ='Aligning data'!B54 -> C5 | E20: =SUM(B20:D20)/3 -> 0 | F20: ='Aligning data'!D52 -> A5 | G20: ='Aligning data'!D53 -> B5 | H20: ='Aligning data'!D54 -> C5 | I20: =SUM(F20:H20)/3 -> 0 | J20: ='Aligning data'!F52 -> A5 | K20: ='Aligning data'!F53 -> B5 | L20: ='Aligning data'!F54 -> C5 | M20: =SUM(J20:L20)/3 -> 0 | N20: ='Aligning data'!H52 -> A5 | O20: ='Aligning data'!H53 -> B5 | P20: ='Aligning data'!H54 -> C5 | Q20: =SUM(N20:P20)/3 -> 0 | R20: ='Aligning data'!J52 -> A5 | S20: ='Aligning data'!J53 -> B5 | T20: ='Aligning data'!J54 -> C5 | U20: =SUM(R20:T20)/3 -> 0 | V20: ='Aligning data'!L52 -> A5 | W20: ='Aligning data'!L53 -> B5 | X20: ='Aligning data'!L54 -> C5 | Y20: =SUM(V20:X20)/3 -> 0 | Z20: ='Aligning data'!N52 -> A5 | AA20: ='Aligning data'!N53 -> B5 | AB20: ='Aligning data'!N54 -> C5 | AC20: =SUM(Z20:AB20)/3 -> 0 | AD20: ='Aligning data'!P52 -> A5 | AE20: ='Aligning data'!P53 -> B5 | AF20: ='Aligning data'!P54 -> C5 | AG20: =SUM(AD20:AF20)/3 -> 0 | AH20: ='Aligning data'!R52 -> A5 | AI20: ='Aligning data'!R53 -> B5 | AJ20: ='Aligning data'!R54 -> C5 | AK20: =SUM(AH20:AJ20)/3 -> 0 | AL20: ='Aligning data'!T52 -> A5 | AM20: ='Aligning data'!T53 -> B5 | AN20: ='Aligning data'!T54 -> C5 | AO20: =SUM(AL20:AN20)/3 -> 0 | AP20: ='Aligning data'!V52 -> A5 | AQ20: ='Aligning data'!V53 -> B5 | AR20: ='Aligning data'!V54 -> C5 | AS20: =SUM(AP20:AR20)/3 -> 0 | AT20: ='Aligning data'!X52 -> A5 | AU20: ='Aligning data'!X53 -> B5 | AV20: ='Aligning data'!X54 -> C5 | AW20: =SUM(AT20:AV20)/3 -> 0 | AX20: ='Aligning data'!Z52 -> A5 | AY20: ='Aligning data'!Z53 -> B5 | AZ20: ='Aligning data'!Z54 -> C5 | BA20: =SUM(AX20:AZ20)/3 -> 0 | BB20: ='Aligning data'!AB52 -> A5 | BC20: ='Aligning data'!AB53 -> B5 | BD20: ='Aligning data'!AB54 -> C5 | BE20: =SUM(BB20:BD20)/3 -> 0 | BF20: ='Aligning data'!AD52 -> A5 | BG20: ='Aligning data'!AD53 -> B5 | BH20: ='Aligning data'!AD54 -> C5 | BI20: =SUM(BF20:BH20)/3 -> 0 | BJ20: ='Aligning data'!AF52 -> A5 | BK20: ='Aligning data'!AF53 -> B5 | BL20: ='Aligning data'!AF54 -> C5 | BM20: =SUM(BJ20:BL20)/3 -> 0 | BN20: ='Aligning data'!AH52 -> A5 | BO20: ='Aligning data'!AH53 -> B5 | BP20: ='Aligning data'!AH54 -> C5 | BQ20: =SUM(BN20:BP20)/3 -> 0 | BR20: ='Aligning data'!AJ52 -> A5 | BS20: ='Aligning data'!AJ53 -> B5 | BT20: ='Aligning data'!AJ54 -> C5 | BU20: =SUM(BR20:BT20)/3 -> 0 | BV20: ='Aligning data'!AL52 -> A5 | BW20: ='Aligning data'!AL53 -> B5 | BX20: ='Aligning data'!AL54 -> C5 | BY20: =SUM(BV20:BX20)/3 -> 0 | BZ20: ='Aligning data'!AN52 -> A5 | CA20: ='Aligning data'!AN53 -> B5 | CB20: ='Aligning data'!AN54 -> C5 | CC20: =SUM(BZ20:CB20)/3 -> 0 | CD20: ='Aligning data'!AP52 -> A5 | CE20: ='Aligning data'!AP53 -> B5 | CF20: ='Aligning data'!AP54 -> C5 | CG20: =SUM(CD20:CF20)/3 -> 0 | CH20: ='Aligning data'!AR52 -> A5 | CI20: ='Aligning data'!AR53 -> B5 | CJ20: ='Aligning data'!AR54 -> C5 | CK20: =SUM(CH20:CJ20)/3 -> 0 | CL20: ='Aligning data'!AT52 -> A5 | CM20: ='Aligning data'!AT53 -> B5 | CN20: ='Aligning data'!AT54 -> C5 | CO20: =SUM(CL20:CN20)/3 -> 0 | CP20: ='Aligning data'!AV52 -> A5 | CQ20: ='Aligning data'!AV53 -> B5 | CR20: ='Aligning data'!AV54 -> C5 | CS20: =SUM(CP20:CR20)/3 -> 0
A21: #12 | B21: ='Aligning data'!B55 -> D5 | C21: ='Aligning data'!B56 -> E5 | D21: ='Aligning data'!B57 -> F5 | E21: =SUM(B21:D21)/3 -> 0 | F21: ='Aligning data'!D55 -> D5 | G21: ='Aligning data'!D56 -> E5 | H21: ='Aligning data'!D57 -> F5 | I21: =SUM(F21:H21)/3 -> 0 | J21: ='Aligning data'!F55 -> D5 | K21: ='Aligning data'!F56 -> E5 | L21: ='Aligning data'!F57 -> F5 | M21: =SUM(J21:L21)/3 -> 0 | N21: ='Aligning data'!H55 -> D5 | O21: ='Aligning data'!H56 -> E5 | P21: ='Aligning data'!H57 -> F5 | Q21: =SUM(N21:P21)/3 -> 0 | R21: ='Aligning data'!J55 -> D5 | S21: ='Aligning data'!J56 -> E5 | T21: ='Aligning data'!J57 -> F5 | U21: =SUM(R21:T21)/3 -> 0 | V21: ='Aligning data'!L55 -> D5 | W21: ='Aligning data'!L56 -> E5 | X21: ='Aligning data'!L57 -> F5 | Y21: =SUM(V21:X21)/3 -> 0 | Z21: ='Aligning data'!N55 -> D5 | AA21: ='Aligning data'!N56 -> E5 | AB21: ='Aligning data'!N57 -> F5 | AC21: =SUM(Z21:AB21)/3 -> 0 | AD21: ='Aligning data'!P55 -> D5 | AE21: ='Aligning data'!P56 -> E5 | AF21: ='Aligning data'!P57 -> F5 | AG21: =SUM(AD21:AF21)/3 -> 0 | AH21: ='Aligning data'!R55 -> D5 | AI21: ='Aligning data'!R56 -> E5 | AJ21: ='Aligning data'!R57 -> F5 | AK21: =SUM(AH21:AJ21)/3 -> 0 | AL21: ='Aligning data'!T55 -> D5 | AM21: ='Aligning data'!T56 -> E5 | AN21: ='Aligning data'!T57 -> F5 | AO21: =SUM(AL21:AN21)/3 -> 0 | AP21: ='Aligning data'!V55 -> D5 | AQ21: ='Aligning data'!V56 -> E5 | AR21: ='Aligning data'!V57 -> F5 | AS21: =SUM(AP21:AR21)/3 -> 0 | AT21: ='Aligning data'!X55 -> D5 | AU21: ='Aligning data'!X56 -> E5 | AV21: ='Aligning data'!X57 -> F5 | AW21: =SUM(AT21:AV21)/3 -> 0 | AX21: ='Aligning data'!Z55 -> D5 | AY21: ='Aligning data'!Z56 -> E5 | AZ21: ='Aligning data'!Z57 -> F5 | BA21: =SUM(AX21:AZ21)/3 -> 0 | BB21: ='Aligning data'!AB55 -> D5 | BC21: ='Aligning data'!AB56 -> E5 | BD21: ='Aligning data'!AB57 -> F5 | BE21: =SUM(BB21:BD21)/3 -> 0 | BF21: ='Aligning data'!AD55 -> D5 | BG21: ='Aligning data'!AD56 -> E5 | BH21: ='Aligning data'!AD57 -> F5 | BI21: =SUM(BF21:BH21)/3 -> 0 | BJ21: ='Aligning data'!AF55 -> D5 | BK21: ='Aligning data'!AF56 -> E5 | BL21: ='Aligning data'!AF57 -> F5 | BM21: =SUM(BJ21:BL21)/3 -> 0 | BN21: ='Aligning data'!AH55 -> D5 | BO21: ='Aligning data'!AH56 -> E5 | BP21: ='Aligning data'!AH57 -> F5 | BQ21: =SUM(BN21:BP21)/3 -> 0 | BR21: ='Aligning data'!AJ55 -> D5 | BS21: ='Aligning data'!AJ56 -> E5 | BT21: ='Aligning data'!AJ57 -> F5 | BU21: =SUM(BR21:BT21)/3 -> 0 | BV21: ='Aligning data'!AL55 -> D5 | BW21: ='Aligning data'!AL56 -> E5 | BX21: ='Aligning data'!AL57 -> F5 | BY21: =SUM(BV21:BX21)/3 -> 0 | BZ21: ='Aligning data'!AN55 -> D5 | CA21: ='Aligning data'!AN56 -> E5 | CB21: ='Aligning data'!AN57 -> F5 | CC21: =SUM(BZ21:CB21)/3 -> 0 | CD21: ='Aligning data'!AP55 -> D5 | CE21: ='Aligning data'!AP56 -> E5 | CF21: ='Aligning data'!AP57 -> F5 | CG21: =SUM(CD21:CF21)/3 -> 0 | CH21: ='Aligning data'!AR55 -> D5 | CI21: ='Aligning data'!AR56 -> E5 | CJ21: ='Aligning data'!AR57 -> F5 | CK21: =SUM(CH21:CJ21)/3 -> 0 | CL21: ='Aligning data'!AT55 -> D5 | CM21: ='Aligning data'!AT56 -> E5 | CN21: ='Aligning data'!AT57 -> F5 | CO21: =SUM(CL21:CN21)/3 -> 0 | CP21: ='Aligning data'!AV55 -> D5 | CQ21: ='Aligning data'!AV56 -> E5 | CR21: ='Aligning data'!AV57 -> F5 | CS21: =SUM(CP21:CR21)/3 -> 0
A22: #22 | B22: ='Aligning data'!B58 -> G5 | C22: ='Aligning data'!B59 -> H5 | D22: ='Aligning data'!B60 -> I5 | E22: =SUM(B22:D22)/3 -> 0 | F22: ='Aligning data'!D58 -> G5 | G22: ='Aligning data'!D59 -> H5 | H22: ='Aligning data'!D60 -> I5 | I22: =SUM(F22:H22)/3 -> 0 | J22: ='Aligning data'!F58 -> G5 | K22: ='Aligning data'!F59 -> H5 | L22: ='Aligning data'!F60 -> I5 | M22: =SUM(J22:L22)/3 -> 0 | N22: ='Aligning data'!H58 -> G5 | O22: ='Aligning data'!H59 -> H5 | P22: ='Aligning data'!H60 -> I5 | Q22: =SUM(N22:P22)/3 -> 0 | R22: ='Aligning data'!J58 -> G5 | S22: ='Aligning data'!J59 -> H5 | T22: ='Aligning data'!J60 -> I5 | U22: =SUM(R22:T22)/3 -> 0 | V22: ='Aligning data'!L58 -> G5 | W22: ='Aligning data'!L59 -> H5 | X22: ='Aligning data'!L60 -> I5 | Y22: =SUM(V22:X22)/3 -> 0 | Z22: ='Aligning data'!N58 -> G5 | AA22: ='Aligning data'!N59 -> H5 | AB22: ='Aligning data'!N60 -> I5 | AC22: =SUM(Z22:AB22)/3 -> 0 | AD22: ='Aligning data'!P58 -> G5 | AE22: ='Aligning data'!P59 -> H5 | AF22: ='Aligning data'!P60 -> I5 | AG22: =SUM(AD22:AF22)/3 -> 0 | AH22: ='Aligning data'!R58 -> G5 | AI22: ='Aligning data'!R59 -> H5 | AJ22: ='Aligning data'!R60 -> I5 | AK22: =SUM(AH22:AJ22)/3 -> 0 | AL22: ='Aligning data'!T58 -> G5 | AM22: ='Aligning data'!T59 -> H5 | AN22: ='Aligning data'!T60 -> I5 | AO22: =SUM(AL22:AN22)/3 -> 0 | AP22: ='Aligning data'!V58 -> G5 | AQ22: ='Aligning data'!V59 -> H5 | AR22: ='Aligning data'!V60 -> I5 | AS22: =SUM(AP22:AR22)/3 -> 0 | AT22: ='Aligning data'!X58 -> G5 | AU22: ='Aligning data'!X59 -> H5 | AV22: ='Aligning data'!X60 -> I5 | AW22: =SUM(AT22:AV22)/3 -> 0 | AX22: ='Aligning data'!Z58 -> G5 | AY22: ='Aligning data'!Z59 -> H5 | AZ22: ='Aligning data'!Z60 -> I5 | BA22: =SUM(AX22:AZ22)/3 -> 0 | BB22: ='Aligning data'!AB58 -> G5 | BC22: ='Aligning data'!AB59 -> H5 | BD22: ='Aligning data'!AB60 -> I5 | BE22: =SUM(BB22:BD22)/3 -> 0 | BF22: ='Aligning data'!AD58 -> G5 | BG22: ='Aligning data'!AD59 -> H5 | BH22: ='Aligning data'!AD60 -> I5 | BI22: =SUM(BF22:BH22)/3 -> 0 | BJ22: ='Aligning data'!AF58 -> G5 | BK22: ='Aligning data'!AF59 -> H5 | BL22: ='Aligning data'!AF60 -> I5 | BM22: =SUM(BJ22:BL22)/3 -> 0 | BN22: ='Aligning data'!AH58 -> G5 | BO22: ='Aligning data'!AH59 -> H5 | BP22: ='Aligning data'!AH60 -> I5 | BQ22: =SUM(BN22:BP22)/3 -> 0 | BR22: ='Aligning data'!AJ58 -> G5 | BS22: ='Aligning data'!AJ59 -> H5 | BT22: ='Aligning data'!AJ60 -> I5 | BU22: =SUM(BR22:BT22)/3 -> 0 | BV22: ='Aligning data'!AL58 -> G5 | BW22: ='Aligning data'!AL59 -> H5 | BX22: ='Aligning data'!AL60 -> I5 | BY22: =SUM(BV22:BX22)/3 -> 0 | BZ22: ='Aligning data'!AN58 -> G5 | CA22: ='Aligning data'!AN59 -> H5 | CB22: ='Aligning data'!AN60 -> I5 | CC22: =SUM(BZ22:CB22)/3 -> 0 | CD22: ='Aligning data'!AP58 -> G5 | CE22: ='Aligning data'!AP59 -> H5 | CF22: ='Aligning data'!AP60 -> I5 | CG22: =SUM(CD22:CF22)/3 -> 0 | CH22: ='Aligning data'!AR58 -> G5 | CI22: ='Aligning data'!AR59 -> H5 | CJ22: ='Aligning data'!AR60 -> I5 | CK22: =SUM(CH22:CJ22)/3 -> 0 | CL22: ='Aligning data'!AT58 -> G5 | CM22: ='Aligning data'!AT59 -> H5 | CN22: ='Aligning data'!AT60 -> I5 | CO22: =SUM(CL22:CN22)/3 -> 0 | CP22: ='Aligning data'!AV58 -> G5 | CQ22: ='Aligning data'!AV59 -> H5 | CR22: ='Aligning data'!AV60 -> I5 | CS22: =SUM(CP22:CR22)/3 -> 0
A23: #29 | B23: ='Aligning data'!B61 -> J5 | C23: ='Aligning data'!B62 -> K5 | D23: ='Aligning data'!B63 -> L5 | E23: =SUM(B23:D23)/3 -> 0 | F23: ='Aligning data'!D61 -> J5 | G23: ='Aligning data'!D62 -> K5 | H23: ='Aligning data'!D63 -> L5 | I23: =SUM(F23:H23)/3 -> 0 | J23: ='Aligning data'!F61 -> J5 | K23: ='Aligning data'!F62 -> K5 | L23: ='Aligning data'!F63 -> L5 | M23: =SUM(J23:L23)/3 -> 0 | N23: ='Aligning data'!H61 -> J5 | O23: ='Aligning data'!H62 -> K5 | P23: ='Aligning data'!H63 -> L5 | Q23: =SUM(N23:P23)/3 -> 0 | R23: ='Aligning data'!J61 -> J5 | S23: ='Aligning data'!J62 -> K5 | T23: ='Aligning data'!J63 -> L5 | U23: =SUM(R23:T23)/3 -> 0 | V23: ='Aligning data'!L61 -> J5 | W23: ='Aligning data'!L62 -> K5 | X23: ='Aligning data'!L63 -> L5 | Y23: =SUM(V23:X23)/3 -> 0 | Z23: ='Aligning data'!N61 -> J5 | AA23: ='Aligning data'!N62 -> K5 | AB23: ='Aligning data'!N63 -> L5 | AC23: =SUM(Z23:AB23)/3 -> 0 | AD23: ='Aligning data'!P61 -> J5 | AE23: ='Aligning data'!P62 -> K5 | AF23: ='Aligning data'!P63 -> L5 | AG23: =SUM(AD23:AF23)/3 -> 0 | AH23: ='Aligning data'!R61 -> J5 | AI23: ='Aligning data'!R62 -> K5 | AJ23: ='Aligning data'!R63 -> L5 | AK23: =SUM(AH23:AJ23)/3 -> 0 | AL23: ='Aligning data'!T61 -> J5 | AM23: ='Aligning data'!T62 -> K5 | AN23: ='Aligning data'!T63 -> L5 | AO23: =SUM(AL23:AN23)/3 -> 0 | AP23: ='Aligning data'!V61 -> J5 | AQ23: ='Aligning data'!V62 -> K5 | AR23: ='Aligning data'!V63 -> L5 | AS23: =SUM(AP23:AR23)/3 -> 0 | AT23: ='Aligning data'!X61 -> J5 | AU23: ='Aligning data'!X62 -> K5 | AV23: ='Aligning data'!X63 -> L5 | AW23: =SUM(AT23:AV23)/3 -> 0 | AX23: ='Aligning data'!Z61 -> J5 | AY23: ='Aligning data'!Z62 -> K5 | AZ23: ='Aligning data'!Z63 -> L5 | BA23: =SUM(AX23:AZ23)/3 -> 0 | BB23: ='Aligning data'!AB61 -> J5 | BC23: ='Aligning data'!AB62 -> K5 | BD23: ='Aligning data'!AB63 -> L5 | BE23: =SUM(BB23:BD23)/3 -> 0 | BF23: ='Aligning data'!AD61 -> J5 | BG23: ='Aligning data'!AD62 -> K5 | BH23: ='Aligning data'!AD63 -> L5 | BI23: =SUM(BF23:BH23)/3 -> 0 | BJ23: ='Aligning data'!AF61 -> J5 | BK23: ='Aligning data'!AF62 -> K5 | BL23: ='Aligning data'!AF63 -> L5 | BM23: =SUM(BJ23:BL23)/3 -> 0 | BN23: ='Aligning data'!AH61 -> J5 | BO23: ='Aligning data'!AH62 -> K5 | BP23: ='Aligning data'!AH63 -> L5 | BQ23: =SUM(BN23:BP23)/3 -> 0 | BR23: ='Aligning data'!AJ61 -> J5 | BS23: ='Aligning data'!AJ62 -> K5 | BT23: ='Aligning data'!AJ63 -> L5 | BU23: =SUM(BR23:BT23)/3 -> 0 | BV23: ='Aligning data'!AL61 -> J5 | BW23: ='Aligning data'!AL62 -> K5 | BX23: ='Aligning data'!AL63 -> L5 | BY23: =SUM(BV23:BX23)/3 -> 0 | BZ23: ='Aligning data'!AN61 -> J5 | CA23: ='Aligning data'!AN62 -> K5 | CB23: ='Aligning data'!AN63 -> L5 | CC23: =SUM(BZ23:CB23)/3 -> 0 | CD23: ='Aligning data'!AP61 -> J5 | CE23: ='Aligning data'!AP62 -> K5 | CF23: ='Aligning data'!AP63 -> L5 | CG23: =SUM(CD23:CF23)/3 -> 0 | CH23: ='Aligning data'!AR61 -> J5 | CI23: ='Aligning data'!AR62 -> K5 | CJ23: ='Aligning data'!AR63 -> L5 | CK23: =SUM(CH23:CJ23)/3 -> 0 | CL23: ='Aligning data'!AT61 -> J5 | CM23: ='Aligning data'!AT62 -> K5 | CN23: ='Aligning data'!AT63 -> L5 | CO23: =SUM(CL23:CN23)/3 -> 0 | CP23: ='Aligning data'!AV61 -> J5 | CQ23: ='Aligning data'!AV62 -> K5 | CR23: ='Aligning data'!AV63 -> L5 | CS23: =SUM(CP23:CR23)/3 -> 0
A24: #4 | B24: ='Aligning data'!B64 -> A6 | C24: ='Aligning data'!B65 -> B6 | D24: ='Aligning data'!B66 -> C6 | E24: =SUM(B24:D24)/3 -> 0 | F24: ='Aligning data'!D64 -> A6 | G24: ='Aligning data'!D65 -> B6 | H24: ='Aligning data'!D66 -> C6 | I24: =SUM(F24:H24)/3 -> 0 | J24: ='Aligning data'!F64 -> A6 | K24: ='Aligning data'!F65 -> B6 | L24: ='Aligning data'!F66 -> C6 | M24: =SUM(J24:L24)/3 -> 0 | N24: ='Aligning data'!H64 -> A6 | O24: ='Aligning data'!H65 -> B6 | P24: ='Aligning data'!H66 -> C6 | Q24: =SUM(N24:P24)/3 -> 0 | R24: ='Aligning data'!J64 -> A6 | S24: ='Aligning data'!J65 -> B6 | T24: ='Aligning data'!J66 -> C6 | U24: =SUM(R24:T24)/3 -> 0 | V24: ='Aligning data'!L64 -> A6 | W24: ='Aligning data'!L65 -> B6 | X24: ='Aligning data'!L66 -> C6 | Y24: =SUM(V24:X24)/3 -> 0 | Z24: ='Aligning data'!N64 -> A6 | AA24: ='Aligning data'!N65 -> B6 | AB24: ='Aligning data'!N66 -> C6 | AC24: =SUM(Z24:AB24)/3 -> 0 | AD24: ='Aligning data'!P64 -> A6 | AE24: ='Aligning data'!P65 -> B6 | AF24: ='Aligning data'!P66 -> C6 | AG24: =SUM(AD24:AF24)/3 -> 0 | AH24: ='Aligning data'!R64 -> A6 | AI24: ='Aligning data'!R65 -> B6 | AJ24: ='Aligning data'!R66 -> C6 | AK24: =SUM(AH24:AJ24)/3 -> 0 | AL24: ='Aligning data'!T64 -> A6 | AM24: ='Aligning data'!T65 -> B6 | AN24: ='Aligning data'!T66 -> C6 | AO24: =SUM(AL24:AN24)/3 -> 0 | AP24: ='Aligning data'!V64 -> A6 | AQ24: ='Aligning data'!V65 -> B6 | AR24: ='Aligning data'!V66 -> C6 | AS24: =SUM(AP24:AR24)/3 -> 0 | AT24: ='Aligning data'!X64 -> A6 | AU24: ='Aligning data'!X65 -> B6 | AV24: ='Aligning data'!X66 -> C6 | AW24: =SUM(AT24:AV24)/3 -> 0 | AX24: ='Aligning data'!Z64 -> A6 | AY24: ='Aligning data'!Z65 -> B6 | AZ24: ='Aligning data'!Z66 -> C6 | BA24: =SUM(AX24:AZ24)/3 -> 0 | BB24: ='Aligning data'!AB64 -> A6 | BC24: ='Aligning data'!AB65 -> B6 | BD24: ='Aligning data'!AB66 -> C6 | BE24: =SUM(BB24:BD24)/3 -> 0 | BF24: ='Aligning data'!AD64 -> A6 | BG24: ='Aligning data'!AD65 -> B6 | BH24: ='Aligning data'!AD66 -> C6 | BI24: =SUM(BF24:BH24)/3 -> 0 | BJ24: ='Aligning data'!AF64 -> A6 | BK24: ='Aligning data'!AF65 -> B6 | BL24: ='Aligning data'!AF66 -> C6 | BM24: =SUM(BJ24:BL24)/3 -> 0 | BN24: ='Aligning data'!AH64 -> A6 | BO24: ='Aligning data'!AH65 -> B6 | BP24: ='Aligning data'!AH66 -> C6 | BQ24: =SUM(BN24:BP24)/3 -> 0 | BR24: ='Aligning data'!AJ64 -> A6 | BS24: ='Aligning data'!AJ65 -> B6 | BT24: ='Aligning data'!AJ66 -> C6 | BU24: =SUM(BR24:BT24)/3 -> 0 | BV24: ='Aligning data'!AL64 -> A6 | BW24: ='Aligning data'!AL65 -> B6 | BX24: ='Aligning data'!AL66 -> C6 | BY24: =SUM(BV24:BX24)/3 -> 0 | BZ24: ='Aligning data'!AN64 -> A6 | CA24: ='Aligning data'!AN65 -> B6 | CB24: ='Aligning data'!AN66 -> C6 | CC24: =SUM(BZ24:CB24)/3 -> 0 | CD24: ='Aligning data'!AP64 -> A6 | CE24: ='Aligning data'!AP65 -> B6 | CF24: ='Aligning data'!AP66 -> C6 | CG24: =SUM(CD24:CF24)/3 -> 0 | CH24: ='Aligning data'!AR64 -> A6 | CI24: ='Aligning data'!AR65 -> B6 | CJ24: ='Aligning data'!AR66 -> C6 | CK24: =SUM(CH24:CJ24)/3 -> 0 | CL24: ='Aligning data'!AT64 -> A6 | CM24: ='Aligning data'!AT65 -> B6 | CN24: ='Aligning data'!AT66 -> C6 | CO24: =SUM(CL24:CN24)/3 -> 0 | CP24: ='Aligning data'!AV64 -> A6 | CQ24: ='Aligning data'!AV65 -> B6 | CR24: ='Aligning data'!AV66 -> C6 | CS24: =SUM(CP24:CR24)/3 -> 0
A25: #13 | B25: ='Aligning data'!B67 -> D6 | C25: ='Aligning data'!B68 -> E6 | D25: ='Aligning data'!B69 -> F6 | E25: =SUM(B25:D25)/3 -> 0 | F25: ='Aligning data'!D67 -> D6 | G25: ='Aligning data'!D68 -> E6 | H25: ='Aligning data'!D69 -> F6 | I25: =SUM(F25:H25)/3 -> 0 | J25: ='Aligning data'!F67 -> D6 | K25: ='Aligning data'!F68 -> E6 | L25: ='Aligning data'!F69 -> F6 | M25: =SUM(J25:L25)/3 -> 0 | N25: ='Aligning data'!H67 -> D6 | O25: ='Aligning data'!H68 -> E6 | P25: ='Aligning data'!H69 -> F6 | Q25: =SUM(N25:P25)/3 -> 0 | R25: ='Aligning data'!J67 -> D6 | S25: ='Aligning data'!J68 -> E6 | T25: ='Aligning data'!J69 -> F6 | U25: =SUM(R25:T25)/3 -> 0 | V25: ='Aligning data'!L67 -> D6 | W25: ='Aligning data'!L68 -> E6 | X25: ='Aligning data'!L69 -> F6 | Y25: =SUM(V25:X25)/3 -> 0 | Z25: ='Aligning data'!N67 -> D6 | AA25: ='Aligning data'!N68 -> E6 | AB25: ='Aligning data'!N69 -> F6 | AC25: =SUM(Z25:AB25)/3 -> 0 | AD25: ='Aligning data'!P67 -> D6 | AE25: ='Aligning data'!P68 -> E6 | AF25: ='Aligning data'!P69 -> F6 | AG25: =SUM(AD25:AF25)/3 -> 0 | AH25: ='Aligning data'!R67 -> D6 | AI25: ='Aligning data'!R68 -> E6 | AJ25: ='Aligning data'!R69 -> F6 | AK25: =SUM(AH25:AJ25)/3 -> 0 | AL25: ='Aligning data'!T67 -> D6 | AM25: ='Aligning data'!T68 -> E6 | AN25: ='Aligning data'!T69 -> F6 | AO25: =SUM(AL25:AN25)/3 -> 0 | AP25: ='Aligning data'!V67 -> D6 | AQ25: ='Aligning data'!V68 -> E6 | AR25: ='Aligning data'!V69 -> F6 | AS25: =SUM(AP25:AR25)/3 -> 0 | AT25: ='Aligning data'!X67 -> D6 | AU25: ='Aligning data'!X68 -> E6 | AV25: ='Aligning data'!X69 -> F6 | AW25: =SUM(AT25:AV25)/3 -> 0 | AX25: ='Aligning data'!Z67 -> D6 | AY25: ='Aligning data'!Z68 -> E6 | AZ25: ='Aligning data'!Z69 -> F6 | BA25: =SUM(AX25:AZ25)/3 -> 0 | BB25: ='Aligning data'!AB67 -> D6 | BC25: ='Aligning data'!AB68 -> E6 | BD25: ='Aligning data'!AB69 -> F6 | BE25: =SUM(BB25:BD25)/3 -> 0 | BF25: ='Aligning data'!AD67 -> D6 | BG25: ='Aligning data'!AD68 -> E6 | BH25: ='Aligning data'!AD69 -> F6 | BI25: =SUM(BF25:BH25)/3 -> 0 | BJ25: ='Aligning data'!AF67 -> D6 | BK25: ='Aligning data'!AF68 -> E6 | BL25: ='Aligning data'!AF69 -> F6 | BM25: =SUM(BJ25:BL25)/3 -> 0 | BN25: ='Aligning data'!AH67 -> D6 | BO25: ='Aligning data'!AH68 -> E6 | BP25: ='Aligning data'!AH69 -> F6 | BQ25: =SUM(BN25:BP25)/3 -> 0 | BR25: ='Aligning data'!AJ67 -> D6 | BS25: ='Aligning data'!AJ68 -> E6 | BT25: ='Aligning data'!AJ69 -> F6 | BU25: =SUM(BR25:BT25)/3 -> 0 | BV25: ='Aligning data'!AL67 -> D6 | BW25: ='Aligning data'!AL68 -> E6 | BX25: ='Aligning data'!AL69 -> F6 | BY25: =SUM(BV25:BX25)/3 -> 0 | BZ25: ='Aligning data'!AN67 -> D6 | CA25: ='Aligning data'!AN68 -> E6 | CB25: ='Aligning data'!AN69 -> F6 | CC25: =SUM(BZ25:CB25)/3 -> 0 | CD25: ='Aligning data'!AP67 -> D6 | CE25: ='Aligning data'!AP68 -> E6 | CF25: ='Aligning data'!AP69 -> F6 | CG25: =SUM(CD25:CF25)/3 -> 0 | CH25: ='Aligning data'!AR67 -> D6 | CI25: ='Aligning data'!AR68 -> E6 | CJ25: ='Aligning data'!AR69 -> F6 | CK25: =SUM(CH25:CJ25)/3 -> 0 | CL25: ='Aligning data'!AT67 -> D6 | CM25: ='Aligning data'!AT68 -> E6 | CN25: ='Aligning data'!AT69 -> F6 | CO25: =SUM(CL25:CN25)/3 -> 0 | CP25: ='Aligning data'!AV67 -> D6 | CQ25: ='Aligning data'!AV68 -> E6 | CR25: ='Aligning data'!AV69 -> F6 | CS25: =SUM(CP25:CR25)/3 -> 0
A26: #23 | B26: ='Aligning data'!B70 -> G6 | C26: ='Aligning data'!B71 -> H6 | D26: ='Aligning data'!B72 -> I6 | E26: =SUM(B26:D26)/3 -> 0 | F26: ='Aligning data'!D70 -> G6 | G26: ='Aligning data'!D71 -> H6 | H26: ='Aligning data'!D72 -> I6 | I26: =SUM(F26:H26)/3 -> 0 | J26: ='Aligning data'!F70 -> G6 | K26: ='Aligning data'!F71 -> H6 | L26: ='Aligning data'!F72 -> I6 | M26: =SUM(J26:L26)/3 -> 0 | N26: ='Aligning data'!H70 -> G6 | O26: ='Aligning data'!H71 -> H6 | P26: ='Aligning data'!H72 -> I6 | Q26: =SUM(N26:P26)/3 -> 0 | R26: ='Aligning data'!J70 -> G6 | S26: ='Aligning data'!J71 -> H6 | T26: ='Aligning data'!J72 -> I6 | U26: =SUM(R26:T26)/3 -> 0 | V26: ='Aligning data'!L70 -> G6 | W26: ='Aligning data'!L71 -> H6 | X26: ='Aligning data'!L72 -> I6 | Y26: =SUM(V26:X26)/3 -> 0 | Z26: ='Aligning data'!N70 -> G6 | AA26: ='Aligning data'!N71 -> H6 | AB26: ='Aligning data'!N72 -> I6 | AC26: =SUM(Z26:AB26)/3 -> 0 | AD26: ='Aligning data'!P70 -> G6 | AE26: ='Aligning data'!P71 -> H6 | AF26: ='Aligning data'!P72 -> I6 | AG26: =SUM(AD26:AF26)/3 -> 0 | AH26: ='Aligning data'!R70 -> G6 | AI26: ='Aligning data'!R71 -> H6 | AJ26: ='Aligning data'!R72 -> I6 | AK26: =SUM(AH26:AJ26)/3 -> 0 | AL26: ='Aligning data'!T70 -> G6 | AM26: ='Aligning data'!T71 -> H6 | AN26: ='Aligning data'!T72 -> I6 | AO26: =SUM(AL26:AN26)/3 -> 0 | AP26: ='Aligning data'!V70 -> G6 | AQ26: ='Aligning data'!V71 -> H6 | AR26: ='Aligning data'!V72 -> I6 | AS26: =SUM(AP26:AR26)/3 -> 0 | AT26: ='Aligning data'!X70 -> G6 | AU26: ='Aligning data'!X71 -> H6 | AV26: ='Aligning data'!X72 -> I6 | AW26: =SUM(AT26:AV26)/3 -> 0 | AX26: ='Aligning data'!Z70 -> G6 | AY26: ='Aligning data'!Z71 -> H6 | AZ26: ='Aligning data'!Z72 -> I6 | BA26: =SUM(AX26:AZ26)/3 -> 0 | BB26: ='Aligning data'!AB70 -> G6 | BC26: ='Aligning data'!AB71 -> H6 | BD26: ='Aligning data'!AB72 -> I6 | BE26: =SUM(BB26:BD26)/3 -> 0 | BF26: ='Aligning data'!AD70 -> G6 | BG26: ='Aligning data'!AD71 -> H6 | BH26: ='Aligning data'!AD72 -> I6 | BI26: =SUM(BF26:BH26)/3 -> 0 | BJ26: ='Aligning data'!AF70 -> G6 | BK26: ='Aligning data'!AF71 -> H6 | BL26: ='Aligning data'!AF72 -> I6 | BM26: =SUM(BJ26:BL26)/3 -> 0 | BN26: ='Aligning data'!AH70 -> G6 | BO26: ='Aligning data'!AH71 -> H6 | BP26: ='Aligning data'!AH72 -> I6 | BQ26: =SUM(BN26:BP26)/3 -> 0 | BR26: ='Aligning data'!AJ70 -> G6 | BS26: ='Aligning data'!AJ71 -> H6 | BT26: ='Aligning data'!AJ72 -> I6 | BU26: =SUM(BR26:BT26)/3 -> 0 | BV26: ='Aligning data'!AL70 -> G6 | BW26: ='Aligning data'!AL71 -> H6 | BX26: ='Aligning data'!AL72 -> I6 | BY26: =SUM(BV26:BX26)/3 -> 0 | BZ26: ='Aligning data'!AN70 -> G6 | CA26: ='Aligning data'!AN71 -> H6 | CB26: ='Aligning data'!AN72 -> I6 | CC26: =SUM(BZ26:CB26)/3 -> 0 | CD26: ='Aligning data'!AP70 -> G6 | CE26: ='Aligning data'!AP71 -> H6 | CF26: ='Aligning data'!AP72 -> I6 | CG26: =SUM(CD26:CF26)/3 -> 0 | CH26: ='Aligning data'!AR70 -> G6 | CI26: ='Aligning data'!AR71 -> H6 | CJ26: ='Aligning data'!AR72 -> I6 | CK26: =SUM(CH26:CJ26)/3 -> 0 | CL26: ='Aligning data'!AT70 -> G6 | CM26: ='Aligning data'!AT71 -> H6 | CN26: ='Aligning data'!AT72 -> I6 | CO26: =SUM(CL26:CN26)/3 -> 0 | CP26: ='Aligning data'!AV70 -> G6 | CQ26: ='Aligning data'!AV71 -> H6 | CR26: ='Aligning data'!AV72 -> I6 | CS26: =SUM(CP26:CR26)/3 -> 0
A27: #30 | B27: ='Aligning data'!B73 -> J6 | C27: ='Aligning data'!B74 -> K6 | D27: ='Aligning data'!B75 -> L6 | E27: =SUM(B27:D27)/3 -> 0 | F27: ='Aligning data'!D73 -> J6 | G27: ='Aligning data'!D74 -> K6 | H27: ='Aligning data'!D75 -> L6 | I27: =SUM(F27:H27)/3 -> 0 | J27: ='Aligning data'!F73 -> J6 | K27: ='Aligning data'!F74 -> K6 | L27: ='Aligning data'!F75 -> L6 | M27: =SUM(J27:L27)/3 -> 0 | N27: ='Aligning data'!H73 -> J6 | O27: ='Aligning data'!H74 -> K6 | P27: ='Aligning data'!H75 -> L6 | Q27: =SUM(N27:P27)/3 -> 0 | R27: ='Aligning data'!J73 -> J6 | S27: ='Aligning data'!J74 -> K6 | T27: ='Aligning data'!J75 -> L6 | U27: =SUM(R27:T27)/3 -> 0 | V27: ='Aligning data'!L73 -> J6 | W27: ='Aligning data'!L74 -> K6 | X27: ='Aligning data'!L75 -> L6 | Y27: =SUM(V27:X27)/3 -> 0 | Z27: ='Aligning data'!N73 -> J6 | AA27: ='Aligning data'!N74 -> K6 | AB27: ='Aligning data'!N75 -> L6 | AC27: =SUM(Z27:AB27)/3 -> 0 | AD27: ='Aligning data'!P73 -> J6 | AE27: ='Aligning data'!P74 -> K6 | AF27: ='Aligning data'!P75 -> L6 | AG27: =SUM(AD27:AF27)/3 -> 0 | AH27: ='Aligning data'!R73 -> J6 | AI27: ='Aligning data'!R74 -> K6 | AJ27: ='Aligning data'!R75 -> L6 | AK27: =SUM(AH27:AJ27)/3 -> 0 | AL27: ='Aligning data'!T73 -> J6 | AM27: ='Aligning data'!T74 -> K6 | AN27: ='Aligning data'!T75 -> L6 | AO27: =SUM(AL27:AN27)/3 -> 0 | AP27: ='Aligning data'!V73 -> J6 | AQ27: ='Aligning data'!V74 -> K6 | AR27: ='Aligning data'!V75 -> L6 | AS27: =SUM(AP27:AR27)/3 -> 0 | AT27: ='Aligning data'!X73 -> J6 | AU27: ='Aligning data'!X74 -> K6 | AV27: ='Aligning data'!X75 -> L6 | AW27: =SUM(AT27:AV27)/3 -> 0 | AX27: ='Aligning data'!Z73 -> J6 | AY27: ='Aligning data'!Z74 -> K6 | AZ27: ='Aligning data'!Z75 -> L6 | BA27: =SUM(AX27:AZ27)/3 -> 0 | BB27: ='Aligning data'!AB73 -> J6 | BC27: ='Aligning data'!AB74 -> K6 | BD27: ='Aligning data'!AB75 -> L6 | BE27: =SUM(BB27:BD27)/3 -> 0 | BF27: ='Aligning data'!AD73 -> J6 | BG27: ='Aligning data'!AD74 -> K6 | BH27: ='Aligning data'!AD75 -> L6 | BI27: =SUM(BF27:BH27)/3 -> 0 | BJ27: ='Aligning data'!AF73 -> J6 | BK27: ='Aligning data'!AF74 -> K6 | BL27: ='Aligning data'!AF75 -> L6 | BM27: =SUM(BJ27:BL27)/3 -> 0 | BN27: ='Aligning data'!AH73 -> J6 | BO27: ='Aligning data'!AH74 -> K6 | BP27: ='Aligning data'!AH75 -> L6 | BQ27: =SUM(BN27:BP27)/3 -> 0 | BR27: ='Aligning data'!AJ73 -> J6 | BS27: ='Aligning data'!AJ74 -> K6 | BT27: ='Aligning data'!AJ75 -> L6 | BU27: =SUM(BR27:BT27)/3 -> 0 | BV27: ='Aligning data'!AL73 -> J6 | BW27: ='Aligning data'!AL74 -> K6 | BX27: ='Aligning data'!AL75 -> L6 | BY27: =SUM(BV27:BX27)/3 -> 0 | BZ27: ='Aligning data'!AN73 -> J6 | CA27: ='Aligning data'!AN74 -> K6 | CB27: ='Aligning data'!AN75 -> L6 | CC27: =SUM(BZ27:CB27)/3 -> 0 | CD27: ='Aligning data'!AP73 -> J6 | CE27: ='Aligning data'!AP74 -> K6 | CF27: ='Aligning data'!AP75 -> L6 | CG27: =SUM(CD27:CF27)/3 -> 0 | CH27: ='Aligning data'!AR73 -> J6 | CI27: ='Aligning data'!AR74 -> K6 | CJ27: ='Aligning data'!AR75 -> L6 | CK27: =SUM(CH27:CJ27)/3 -> 0 | CL27: ='Aligning data'!AT73 -> J6 | CM27: ='Aligning data'!AT74 -> K6 | CN27: ='Aligning data'!AT75 -> L6 | CO27: =SUM(CL27:CN27)/3 -> 0 | CP27: ='Aligning data'!AV73 -> J6 | CQ27: ='Aligning data'!AV74 -> K6 | CR27: ='Aligning data'!AV75 -> L6 | CS27: =SUM(CP27:CR27)/3 -> 0
A28: #5 | B28: ='Aligning data'!B76 -> A7 | C28: ='Aligning data'!B77 -> B7 | D28: ='Aligning data'!B78 -> C7 | E28: =SUM(B28:D28)/3 -> 0 | F28: ='Aligning data'!D76 -> A7 | G28: ='Aligning data'!D77 -> B7 | H28: ='Aligning data'!D78 -> C7 | I28: =SUM(F28:H28)/3 -> 0 | J28: ='Aligning data'!F76 -> A7 | K28: ='Aligning data'!F77 -> B7 | L28: ='Aligning data'!F78 -> C7 | M28: =SUM(J28:L28)/3 -> 0 | N28: ='Aligning data'!H76 -> A7 | O28: ='Aligning data'!H77 -> B7 | P28: ='Aligning data'!H78 -> C7 | Q28: =SUM(N28:P28)/3 -> 0 | R28: ='Aligning data'!J76 -> A7 | S28: ='Aligning data'!J77 -> B7 | T28: ='Aligning data'!J78 -> C7 | U28: =SUM(R28:T28)/3 -> 0 | V28: ='Aligning data'!L76 -> A7 | W28: ='Aligning data'!L77 -> B7 | X28: ='Aligning data'!L78 -> C7 | Y28: =SUM(V28:X28)/3 -> 0 | Z28: ='Aligning data'!N76 -> A7 | AA28: ='Aligning data'!N77 -> B7 | AB28: ='Aligning data'!N78 -> C7 | AC28: =SUM(Z28:AB28)/3 -> 0 | AD28: ='Aligning data'!P76 -> A7 | AE28: ='Aligning data'!P77 -> B7 | AF28: ='Aligning data'!P78 -> C7 | AG28: =SUM(AD28:AF28)/3 -> 0 | AH28: ='Aligning data'!R76 -> A7 | AI28: ='Aligning data'!R77 -> B7 | AJ28: ='Aligning data'!R78 -> C7 | AK28: =SUM(AH28:AJ28)/3 -> 0 | AL28: ='Aligning data'!T76 -> A7 | AM28: ='Aligning data'!T77 -> B7 | AN28: ='Aligning data'!T78 -> C7 | AO28: =SUM(AL28:AN28)/3 -> 0 | AP28: ='Aligning data'!V76 -> A7 | AQ28: ='Aligning data'!V77 -> B7 | AR28: ='Aligning data'!V78 -> C7 | AS28: =SUM(AP28:AR28)/3 -> 0 | AT28: ='Aligning data'!X76 -> A7 | AU28: ='Aligning data'!X77 -> B7 | AV28: ='Aligning data'!X78 -> C7 | AW28: =SUM(AT28:AV28)/3 -> 0 | AX28: ='Aligning data'!Z76 -> A7 | AY28: ='Aligning data'!Z77 -> B7 | AZ28: ='Aligning data'!Z78 -> C7 | BA28: =SUM(AX28:AZ28)/3 -> 0 | BB28: ='Aligning data'!AB76 -> A7 | BC28: ='Aligning data'!AB77 -> B7 | BD28: ='Aligning data'!AB78 -> C7 | BE28: =SUM(BB28:BD28)/3 -> 0 | BF28: ='Aligning data'!AD76 -> A7 | BG28: ='Aligning data'!AD77 -> B7 | BH28: ='Aligning data'!AD78 -> C7 | BI28: =SUM(BF28:BH28)/3 -> 0 | BJ28: ='Aligning data'!AF76 -> A7 | BK28: ='Aligning data'!AF77 -> B7 | BL28: ='Aligning data'!AF78 -> C7 | BM28: =SUM(BJ28:BL28)/3 -> 0 | BN28: ='Aligning data'!AH76 -> A7 | BO28: ='Aligning data'!AH77 -> B7 | BP28: ='Aligning data'!AH78 -> C7 | BQ28: =SUM(BN28:BP28)/3 -> 0 | BR28: ='Aligning data'!AJ76 -> A7 | BS28: ='Aligning data'!AJ77 -> B7 | BT28: ='Aligning data'!AJ78 -> C7 | BU28: =SUM(BR28:BT28)/3 -> 0 | BV28: ='Aligning data'!AL76 -> A7 | BW28: ='Aligning data'!AL77 -> B7 | BX28: ='Aligning data'!AL78 -> C7 | BY28: =SUM(BV28:BX28)/3 -> 0 | BZ28: ='Aligning data'!AN76 -> A7 | CA28: ='Aligning data'!AN77 -> B7 | CB28: ='Aligning data'!AN78 -> C7 | CC28: =SUM(BZ28:CB28)/3 -> 0 | CD28: ='Aligning data'!AP76 -> A7 | CE28: ='Aligning data'!AP77 -> B7 | CF28: ='Aligning data'!AP78 -> C7 | CG28: =SUM(CD28:CF28)/3 -> 0 | CH28: ='Aligning data'!AR76 -> A7 | CI28: ='Aligning data'!AR77 -> B7 | CJ28: ='Aligning data'!AR78 -> C7 | CK28: =SUM(CH28:CJ28)/3 -> 0 | CL28: ='Aligning data'!AT76 -> A7 | CM28: ='Aligning data'!AT77 -> B7 | CN28: ='Aligning data'!AT78 -> C7 | CO28: =SUM(CL28:CN28)/3 -> 0 | CP28: ='Aligning data'!AV76 -> A7 | CQ28: ='Aligning data'!AV77 -> B7 | CR28: ='Aligning data'!AV78 -> C7 | CS28: =SUM(CP28:CR28)/3 -> 0
A29: #14 | B29: ='Aligning data'!B79 -> D7 | C29: ='Aligning data'!B80 -> E7 | D29: ='Aligning data'!B81 -> F7 | E29: =SUM(B29:D29)/3 -> 0 | F29: ='Aligning data'!D79 -> D7 | G29: ='Aligning data'!D80 -> E7 | H29: ='Aligning data'!D81 -> F7 | I29: =SUM(F29:H29)/3 -> 0 | J29: ='Aligning data'!F79 -> D7 | K29: ='Aligning data'!F80 -> E7 | L29: ='Aligning data'!F81 -> F7 | M29: =SUM(J29:L29)/3 -> 0 | N29: ='Aligning data'!H79 -> D7 | O29: ='Aligning data'!H80 -> E7 | P29: ='Aligning data'!H81 -> F7 | Q29: =SUM(N29:P29)/3 -> 0 | R29: ='Aligning data'!J79 -> D7 | S29: ='Aligning data'!J80 -> E7 | T29: ='Aligning data'!J81 -> F7 | U29: =SUM(R29:T29)/3 -> 0 | V29: ='Aligning data'!L79 -> D7 | W29: ='Aligning data'!L80 -> E7 | X29: ='Aligning data'!L81 -> F7 | Y29: =SUM(V29:X29)/3 -> 0 | Z29: ='Aligning data'!N79 -> D7 | AA29: ='Aligning data'!N80 -> E7 | AB29: ='Aligning data'!N81 -> F7 | AC29: =SUM(Z29:AB29)/3 -> 0 | AD29: ='Aligning data'!P79 -> D7 | AE29: ='Aligning data'!P80 -> E7 | AF29: ='Aligning data'!P81 -> F7 | AG29: =SUM(AD29:AF29)/3 -> 0 | AH29: ='Aligning data'!R79 -> D7 | AI29: ='Aligning data'!R80 -> E7 | AJ29: ='Aligning data'!R81 -> F7 | AK29: =SUM(AH29:AJ29)/3 -> 0 | AL29: ='Aligning data'!T79 -> D7 | AM29: ='Aligning data'!T80 -> E7 | AN29: ='Aligning data'!T81 -> F7 | AO29: =SUM(AL29:AN29)/3 -> 0 | AP29: ='Aligning data'!V79 -> D7 | AQ29: ='Aligning data'!V80 -> E7 | AR29: ='Aligning data'!V81 -> F7 | AS29: =SUM(AP29:AR29)/3 -> 0 | AT29: ='Aligning data'!X79 -> D7 | AU29: ='Aligning data'!X80 -> E7 | AV29: ='Aligning data'!X81 -> F7 | AW29: =SUM(AT29:AV29)/3 -> 0 | AX29: ='Aligning data'!Z79 -> D7 | AY29: ='Aligning data'!Z80 -> E7 | AZ29: ='Aligning data'!Z81 -> F7 | BA29: =SUM(AX29:AZ29)/3 -> 0 | BB29: ='Aligning data'!AB79 -> D7 | BC29: ='Aligning data'!AB80 -> E7 | BD29: ='Aligning data'!AB81 -> F7 | BE29: =SUM(BB29:BD29)/3 -> 0 | BF29: ='Aligning data'!AD79 -> D7 | BG29: ='Aligning data'!AD80 -> E7 | BH29: ='Aligning data'!AD81 -> F7 | BI29: =SUM(BF29:BH29)/3 -> 0 | BJ29: ='Aligning data'!AF79 -> D7 | BK29: ='Aligning data'!AF80 -> E7 | BL29: ='Aligning data'!AF81 -> F7 | BM29: =SUM(BJ29:BL29)/3 -> 0 | BN29: ='Aligning data'!AH79 -> D7 | BO29: ='Aligning data'!AH80 -> E7 | BP29: ='Aligning data'!AH81 -> F7 | BQ29: =SUM(BN29:BP29)/3 -> 0 | BR29: ='Aligning data'!AJ79 -> D7 | BS29: ='Aligning data'!AJ80 -> E7 | BT29: ='Aligning data'!AJ81 -> F7 | BU29: =SUM(BR29:BT29)/3 -> 0 | BV29: ='Aligning data'!AL79 -> D7 | BW29: ='Aligning data'!AL80 -> E7 | BX29: ='Aligning data'!AL81 -> F7 | BY29: =SUM(BV29:BX29)/3 -> 0 | BZ29: ='Aligning data'!AN79 -> D7 | CA29: ='Aligning data'!AN80 -> E7 | CB29: ='Aligning data'!AN81 -> F7 | CC29: =SUM(BZ29:CB29)/3 -> 0 | CD29: ='Aligning data'!AP79 -> D7 | CE29: ='Aligning data'!AP80 -> E7 | CF29: ='Aligning data'!AP81 -> F7 | CG29: =SUM(CD29:CF29)/3 -> 0 | CH29: ='Aligning data'!AR79 -> D7 | CI29: ='Aligning data'!AR80 -> E7 | CJ29: ='Aligning data'!AR81 -> F7 | CK29: =SUM(CH29:CJ29)/3 -> 0 | CL29: ='Aligning data'!AT79 -> D7 | CM29: ='Aligning data'!AT80 -> E7 | CN29: ='Aligning data'!AT81 -> F7 | CO29: =SUM(CL29:CN29)/3 -> 0 | CP29: ='Aligning data'!AV79 -> D7 | CQ29: ='Aligning data'!AV80 -> E7 | CR29: ='Aligning data'!AV81 -> F7 | CS29: =SUM(CP29:CR29)/3 -> 0
A30: #24 | B30: ='Aligning data'!B82 -> G7 | C30: ='Aligning data'!B83 -> H7 | D30: ='Aligning data'!B84 -> I7 | E30: =SUM(B30:D30)/3 -> 0 | F30: ='Aligning data'!D82 -> G7 | G30: ='Aligning data'!D83 -> H7 | H30: ='Aligning data'!D84 -> I7 | I30: =SUM(F30:H30)/3 -> 0 | J30: ='Aligning data'!F82 -> G7 | K30: ='Aligning data'!F83 -> H7 | L30: ='Aligning data'!F84 -> I7 | M30: =SUM(J30:L30)/3 -> 0 | N30: ='Aligning data'!H82 -> G7 | O30: ='Aligning data'!H83 -> H7 | P30: ='Aligning data'!H84 -> I7 | Q30: =SUM(N30:P30)/3 -> 0 | R30: ='Aligning data'!J82 -> G7 | S30: ='Aligning data'!J83 -> H7 | T30: ='Aligning data'!J84 -> I7 | U30: =SUM(R30:T30)/3 -> 0 | V30: ='Aligning data'!L82 -> G7 | W30: ='Aligning data'!L83 -> H7 | X30: ='Aligning data'!L84 -> I7 | Y30: =SUM(V30:X30)/3 -> 0 | Z30: ='Aligning data'!N82 -> G7 | AA30: ='Aligning data'!N83 -> H7 | AB30: ='Aligning data'!N84 -> I7 | AC30: =SUM(Z30:AB30)/3 -> 0 | AD30: ='Aligning data'!P82 -> G7 | AE30: ='Aligning data'!P83 -> H7 | AF30: ='Aligning data'!P84 -> I7 | AG30: =SUM(AD30:AF30)/3 -> 0 | AH30: ='Aligning data'!R82 -> G7 | AI30: ='Aligning data'!R83 -> H7 | AJ30: ='Aligning data'!R84 -> I7 | AK30: =SUM(AH30:AJ30)/3 -> 0 | AL30: ='Aligning data'!T82 -> G7 | AM30: ='Aligning data'!T83 -> H7 | AN30: ='Aligning data'!T84 -> I7 | AO30: =SUM(AL30:AN30)/3 -> 0 | AP30: ='Aligning data'!V82 -> G7 | AQ30: ='Aligning data'!V83 -> H7 | AR30: ='Aligning data'!V84 -> I7 | AS30: =SUM(AP30:AR30)/3 -> 0 | AT30: ='Aligning data'!X82 -> G7 | AU30: ='Aligning data'!X83 -> H7 | AV30: ='Aligning data'!X84 -> I7 | AW30: =SUM(AT30:AV30)/3 -> 0 | AX30: ='Aligning data'!Z82 -> G7 | AY30: ='Aligning data'!Z83 -> H7 | AZ30: ='Aligning data'!Z84 -> I7 | BA30: =SUM(AX30:AZ30)/3 -> 0 | BB30: ='Aligning data'!AB82 -> G7 | BC30: ='Aligning data'!AB83 -> H7 | BD30: ='Aligning data'!AB84 -> I7 | BE30: =SUM(BB30:BD30)/3 -> 0 | BF30: ='Aligning data'!AD82 -> G7 | BG30: ='Aligning data'!AD83 -> H7 | BH30: ='Aligning data'!AD84 -> I7 | BI30: =SUM(BF30:BH30)/3 -> 0 | BJ30: ='Aligning data'!AF82 -> G7 | BK30: ='Aligning data'!AF83 -> H7 | BL30: ='Aligning data'!AF84 -> I7 | BM30: =SUM(BJ30:BL30)/3 -> 0 | BN30: ='Aligning data'!AH82 -> G7 | BO30: ='Aligning data'!AH83 -> H7 | BP30: ='Aligning data'!AH84 -> I7 | BQ30: =SUM(BN30:BP30)/3 -> 0 | BR30: ='Aligning data'!AJ82 -> G7 | BS30: ='Aligning data'!AJ83 -> H7 | BT30: ='Aligning data'!AJ84 -> I7 | BU30: =SUM(BR30:BT30)/3 -> 0 | BV30: ='Aligning data'!AL82 -> G7 | BW30: ='Aligning data'!AL83 -> H7 | BX30: ='Aligning data'!AL84 -> I7 | BY30: =SUM(BV30:BX30)/3 -> 0 | BZ30: ='Aligning data'!AN82 -> G7 | CA30: ='Aligning data'!AN83 -> H7 | CB30: ='Aligning data'!AN84 -> I7 | CC30: =SUM(BZ30:CB30)/3 -> 0 | CD30: ='Aligning data'!AP82 -> G7 | CE30: ='Aligning data'!AP83 -> H7 | CF30: ='Aligning data'!AP84 -> I7 | CG30: =SUM(CD30:CF30)/3 -> 0 | CH30: ='Aligning data'!AR82 -> G7 | CI30: ='Aligning data'!AR83 -> H7 | CJ30: ='Aligning data'!AR84 -> I7 | CK30: =SUM(CH30:CJ30)/3 -> 0 | CL30: ='Aligning data'!AT82 -> G7 | CM30: ='Aligning data'!AT83 -> H7 | CN30: ='Aligning data'!AT84 -> I7 | CO30: =SUM(CL30:CN30)/3 -> 0 | CP30: ='Aligning data'!AV82 -> G7 | CQ30: ='Aligning data'!AV83 -> H7 | CR30: ='Aligning data'!AV84 -> I7 | CS30: =SUM(CP30:CR30)/3 -> 0
A31: #31 | B31: ='Aligning data'!B85 -> J7 | C31: ='Aligning data'!B86 -> K7 | D31: ='Aligning data'!B87 -> L7 | E31: =SUM(B31:D31)/3 -> 0 | F31: ='Aligning data'!D85 -> J7 | G31: ='Aligning data'!D86 -> K7 | H31: ='Aligning data'!D87 -> L7 | I31: =SUM(F31:H31)/3 -> 0 | J31: ='Aligning data'!F85 -> J7 | K31: ='Aligning data'!F86 -> K7 | L31: ='Aligning data'!F87 -> L7 | M31: =SUM(J31:L31)/3 -> 0 | N31: ='Aligning data'!H85 -> J7 | O31: ='Aligning data'!H86 -> K7 | P31: ='Aligning data'!H87 -> L7 | Q31: =SUM(N31:P31)/3 -> 0 | R31: ='Aligning data'!J85 -> J7 | S31: ='Aligning data'!J86 -> K7 | T31: ='Aligning data'!J87 -> L7 | U31: =SUM(R31:T31)/3 -> 0 | V31: ='Aligning data'!L85 -> J7 | W31: ='Aligning data'!L86 -> K7 | X31: ='Aligning data'!L87 -> L7 | Y31: =SUM(V31:X31)/3 -> 0 | Z31: ='Aligning data'!N85 -> J7 | AA31: ='Aligning data'!N86 -> K7 | AB31: ='Aligning data'!N87 -> L7 | AC31: =SUM(Z31:AB31)/3 -> 0 | AD31: ='Aligning data'!P85 -> J7 | AE31: ='Aligning data'!P86 -> K7 | AF31: ='Aligning data'!P87 -> L7 | AG31: =SUM(AD31:AF31)/3 -> 0 | AH31: ='Aligning data'!R85 -> J7 | AI31: ='Aligning data'!R86 -> K7 | AJ31: ='Aligning data'!R87 -> L7 | AK31: =SUM(AH31:AJ31)/3 -> 0 | AL31: ='Aligning data'!T85 -> J7 | AM31: ='Aligning data'!T86 -> K7 | AN31: ='Aligning data'!T87 -> L7 | AO31: =SUM(AL31:AN31)/3 -> 0 | AP31: ='Aligning data'!V85 -> J7 | AQ31: ='Aligning data'!V86 -> K7 | AR31: ='Aligning data'!V87 -> L7 | AS31: =SUM(AP31:AR31)/3 -> 0 | AT31: ='Aligning data'!X85 -> J7 | AU31: ='Aligning data'!X86 -> K7 | AV31: ='Aligning data'!X87 -> L7 | AW31: =SUM(AT31:AV31)/3 -> 0 | AX31: ='Aligning data'!Z85 -> J7 | AY31: ='Aligning data'!Z86 -> K7 | AZ31: ='Aligning data'!Z87 -> L7 | BA31: =SUM(AX31:AZ31)/3 -> 0 | BB31: ='Aligning data'!AB85 -> J7 | BC31: ='Aligning data'!AB86 -> K7 | BD31: ='Aligning data'!AB87 -> L7 | BE31: =SUM(BB31:BD31)/3 -> 0 | BF31: ='Aligning data'!AD85 -> J7 | BG31: ='Aligning data'!AD86 -> K7 | BH31: ='Aligning data'!AD87 -> L7 | BI31: =SUM(BF31:BH31)/3 -> 0 | BJ31: ='Aligning data'!AF85 -> J7 | BK31: ='Aligning data'!AF86 -> K7 | BL31: ='Aligning data'!AF87 -> L7 | BM31: =SUM(BJ31:BL31)/3 -> 0 | BN31: ='Aligning data'!AH85 -> J7 | BO31: ='Aligning data'!AH86 -> K7 | BP31: ='Aligning data'!AH87 -> L7 | BQ31: =SUM(BN31:BP31)/3 -> 0 | BR31: ='Aligning data'!AJ85 -> J7 | BS31: ='Aligning data'!AJ86 -> K7 | BT31: ='Aligning data'!AJ87 -> L7 | BU31: =SUM(BR31:BT31)/3 -> 0 | BV31: ='Aligning data'!AL85 -> J7 | BW31: ='Aligning data'!AL86 -> K7 | BX31: ='Aligning data'!AL87 -> L7 | BY31: =SUM(BV31:BX31)/3 -> 0 | BZ31: ='Aligning data'!AN85 -> J7 | CA31: ='Aligning data'!AN86 -> K7 | CB31: ='Aligning data'!AN87 -> L7 | CC31: =SUM(BZ31:CB31)/3 -> 0 | CD31: ='Aligning data'!AP85 -> J7 | CE31: ='Aligning data'!AP86 -> K7 | CF31: ='Aligning data'!AP87 -> L7 | CG31: =SUM(CD31:CF31)/3 -> 0 | CH31: ='Aligning data'!AR85 -> J7 | CI31: ='Aligning data'!AR86 -> K7 | CJ31: ='Aligning data'!AR87 -> L7 | CK31: =SUM(CH31:CJ31)/3 -> 0 | CL31: ='Aligning data'!AT85 -> J7 | CM31: ='Aligning data'!AT86 -> K7 | CN31: ='Aligning data'!AT87 -> L7 | CO31: =SUM(CL31:CN31)/3 -> 0 | CP31: ='Aligning data'!AV85 -> J7 | CQ31: ='Aligning data'!AV86 -> K7 | CR31: ='Aligning data'!AV87 -> L7 | CS31: =SUM(CP31:CR31)/3 -> 0
A32: #6 | B32: ='Aligning data'!B88 -> A8 | C32: ='Aligning data'!B89 -> B8 | D32: ='Aligning data'!B90 -> C8 | E32: =SUM(B32:D32)/3 -> 0 | F32: ='Aligning data'!D88 -> A8 | G32: ='Aligning data'!D89 -> B8 | H32: ='Aligning data'!D90 -> C8 | I32: =SUM(F32:H32)/3 -> 0 | J32: ='Aligning data'!F88 -> A8 | K32: ='Aligning data'!F89 -> B8 | L32: ='Aligning data'!F90 -> C8 | M32: =SUM(J32:L32)/3 -> 0 | N32: ='Aligning data'!H88 -> A8 | O32: ='Aligning data'!H89 -> B8 | P32: ='Aligning data'!H90 -> C8 | Q32: =SUM(N32:P32)/3 -> 0 | R32: ='Aligning data'!J88 -> A8 | S32: ='Aligning data'!J89 -> B8 | T32: ='Aligning data'!J90 -> C8 | U32: =SUM(R32:T32)/3 -> 0 | V32: ='Aligning data'!L88 -> A8 | W32: ='Aligning data'!L89 -> B8 | X32: ='Aligning data'!L90 -> C8 | Y32: =SUM(V32:X32)/3 -> 0 | Z32: ='Aligning data'!N88 -> A8 | AA32: ='Aligning data'!N89 -> B8 | AB32: ='Aligning data'!N90 -> C8 | AC32: =SUM(Z32:AB32)/3 -> 0 | AD32: ='Aligning data'!P88 -> A8 | AE32: ='Aligning data'!P89 -> B8 | AF32: ='Aligning data'!P90 -> C8 | AG32: =SUM(AD32:AF32)/3 -> 0 | AH32: ='Aligning data'!R88 -> A8 | AI32: ='Aligning data'!R89 -> B8 | AJ32: ='Aligning data'!R90 -> C8 | AK32: =SUM(AH32:AJ32)/3 -> 0 | AL32: ='Aligning data'!T88 -> A8 | AM32: ='Aligning data'!T89 -> B8 | AN32: ='Aligning data'!T90 -> C8 | AO32: =SUM(AL32:AN32)/3 -> 0 | AP32: ='Aligning data'!V88 -> A8 | AQ32: ='Aligning data'!V89 -> B8 | AR32: ='Aligning data'!V90 -> C8 | AS32: =SUM(AP32:AR32)/3 -> 0 | AT32: ='Aligning data'!X88 -> A8 | AU32: ='Aligning data'!X89 -> B8 | AV32: ='Aligning data'!X90 -> C8 | AW32: =SUM(AT32:AV32)/3 -> 0 | AX32: ='Aligning data'!Z88 -> A8 | AY32: ='Aligning data'!Z89 -> B8 | AZ32: ='Aligning data'!Z90 -> C8 | BA32: =SUM(AX32:AZ32)/3 -> 0 | BB32: ='Aligning data'!AB88 -> A8 | BC32: ='Aligning data'!AB89 -> B8 | BD32: ='Aligning data'!AB90 -> C8 | BE32: =SUM(BB32:BD32)/3 -> 0 | BF32: ='Aligning data'!AD88 -> A8 | BG32: ='Aligning data'!AD89 -> B8 | BH32: ='Aligning data'!AD90 -> C8 | BI32: =SUM(BF32:BH32)/3 -> 0 | BJ32: ='Aligning data'!AF88 -> A8 | BK32: ='Aligning data'!AF89 -> B8 | BL32: ='Aligning data'!AF90 -> C8 | BM32: =SUM(BJ32:BL32)/3 -> 0 | BN32: ='Aligning data'!AH88 -> A8 | BO32: ='Aligning data'!AH89 -> B8 | BP32: ='Aligning data'!AH90 -> C8 | BQ32: =SUM(BN32:BP32)/3 -> 0 | BR32: ='Aligning data'!AJ88 -> A8 | BS32: ='Aligning data'!AJ89 -> B8 | BT32: ='Aligning data'!AJ90 -> C8 | BU32: =SUM(BR32:BT32)/3 -> 0 | BV32: ='Aligning data'!AL88 -> A8 | BW32: ='Aligning data'!AL89 -> B8 | BX32: ='Aligning data'!AL90 -> C8 | BY32: =SUM(BV32:BX32)/3 -> 0 | BZ32: ='Aligning data'!AN88 -> A8 | CA32: ='Aligning data'!AN89 -> B8 | CB32: ='Aligning data'!AN90 -> C8 | CC32: =SUM(BZ32:CB32)/3 -> 0 | CD32: ='Aligning data'!AP88 -> A8 | CE32: ='Aligning data'!AP89 -> B8 | CF32: ='Aligning data'!AP90 -> C8 | CG32: =SUM(CD32:CF32)/3 -> 0 | CH32: ='Aligning data'!AR88 -> A8 | CI32: ='Aligning data'!AR89 -> B8 | CJ32: ='Aligning data'!AR90 -> C8 | CK32: =SUM(CH32:CJ32)/3 -> 0 | CL32: ='Aligning data'!AT88 -> A8 | CM32: ='Aligning data'!AT89 -> B8 | CN32: ='Aligning data'!AT90 -> C8 | CO32: =SUM(CL32:CN32)/3 -> 0 | CP32: ='Aligning data'!AV88 -> A8 | CQ32: ='Aligning data'!AV89 -> B8 | CR32: ='Aligning data'!AV90 -> C8 | CS32: =SUM(CP32:CR32)/3 -> 0
A33: #15 | B33: ='Aligning data'!B91 -> D8 | C33: ='Aligning data'!B92 -> E8 | D33: ='Aligning data'!B93 -> F8 | E33: =SUM(B33:D33)/3 -> 0 | F33: ='Aligning data'!D91 -> D8 | G33: ='Aligning data'!D92 -> E8 | H33: ='Aligning data'!D93 -> F8 | I33: =SUM(F33:H33)/3 -> 0 | J33: ='Aligning data'!F91 -> D8 | K33: ='Aligning data'!F92 -> E8 | L33: ='Aligning data'!F93 -> F8 | M33: =SUM(J33:L33)/3 -> 0 | N33: ='Aligning data'!H91 -> D8 | O33: ='Aligning data'!H92 -> E8 | P33: ='Aligning data'!H93 -> F8 | Q33: =SUM(N33:P33)/3 -> 0 | R33: ='Aligning data'!J91 -> D8 | S33: ='Aligning data'!J92 -> E8 | T33: ='Aligning data'!J93 -> F8 | U33: =SUM(R33:T33)/3 -> 0 | V33: ='Aligning data'!L91 -> D8 | W33: ='Aligning data'!L92 -> E8 | X33: ='Aligning data'!L93 -> F8 | Y33: =SUM(V33:X33)/3 -> 0 | Z33: ='Aligning data'!N91 -> D8 | AA33: ='Aligning data'!N92 -> E8 | AB33: ='Aligning data'!N93 -> F8 | AC33: =SUM(Z33:AB33)/3 -> 0 | AD33: ='Aligning data'!P91 -> D8 | AE33: ='Aligning data'!P92 -> E8 | AF33: ='Aligning data'!P93 -> F8 | AG33: =SUM(AD33:AF33)/3 -> 0 | AH33: ='Aligning data'!R91 -> D8 | AI33: ='Aligning data'!R92 -> E8 | AJ33: ='Aligning data'!R93 -> F8 | AK33: =SUM(AH33:AJ33)/3 -> 0 | AL33: ='Aligning data'!T91 -> D8 | AM33: ='Aligning data'!T92 -> E8 | AN33: ='Aligning data'!T93 -> F8 | AO33: =SUM(AL33:AN33)/3 -> 0 | AP33: ='Aligning data'!V91 -> D8 | AQ33: ='Aligning data'!V92 -> E8 | AR33: ='Aligning data'!V93 -> F8 | AS33: =SUM(AP33:AR33)/3 -> 0 | AT33: ='Aligning data'!X91 -> D8 | AU33: ='Aligning data'!X92 -> E8 | AV33: ='Aligning data'!X93 -> F8 | AW33: =SUM(AT33:AV33)/3 -> 0 | AX33: ='Aligning data'!Z91 -> D8 | AY33: ='Aligning data'!Z92 -> E8 | AZ33: ='Aligning data'!Z93 -> F8 | BA33: =SUM(AX33:AZ33)/3 -> 0 | BB33: ='Aligning data'!AB91 -> D8 | BC33: ='Aligning data'!AB92 -> E8 | BD33: ='Aligning data'!AB93 -> F8 | BE33: =SUM(BB33:BD33)/3 -> 0 | BF33: ='Aligning data'!AD91 -> D8 | BG33: ='Aligning data'!AD92 -> E8 | BH33: ='Aligning data'!AD93 -> F8 | BI33: =SUM(BF33:BH33)/3 -> 0 | BJ33: ='Aligning data'!AF91 -> D8 | BK33: ='Aligning data'!AF92 -> E8 | BL33: ='Aligning data'!AF93 -> F8 | BM33: =SUM(BJ33:BL33)/3 -> 0 | BN33: ='Aligning data'!AH91 -> D8 | BO33: ='Aligning data'!AH92 -> E8 | BP33: ='Aligning data'!AH93 -> F8 | BQ33: =SUM(BN33:BP33)/3 -> 0 | BR33: ='Aligning data'!AJ91 -> D8 | BS33: ='Aligning data'!AJ92 -> E8 | BT33: ='Aligning data'!AJ93 -> F8 | BU33: =SUM(BR33:BT33)/3 -> 0 | BV33: ='Aligning data'!AL91 -> D8 | BW33: ='Aligning data'!AL92 -> E8 | BX33: ='Aligning data'!AL93 -> F8 | BY33: =SUM(BV33:BX33)/3 -> 0 | BZ33: ='Aligning data'!AN91 -> D8 | CA33: ='Aligning data'!AN92 -> E8 | CB33: ='Aligning data'!AN93 -> F8 | CC33: =SUM(BZ33:CB33)/3 -> 0 | CD33: ='Aligning data'!AP91 -> D8 | CE33: ='Aligning data'!AP92 -> E8 | CF33: ='Aligning data'!AP93 -> F8 | CG33: =SUM(CD33:CF33)/3 -> 0 | CH33: ='Aligning data'!AR91 -> D8 | CI33: ='Aligning data'!AR92 -> E8 | CJ33: ='Aligning data'!AR93 -> F8 | CK33: =SUM(CH33:CJ33)/3 -> 0 | CL33: ='Aligning data'!AT91 -> D8 | CM33: ='Aligning data'!AT92 -> E8 | CN33: ='Aligning data'!AT93 -> F8 | CO33: =SUM(CL33:CN33)/3 -> 0 | CP33: ='Aligning data'!AV91 -> D8 | CQ33: ='Aligning data'!AV92 -> E8 | CR33: ='Aligning data'!AV93 -> F8 | CS33: =SUM(CP33:CR33)/3 -> 0
A34: #25 | B34: ='Aligning data'!B94 -> G8 | C34: ='Aligning data'!B95 -> H8 | D34: ='Aligning data'!B96 -> I8 | E34: =SUM(B34:D34)/3 -> 0 | F34: ='Aligning data'!D94 -> G8 | G34: ='Aligning data'!D95 -> H8 | H34: ='Aligning data'!D96 -> I8 | I34: =SUM(F34:H34)/3 -> 0 | J34: ='Aligning data'!F94 -> G8 | K34: ='Aligning data'!F95 -> H8 | L34: ='Aligning data'!F96 -> I8 | M34: =SUM(J34:L34)/3 -> 0 | N34: ='Aligning data'!H94 -> G8 | O34: ='Aligning data'!H95 -> H8 | P34: ='Aligning data'!H96 -> I8 | Q34: =SUM(N34:P34)/3 -> 0 | R34: ='Aligning data'!J94 -> G8 | S34: ='Aligning data'!J95 -> H8 | T34: ='Aligning data'!J96 -> I8 | U34: =SUM(R34:T34)/3 -> 0 | V34: ='Aligning data'!L94 -> G8 | W34: ='Aligning data'!L95 -> H8 | X34: ='Aligning data'!L96 -> I8 | Y34: =SUM(V34:X34)/3 -> 0 | Z34: ='Aligning data'!N94 -> G8 | AA34: ='Aligning data'!N95 -> H8 | AB34: ='Aligning data'!N96 -> I8 | AC34: =SUM(Z34:AB34)/3 -> 0 | AD34: ='Aligning data'!P94 -> G8 | AE34: ='Aligning data'!P95 -> H8 | AF34: ='Aligning data'!P96 -> I8 | AG34: =SUM(AD34:AF34)/3 -> 0 | AH34: ='Aligning data'!R94 -> G8 | AI34: ='Aligning data'!R95 -> H8 | AJ34: ='Aligning data'!R96 -> I8 | AK34: =SUM(AH34:AJ34)/3 -> 0 | AL34: ='Aligning data'!T94 -> G8 | AM34: ='Aligning data'!T95 -> H8 | AN34: ='Aligning data'!T96 -> I8 | AO34: =SUM(AL34:AN34)/3 -> 0 | AP34: ='Aligning data'!V94 -> G8 | AQ34: ='Aligning data'!V95 -> H8 | AR34: ='Aligning data'!V96 -> I8 | AS34: =SUM(AP34:AR34)/3 -> 0 | AT34: ='Aligning data'!X94 -> G8 | AU34: ='Aligning data'!X95 -> H8 | AV34: ='Aligning data'!X96 -> I8 | AW34: =SUM(AT34:AV34)/3 -> 0 | AX34: ='Aligning data'!Z94 -> G8 | AY34: ='Aligning data'!Z95 -> H8 | AZ34: ='Aligning data'!Z96 -> I8 | BA34: =SUM(AX34:AZ34)/3 -> 0 | BB34: ='Aligning data'!AB94 -> G8 | BC34: ='Aligning data'!AB95 -> H8 | BD34: ='Aligning data'!AB96 -> I8 | BE34: =SUM(BB34:BD34)/3 -> 0 | BF34: ='Aligning data'!AD94 -> G8 | BG34: ='Aligning data'!AD95 -> H8 | BH34: ='Aligning data'!AD96 -> I8 | BI34: =SUM(BF34:BH34)/3 -> 0 | BJ34: ='Aligning data'!AF94 -> G8 | BK34: ='Aligning data'!AF95 -> H8 | BL34: ='Aligning data'!AF96 -> I8 | BM34: =SUM(BJ34:BL34)/3 -> 0 | BN34: ='Aligning data'!AH94 -> G8 | BO34: ='Aligning data'!AH95 -> H8 | BP34: ='Aligning data'!AH96 -> I8 | BQ34: =SUM(BN34:BP34)/3 -> 0 | BR34: ='Aligning data'!AJ94 -> G8 | BS34: ='Aligning data'!AJ95 -> H8 | BT34: ='Aligning data'!AJ96 -> I8 | BU34: =SUM(BR34:BT34)/3 -> 0 | BV34: ='Aligning data'!AL94 -> G8 | BW34: ='Aligning data'!AL95 -> H8 | BX34: ='Aligning data'!AL96 -> I8 | BY34: =SUM(BV34:BX34)/3 -> 0 | BZ34: ='Aligning data'!AN94 -> G8 | CA34: ='Aligning data'!AN95 -> H8 | CB34: ='Aligning data'!AN96 -> I8 | CC34: =SUM(BZ34:CB34)/3 -> 0 | CD34: ='Aligning data'!AP94 -> G8 | CE34: ='Aligning data'!AP95 -> H8 | CF34: ='Aligning data'!AP96 -> I8 | CG34: =SUM(CD34:CF34)/3 -> 0 | CH34: ='Aligning data'!AR94 -> G8 | CI34: ='Aligning data'!AR95 -> H8 | CJ34: ='Aligning data'!AR96 -> I8 | CK34: =SUM(CH34:CJ34)/3 -> 0 | CL34: ='Aligning data'!AT94 -> G8 | CM34: ='Aligning data'!AT95 -> H8 | CN34: ='Aligning data'!AT96 -> I8 | CO34: =SUM(CL34:CN34)/3 -> 0 | CP34: ='Aligning data'!AV94 -> G8 | CQ34: ='Aligning data'!AV95 -> H8 | CR34: ='Aligning data'!AV96 -> I8 | CS34: =SUM(CP34:CR34)/3 -> 0
A35: #32 | B35: ='Aligning data'!B97 -> J8 | C35: ='Aligning data'!B98 -> K8 | D35: ='Aligning data'!B99 -> L8 | E35: =SUM(B35:D35)/3 -> 0 | F35: ='Aligning data'!D97 -> J8 | G35: ='Aligning data'!D98 -> K8 | H35: ='Aligning data'!D99 -> L8 | I35: =SUM(F35:H35)/3 -> 0 | J35: ='Aligning data'!F97 -> J8 | K35: ='Aligning data'!F98 -> K8 | L35: ='Aligning data'!F99 -> L8 | M35: =SUM(J35:L35)/3 -> 0 | N35: ='Aligning data'!H97 -> J8 | O35: ='Aligning data'!H98 -> K8 | P35: ='Aligning data'!H99 -> L8 | Q35: =SUM(N35:P35)/3 -> 0 | R35: ='Aligning data'!J97 -> J8 | S35: ='Aligning data'!J98 -> K8 | T35: ='Aligning data'!J99 -> L8 | U35: =SUM(R35:T35)/3 -> 0 | V35: ='Aligning data'!L97 -> J8 | W35: ='Aligning data'!L98 -> K8 | X35: ='Aligning data'!L99 -> L8 | Y35: =SUM(V35:X35)/3 -> 0 | Z35: ='Aligning data'!N97 -> J8 | AA35: ='Aligning data'!N98 -> K8 | AB35: ='Aligning data'!N99 -> L8 | AC35: =SUM(Z35:AB35)/3 -> 0 | AD35: ='Aligning data'!P97 -> J8 | AE35: ='Aligning data'!P98 -> K8 | AF35: ='Aligning data'!P99 -> L8 | AG35: =SUM(AD35:AF35)/3 -> 0 | AH35: ='Aligning data'!R97 -> J8 | AI35: ='Aligning data'!R98 -> K8 | AJ35: ='Aligning data'!R99 -> L8 | AK35: =SUM(AH35:AJ35)/3 -> 0 | AL35: ='Aligning data'!T97 -> J8 | AM35: ='Aligning data'!T98 -> K8 | AN35: ='Aligning data'!T99 -> L8 | AO35: =SUM(AL35:AN35)/3 -> 0 | AP35: ='Aligning data'!V97 -> J8 | AQ35: ='Aligning data'!V98 -> K8 | AR35: ='Aligning data'!V99 -> L8 | AS35: =SUM(AP35:AR35)/3 -> 0 | AT35: ='Aligning data'!X97 -> J8 | AU35: ='Aligning data'!X98 -> K8 | AV35: ='Aligning data'!X99 -> L8 | AW35: =SUM(AT35:AV35)/3 -> 0 | AX35: ='Aligning data'!Z97 -> J8 | AY35: ='Aligning data'!Z98 -> K8 | AZ35: ='Aligning data'!Z99 -> L8 | BA35: =SUM(AX35:AZ35)/3 -> 0 | BB35: ='Aligning data'!AB97 -> J8 | BC35: ='Aligning data'!AB98 -> K8 | BD35: ='Aligning data'!AB99 -> L8 | BE35: =SUM(BB35:BD35)/3 -> 0 | BF35: ='Aligning data'!AD97 -> J8 | BG35: ='Aligning data'!AD98 -> K8 | BH35: ='Aligning data'!AD99 -> L8 | BI35: =SUM(BF35:BH35)/3 -> 0 | BJ35: ='Aligning data'!AF97 -> J8 | BK35: ='Aligning data'!AF98 -> K8 | BL35: ='Aligning data'!AF99 -> L8 | BM35: =SUM(BJ35:BL35)/3 -> 0 | BN35: ='Aligning data'!AH97 -> J8 | BO35: ='Aligning data'!AH98 -> K8 | BP35: ='Aligning data'!AH99 -> L8 | BQ35: =SUM(BN35:BP35)/3 -> 0 | BR35: ='Aligning data'!AJ97 -> J8 | BS35: ='Aligning data'!AJ98 -> K8 | BT35: ='Aligning data'!AJ99 -> L8 | BU35: =SUM(BR35:BT35)/3 -> 0 | BV35: ='Aligning data'!AL97 -> J8 | BW35: ='Aligning data'!AL98 -> K8 | BX35: ='Aligning data'!AL99 -> L8 | BY35: =SUM(BV35:BX35)/3 -> 0 | BZ35: ='Aligning data'!AN97 -> J8 | CA35: ='Aligning data'!AN98 -> K8 | CB35: ='Aligning data'!AN99 -> L8 | CC35: =SUM(BZ35:CB35)/3 -> 0 | CD35: ='Aligning data'!AP97 -> J8 | CE35: ='Aligning data'!AP98 -> K8 | CF35: ='Aligning data'!AP99 -> L8 | CG35: =SUM(CD35:CF35)/3 -> 0 | CH35: ='Aligning data'!AR97 -> J8 | CI35: ='Aligning data'!AR98 -> K8 | CJ35: ='Aligning data'!AR99 -> L8 | CK35: =SUM(CH35:CJ35)/3 -> 0 | CL35: ='Aligning data'!AT97 -> J8 | CM35: ='Aligning data'!AT98 -> K8 | CN35: ='Aligning data'!AT99 -> L8 | CO35: =SUM(CL35:CN35)/3 -> 0 | CP35: ='Aligning data'!AV97 -> J8 | CQ35: ='Aligning data'!AV98 -> K8 | CR35: ='Aligning data'!AV99 -> L8 | CS35: =SUM(CP35:CR35)/3 -> 0
A36: #7 | B36: ='Aligning data'!B100 -> A9 | C36: ='Aligning data'!B101 -> B9 | D36: ='Aligning data'!B102 -> C9 | E36: =SUM(B36:D36)/3 -> 0 | F36: ='Aligning data'!D100 -> A9 | G36: ='Aligning data'!D101 -> B9 | H36: ='Aligning data'!D102 -> C9 | I36: =SUM(F36:H36)/3 -> 0 | J36: ='Aligning data'!F100 -> A9 | K36: ='Aligning data'!F101 -> B9 | L36: ='Aligning data'!F102 -> C9 | M36: =SUM(J36:L36)/3 -> 0 | N36: ='Aligning data'!H100 -> A9 | O36: ='Aligning data'!H101 -> B9 | P36: ='Aligning data'!H102 -> C9 | Q36: =SUM(N36:P36)/3 -> 0 | R36: ='Aligning data'!J100 -> A9 | S36: ='Aligning data'!J101 -> B9 | T36: ='Aligning data'!J102 -> C9 | U36: =SUM(R36:T36)/3 -> 0 | V36: ='Aligning data'!L100 -> A9 | W36: ='Aligning data'!L101 -> B9 | X36: ='Aligning data'!L102 -> C9 | Y36: =SUM(V36:X36)/3 -> 0 | Z36: ='Aligning data'!N100 -> A9 | AA36: ='Aligning data'!N101 -> B9 | AB36: ='Aligning data'!N102 -> C9 | AC36: =SUM(Z36:AB36)/3 -> 0 | AD36: ='Aligning data'!P100 -> A9 | AE36: ='Aligning data'!P101 -> B9 | AF36: ='Aligning data'!P102 -> C9 | AG36: =SUM(AD36:AF36)/3 -> 0 | AH36: ='Aligning data'!R100 -> A9 | AI36: ='Aligning data'!R101 -> B9 | AJ36: ='Aligning data'!R102 -> C9 | AK36: =SUM(AH36:AJ36)/3 -> 0 | AL36: ='Aligning data'!T100 -> A9 | AM36: ='Aligning data'!T101 -> B9 | AN36: ='Aligning data'!T102 -> C9 | AO36: =SUM(AL36:AN36)/3 -> 0 | AP36: ='Aligning data'!V100 -> A9 | AQ36: ='Aligning data'!V101 -> B9 | AR36: ='Aligning data'!V102 -> C9 | AS36: =SUM(AP36:AR36)/3 -> 0 | AT36: ='Aligning data'!X100 -> A9 | AU36: ='Aligning data'!X101 -> B9 | AV36: ='Aligning data'!X102 -> C9 | AW36: =SUM(AT36:AV36)/3 -> 0 | AX36: ='Aligning data'!Z100 -> A9 | AY36: ='Aligning data'!Z101 -> B9 | AZ36: ='Aligning data'!Z102 -> C9 | BA36: =SUM(AX36:AZ36)/3 -> 0 | BB36: ='Aligning data'!AB100 -> A9 | BC36: ='Aligning data'!AB101 -> B9 | BD36: ='Aligning data'!AB102 -> C9 | BE36: =SUM(BB36:BD36)/3 -> 0 | BF36: ='Aligning data'!AD100 -> A9 | BG36: ='Aligning data'!AD101 -> B9 | BH36: ='Aligning data'!AD102 -> C9 | BI36: =SUM(BF36:BH36)/3 -> 0 | BJ36: ='Aligning data'!AF100 -> A9 | BK36: ='Aligning data'!AF101 -> B9 | BL36: ='Aligning data'!AF102 -> C9 | BM36: =SUM(BJ36:BL36)/3 -> 0 | BN36: ='Aligning data'!AH100 -> A9 | BO36: ='Aligning data'!AH101 -> B9 | BP36: ='Aligning data'!AH102 -> C9 | BQ36: =SUM(BN36:BP36)/3 -> 0 | BR36: ='Aligning data'!AJ100 -> A9 | BS36: ='Aligning data'!AJ101 -> B9 | BT36: ='Aligning data'!AJ102 -> C9 | BU36: =SUM(BR36:BT36)/3 -> 0 | BV36: ='Aligning data'!AL100 -> A9 | BW36: ='Aligning data'!AL101 -> B9 | BX36: ='Aligning data'!AL102 -> C9 | BY36: =SUM(BV36:BX36)/3 -> 0 | BZ36: ='Aligning data'!AN100 -> A9 | CA36: ='Aligning data'!AN101 -> B9 | CB36: ='Aligning data'!AN102 -> C9 | CC36: =SUM(BZ36:CB36)/3 -> 0 | CD36: ='Aligning data'!AP100 -> A9 | CE36: ='Aligning data'!AP101 -> B9 | CF36: ='Aligning data'!AP102 -> C9 | CG36: =SUM(CD36:CF36)/3 -> 0 | CH36: ='Aligning data'!AR100 -> A9 | CI36: ='Aligning data'!AR101 -> B9 | CJ36: ='Aligning data'!AR102 -> C9 | CK36: =SUM(CH36:CJ36)/3 -> 0 | CL36: ='Aligning data'!AT100 -> A9 | CM36: ='Aligning data'!AT101 -> B9 | CN36: ='Aligning data'!AT102 -> C9 | CO36: =SUM(CL36:CN36)/3 -> 0 | CP36: ='Aligning data'!AV100 -> A9 | CQ36: ='Aligning data'!AV101 -> B9 | CR36: ='Aligning data'!AV102 -> C9 | CS36: =SUM(CP36:CR36)/3 -> 0
A37: #16 | B37: ='Aligning data'!B103 -> D9 | C37: ='Aligning data'!B104 -> E9 | D37: ='Aligning data'!B105 -> F9 | E37: =SUM(B37:D37)/3 -> 0 | F37: ='Aligning data'!D103 -> D9 | G37: ='Aligning data'!D104 -> E9 | H37: ='Aligning data'!D105 -> F9 | I37: =SUM(F37:H37)/3 -> 0 | J37: ='Aligning data'!F103 -> D9 | K37: ='Aligning data'!F104 -> E9 | L37: ='Aligning data'!F105 -> F9 | M37: =SUM(J37:L37)/3 -> 0 | N37: ='Aligning data'!H103 -> D9 | O37: ='Aligning data'!H104 -> E9 | P37: ='Aligning data'!H105 -> F9 | Q37: =SUM(N37:P37)/3 -> 0 | R37: ='Aligning data'!J103 -> D9 | S37: ='Aligning data'!J104 -> E9 | T37: ='Aligning data'!J105 -> F9 | U37: =SUM(R37:T37)/3 -> 0 | V37: ='Aligning data'!L103 -> D9 | W37: ='Aligning data'!L104 -> E9 | X37: ='Aligning data'!L105 -> F9 | Y37: =SUM(V37:X37)/3 -> 0 | Z37: ='Aligning data'!N103 -> D9 | AA37: ='Aligning data'!N104 -> E9 | AB37: ='Aligning data'!N105 -> F9 | AC37: =SUM(Z37:AB37)/3 -> 0 | AD37: ='Aligning data'!P103 -> D9 | AE37: ='Aligning data'!P104 -> E9 | AF37: ='Aligning data'!P105 -> F9 | AG37: =SUM(AD37:AF37)/3 -> 0 | AH37: ='Aligning data'!R103 -> D9 | AI37: ='Aligning data'!R104 -> E9 | AJ37: ='Aligning data'!R105 -> F9 | AK37: =SUM(AH37:AJ37)/3 -> 0 | AL37: ='Aligning data'!T103 -> D9 | AM37: ='Aligning data'!T104 -> E9 | AN37: ='Aligning data'!T105 -> F9 | AO37: =SUM(AL37:AN37)/3 -> 0 | AP37: ='Aligning data'!V103 -> D9 | AQ37: ='Aligning data'!V104 -> E9 | AR37: ='Aligning data'!V105 -> F9 | AS37: =SUM(AP37:AR37)/3 -> 0 | AT37: ='Aligning data'!X103 -> D9 | AU37: ='Aligning data'!X104 -> E9 | AV37: ='Aligning data'!X105 -> F9 | AW37: =SUM(AT37:AV37)/3 -> 0 | AX37: ='Aligning data'!Z103 -> D9 | AY37: ='Aligning data'!Z104 -> E9 | AZ37: ='Aligning data'!Z105 -> F9 | BA37: =SUM(AX37:AZ37)/3 -> 0 | BB37: ='Aligning data'!AB103 -> D9 | BC37: ='Aligning data'!AB104 -> E9 | BD37: ='Aligning data'!AB105 -> F9 | BE37: =SUM(BB37:BD37)/3 -> 0 | BF37: ='Aligning data'!AD103 -> D9 | BG37: ='Aligning data'!AD104 -> E9 | BH37: ='Aligning data'!AD105 -> F9 | BI37: =SUM(BF37:BH37)/3 -> 0 | BJ37: ='Aligning data'!AF103 -> D9 | BK37: ='Aligning data'!AF104 -> E9 | BL37: ='Aligning data'!AF105 -> F9 | BM37: =SUM(BJ37:BL37)/3 -> 0 | BN37: ='Aligning data'!AH103 -> D9 | BO37: ='Aligning data'!AH104 -> E9 | BP37: ='Aligning data'!AH105 -> F9 | BQ37: =SUM(BN37:BP37)/3 -> 0 | BR37: ='Aligning data'!AJ103 -> D9 | BS37: ='Aligning data'!AJ104 -> E9 | BT37: ='Aligning data'!AJ105 -> F9 | BU37: =SUM(BR37:BT37)/3 -> 0 | BV37: ='Aligning data'!AL103 -> D9 | BW37: ='Aligning data'!AL104 -> E9 | BX37: ='Aligning data'!AL105 -> F9 | BY37: =SUM(BV37:BX37)/3 -> 0 | BZ37: ='Aligning data'!AN103 -> D9 | CA37: ='Aligning data'!AN104 -> E9 | CB37: ='Aligning data'!AN105 -> F9 | CC37: =SUM(BZ37:CB37)/3 -> 0 | CD37: ='Aligning data'!AP103 -> D9 | CE37: ='Aligning data'!AP104 -> E9 | CF37: ='Aligning data'!AP105 -> F9 | CG37: =SUM(CD37:CF37)/3 -> 0 | CH37: ='Aligning data'!AR103 -> D9 | CI37: ='Aligning data'!AR104 -> E9 | CJ37: ='Aligning data'!AR105 -> F9 | CK37: =SUM(CH37:CJ37)/3 -> 0 | CL37: ='Aligning data'!AT103 -> D9 | CM37: ='Aligning data'!AT104 -> E9 | CN37: ='Aligning data'!AT105 -> F9 | CO37: =SUM(CL37:CN37)/3 -> 0 | CP37: ='Aligning data'!AV103 -> D9 | CQ37: ='Aligning data'!AV104 -> E9 | CR37: ='Aligning data'!AV105 -> F9 | CS37: =SUM(CP37:CR37)/3 -> 0
A38: #26 | B38: ='Aligning data'!B106 -> G9 | C38: ='Aligning data'!B107 -> H9 | D38: ='Aligning data'!B108 -> I9 | E38: =SUM(B38:D38)/3 -> 0 | F38: ='Aligning data'!D106 -> G9 | G38: ='Aligning data'!D107 -> H9 | H38: ='Aligning data'!D108 -> I9 | I38: =SUM(F38:H38)/3 -> 0 | J38: ='Aligning data'!F106 -> G9 | K38: ='Aligning data'!F107 -> H9 | L38: ='Aligning data'!F108 -> I9 | M38: =SUM(J38:L38)/3 -> 0 | N38: ='Aligning data'!H106 -> G9 | O38: ='Aligning data'!H107 -> H9 | P38: ='Aligning data'!H108 -> I9 | Q38: =SUM(N38:P38)/3 -> 0 | R38: ='Aligning data'!J106 -> G9 | S38: ='Aligning data'!J107 -> H9 | T38: ='Aligning data'!J108 -> I9 | U38: =SUM(R38:T38)/3 -> 0 | V38: ='Aligning data'!L106 -> G9 | W38: ='Aligning data'!L107 -> H9 | X38: ='Aligning data'!L108 -> I9 | Y38: =SUM(V38:X38)/3 -> 0 | Z38: ='Aligning data'!N106 -> G9 | AA38: ='Aligning data'!N107 -> H9 | AB38: ='Aligning data'!N108 -> I9 | AC38: =SUM(Z38:AB38)/3 -> 0 | AD38: ='Aligning data'!P106 -> G9 | AE38: ='Aligning data'!P107 -> H9 | AF38: ='Aligning data'!P108 -> I9 | AG38: =SUM(AD38:AF38)/3 -> 0 | AH38: ='Aligning data'!R106 -> G9 | AI38: ='Aligning data'!R107 -> H9 | AJ38: ='Aligning data'!R108 -> I9 | AK38: =SUM(AH38:AJ38)/3 -> 0 | AL38: ='Aligning data'!T106 -> G9 | AM38: ='Aligning data'!T107 -> H9 | AN38: ='Aligning data'!T108 -> I9 | AO38: =SUM(AL38:AN38)/3 -> 0 | AP38: ='Aligning data'!V106 -> G9 | AQ38: ='Aligning data'!V107 -> H9 | AR38: ='Aligning data'!V108 -> I9 | AS38: =SUM(AP38:AR38)/3 -> 0 | AT38: ='Aligning data'!X106 -> G9 | AU38: ='Aligning data'!X107 -> H9 | AV38: ='Aligning data'!X108 -> I9 | AW38: =SUM(AT38:AV38)/3 -> 0 | AX38: ='Aligning data'!Z106 -> G9 | AY38: ='Aligning data'!Z107 -> H9 | AZ38: ='Aligning data'!Z108 -> I9 | BA38: =SUM(AX38:AZ38)/3 -> 0 | BB38: ='Aligning data'!AB106 -> G9 | BC38: ='Aligning data'!AB107 -> H9 | BD38: ='Aligning data'!AB108 -> I9 | BE38: =SUM(BB38:BD38)/3 -> 0 | BF38: ='Aligning data'!AD106 -> G9 | BG38: ='Aligning data'!AD107 -> H9 | BH38: ='Aligning data'!AD108 -> I9 | BI38: =SUM(BF38:BH38)/3 -> 0 | BJ38: ='Aligning data'!AF106 -> G9 | BK38: ='Aligning data'!AF107 -> H9 | BL38: ='Aligning data'!AF108 -> I9 | BM38: =SUM(BJ38:BL38)/3 -> 0 | BN38: ='Aligning data'!AH106 -> G9 | BO38: ='Aligning data'!AH107 -> H9 | BP38: ='Aligning data'!AH108 -> I9 | BQ38: =SUM(BN38:BP38)/3 -> 0 | BR38: ='Aligning data'!AJ106 -> G9 | BS38: ='Aligning data'!AJ107 -> H9 | BT38: ='Aligning data'!AJ108 -> I9 | BU38: =SUM(BR38:BT38)/3 -> 0 | BV38: ='Aligning data'!AL106 -> G9 | BW38: ='Aligning data'!AL107 -> H9 | BX38: ='Aligning data'!AL108 -> I9 | BY38: =SUM(BV38:BX38)/3 -> 0 | BZ38: ='Aligning data'!AN106 -> G9 | CA38: ='Aligning data'!AN107 -> H9 | CB38: ='Aligning data'!AN108 -> I9 | CC38: =SUM(BZ38:CB38)/3 -> 0 | CD38: ='Aligning data'!AP106 -> G9 | CE38: ='Aligning data'!AP107 -> H9 | CF38: ='Aligning data'!AP108 -> I9 | CG38: =SUM(CD38:CF38)/3 -> 0 | CH38: ='Aligning data'!AR106 -> G9 | CI38: ='Aligning data'!AR107 -> H9 | CJ38: ='Aligning data'!AR108 -> I9 | CK38: =SUM(CH38:CJ38)/3 -> 0 | CL38: ='Aligning data'!AT106 -> G9 | CM38: ='Aligning data'!AT107 -> H9 | CN38: ='Aligning data'!AT108 -> I9 | CO38: =SUM(CL38:CN38)/3 -> 0 | CP38: ='Aligning data'!AV106 -> G9 | CQ38: ='Aligning data'!AV107 -> H9 | CR38: ='Aligning data'!AV108 -> I9 | CS38: =SUM(CP38:CR38)/3 -> 0
A39: #33 | B39: ='Aligning data'!B109 -> J9 | C39: ='Aligning data'!B110 -> K9 | D39: ='Aligning data'!B111 -> L9 | E39: =SUM(B39:D39)/3 -> 0 | F39: ='Aligning data'!D109 -> J9 | G39: ='Aligning data'!D110 -> K9 | H39: ='Aligning data'!D111 -> L9 | I39: =SUM(F39:H39)/3 -> 0 | J39: ='Aligning data'!F109 -> J9 | K39: ='Aligning data'!F110 -> K9 | L39: ='Aligning data'!F111 -> L9 | M39: =SUM(J39:L39)/3 -> 0 | N39: ='Aligning data'!H109 -> J9 | O39: ='Aligning data'!H110 -> K9 | P39: ='Aligning data'!H111 -> L9 | Q39: =SUM(N39:P39)/3 -> 0 | R39: ='Aligning data'!J109 -> J9 | S39: ='Aligning data'!J110 -> K9 | T39: ='Aligning data'!J111 -> L9 | U39: =SUM(R39:T39)/3 -> 0 | V39: ='Aligning data'!L109 -> J9 | W39: ='Aligning data'!L110 -> K9 | X39: ='Aligning data'!L111 -> L9 | Y39: =SUM(V39:X39)/3 -> 0 | Z39: ='Aligning data'!N109 -> J9 | AA39: ='Aligning data'!N110 -> K9 | AB39: ='Aligning data'!N111 -> L9 | AC39: =SUM(Z39:AB39)/3 -> 0 | AD39: ='Aligning data'!P109 -> J9 | AE39: ='Aligning data'!P110 -> K9 | AF39: ='Aligning data'!P111 -> L9 | AG39: =SUM(AD39:AF39)/3 -> 0 | AH39: ='Aligning data'!R109 -> J9 | AI39: ='Aligning data'!R110 -> K9 | AJ39: ='Aligning data'!R111 -> L9 | AK39: =SUM(AH39:AJ39)/3 -> 0 | AL39: ='Aligning data'!T109 -> J9 | AM39: ='Aligning data'!T110 -> K9 | AN39: ='Aligning data'!T111 -> L9 | AO39: =SUM(AL39:AN39)/3 -> 0 | AP39: ='Aligning data'!V109 -> J9 | AQ39: ='Aligning data'!V110 -> K9 | AR39: ='Aligning data'!V111 -> L9 | AS39: =SUM(AP39:AR39)/3 -> 0 | AT39: ='Aligning data'!X109 -> J9 | AU39: ='Aligning data'!X110 -> K9 | AV39: ='Aligning data'!X111 -> L9 | AW39: =SUM(AT39:AV39)/3 -> 0 | AX39: ='Aligning data'!Z109 -> J9 | AY39: ='Aligning data'!Z110 -> K9 | AZ39: ='Aligning data'!Z111 -> L9 | BA39: =SUM(AX39:AZ39)/3 -> 0 | BB39: ='Aligning data'!AB109 -> J9 | BC39: ='Aligning data'!AB110 -> K9 | BD39: ='Aligning data'!AB111 -> L9 | BE39: =SUM(BB39:BD39)/3 -> 0 | BF39: ='Aligning data'!AD109 -> J9 | BG39: ='Aligning data'!AD110 -> K9 | BH39: ='Aligning data'!AD111 -> L9 | BI39: =SUM(BF39:BH39)/3 -> 0 | BJ39: ='Aligning data'!AF109 -> J9 | BK39: ='Aligning data'!AF110 -> K9 | BL39: ='Aligning data'!AF111 -> L9 | BM39: =SUM(BJ39:BL39)/3 -> 0 | BN39: ='Aligning data'!AH109 -> J9 | BO39: ='Aligning data'!AH110 -> K9 | BP39: ='Aligning data'!AH111 -> L9 | BQ39: =SUM(BN39:BP39)/3 -> 0 | BR39: ='Aligning data'!AJ109 -> J9 | BS39: ='Aligning data'!AJ110 -> K9 | BT39: ='Aligning data'!AJ111 -> L9 | BU39: =SUM(BR39:BT39)/3 -> 0 | BV39: ='Aligning data'!AL109 -> J9 | BW39: ='Aligning data'!AL110 -> K9 | BX39: ='Aligning data'!AL111 -> L9 | BY39: =SUM(BV39:BX39)/3 -> 0 | BZ39: ='Aligning data'!AN109 -> J9 | CA39: ='Aligning data'!AN110 -> K9 | CB39: ='Aligning data'!AN111 -> L9 | CC39: =SUM(BZ39:CB39)/3 -> 0 | CD39: ='Aligning data'!AP109 -> J9 | CE39: ='Aligning data'!AP110 -> K9 | CF39: ='Aligning data'!AP111 -> L9 | CG39: =SUM(CD39:CF39)/3 -> 0 | CH39: ='Aligning data'!AR109 -> J9 | CI39: ='Aligning data'!AR110 -> K9 | CJ39: ='Aligning data'!AR111 -> L9 | CK39: =SUM(CH39:CJ39)/3 -> 0 | CL39: ='Aligning data'!AT109 -> J9 | CM39: ='Aligning data'!AT110 -> K9 | CN39: ='Aligning data'!AT111 -> L9 | CO39: =SUM(CL39:CN39)/3 -> 0 | CP39: ='Aligning data'!AV109 -> J9 | CQ39: ='Aligning data'!AV110 -> K9 | CR39: ='Aligning data'!AV111 -> L9 | CS39: =SUM(CP39:CR39)/3 -> 0
A40: Human IgG | B40: ='Aligning data'!B112 -> A10 | C40: ='Aligning data'!B113 -> B10 | D40: ='Aligning data'!B114 -> C10 | E40: =SUM(B40:D40)/3 -> 0 | F40: ='Aligning data'!D112 -> A10 | G40: ='Aligning data'!D113 -> B10 | H40: ='Aligning data'!D114 -> C10 | I40: =SUM(F40:H40)/3 -> 0 | J40: ='Aligning data'!F112 -> A10 | K40: ='Aligning data'!F113 -> B10 | L40: ='Aligning data'!F114 -> C10 | M40: =SUM(J40:L40)/3 -> 0 | N40: ='Aligning data'!H112 -> A10 | O40: ='Aligning data'!H113 -> B10 | P40: ='Aligning data'!H114 -> C10 | Q40: =SUM(N40:P40)/3 -> 0 | R40: ='Aligning data'!J112 -> A10 | S40: ='Aligning data'!J113 -> B10 | T40: ='Aligning data'!J114 -> C10 | U40: =SUM(R40:T40)/3 -> 0 | V40: ='Aligning data'!L112 -> A10 | W40: ='Aligning data'!L113 -> B10 | X40: ='Aligning data'!L114 -> C10 | Y40: =SUM(V40:X40)/3 -> 0 | Z40: ='Aligning data'!N112 -> A10 | AA40: ='Aligning data'!N113 -> B10 | AB40: ='Aligning data'!N114 -> C10 | AC40: =SUM(Z40:AB40)/3 -> 0 | AD40: ='Aligning data'!P112 -> A10 | AE40: ='Aligning data'!P113 -> B10 | AF40: ='Aligning data'!P114 -> C10 | AG40: =SUM(AD40:AF40)/3 -> 0 | AH40: ='Aligning data'!R112 -> A10 | AI40: ='Aligning data'!R113 -> B10 | AJ40: ='Aligning data'!R114 -> C10 | AK40: =SUM(AH40:AJ40)/3 -> 0 | AL40: ='Aligning data'!T112 -> A10 | AM40: ='Aligning data'!T113 -> B10 | AN40: ='Aligning data'!T114 -> C10 | AO40: =SUM(AL40:AN40)/3 -> 0 | AP40: ='Aligning data'!V112 -> A10 | AQ40: ='Aligning data'!V113 -> B10 | AR40: ='Aligning data'!V114 -> C10 | AS40: =SUM(AP40:AR40)/3 -> 0 | AT40: ='Aligning data'!X112 -> A10 | AU40: ='Aligning data'!X113 -> B10 | AV40: ='Aligning data'!X114 -> C10 | AW40: =SUM(AT40:AV40)/3 -> 0 | AX40: ='Aligning data'!Z112 -> A10 | AY40: ='Aligning data'!Z113 -> B10 | AZ40: ='Aligning data'!Z114 -> C10 | BA40: =SUM(AX40:AZ40)/3 -> 0 | BB40: ='Aligning data'!AB112 -> A10 | BC40: ='Aligning data'!AB113 -> B10 | BD40: ='Aligning data'!AB114 -> C10 | BE40: =SUM(BB40:BD40)/3 -> 0 | BF40: ='Aligning data'!AD112 -> A10 | BG40: ='Aligning data'!AD113 -> B10 | BH40: ='Aligning data'!AD114 -> C10 | BI40: =SUM(BF40:BH40)/3 -> 0 | BJ40: ='Aligning data'!AF112 -> A10 | BK40: ='Aligning data'!AF113 -> B10 | BL40: ='Aligning data'!AF114 -> C10 | BM40: =SUM(BJ40:BL40)/3 -> 0 | BN40: ='Aligning data'!AH112 -> A10 | BO40: ='Aligning data'!AH113 -> B10 | BP40: ='Aligning data'!AH114 -> C10 | BQ40: =SUM(BN40:BP40)/3 -> 0 | BR40: ='Aligning data'!AJ112 -> A10 | BS40: ='Aligning data'!AJ113 -> B10 | BT40: ='Aligning data'!AJ114 -> C10 | BU40: =SUM(BR40:BT40)/3 -> 0 | BV40: ='Aligning data'!AL112 -> A10 | BW40: ='Aligning data'!AL113 -> B10 | BX40: ='Aligning data'!AL114 -> C10 | BY40: =SUM(BV40:BX40)/3 -> 0 | BZ40: ='Aligning data'!AN112 -> A10 | CA40: ='Aligning data'!AN113 -> B10 | CB40: ='Aligning data'!AN114 -> C10 | CC40: =SUM(BZ40:CB40)/3 -> 0 | CD40: ='Aligning data'!AP112 -> A10 | CE40: ='Aligning data'!AP113 -> B10 | CF40: ='Aligning data'!AP114 -> C10 | CG40: =SUM(CD40:CF40)/3 -> 0 | CH40: ='Aligning data'!AR112 -> A10 | CI40: ='Aligning data'!AR113 -> B10 | CJ40: ='Aligning data'!AR114 -> C10 | CK40: =SUM(CH40:CJ40)/3 -> 0 | CL40: ='Aligning data'!AT112 -> A10 | CM40: ='Aligning data'!AT113 -> B10 | CN40: ='Aligning data'!AT114 -> C10 | CO40: =SUM(CL40:CN40)/3 -> 0 | CP40: ='Aligning data'!AV112 -> A10 | CQ40: ='Aligning data'!AV113 -> B10 | CR40: ='Aligning data'!AV114 -> C10 | CS40: =SUM(CP40:CR40)/3 -> 0
A41: #17 | B41: ='Aligning data'!B115 -> D10 | C41: ='Aligning data'!B116 -> E10 | D41: ='Aligning data'!B117 -> F10 | E41: =SUM(B41:D41)/3 -> 0 | F41: ='Aligning data'!D115 -> D10 | G41: ='Aligning data'!D116 -> E10 | H41: ='Aligning data'!D117 -> F10 | I41: =SUM(F41:H41)/3 -> 0 | J41: ='Aligning data'!F115 -> D10 | K41: ='Aligning data'!F116 -> E10 | L41: ='Aligning data'!F117 -> F10 | M41: =SUM(J41:L41)/3 -> 0 | N41: ='Aligning data'!H115 -> D10 | O41: ='Aligning data'!H116 -> E10 | P41: ='Aligning data'!H117 -> F10 | Q41: =SUM(N41:P41)/3 -> 0 | R41: ='Aligning data'!J115 -> D10 | S41: ='Aligning data'!J116 -> E10 | T41: ='Aligning data'!J117 -> F10 | U41: =SUM(R41:T41)/3 -> 0 | V41: ='Aligning data'!L115 -> D10 | W41: ='Aligning data'!L116 -> E10 | X41: ='Aligning data'!L117 -> F10 | Y41: =SUM(V41:X41)/3 -> 0 | Z41: ='Aligning data'!N115 -> D10 | AA41: ='Aligning data'!N116 -> E10 | AB41: ='Aligning data'!N117 -> F10 | AC41: =SUM(Z41:AB41)/3 -> 0 | AD41: ='Aligning data'!P115 -> D10 | AE41: ='Aligning data'!P116 -> E10 | AF41: ='Aligning data'!P117 -> F10 | AG41: =SUM(AD41:AF41)/3 -> 0 | AH41: ='Aligning data'!R115 -> D10 | AI41: ='Aligning data'!R116 -> E10 | AJ41: ='Aligning data'!R117 -> F10 | AK41: =SUM(AH41:AJ41)/3 -> 0 | AL41: ='Aligning data'!T115 -> D10 | AM41: ='Aligning data'!T116 -> E10 | AN41: ='Aligning data'!T117 -> F10 | AO41: =SUM(AL41:AN41)/3 -> 0 | AP41: ='Aligning data'!V115 -> D10 | AQ41: ='Aligning data'!V116 -> E10 | AR41: ='Aligning data'!V117 -> F10 | AS41: =SUM(AP41:AR41)/3 -> 0 | AT41: ='Aligning data'!X115 -> D10 | AU41: ='Aligning data'!X116 -> E10 | AV41: ='Aligning data'!X117 -> F10 | AW41: =SUM(AT41:AV41)/3 -> 0 | AX41: ='Aligning data'!Z115 -> D10 | AY41: ='Aligning data'!Z116 -> E10 | AZ41: ='Aligning data'!Z117 -> F10 | BA41: =SUM(AX41:AZ41)/3 -> 0 | BB41: ='Aligning data'!AB115 -> D10 | BC41: ='Aligning data'!AB116 -> E10 | BD41: ='Aligning data'!AB117 -> F10 | BE41: =SUM(BB41:BD41)/3 -> 0 | BF41: ='Aligning data'!AD115 -> D10 | BG41: ='Aligning data'!AD116 -> E10 | BH41: ='Aligning data'!AD117 -> F10 | BI41: =SUM(BF41:BH41)/3 -> 0 | BJ41: ='Aligning data'!AF115 -> D10 | BK41: ='Aligning data'!AF116 -> E10 | BL41: ='Aligning data'!AF117 -> F10 | BM41: =SUM(BJ41:BL41)/3 -> 0 | BN41: ='Aligning data'!AH115 -> D10 | BO41: ='Aligning data'!AH116 -> E10 | BP41: ='Aligning data'!AH117 -> F10 | BQ41: =SUM(BN41:BP41)/3 -> 0 | BR41: ='Aligning data'!AJ115 -> D10 | BS41: ='Aligning data'!AJ116 -> E10 | BT41: ='Aligning data'!AJ117 -> F10 | BU41: =SUM(BR41:BT41)/3 -> 0 | BV41: ='Aligning data'!AL115 -> D10 | BW41: ='Aligning data'!AL116 -> E10 | BX41: ='Aligning data'!AL117 -> F10 | BY41: =SUM(BV41:BX41)/3 -> 0 | BZ41: ='Aligning data'!AN115 -> D10 | CA41: ='Aligning data'!AN116 -> E10 | CB41: ='Aligning data'!AN117 -> F10 | CC41: =SUM(BZ41:CB41)/3 -> 0 | CD41: ='Aligning data'!AP115 -> D10 | CE41: ='Aligning data'!AP116 -> E10 | CF41: ='Aligning data'!AP117 -> F10 | CG41: =SUM(CD41:CF41)/3 -> 0 | CH41: ='Aligning data'!AR115 -> D10 | CI41: ='Aligning data'!AR116 -> E10 | CJ41: ='Aligning data'!AR117 -> F10 | CK41: =SUM(CH41:CJ41)/3 -> 0 | CL41: ='Aligning data'!AT115 -> D10 | CM41: ='Aligning data'!AT116 -> E10 | CN41: ='Aligning data'!AT117 -> F10 | CO41: =SUM(CL41:CN41)/3 -> 0 | CP41: ='Aligning data'!AV115 -> D10 | CQ41: ='Aligning data'!AV116 -> E10 | CR41: ='Aligning data'!AV117 -> F10 | CS41: =SUM(CP41:CR41)/3 -> 0
A42: #27 | B42: ='Aligning data'!B118 -> G10 | C42: ='Aligning data'!B119 -> H10 | D42: ='Aligning data'!B120 -> I10 | E42: =SUM(B42:D42)/3 -> 0 | F42: ='Aligning data'!D118 -> G10 | G42: ='Aligning data'!D119 -> H10 | H42: ='Aligning data'!D120 -> I10 | I42: =SUM(F42:H42)/3 -> 0 | J42: ='Aligning data'!F118 -> G10 | K42: ='Aligning data'!F119 -> H10 | L42: ='Aligning data'!F120 -> I10 | M42: =SUM(J42:L42)/3 -> 0 | N42: ='Aligning data'!H118 -> G10 | O42: ='Aligning data'!H119 -> H10 | P42: ='Aligning data'!H120 -> I10 | Q42: =SUM(N42:P42)/3 -> 0 | R42: ='Aligning data'!J118 -> G10 | S42: ='Aligning data'!J119 -> H10 | T42: ='Aligning data'!J120 -> I10 | U42: =SUM(R42:T42)/3 -> 0 | V42: ='Aligning data'!L118 -> G10 | W42: ='Aligning data'!L119 -> H10 | X42: ='Aligning data'!L120 -> I10 | Y42: =SUM(V42:X42)/3 -> 0 | Z42: ='Aligning data'!N118 -> G10 | AA42: ='Aligning data'!N119 -> H10 | AB42: ='Aligning data'!N120 -> I10 | AC42: =SUM(Z42:AB42)/3 -> 0 | AD42: ='Aligning data'!P118 -> G10 | AE42: ='Aligning data'!P119 -> H10 | AF42: ='Aligning data'!P120 -> I10 | AG42: =SUM(AD42:AF42)/3 -> 0 | AH42: ='Aligning data'!R118 -> G10 | AI42: ='Aligning data'!R119 -> H10 | AJ42: ='Aligning data'!R120 -> I10 | AK42: =SUM(AH42:AJ42)/3 -> 0 | AL42: ='Aligning data'!T118 -> G10 | AM42: ='Aligning data'!T119 -> H10 | AN42: ='Aligning data'!T120 -> I10 | AO42: =SUM(AL42:AN42)/3 -> 0 | AP42: ='Aligning data'!V118 -> G10 | AQ42: ='Aligning data'!V119 -> H10 | AR42: ='Aligning data'!V120 -> I10 | AS42: =SUM(AP42:AR42)/3 -> 0 | AT42: ='Aligning data'!X118 -> G10 | AU42: ='Aligning data'!X119 -> H10 | AV42: ='Aligning data'!X120 -> I10 | AW42: =SUM(AT42:AV42)/3 -> 0 | AX42: ='Aligning data'!Z118 -> G10 | AY42: ='Aligning data'!Z119 -> H10 | AZ42: ='Aligning data'!Z120 -> I10 | BA42: =SUM(AX42:AZ42)/3 -> 0 | BB42: ='Aligning data'!AB118 -> G10 | BC42: ='Aligning data'!AB119 -> H10 | BD42: ='Aligning data'!AB120 -> I10 | BE42: =SUM(BB42:BD42)/3 -> 0 | BF42: ='Aligning data'!AD118 -> G10 | BG42: ='Aligning data'!AD119 -> H10 | BH42: ='Aligning data'!AD120 -> I10 | BI42: =SUM(BF42:BH42)/3 -> 0 | BJ42: ='Aligning data'!AF118 -> G10 | BK42: ='Aligning data'!AF119 -> H10 | BL42: ='Aligning data'!AF120 -> I10 | BM42: =SUM(BJ42:BL42)/3 -> 0 | BN42: ='Aligning data'!AH118 -> G10 | BO42: ='Aligning data'!AH119 -> H10 | BP42: ='Aligning data'!AH120 -> I10 | BQ42: =SUM(BN42:BP42)/3 -> 0 | BR42: ='Aligning data'!AJ118 -> G10 | BS42: ='Aligning data'!AJ119 -> H10 | BT42: ='Aligning data'!AJ120 -> I10 | BU42: =SUM(BR42:BT42)/3 -> 0 | BV42: ='Aligning data'!AL118 -> G10 | BW42: ='Aligning data'!AL119 -> H10 | BX42: ='Aligning data'!AL120 -> I10 | BY42: =SUM(BV42:BX42)/3 -> 0 | BZ42: ='Aligning data'!AN118 -> G10 | CA42: ='Aligning data'!AN119 -> H10 | CB42: ='Aligning data'!AN120 -> I10 | CC42: =SUM(BZ42:CB42)/3 -> 0 | CD42: ='Aligning data'!AP118 -> G10 | CE42: ='Aligning data'!AP119 -> H10 | CF42: ='Aligning data'!AP120 -> I10 | CG42: =SUM(CD42:CF42)/3 -> 0 | CH42: ='Aligning data'!AR118 -> G10 | CI42: ='Aligning data'!AR119 -> H10 | CJ42: ='Aligning data'!AR120 -> I10 | CK42: =SUM(CH42:CJ42)/3 -> 0 | CL42: ='Aligning data'!AT118 -> G10 | CM42: ='Aligning data'!AT119 -> H10 | CN42: ='Aligning data'!AT120 -> I10 | CO42: =SUM(CL42:CN42)/3 -> 0 | CP42: ='Aligning data'!AV118 -> G10 | CQ42: ='Aligning data'!AV119 -> H10 | CR42: ='Aligning data'!AV120 -> I10 | CS42: =SUM(CP42:CR42)/3 -> 0

Sheet Averages-1
A1: RayBio® AID Autoantibody Detection Array
B2: Sample 1 | C2: Sample 2 | D2: Sample 3 | E2: Sample 4 | F2: Sample 5 | G2: Sample 6 | H2: Sample 7 | I2: Sample 8 | J2: Sample 9 | K2: Sample 10 | L2: Sample 11 | M2: Sample 12 | N2: Sample 13 | O2: Sample 14 | P2: Sample 15 | Q2: Sample 16 | R2: Sample 17 | S2: Sample 18 | T2: Sample 19 | U2: Sample 20 | V2: Sample 21 | W2: Sample 22 | X2: Sample 23 | Y2: Sample 24
B3: With Background | C3: With Background | D3: With Background | E3: With Background | F3: With Background | G3: With Background | H3: With Background | I3: With Background | J3: With Background | K3: With Background | L3: With Background | M3: With Background | N3: With Background | O3: With Background | P3: With Background | Q3: With Background | R3: With Background | S3: With Background | T3: With Background | U3: With Background | V3: With Background | W3: With Background | X3: With Background | Y3: With Background
A4: ='Sorting-1'!A5 -> POS | B4: ='Sorting-1'!E5 -> 0 | C4: ='Sorting-1'!I5 -> 0 | D4: ='Sorting-1'!M5 -> 0 | E4: ='Sorting-1'!Q5 -> 0 | F4: ='Sorting-1'!U5 -> 0 | G4: ='Sorting-1'!Y5 -> 0 | H4: ='Sorting-1'!AC5 -> 0 | I4: ='Sorting-1'!AG5 -> 0 | J4: ='Sorting-1'!AK5 -> 0 | K4: ='Sorting-1'!AO5 -> 0 | L4: ='Sorting-1'!AS5 -> 0 | M4: ='Sorting-1'!AW5 -> 0 | N4: ='Sorting-1'!BA5 -> 0 | O4: ='Sorting-1'!BE5 -> 0 | P4: ='Sorting-1'!BI5 -> 0 | Q4: ='Sorting-1'!BM5 -> 0 | R4: ='Sorting-1'!BQ5 -> 0 | S4: ='Sorting-1'!BU5 -> 0 | T4: ='Sorting-1'!BY5 -> 0 | U4: ='Sorting-1'!CC5 -> 0 | V4: ='Sorting-1'!CG5 -> 0 | W4: ='Sorting-1'!CK5 -> 0 | X4: ='Sorting-1'!CO5 -> 0 | Y4: ='Sorting-1'!CS5 -> 0
A5: ='Sorting-1'!A6 -> NEG | B5: ='Sorting-1'!E6 -> 0 | C5: ='Sorting-1'!I6 -> 0 | D5: ='Sorting-1'!M6 -> 0 | E5: ='Sorting-1'!Q6 -> 0 | F5: ='Sorting-1'!U6 -> 0 | G5: ='Sorting-1'!Y6 -> 0 | H5: ='Sorting-1'!AC6 -> 0 | I5: ='Sorting-1'!AG6 -> 0 | J5: ='Sorting-1'!AK6 -> 0 | K5: ='Sorting-1'!AO6 -> 0 | L5: ='Sorting-1'!AS6 -> 0 | M5: ='Sorting-1'!AW6 -> 0 | N5: ='Sorting-1'!BA6 -> 0 | O5: ='Sorting-1'!BE6 -> 0 | P5: ='Sorting-1'!BI6 -> 0 | Q5: ='Sorting-1'!BM6 -> 0 | R5: ='Sorting-1'!BQ6 -> 0 | S5: ='Sorting-1'!BU6 -> 0 | T5: ='Sorting-1'!BY6 -> 0 | U5: ='Sorting-1'!CC6 -> 0 | V5: ='Sorting-1'!CG6 -> 0 | W5: ='Sorting-1'!CK6 -> 0 | X5: ='Sorting-1'!CO6 -> 0 | Y5: ='Sorting-1'!CS6 -> 0
A6: ='Sorting-1'!A7 -> #8 | B6: ='Sorting-1'!E7 -> 0 | C6: ='Sorting-1'!I7 -> 0 | D6: ='Sorting-1'!M7 -> 0 | E6: ='Sorting-1'!Q7 -> 0 | F6: ='Sorting-1'!U7 -> 0 | G6: ='Sorting-1'!Y7 -> 0 | H6: ='Sorting-1'!AC7 -> 0 | I6: ='Sorting-1'!AG7 -> 0 | J6: ='Sorting-1'!AK7 -> 0 | K6: ='Sorting-1'!AO7 -> 0 | L6: ='Sorting-1'!AS7 -> 0 | M6: ='Sorting-1'!AW7 -> 0 | N6: ='Sorting-1'!BA7 -> 0 | O6: ='Sorting-1'!BE7 -> 0 | P6: ='Sorting-1'!BI7 -> 0 | Q6: ='Sorting-1'!BM7 -> 0 | R6: ='Sorting-1'!BQ7 -> 0 | S6: ='Sorting-1'!BU7 -> 0 | T6: ='Sorting-1'!BY7 -> 0 | U6: ='Sorting-1'!CC7 -> 0 | V6: ='Sorting-1'!CG7 -> 0 | W6: ='Sorting-1'!CK7 -> 0 | X6: ='Sorting-1'!CO7 -> 0 | Y6: ='Sorting-1'!CS7 -> 0
A7: ='Sorting-1'!A8 -> #18 | B7: ='Sorting-1'!E8 -> 0 | C7: ='Sorting-1'!I8 -> 0 | D7: ='Sorting-1'!M8 -> 0 | E7: ='Sorting-1'!Q8 -> 0 | F7: ='Sorting-1'!U8 -> 0 | G7: ='Sorting-1'!Y8 -> 0 | H7: ='Sorting-1'!AC8 -> 0 | I7: ='Sorting-1'!AG8 -> 0 | J7: ='Sorting-1'!AK8 -> 0 | K7: ='Sorting-1'!AO8 -> 0 | L7: ='Sorting-1'!AS8 -> 0 | M7: ='Sorting-1'!AW8 -> 0 | N7: ='Sorting-1'!BA8 -> 0 | O7: ='Sorting-1'!BE8 -> 0 | P7: ='Sorting-1'!BI8 -> 0 | Q7: ='Sorting-1'!BM8 -> 0 | R7: ='Sorting-1'!BQ8 -> 0 | S7: ='Sorting-1'!BU8 -> 0 | T7: ='Sorting-1'!BY8 -> 0 | U7: ='Sorting-1'!CC8 -> 0 | V7: ='Sorting-1'!CG8 -> 0 | W7: ='Sorting-1'!CK8 -> 0 | X7: ='Sorting-1'!CO8 -> 0 | Y7: ='Sorting-1'!CS8 -> 0
A8: ='Sorting-1'!A9 -> Human IgA | B8: ='Sorting-1'!E9 -> 0 | C8: ='Sorting-1'!I9 -> 0 | D8: ='Sorting-1'!M9 -> 0 | E8: ='Sorting-1'!Q9 -> 0 | F8: ='Sorting-1'!U9 -> 0 | G8: ='Sorting-1'!Y9 -> 0 | H8: ='Sorting-1'!AC9 -> 0 | I8: ='Sorting-1'!AG9 -> 0 | J8: ='Sorting-1'!AK9 -> 0 | K8: ='Sorting-1'!AO9 -> 0 | L8: ='Sorting-1'!AS9 -> 0 | M8: ='Sorting-1'!AW9 -> 0 | N8: ='Sorting-1'!BA9 -> 0 | O8: ='Sorting-1'!BE9 -> 0 | P8: ='Sorting-1'!BI9 -> 0 | Q8: ='Sorting-1'!BM9 -> 0 | R8: ='Sorting-1'!BQ9 -> 0 | S8: ='Sorting-1'!BU9 -> 0 | T8: ='Sorting-1'!BY9 -> 0 | U8: ='Sorting-1'!CC9 -> 0 | V8: ='Sorting-1'!CG9 -> 0 | W8: ='Sorting-1'!CK9 -> 0 | X8: ='Sorting-1'!CO9 -> 0 | Y8: ='Sorting-1'!CS9 -> 0
A9: ='Sorting-1'!A10 -> #9 | B9: ='Sorting-1'!E10 -> 0 | C9: ='Sorting-1'!I10 -> 0 | D9: ='Sorting-1'!M10 -> 0 | E9: ='Sorting-1'!Q10 -> 0 | F9: ='Sorting-1'!U10 -> 0 | G9: ='Sorting-1'!Y10 -> 0 | H9: ='Sorting-1'!AC10 -> 0 | I9: ='Sorting-1'!AG10 -> 0 | J9: ='Sorting-1'!AK10 -> 0 | K9: ='Sorting-1'!AO10 -> 0 | L9: ='Sorting-1'!AS10 -> 0 | M9: ='Sorting-1'!AW10 -> 0 | N9: ='Sorting-1'!BA10 -> 0 | O9: ='Sorting-1'!BE10 -> 0 | P9: ='Sorting-1'!BI10 -> 0 | Q9: ='Sorting-1'!BM10 -> 0 | R9: ='Sorting-1'!BQ10 -> 0 | S9: ='Sorting-1'!BU10 -> 0 | T9: ='Sorting-1'!BY10 -> 0 | U9: ='Sorting-1'!CC10 -> 0 | V9: ='Sorting-1'!CG10 -> 0 | W9: ='Sorting-1'!CK10 -> 0 | X9: ='Sorting-1'!CO10 -> 0 | Y9: ='Sorting-1'!CS10 -> 0
A10: ='Sorting-1'!A11 -> #19 | B10: ='Sorting-1'!E11 -> 0 | C10: ='Sorting-1'!I11 -> 0 | D10: ='Sorting-1'!M11 -> 0 | E10: ='Sorting-1'!Q11 -> 0 | F10: ='Sorting-1'!U11 -> 0 | G10: ='Sorting-1'!Y11 -> 0 | H10: ='Sorting-1'!AC11 -> 0 | I10: ='Sorting-1'!AG11 -> 0 | J10: ='Sorting-1'!AK11 -> 0 | K10: ='Sorting-1'!AO11 -> 0 | L10: ='Sorting-1'!AS11 -> 0 | M10: ='Sorting-1'!AW11 -> 0 | N10: ='Sorting-1'!BA11 -> 0 | O10: ='Sorting-1'!BE11 -> 0 | P10: ='Sorting-1'!BI11 -> 0 | Q10: ='Sorting-1'!BM11 -> 0 | R10: ='Sorting-1'!BQ11 -> 0 | S10: ='Sorting-1'!BU11 -> 0 | T10: ='Sorting-1'!BY11 -> 0 | U10: ='Sorting-1'!CC11 -> 0 | V10: ='Sorting-1'!CG11 -> 0 | W10: ='Sorting-1'!CK11 -> 0 | X10: ='Sorting-1'!CO11 -> 0 | Y10: ='Sorting-1'!CS11 -> 0
A11: ='Sorting-1'!A12 -> #1 | B11: ='Sorting-1'!E12 -> 0 | C11: ='Sorting-1'!I12 -> 0 | D11: ='Sorting-1'!M12 -> 0 | E11: ='Sorting-1'!Q12 -> 0 | F11: ='Sorting-1'!U12 -> 0 | G11: ='Sorting-1'!Y12 -> 0 | H11: ='Sorting-1'!AC12 -> 0 | I11: ='Sorting-1'!AG12 -> 0 | J11: ='Sorting-1'!AK12 -> 0 | K11: ='Sorting-1'!AO12 -> 0 | L11: ='Sorting-1'!AS12 -> 0 | M11: ='Sorting-1'!AW12 -> 0 | N11: ='Sorting-1'!BA12 -> 0 | O11: ='Sorting-1'!BE12 -> 0 | P11: ='Sorting-1'!BI12 -> 0 | Q11: ='Sorting-1'!BM12 -> 0 | R11: ='Sorting-1'!BQ12 -> 0 | S11: ='Sorting-1'!BU12 -> 0 | T11: ='Sorting-1'!BY12 -> 0 | U11: ='Sorting-1'!CC12 -> 0 | V11: ='Sorting-1'!CG12 -> 0 | W11: ='Sorting-1'!CK12 -> 0 | X11: ='Sorting-1'!CO12 -> 0 | Y11: ='Sorting-1'!CS12 -> 0
A12: ='Sorting-1'!A13 -> #10 | B12: ='Sorting-1'!E13 -> 0 | C12: ='Sorting-1'!I13 -> 0 | D12: ='Sorting-1'!M13 -> 0 | E12: ='Sorting-1'!Q13 -> 0 | F12: ='Sorting-1'!U13 -> 0 | G12: ='Sorting-1'!Y13 -> 0 | H12: ='Sorting-1'!AC13 -> 0 | I12: ='Sorting-1'!AG13 -> 0 | J12: ='Sorting-1'!AK13 -> 0 | K12: ='Sorting-1'!AO13 -> 0 | L12: ='Sorting-1'!AS13 -> 0 | M12: ='Sorting-1'!AW13 -> 0 | N12: ='Sorting-1'!BA13 -> 0 | O12: ='Sorting-1'!BE13 -> 0 | P12: ='Sorting-1'!BI13 -> 0 | Q12: ='Sorting-1'!BM13 -> 0 | R12: ='Sorting-1'!BQ13 -> 0 | S12: ='Sorting-1'!BU13 -> 0 | T12: ='Sorting-1'!BY13 -> 0 | U12: ='Sorting-1'!CC13 -> 0 | V12: ='Sorting-1'!CG13 -> 0 | W12: ='Sorting-1'!CK13 -> 0 | X12: ='Sorting-1'!CO13 -> 0 | Y12: ='Sorting-1'!CS13 -> 0
A13: ='Sorting-1'!A14 -> #20 | B13: ='Sorting-1'!E14 -> 0 | C13: ='Sorting-1'!I14 -> 0 | D13: ='Sorting-1'!M14 -> 0 | E13: ='Sorting-1'!Q14 -> 0 | F13: ='Sorting-1'!U14 -> 0 | G13: ='Sorting-1'!Y14 -> 0 | H13: ='Sorting-1'!AC14 -> 0 | I13: ='Sorting-1'!AG14 -> 0 | J13: ='Sorting-1'!AK14 -> 0 | K13: ='Sorting-1'!AO14 -> 0 | L13: ='Sorting-1'!AS14 -> 0 | M13: ='Sorting-1'!AW14 -> 0 | N13: ='Sorting-1'!BA14 -> 0 | O13: ='Sorting-1'!BE14 -> 0 | P13: ='Sorting-1'!BI14 -> 0 | Q13: ='Sorting-1'!BM14 -> 0 | R13: ='Sorting-1'!BQ14 -> 0 | S13: ='Sorting-1'!BU14 -> 0 | T13: ='Sorting-1'!BY14 -> 0 | U13: ='Sorting-1'!CC14 -> 0 | V13: ='Sorting-1'!CG14 -> 0 | W13: ='Sorting-1'!CK14 -> 0 | X13: ='Sorting-1'!CO14 -> 0 | Y13: ='Sorting-1'!CS14 -> 0
A14: ='Sorting-1'!A15 -> 0.1% BSA-PBS | B14: ='Sorting-1'!E15 -> 0 | C14: ='Sorting-1'!I15 -> 0 | D14: ='Sorting-1'!M15 -> 0 | E14: ='Sorting-1'!Q15 -> 0 | F14: ='Sorting-1'!U15 -> 0 | G14: ='Sorting-1'!Y15 -> 0 | H14: ='Sorting-1'!AC15 -> 0 | I14: ='Sorting-1'!AG15 -> 0 | J14: ='Sorting-1'!AK15 -> 0 | K14: ='Sorting-1'!AO15 -> 0 | L14: ='Sorting-1'!AS15 -> 0 | M14: ='Sorting-1'!AW15 -> 0 | N14: ='Sorting-1'!BA15 -> 0 | O14: ='Sorting-1'!BE15 -> 0 | P14: ='Sorting-1'!BI15 -> 0 | Q14: ='Sorting-1'!BM15 -> 0 | R14: ='Sorting-1'!BQ15 -> 0 | S14: ='Sorting-1'!BU15 -> 0 | T14: ='Sorting-1'!BY15 -> 0 | U14: ='Sorting-1'!CC15 -> 0 | V14: ='Sorting-1'!CG15 -> 0 | W14: ='Sorting-1'!CK15 -> 0 | X14: ='Sorting-1'!CO15 -> 0 | Y14: ='Sorting-1'!CS15 -> 0
A15: ='Sorting-1'!A16 -> #2 | B15: ='Sorting-1'!E16 -> 0 | C15: ='Sorting-1'!I16 -> 0 | D15: ='Sorting-1'!M16 -> 0 | E15: ='Sorting-1'!Q16 -> 0 | F15: ='Sorting-1'!U16 -> 0 | G15: ='Sorting-1'!Y16 -> 0 | H15: ='Sorting-1'!AC16 -> 0 | I15: ='Sorting-1'!AG16 -> 0 | J15: ='Sorting-1'!AK16 -> 0 | K15: ='Sorting-1'!AO16 -> 0 | L15: ='Sorting-1'!AS16 -> 0 | M15: ='Sorting-1'!AW16 -> 0 | N15: ='Sorting-1'!BA16 -> 0 | O15: ='Sorting-1'!BE16 -> 0 | P15: ='Sorting-1'!BI16 -> 0 | Q15: ='Sorting-1'!BM16 -> 0 | R15: ='Sorting-1'!BQ16 -> 0 | S15: ='Sorting-1'!BU16 -> 0 | T15: ='Sorting-1'!BY16 -> 0 | U15: ='Sorting-1'!CC16 -> 0 | V15: ='Sorting-1'!CG16 -> 0 | W15: ='Sorting-1'!CK16 -> 0 | X15: ='Sorting-1'!CO16 -> 0 | Y15: ='Sorting-1'!CS16 -> 0
... A41: ='Sorting-1'!A42 -> #27 | B41: ='Sorting-1'!E42 -> 0 | C41: ='Sorting-1'!I42 -> 0 | D41: ='Sorting-1'!M42 -> 0 | E41: ='Sorting-1'!Q42 -> 0 | F41: ='Sorting-1'!U42 -> 0 | G41: ='Sorting-1'!Y42 -> 0 | H41: ='Sorting-1'!AC42 -> 0 | I41: ='Sorting-1'!AG42 -> 0 | J41: ='Sorting-1'!AK42 -> 0 | K41: ='Sorting-1'!AO42 -> 0 | L41: ='Sorting-1'!AS42 -> 0 | M41: ='Sorting-1'!AW42 -> 0 | N41: ='Sorting-1'!BA42 -> 0 | O41: ='Sorting-1'!BE42 -> 0 | P41: ='Sorting-1'!BI42 -> 0 | Q41: ='Sorting-1'!BM42 -> 0 | R41: ='Sorting-1'!BQ42 -> 0 | S41: ='Sorting-1'!BU42 -> 0 | T41: ='Sorting-1'!BY42 -> 0 | U41: ='Sorting-1'!CC42 -> 0 | V41: ='Sorting-1'!CG42 -> 0 | W41: ='Sorting-1'!CK42 -> 0 | X41: ='Sorting-1'!CO42 -> 0 | Y41: ='Sorting-1'!CS42 -> 0

Sheet Average-w-bkg
A1: RayBio® AID Autoantibody Detection Array
B2: Sample 1 | C2: Sample 2 | D2: Sample 3 | E2: Sample 4 | F2: Sample 5 | G2: Sample 6 | H2: Sample 7 | I2: Sample 8 | J2: Sample 9 | K2: Sample 10 | L2: Sample 11 | M2: Sample 12 | N2: Sample 13 | O2: Sample 14 | P2: Sample 15 | Q2: Sample 16 | R2: Sample 17 | S2: Sample 18 | T2: Sample 19 | U2: Sample 20 | V2: Sample 21 | W2: Sample 22 | X2: Sample 23 | Y2: Sample 24
B3: With Background | C3: With Background | D3: With Background | E3: With Background | F3: With Background | G3: With Background | H3: With Background | I3: With Background | J3: With Background | K3: With Background | L3: With Background | M3: With Background | N3: With Background | O3: With Background | P3: With Background | Q3: With Background | R3: With Background | S3: With Background | T3: With Background | U3: With Background | V3: With Background | W3: With Background | X3: With Background | Y3: With Background
A4: ='Sorting-1'!A5 -> POS | B4: ='Averages-1'!B4 -> 0 | C4: ='Averages-1'!C4 -> 0 | D4: ='Averages-1'!D4 -> 0 | E4: ='Averages-1'!E4 -> 0 | F4: ='Averages-1'!F4 -> 0 | G4: ='Averages-1'!G4 -> 0 | H4: ='Averages-1'!H4 -> 0 | I4: ='Averages-1'!I4 -> 0 | ... Y4: ='Averages-1'!Y4 -> 0
A5: ='Sorting-1'!A6 -> NEG | B5: ='Averages-1'!B5 -> 0 | C5: ='Averages-1'!C5 -> 0 | D5: ='Averages-1'!D5 -> 0 | E5: ='Averages-1'!E5 -> 0 | F5: ='Averages-1'!F5 -> 0 | G5: ='Averages-1'!G5 -> 0 | H5: ='Averages-1'!H5 -> 0 | I5: ='Averages-1'!I5 -> 0 | ... Y5: ='Averages-1'!Y5 -> 0
A6: ='Sorting-1'!A7 -> #8 | B6: =IF('Averages-1'!B6<1,"1",'Averages-1'!B6) -> 1 | C6: =IF('Averages-1'!C6<1,"1",'Averages-1'!C6) -> 1 | D6: =IF('Averages-1'!D6<1,"1",'Averages-1'!D6) -> 1 | E6: =IF('Averages-1'!E6<1,"1",'Averages-1'!E6) -> 1 | F6: =IF('Averages-1'!F6<1,"1",'Averages-1'!F6) -> 1 | G6: =IF('Averages-1'!G6<1,"1",'Averages-1'!G6) -> 1 | H6: =IF('Averages-1'!H6<1,"1",'Averages-1'!H6) -> 1 | I6: =IF('Averages-1'!I6<1,"1",'Averages-1'!I6) -> 1 | ... Y6: =IF('Averages-1'!Y6<1,"1",'Averages-1'!Y6) -> 1
A7: ='Sorting-1'!A8 -> #18 | B7: =IF('Averages-1'!B7<1,"1",'Averages-1'!B7) -> 1 | C7: =IF('Averages-1'!C7<1,"1",'Averages-1'!C7) -> 1 | D7: =IF('Averages-1'!D7<1,"1",'Averages-1'!D7) -> 1 | E7: =IF('Averages-1'!E7<1,"1",'Averages-1'!E7) -> 1 | F7: =IF('Averages-1'!F7<1,"1",'Averages-1'!F7) -> 1 | G7: =IF('Averages-1'!G7<1,"1",'Averages-1'!G7) -> 1 | H7: =IF('Averages-1'!H7<1,"1",'Averages-1'!H7) -> 1 | I7: =IF('Averages-1'!I7<1,"1",'Averages-1'!I7) -> 1 | ... Y7: =IF('Averages-1'!Y7<1,"1",'Averages-1'!Y7) -> 1
A8: ='Sorting-1'!A9 -> Human IgA | B8: =IF('Averages-1'!B8<1,"1",'Averages-1'!B8) -> 1 | C8: =IF('Averages-1'!C8<1,"1",'Averages-1'!C8) -> 1 | D8: =IF('Averages-1'!D8<1,"1",'Averages-1'!D8) -> 1 | E8: =IF('Averages-1'!E8<1,"1",'Averages-1'!E8) -> 1 | F8: =IF('Averages-1'!F8<1,"1",'Averages-1'!F8) -> 1 | G8: =IF('Averages-1'!G8<1,"1",'Averages-1'!G8) -> 1 | H8: =IF('Averages-1'!H8<1,"1",'Averages-1'!H8) -> 1 | I8: =IF('Averages-1'!I8<1,"1",'Averages-1'!I8) -> 1 | ... Y8: =IF('Averages-1'!Y8<1,"1",'Averages-1'!Y8) -> 1
A9: ='Sorting-1'!A10 -> #9 | B9: =IF('Averages-1'!B9<1,"1",'Averages-1'!B9) -> 1 | C9: =IF('Averages-1'!C9<1,"1",'Averages-1'!C9) -> 1 | D9: =IF('Averages-1'!D9<1,"1",'Averages-1'!D9) -> 1 | E9: =IF('Averages-1'!E9<1,"1",'Averages-1'!E9) -> 1 | F9: =IF('Averages-1'!F9<1,"1",'Averages-1'!F9) -> 1 | G9: =IF('Averages-1'!G9<1,"1",'Averages-1'!G9) -> 1 | H9: =IF('Averages-1'!H9<1,"1",'Averages-1'!H9) -> 1 | I9: =IF('Averages-1'!I9<1,"1",'Averages-1'!I9) -> 1 | ... Y9: =IF('Averages-1'!Y9<1,"1",'Averages-1'!Y9) -> 1
A10: ='Sorting-1'!A11 -> #19 | B10: =IF('Averages-1'!B10<1,"1",'Averages-1'!B10) -> 1 | C10: =IF('Averages-1'!C10<1,"1",'Averages-1'!C10) -> 1 | D10: =IF('Averages-1'!D10<1,"1",'Averages-1'!D10) -> 1 | E10: =IF('Averages-1'!E10<1,"1",'Averages-1'!E10) -> 1 | F10: =IF('Averages-1'!F10<1,"1",'Averages-1'!F10) -> 1 | G10: =IF('Averages-1'!G10<1,"1",'Averages-1'!G10) -> 1 | H10: =IF('Averages-1'!H10<1,"1",'Averages-1'!H10) -> 1 | I10: =IF('Averages-1'!I10<1,"1",'Averages-1'!I10) -> 1 | ... Y10: =IF('Averages-1'!Y10<1,"1",'Averages-1'!Y10) -> 1
A11: ='Sorting-1'!A12 -> #1 | B11: =IF('Averages-1'!B11<1,"1",'Averages-1'!B11) -> 1 | C11: =IF('Averages-1'!C11<1,"1",'Averages-1'!C11) -> 1 | D11: =IF('Averages-1'!D11<1,"1",'Averages-1'!D11) -> 1 | E11: =IF('Averages-1'!E11<1,"1",'Averages-1'!E11) -> 1 | F11: =IF('Averages-1'!F11<1,"1",'Averages-1'!F11) -> 1 | G11: =IF('Averages-1'!G11<1,"1",'Averages-1'!G11) -> 1 | H11: =IF('Averages-1'!H11<1,"1",'Averages-1'!H11) -> 1 | I11: =IF('Averages-1'!I11<1,"1",'Averages-1'!I11) -> 1 | ... Y11: =IF('Averages-1'!Y11<1,"1",'Averages-1'!Y11) -> 1
A12: ='Sorting-1'!A13 -> #10 | B12: =IF('Averages-1'!B12<1,"1",'Averages-1'!B12) -> 1 | C12: =IF('Averages-1'!C12<1,"1",'Averages-1'!C12) -> 1 | D12: =IF('Averages-1'!D12<1,"1",'Averages-1'!D12) -> 1 | E12: =IF('Averages-1'!E12<1,"1",'Averages-1'!E12) -> 1 | F12: =IF('Averages-1'!F12<1,"1",'Averages-1'!F12) -> 1 | G12: =IF('Averages-1'!G12<1,"1",'Averages-1'!G12) -> 1 | H12: =IF('Averages-1'!H12<1,"1",'Averages-1'!H12) -> 1 | I12: =IF('Averages-1'!I12<1,"1",'Averages-1'!I12) -> 1 | ... Y12: =IF('Averages-1'!Y12<1,"1",'Averages-1'!Y12) -> 1
A13: ='Sorting-1'!A14 -> #20 | B13: =IF('Averages-1'!B13<1,"1",'Averages-1'!B13) -> 1 | C13: =IF('Averages-1'!C13<1,"1",'Averages-1'!C13) -> 1 | D13: =IF('Averages-1'!D13<1,"1",'Averages-1'!D13) -> 1 | E13: =IF('Averages-1'!E13<1,"1",'Averages-1'!E13) -> 1 | F13: =IF('Averages-1'!F13<1,"1",'Averages-1'!F13) -> 1 | G13: =IF('Averages-1'!G13<1,"1",'Averages-1'!G13) -> 1 | H13: =IF('Averages-1'!H13<1,"1",'Averages-1'!H13) -> 1 | I13: =IF('Averages-1'!I13<1,"1",'Averages-1'!I13) -> 1 | ... Y13: =IF('Averages-1'!Y13<1,"1",'Averages-1'!Y13) -> 1
A14: ='Sorting-1'!A15 -> 0.1% BSA-PBS | B14: =IF('Averages-1'!B14<1,"1",'Averages-1'!B14) -> 1 | C14: =IF('Averages-1'!C14<1,"1",'Averages-1'!C14) -> 1 | D14: =IF('Averages-1'!D14<1,"1",'Averages-1'!D14) -> 1 | E14: =IF('Averages-1'!E14<1,"1",'Averages-1'!E14) -> 1 | F14: =IF('Averages-1'!F14<1,"1",'Averages-1'!F14) -> 1 | G14: =IF('Averages-1'!G14<1,"1",'Averages-1'!G14) -> 1 | H14: =IF('Averages-1'!H14<1,"1",'Averages-1'!H14) -> 1 | I14: =IF('Averages-1'!I14<1,"1",'Averages-1'!I14) -> 1 | ... Y14: =IF('Averages-1'!Y14<1,"1",'Averages-1'!Y14) -> 1
A15: ='Sorting-1'!A16 -> #2 | B15: =IF('Averages-1'!B15<1,"1",'Averages-1'!B15) -> 1 | C15: =IF('Averages-1'!C15<1,"1",'Averages-1'!C15) -> 1 | D15: =IF('Averages-1'!D15<1,"1",'Averages-1'!D15) -> 1 | E15: =IF('Averages-1'!E15<1,"1",'Averages-1'!E15) -> 1 | F15: =IF('Averages-1'!F15<1,"1",'Averages-1'!F15) -> 1 | G15: =IF('Averages-1'!G15<1,"1",'Averages-1'!G15) -> 1 | H15: =IF('Averages-1'!H15<1,"1",'Averages-1'!H15) -> 1 | I15: =IF('Averages-1'!I15<1,"1",'Averages-1'!I15) -> 1 | ... Y15: =IF('Averages-1'!Y15<1,"1",'Averages-1'!Y15) -> 1
A16: ='Sorting-1'!A17 -> #11 | B16: =IF('Averages-1'!B16<1,"1",'Averages-1'!B16) -> 1 | C16: =IF('Averages-1'!C16<1,"1",'Averages-1'!C16) -> 1 | D16: =IF('Averages-1'!D16<1,"1",'Averages-1'!D16) -> 1 | E16: =IF('Averages-1'!E16<1,"1",'Averages-1'!E16) -> 1 | F16: =IF('Averages-1'!F16<1,"1",'Averages-1'!F16) -> 1 | G16: =IF('Averages-1'!G16<1,"1",'Averages-1'!G16) -> 1 | H16: =IF('Averages-1'!H16<1,"1",'Averages-1'!H16) -> 1 | I16: =IF('Averages-1'!I16<1,"1",'Averages-1'!I16) -> 1 | ... Y16: =IF('Averages-1'!Y16<1,"1",'Averages-1'!Y16) -> 1
A17: ='Sorting-1'!A18 -> #21 | B17: =IF('Averages-1'!B17<1,"1",'Averages-1'!B17) -> 1 | C17: =IF('Averages-1'!C17<1,"1",'Averages-1'!C17) -> 1 | D17: =IF('Averages-1'!D17<1,"1",'Averages-1'!D17) -> 1 | E17: =IF('Averages-1'!E17<1,"1",'Averages-1'!E17) -> 1 | F17: =IF('Averages-1'!F17<1,"1",'Averages-1'!F17) -> 1 | G17: =IF('Averages-1'!G17<1,"1",'Averages-1'!G17) -> 1 | H17: =IF('Averages-1'!H17<1,"1",'Averages-1'!H17) -> 1 | I17: =IF('Averages-1'!I17<1,"1",'Averages-1'!I17) -> 1 | ... Y17: =IF('Averages-1'!Y17<1,"1",'Averages-1'!Y17) -> 1
... A41: ='Sorting-1'!A42 -> #27 | B41: =IF('Averages-1'!B41<1,"1",'Averages-1'!B41) -> 1 | C41: =IF('Averages-1'!C41<1,"1",'Averages-1'!C41) -> 1 | D41: =IF('Averages-1'!D41<1,"1",'Averages-1'!D41) -> 1 | E41: =IF('Averages-1'!E41<1,"1",'Averages-1'!E41) -> 1 | F41: =IF('Averages-1'!F41<1,"1",'Averages-1'!F41) -> 1 | G41: =IF('Averages-1'!G41<1,"1",'Averages-1'!G41) -> 1 | H41: =IF('Averages-1'!H41<1,"1",'Averages-1'!H41) -> 1 | I41: =IF('Averages-1'!I41<1,"1",'Averages-1'!I41) -> 1 | ... Y41: =IF('Averages-1'!Y41<1,"1",'Averages-1'!Y41) -> 1

Sheet Pos Normalization-1
A1: RayBio® AID Autoantibody Detection Array
A2: Positive Control Normalization With Background | B2: ='Aligning data'!B2 -> Sample1 | C2: ='Aligning data'!D2 -> Sample2 | D2: ='Aligning data'!F2 -> Sample3 | E2: ='Aligning data'!H2 -> Sample4 | F2: ='Aligning data'!J2 -> Sample5 | G2: ='Aligning data'!L2 -> Sample6 | H2: ='Aligning data'!N2 -> Sample7 | I2: ='Aligning data'!P2 -> Sample8 | J2: ='Aligning data'!R2 -> Sample9 | K2: ='Aligning data'!T2 -> Sample10 | L2: ='Aligning data'!V2 -> Sample11 | M2: ='Aligning data'!X2 -> Sample12 | N2: ='Aligning data'!Z2 -> Sample13 | O2: ='Aligning data'!AB2 -> Sample14 | P2: ='Aligning data'!AD2 -> Sample15 | Q2: ='Aligning data'!AF2 -> Sample16 | R2: ='Aligning data'!AH2 -> Sample17 | S2: ='Aligning data'!AJ2 -> Sample18 | T2: ='Aligning data'!AL2 -> Sample19 | U2: ='Aligning data'!AN2 -> Sample20 | V2: ='Aligning data'!AP2 -> Sample21 | W2: ='Aligning data'!AR2 -> Sample22 | X2: ='Aligning data'!AT2 -> Sample23 | Y2: ='Aligning data'!AV2 -> Sample24
B3: With Background | C3: With Background | D3: With Background | E3: With Background | F3: With Background | G3: With Background | H3: With Background | I3: With Background | J3: With Background | K3: With Background | L3: With Background | M3: With Background | N3: With Background | O3: With Background | P3: With Background | Q3: With Background | R3: With Background | S3: With Background | T3: With Background | U3: With Background | V3: With Background | W3: With Background | X3: With Background | Y3: With Background
A4: ='Sorting-1'!A5 -> POS | B4: ='Average-w-bkg'!B4*'Average-w-bkg'!B4/'Average-w-bkg'!B4 -> #DIV/0! | C4: ='Average-w-bkg'!C4*'Average-w-bkg'!B4/'Average-w-bkg'!C4 -> #DIV/0! | D4: ='Average-w-bkg'!D4*'Average-w-bkg'!B4/'Average-w-bkg'!D4 -> #DIV/0! | E4: ='Average-w-bkg'!E4*'Average-w-bkg'!B4/'Average-w-bkg'!E4 -> #DIV/0! | F4: ='Average-w-bkg'!F4*'Average-w-bkg'!B4/'Average-w-bkg'!F4 -> #DIV/0! | G4: ='Average-w-bkg'!G4*'Average-w-bkg'!B4/'Average-w-bkg'!G4 -> #DIV/0! | H4: ='Average-w-bkg'!H4*'Average-w-bkg'!B4/'Average-w-bkg'!H4 -> #DIV/0! | I4: ='Average-w-bkg'!I4*'Average-w-bkg'!B4/'Average-w-bkg'!I4 -> #DIV/0! | J4: ='Average-w-bkg'!J4*'Average-w-bkg'!B4/'Average-w-bkg'!J4 -> #DIV/0! | K4: ='Average-w-bkg'!K4*'Average-w-bkg'!B4/'Average-w-bkg'!K4 -> #DIV/0! | L4: ='Average-w-bkg'!L4*'Average-w-bkg'!B4/'Average-w-bkg'!L4 -> #DIV/0! | M4: ='Average-w-bkg'!M4*'Average-w-bkg'!B4/'Average-w-bkg'!M4 -> #DIV/0! | N4: ='Average-w-bkg'!N4*'Average-w-bkg'!B4/'Average-w-bkg'!N4 -> #DIV/0! | O4: ='Average-w-bkg'!O4*'Average-w-bkg'!B4/'Average-w-bkg'!O4 -> #DIV/0! | P4: ='Average-w-bkg'!P4*'Average-w-bkg'!B4/'Average-w-bkg'!P4 -> #DIV/0! | Q4: ='Average-w-bkg'!Q4*'Average-w-bkg'!B4/'Average-w-bkg'!Q4 -> #DIV/0! | R4: ='Average-w-bkg'!R4*'Average-w-bkg'!B4/'Average-w-bkg'!R4 -> #DIV/0! | S4: ='Average-w-bkg'!S4*'Average-w-bkg'!B4/'Average-w-bkg'!S4 -> #DIV/0! | T4: ='Average-w-bkg'!T4*'Average-w-bkg'!B4/'Average-w-bkg'!T4 -> #DIV/0! | U4: ='Average-w-bkg'!U4*'Average-w-bkg'!B4/'Average-w-bkg'!U4 -> #DIV/0! | V4: ='Average-w-bkg'!V4*'Average-w-bkg'!B4/'Average-w-bkg'!V4 -> #DIV/0! | W4: ='Average-w-bkg'!W4*'Average-w-bkg'!B4/'Average-w-bkg'!W4 -> #DIV/0! | X4: ='Average-w-bkg'!X4*'Average-w-bkg'!B4/'Average-w-bkg'!X4 -> #DIV/0! | Y4: ='Average-w-bkg'!Y4*'Average-w-bkg'!B4/'Average-w-bkg'!Y4 -> #DIV/0!
A5: ='Sorting-1'!A6 -> NEG | B5: ='Average-w-bkg'!B5*'Average-w-bkg'!B4/'Average-w-bkg'!B4 -> #DIV/0! | C5: ='Average-w-bkg'!C5*'Average-w-bkg'!B4/'Average-w-bkg'!C4 -> #DIV/0! | D5: ='Average-w-bkg'!D5*'Average-w-bkg'!B4/'Average-w-bkg'!D4 -> #DIV/0! | E5: ='Average-w-bkg'!E5*'Average-w-bkg'!B4/'Average-w-bkg'!E4 -> #DIV/0! | F5: ='Average-w-bkg'!F5*'Average-w-bkg'!B4/'Average-w-bkg'!F4 -> #DIV/0! | G5: ='Average-w-bkg'!G5*'Average-w-bkg'!B4/'Average-w-bkg'!G4 -> #DIV/0! | H5: ='Average-w-bkg'!H5*'Average-w-bkg'!B4/'Average-w-bkg'!H4 -> #DIV/0! | I5: ='Average-w-bkg'!I5*'Average-w-bkg'!B4/'Average-w-bkg'!I4 -> #DIV/0! | J5: ='Average-w-bkg'!J5*'Average-w-bkg'!B4/'Average-w-bkg'!J4 -> #DIV/0! | K5: ='Average-w-bkg'!K5*'Average-w-bkg'!B4/'Average-w-bkg'!K4 -> #DIV/0! | L5: ='Average-w-bkg'!L5*'Average-w-bkg'!B4/'Average-w-bkg'!L4 -> #DIV/0! | M5: ='Average-w-bkg'!M5*'Average-w-bkg'!B4/'Average-w-bkg'!M4 -> #DIV/0! | N5: ='Average-w-bkg'!N5*'Average-w-bkg'!B4/'Average-w-bkg'!N4 -> #DIV/0! | O5: ='Average-w-bkg'!O5*'Average-w-bkg'!B4/'Average-w-bkg'!O4 -> #DIV/0! | P5: ='Average-w-bkg'!P5*'Average-w-bkg'!B4/'Average-w-bkg'!P4 -> #DIV/0! | Q5: ='Average-w-bkg'!Q5*'Average-w-bkg'!B4/'Average-w-bkg'!Q4 -> #DIV/0! | R5: ='Average-w-bkg'!R5*'Average-w-bkg'!B4/'Average-w-bkg'!R4 -> #DIV/0! | S5: ='Average-w-bkg'!S5*'Average-w-bkg'!B4/'Average-w-bkg'!S4 -> #DIV/0! | T5: ='Average-w-bkg'!T5*'Average-w-bkg'!B4/'Average-w-bkg'!T4 -> #DIV/0! | U5: ='Average-w-bkg'!U5*'Average-w-bkg'!B4/'Average-w-bkg'!U4 -> #DIV/0! | V5: ='Average-w-bkg'!V5*'Average-w-bkg'!B4/'Average-w-bkg'!V4 -> #DIV/0! | W5: ='Average-w-bkg'!W5*'Average-w-bkg'!B4/'Average-w-bkg'!W4 -> #DIV/0! | X5: ='Average-w-bkg'!X5*'Average-w-bkg'!B4/'Average-w-bkg'!X4 -> #DIV/0! | Y5: ='Average-w-bkg'!Y5*'Average-w-bkg'!B4/'Average-w-bkg'!Y4 -> #DIV/0!
A6: ='Sorting-1'!A7 -> #8 | B6: ='Average-w-bkg'!B6*'Average-w-bkg'!B4/'Average-w-bkg'!B4 -> #DIV/0! | C6: ='Average-w-bkg'!C6*'Average-w-bkg'!B4/'Average-w-bkg'!C4 -> #DIV/0! | D6: ='Average-w-bkg'!D6*'Average-w-bkg'!B4/'Average-w-bkg'!D4 -> #DIV/0! | E6: ='Average-w-bkg'!E6*'Average-w-bkg'!B4/'Average-w-bkg'!E4 -> #DIV/0! | F6: ='Average-w-bkg'!F6*'Average-w-bkg'!B4/'Average-w-bkg'!F4 -> #DIV/0! | G6: ='Average-w-bkg'!G6*'Average-w-bkg'!B4/'Average-w-bkg'!G4 -> #DIV/0! | H6: ='Average-w-bkg'!H6*'Average-w-bkg'!B4/'Average-w-bkg'!H4 -> #DIV/0! | I6: ='Average-w-bkg'!I6*'Average-w-bkg'!B4/'Average-w-bkg'!I4 -> #DIV/0! | J6: ='Average-w-bkg'!J6*'Average-w-bkg'!B4/'Average-w-bkg'!J4 -> #DIV/0! | K6: ='Average-w-bkg'!K6*'Average-w-bkg'!B4/'Average-w-bkg'!K4 -> #DIV/0! | L6: ='Average-w-bkg'!L6*'Average-w-bkg'!B4/'Average-w-bkg'!L4 -> #DIV/0! | M6: ='Average-w-bkg'!M6*'Average-w-bkg'!B4/'Average-w-bkg'!M4 -> #DIV/0! | N6: ='Average-w-bkg'!N6*'Average-w-bkg'!B4/'Average-w-bkg'!N4 -> #DIV/0! | O6: ='Average-w-bkg'!O6*'Average-w-bkg'!B4/'Average-w-bkg'!O4 -> #DIV/0! | P6: ='Average-w-bkg'!P6*'Average-w-bkg'!B4/'Average-w-bkg'!P4 -> #DIV/0! | Q6: ='Average-w-bkg'!Q6*'Average-w-bkg'!B4/'Average-w-bkg'!Q4 -> #DIV/0! | R6: ='Average-w-bkg'!R6*'Average-w-bkg'!B4/'Average-w-bkg'!R4 -> #DIV/0! | S6: ='Average-w-bkg'!S6*'Average-w-bkg'!B4/'Average-w-bkg'!S4 -> #DIV/0! | T6: ='Average-w-bkg'!T6*'Average-w-bkg'!B4/'Average-w-bkg'!T4 -> #DIV/0! | U6: ='Average-w-bkg'!U6*'Average-w-bkg'!B4/'Average-w-bkg'!U4 -> #DIV/0! | V6: ='Average-w-bkg'!V6*'Average-w-bkg'!B4/'Average-w-bkg'!V4 -> #DIV/0! | W6: ='Average-w-bkg'!W6*'Average-w-bkg'!B4/'Average-w-bkg'!W4 -> #DIV/0! | X6: ='Average-w-bkg'!X6*'Average-w-bkg'!B4/'Average-w-bkg'!X4 -> #DIV/0! | Y6: ='Average-w-bkg'!Y6*'Average-w-bkg'!B4/'Average-w-bkg'!Y4 -> #DIV/0!
A7: ='Sorting-1'!A8 -> #18 | B7: ='Average-w-bkg'!B7*'Average-w-bkg'!B4/'Average-w-bkg'!B4 -> #DIV/0! | C7: ='Average-w-bkg'!C7*'Average-w-bkg'!B4/'Average-w-bkg'!C4 -> #DIV/0! | D7: ='Average-w-bkg'!D7*'Average-w-bkg'!B4/'Average-w-bkg'!D4 -> #DIV/0! | E7: ='Average-w-bkg'!E7*'Average-w-bkg'!B4/'Average-w-bkg'!E4 -> #DIV/0! | F7: ='Average-w-bkg'!F7*'Average-w-bkg'!B4/'Average-w-bkg'!F4 -> #DIV/0! | G7: ='Average-w-bkg'!G7*'Average-w-bkg'!B4/'Average-w-bkg'!G4 -> #DIV/0! | H7: ='Average-w-bkg'!H7*'Average-w-bkg'!B4/'Average-w-bkg'!H4 -> #DIV/0! | I7: ='Average-w-bkg'!I7*'Average-w-bkg'!B4/'Average-w-bkg'!I4 -> #DIV/0! | J7: ='Average-w-bkg'!J7*'Average-w-bkg'!B4/'Average-w-bkg'!J4 -> #DIV/0! | K7: ='Average-w-bkg'!K7*'Average-w-bkg'!B4/'Average-w-bkg'!K4 -> #DIV/0! | L7: ='Average-w-bkg'!L7*'Average-w-bkg'!B4/'Average-w-bkg'!L4 -> #DIV/0! | M7: ='Average-w-bkg'!M7*'Average-w-bkg'!B4/'Average-w-bkg'!M4 -> #DIV/0! | N7: ='Average-w-bkg'!N7*'Average-w-bkg'!B4/'Average-w-bkg'!N4 -> #DIV/0! | O7: ='Average-w-bkg'!O7*'Average-w-bkg'!B4/'Average-w-bkg'!O4 -> #DIV/0! | P7: ='Average-w-bkg'!P7*'Average-w-bkg'!B4/'Average-w-bkg'!P4 -> #DIV/0! | Q7: ='Average-w-bkg'!Q7*'Average-w-bkg'!B4/'Average-w-bkg'!Q4 -> #DIV/0! | R7: ='Average-w-bkg'!R7*'Average-w-bkg'!B4/'Average-w-bkg'!R4 -> #DIV/0! | S7: ='Average-w-bkg'!S7*'Average-w-bkg'!B4/'Average-w-bkg'!S4 -> #DIV/0! | T7: ='Average-w-bkg'!T7*'Average-w-bkg'!B4/'Average-w-bkg'!T4 -> #DIV/0! | U7: ='Average-w-bkg'!U7*'Average-w-bkg'!B4/'Average-w-bkg'!U4 -> #DIV/0! | V7: ='Average-w-bkg'!V7*'Average-w-bkg'!B4/'Average-w-bkg'!V4 -> #DIV/0! | W7: ='Average-w-bkg'!W7*'Average-w-bkg'!B4/'Average-w-bkg'!W4 -> #DIV/0! | X7: ='Average-w-bkg'!X7*'Average-w-bkg'!B4/'Average-w-bkg'!X4 -> #DIV/0! | Y7: ='Average-w-bkg'!Y7*'Average-w-bkg'!B4/'Average-w-bkg'!Y4 -> #DIV/0!
A8: ='Sorting-1'!A9 -> Human IgA | B8: ='Average-w-bkg'!B8*'Average-w-bkg'!B4/'Average-w-bkg'!B4 -> #DIV/0! | C8: ='Average-w-bkg'!C8*'Average-w-bkg'!B4/'Average-w-bkg'!C4 -> #DIV/0! | D8: ='Average-w-bkg'!D8*'Average-w-bkg'!B4/'Average-w-bkg'!D4 -> #DIV/0! | E8: ='Average-w-bkg'!E8*'Average-w-bkg'!B4/'Average-w-bkg'!E4 -> #DIV/0! | F8: ='Average-w-bkg'!F8*'Average-w-bkg'!B4/'Average-w-bkg'!F4 -> #DIV/0! | G8: ='Average-w-bkg'!G8*'Average-w-bkg'!B4/'Average-w-bkg'!G4 -> #DIV/0! | H8: ='Average-w-bkg'!H8*'Average-w-bkg'!B4/'Average-w-bkg'!H4 -> #DIV/0! | I8: ='Average-w-bkg'!I8*'Average-w-bkg'!B4/'Average-w-bkg'!I4 -> #DIV/0! | J8: ='Average-w-bkg'!J8*'Average-w-bkg'!B4/'Average-w-bkg'!J4 -> #DIV/0! | K8: ='Average-w-bkg'!K8*'Average-w-bkg'!B4/'Average-w-bkg'!K4 -> #DIV/0! | L8: ='Average-w-bkg'!L8*'Average-w-bkg'!B4/'Average-w-bkg'!L4 -> #DIV/0! | M8: ='Average-w-bkg'!M8*'Average-w-bkg'!B4/'Average-w-bkg'!M4 -> #DIV/0! | N8: ='Average-w-bkg'!N8*'Average-w-bkg'!B4/'Average-w-bkg'!N4 -> #DIV/0! | O8: ='Average-w-bkg'!O8*'Average-w-bkg'!B4/'Average-w-bkg'!O4 -> #DIV/0! | P8: ='Average-w-bkg'!P8*'Average-w-bkg'!B4/'Average-w-bkg'!P4 -> #DIV/0! | Q8: ='Average-w-bkg'!Q8*'Average-w-bkg'!B4/'Average-w-bkg'!Q4 -> #DIV/0! | R8: ='Average-w-bkg'!R8*'Average-w-bkg'!B4/'Average-w-bkg'!R4 -> #DIV/0! | S8: ='Average-w-bkg'!S8*'Average-w-bkg'!B4/'Average-w-bkg'!S4 -> #DIV/0! | T8: ='Average-w-bkg'!T8*'Average-w-bkg'!B4/'Average-w-bkg'!T4 -> #DIV/0! | U8: ='Average-w-bkg'!U8*'Average-w-bkg'!B4/'Average-w-bkg'!U4 -> #DIV/0! | V8: ='Average-w-bkg'!V8*'Average-w-bkg'!B4/'Average-w-bkg'!V4 -> #DIV/0! | W8: ='Average-w-bkg'!W8*'Average-w-bkg'!B4/'Average-w-bkg'!W4 -> #DIV/0! | X8: ='Average-w-bkg'!X8*'Average-w-bkg'!B4/'Average-w-bkg'!X4 -> #DIV/0! | Y8: ='Average-w-bkg'!Y8*'Average-w-bkg'!B4/'Average-w-bkg'!Y4 -> #DIV/0!
A9: ='Sorting-1'!A10 -> #9 | B9: ='Average-w-bkg'!B9*'Average-w-bkg'!B4/'Average-w-bkg'!B4 -> #DIV/0! | C9: ='Average-w-bkg'!C9*'Average-w-bkg'!B4/'Average-w-bkg'!C4 -> #DIV/0! | D9: ='Average-w-bkg'!D9*'Average-w-bkg'!B4/'Average-w-bkg'!D4 -> #DIV/0! | E9: ='Average-w-bkg'!E9*'Average-w-bkg'!B4/'Average-w-bkg'!E4 -> #DIV/0! | F9: ='Average-w-bkg'!F9*'Average-w-bkg'!B4/'Average-w-bkg'!F4 -> #DIV/0! | G9: ='Average-w-bkg'!G9*'Average-w-bkg'!B4/'Average-w-bkg'!G4 -> #DIV/0! | H9: ='Average-w-bkg'!H9*'Average-w-bkg'!B4/'Average-w-bkg'!H4 -> #DIV/0! | I9: ='Average-w-bkg'!I9*'Average-w-bkg'!B4/'Average-w-bkg'!I4 -> #DIV/0! | J9: ='Average-w-bkg'!J9*'Average-w-bkg'!B4/'Average-w-bkg'!J4 -> #DIV/0! | K9: ='Average-w-bkg'!K9*'Average-w-bkg'!B4/'Average-w-bkg'!K4 -> #DIV/0! | L9: ='Average-w-bkg'!L9*'Average-w-bkg'!B4/'Average-w-bkg'!L4 -> #DIV/0! | M9: ='Average-w-bkg'!M9*'Average-w-bkg'!B4/'Average-w-bkg'!M4 -> #DIV/0! | N9: ='Average-w-bkg'!N9*'Average-w-bkg'!B4/'Average-w-bkg'!N4 -> #DIV/0! | O9: ='Average-w-bkg'!O9*'Average-w-bkg'!B4/'Average-w-bkg'!O4 -> #DIV/0! | P9: ='Average-w-bkg'!P9*'Average-w-bkg'!B4/'Average-w-bkg'!P4 -> #DIV/0! | Q9: ='Average-w-bkg'!Q9*'Average-w-bkg'!B4/'Average-w-bkg'!Q4 -> #DIV/0! | R9: ='Average-w-bkg'!R9*'Average-w-bkg'!B4/'Average-w-bkg'!R4 -> #DIV/0! | S9: ='Average-w-bkg'!S9*'Average-w-bkg'!B4/'Average-w-bkg'!S4 -> #DIV/0! | T9: ='Average-w-bkg'!T9*'Average-w-bkg'!B4/'Average-w-bkg'!T4 -> #DIV/0! | U9: ='Average-w-bkg'!U9*'Average-w-bkg'!B4/'Average-w-bkg'!U4 -> #DIV/0! | V9: ='Average-w-bkg'!V9*'Average-w-bkg'!B4/'Average-w-bkg'!V4 -> #DIV/0! | W9: ='Average-w-bkg'!W9*'Average-w-bkg'!B4/'Average-w-bkg'!W4 -> #DIV/0! | X9: ='Average-w-bkg'!X9*'Average-w-bkg'!B4/'Average-w-bkg'!X4 -> #DIV/0! | Y9: ='Average-w-bkg'!Y9*'Average-w-bkg'!B4/'Average-w-bkg'!Y4 -> #DIV/0!
A10: ='Sorting-1'!A11 -> #19 | B10: ='Average-w-bkg'!B10*'Average-w-bkg'!B4/'Average-w-bkg'!B4 -> #DIV/0! | C10: ='Average-w-bkg'!C10*'Average-w-bkg'!B4/'Average-w-bkg'!C4 -> #DIV/0! | D10: ='Average-w-bkg'!D10*'Average-w-bkg'!B4/'Average-w-bkg'!D4 -> #DIV/0! | E10: ='Average-w-bkg'!E10*'Average-w-bkg'!B4/'Average-w-bkg'!E4 -> #DIV/0! | F10: ='Average-w-bkg'!F10*'Average-w-bkg'!B4/'Average-w-bkg'!F4 -> #DIV/0! | G10: ='Average-w-bkg'!G10*'Average-w-bkg'!B4/'Average-w-bkg'!G4 -> #DIV/0! | H10: ='Average-w-bkg'!H10*'Average-w-bkg'!B4/'Average-w-bkg'!H4 -> #DIV/0! | I10: ='Average-w-bkg'!I10*'Average-w-bkg'!B4/'Average-w-bkg'!I4 -> #DIV/0! | J10: ='Average-w-bkg'!J10*'Average-w-bkg'!B4/'Average-w-bkg'!J4 -> #DIV/0! | K10: ='Average-w-bkg'!K10*'Average-w-bkg'!B4/'Average-w-bkg'!K4 -> #DIV/0! | L10: ='Average-w-bkg'!L10*'Average-w-bkg'!B4/'Average-w-bkg'!L4 -> #DIV/0! | M10: ='Average-w-bkg'!M10*'Average-w-bkg'!B4/'Average-w-bkg'!M4 -> #DIV/0! | N10: ='Average-w-bkg'!N10*'Average-w-bkg'!B4/'Average-w-bkg'!N4 -> #DIV/0! | O10: ='Average-w-bkg'!O10*'Average-w-bkg'!B4/'Average-w-bkg'!O4 -> #DIV/0! | P10: ='Average-w-bkg'!P10*'Average-w-bkg'!B4/'Average-w-bkg'!P4 -> #DIV/0! | Q10: ='Average-w-bkg'!Q10*'Average-w-bkg'!B4/'Average-w-bkg'!Q4 -> #DIV/0! | R10: ='Average-w-bkg'!R10*'Average-w-bkg'!B4/'Average-w-bkg'!R4 -> #DIV/0! | S10: ='Average-w-bkg'!S10*'Average-w-bkg'!B4/'Average-w-bkg'!S4 -> #DIV/0! | T10: ='Average-w-bkg'!T10*'Average-w-bkg'!B4/'Average-w-bkg'!T4 -> #DIV/0! | U10: ='Average-w-bkg'!U10*'Average-w-bkg'!B4/'Average-w-bkg'!U4 -> #DIV/0! | V10: ='Average-w-bkg'!V10*'Average-w-bkg'!B4/'Average-w-bkg'!V4 -> #DIV/0! | W10: ='Average-w-bkg'!W10*'Average-w-bkg'!B4/'Average-w-bkg'!W4 -> #DIV/0! | X10: ='Average-w-bkg'!X10*'Average-w-bkg'!B4/'Average-w-bkg'!X4 -> #DIV/0! | Y10: ='Average-w-bkg'!Y10*'Average-w-bkg'!B4/'Average-w-bkg'!Y4 -> #DIV/0!
A11: ='Sorting-1'!A12 -> #1 | B11: ='Average-w-bkg'!B11*'Average-w-bkg'!B4/'Average-w-bkg'!B4 -> #DIV/0! | C11: ='Average-w-bkg'!C11*'Average-w-bkg'!B4/'Average-w-bkg'!C4 -> #DIV/0! | D11: ='Average-w-bkg'!D11*'Average-w-bkg'!B4/'Average-w-bkg'!D4 -> #DIV/0! | E11: ='Average-w-bkg'!E11*'Average-w-bkg'!B4/'Average-w-bkg'!E4 -> #DIV/0! | F11: ='Average-w-bkg'!F11*'Average-w-bkg'!B4/'Average-w-bkg'!F4 -> #DIV/0! | G11: ='Average-w-bkg'!G11*'Average-w-bkg'!B4/'Average-w-bkg'!G4 -> #DIV/0! | H11: ='Average-w-bkg'!H11*'Average-w-bkg'!B4/'Average-w-bkg'!H4 -> #DIV/0! | I11: ='Average-w-bkg'!I11*'Average-w-bkg'!B4/'Average-w-bkg'!I4 -> #DIV/0! | J11: ='Average-w-bkg'!J11*'Average-w-bkg'!B4/'Average-w-bkg'!J4 -> #DIV/0! | K11: ='Average-w-bkg'!K11*'Average-w-bkg'!B4/'Average-w-bkg'!K4 -> #DIV/0! | L11: ='Average-w-bkg'!L11*'Average-w-bkg'!B4/'Average-w-bkg'!L4 -> #DIV/0! | M11: ='Average-w-bkg'!M11*'Average-w-bkg'!B4/'Average-w-bkg'!M4 -> #DIV/0! | N11: ='Average-w-bkg'!N11*'Average-w-bkg'!B4/'Average-w-bkg'!N4 -> #DIV/0! | O11: ='Average-w-bkg'!O11*'Average-w-bkg'!B4/'Average-w-bkg'!O4 -> #DIV/0! | P11: ='Average-w-bkg'!P11*'Average-w-bkg'!B4/'Average-w-bkg'!P4 -> #DIV/0! | Q11: ='Average-w-bkg'!Q11*'Average-w-bkg'!B4/'Average-w-bkg'!Q4 -> #DIV/0! | R11: ='Average-w-bkg'!R11*'Average-w-bkg'!B4/'Average-w-bkg'!R4 -> #DIV/0! | S11: ='Average-w-bkg'!S11*'Average-w-bkg'!B4/'Average-w-bkg'!S4 -> #DIV/0! | T11: ='Average-w-bkg'!T11*'Average-w-bkg'!B4/'Average-w-bkg'!T4 -> #DIV/0! | U11: ='Average-w-bkg'!U11*'Average-w-bkg'!B4/'Average-w-bkg'!U4 -> #DIV/0! | V11: ='Average-w-bkg'!V11*'Average-w-bkg'!B4/'Average-w-bkg'!V4 -> #DIV/0! | W11: ='Average-w-bkg'!W11*'Average-w-bkg'!B4/'Average-w-bkg'!W4 -> #DIV/0! | X11: ='Average-w-bkg'!X11*'Average-w-bkg'!B4/'Average-w-bkg'!X4 -> #DIV/0! | Y11: ='Average-w-bkg'!Y11*'Average-w-bkg'!B4/'Average-w-bkg'!Y4 -> #DIV/0!
A12: ='Sorting-1'!A13 -> #10 | B12: ='Average-w-bkg'!B12*'Average-w-bkg'!B4/'Average-w-bkg'!B4 -> #DIV/0! | C12: ='Average-w-bkg'!C12*'Average-w-bkg'!B4/'Average-w-bkg'!C4 -> #DIV/0! | D12: ='Average-w-bkg'!D12*'Average-w-bkg'!B4/'Average-w-bkg'!D4 -> #DIV/0! | E12: ='Average-w-bkg'!E12*'Average-w-bkg'!B4/'Average-w-bkg'!E4 -> #DIV/0! | F12: ='Average-w-bkg'!F12*'Average-w-bkg'!B4/'Average-w-bkg'!F4 -> #DIV/0! | G12: ='Average-w-bkg'!G12*'Average-w-bkg'!B4/'Average-w-bkg'!G4 -> #DIV/0! | H12: ='Average-w-bkg'!H12*'Average-w-bkg'!B4/'Average-w-bkg'!H4 -> #DIV/0! | I12: ='Average-w-bkg'!I12*'Average-w-bkg'!B4/'Average-w-bkg'!I4 -> #DIV/0! | J12: ='Average-w-bkg'!J12*'Average-w-bkg'!B4/'Average-w-bkg'!J4 -> #DIV/0! | K12: ='Average-w-bkg'!K12*'Average-w-bkg'!B4/'Average-w-bkg'!K4 -> #DIV/0! | L12: ='Average-w-bkg'!L12*'Average-w-bkg'!B4/'Average-w-bkg'!L4 -> #DIV/0! | M12: ='Average-w-bkg'!M12*'Average-w-bkg'!B4/'Average-w-bkg'!M4 -> #DIV/0! | N12: ='Average-w-bkg'!N12*'Average-w-bkg'!B4/'Average-w-bkg'!N4 -> #DIV/0! | O12: ='Average-w-bkg'!O12*'Average-w-bkg'!B4/'Average-w-bkg'!O4 -> #DIV/0! | P12: ='Average-w-bkg'!P12*'Average-w-bkg'!B4/'Average-w-bkg'!P4 -> #DIV/0! | Q12: ='Average-w-bkg'!Q12*'Average-w-bkg'!B4/'Average-w-bkg'!Q4 -> #DIV/0! | R12: ='Average-w-bkg'!R12*'Average-w-bkg'!B4/'Average-w-bkg'!R4 -> #DIV/0! | S12: ='Average-w-bkg'!S12*'Average-w-bkg'!B4/'Average-w-bkg'!S4 -> #DIV/0! | T12: ='Average-w-bkg'!T12*'Average-w-bkg'!B4/'Average-w-bkg'!T4 -> #DIV/0! | U12: ='Average-w-bkg'!U12*'Average-w-bkg'!B4/'Average-w-bkg'!U4 -> #DIV/0! | V12: ='Average-w-bkg'!V12*'Average-w-bkg'!B4/'Average-w-bkg'!V4 -> #DIV/0! | W12: ='Average-w-bkg'!W12*'Average-w-bkg'!B4/'Average-w-bkg'!W4 -> #DIV/0! | X12: ='Average-w-bkg'!X12*'Average-w-bkg'!B4/'Average-w-bkg'!X4 -> #DIV/0! | Y12: ='Average-w-bkg'!Y12*'Average-w-bkg'!B4/'Average-w-bkg'!Y4 -> #DIV/0!
A13: ='Sorting-1'!A14 -> #20 | B13: ='Average-w-bkg'!B13*'Average-w-bkg'!B4/'Average-w-bkg'!B4 -> #DIV/0! | C13: ='Average-w-bkg'!C13*'Average-w-bkg'!B4/'Average-w-bkg'!C4 -> #DIV/0! | D13: ='Average-w-bkg'!D13*'Average-w-bkg'!B4/'Average-w-bkg'!D4 -> #DIV/0! | E13: ='Average-w-bkg'!E13*'Average-w-bkg'!B4/'Average-w-bkg'!E4 -> #DIV/0! | F13: ='Average-w-bkg'!F13*'Average-w-bkg'!B4/'Average-w-bkg'!F4 -> #DIV/0! | G13: ='Average-w-bkg'!G13*'Average-w-bkg'!B4/'Average-w-bkg'!G4 -> #DIV/0! | H13: ='Average-w-bkg'!H13*'Average-w-bkg'!B4/'Average-w-bkg'!H4 -> #DIV/0! | I13: ='Average-w-bkg'!I13*'Average-w-bkg'!B4/'Average-w-bkg'!I4 -> #DIV/0! | J13: ='Average-w-bkg'!J13*'Average-w-bkg'!B4/'Average-w-bkg'!J4 -> #DIV/0! | K13: ='Average-w-bkg'!K13*'Average-w-bkg'!B4/'Average-w-bkg'!K4 -> #DIV/0! | L13: ='Average-w-bkg'!L13*'Average-w-bkg'!B4/'Average-w-bkg'!L4 -> #DIV/0! | M13: ='Average-w-bkg'!M13*'Average-w-bkg'!B4/'Average-w-bkg'!M4 -> #DIV/0! | N13: ='Average-w-bkg'!N13*'Average-w-bkg'!B4/'Average-w-bkg'!N4 -> #DIV/0! | O13: ='Average-w-bkg'!O13*'Average-w-bkg'!B4/'Average-w-bkg'!O4 -> #DIV/0! | P13: ='Average-w-bkg'!P13*'Average-w-bkg'!B4/'Average-w-bkg'!P4 -> #DIV/0! | Q13: ='Average-w-bkg'!Q13*'Average-w-bkg'!B4/'Average-w-bkg'!Q4 -> #DIV/0! | R13: ='Average-w-bkg'!R13*'Average-w-bkg'!B4/'Average-w-bkg'!R4 -> #DIV/0! | S13: ='Average-w-bkg'!S13*'Average-w-bkg'!B4/'Average-w-bkg'!S4 -> #DIV/0! | T13: ='Average-w-bkg'!T13*'Average-w-bkg'!B4/'Average-w-bkg'!T4 -> #DIV/0! | U13: ='Average-w-bkg'!U13*'Average-w-bkg'!B4/'Average-w-bkg'!U4 -> #DIV/0! | V13: ='Average-w-bkg'!V13*'Average-w-bkg'!B4/'Average-w-bkg'!V4 -> #DIV/0! | W13: ='Average-w-bkg'!W13*'Average-w-bkg'!B4/'Average-w-bkg'!W4 -> #DIV/0! | X13: ='Average-w-bkg'!X13*'Average-w-bkg'!B4/'Average-w-bkg'!X4 -> #DIV/0! | Y13: ='Average-w-bkg'!Y13*'Average-w-bkg'!B4/'Average-w-bkg'!Y4 -> #DIV/0!
A14: ='Sorting-1'!A15 -> 0.1% BSA-PBS | B14: ='Average-w-bkg'!B14*'Average-w-bkg'!B4/'Average-w-bkg'!B4 -> #DIV/0! | C14: ='Average-w-bkg'!C14*'Average-w-bkg'!B4/'Average-w-bkg'!C4 -> #DIV/0! | D14: ='Average-w-bkg'!D14*'Average-w-bkg'!B4/'Average-w-bkg'!D4 -> #DIV/0! | E14: ='Average-w-bkg'!E14*'Average-w-bkg'!B4/'Average-w-bkg'!E4 -> #DIV/0! | F14: ='Average-w-bkg'!F14*'Average-w-bkg'!B4/'Average-w-bkg'!F4 -> #DIV/0! | G14: ='Average-w-bkg'!G14*'Average-w-bkg'!B4/'Average-w-bkg'!G4 -> #DIV/0! | H14: ='Average-w-bkg'!H14*'Average-w-bkg'!B4/'Average-w-bkg'!H4 -> #DIV/0! | I14: ='Average-w-bkg'!I14*'Average-w-bkg'!B4/'Average-w-bkg'!I4 -> #DIV/0! | J14: ='Average-w-bkg'!J14*'Average-w-bkg'!B4/'Average-w-bkg'!J4 -> #DIV/0! | K14: ='Average-w-bkg'!K14*'Average-w-bkg'!B4/'Average-w-bkg'!K4 -> #DIV/0! | L14: ='Average-w-bkg'!L14*'Average-w-bkg'!B4/'Average-w-bkg'!L4 -> #DIV/0! | M14: ='Average-w-bkg'!M14*'Average-w-bkg'!B4/'Average-w-bkg'!M4 -> #DIV/0! | N14: ='Average-w-bkg'!N14*'Average-w-bkg'!B4/'Average-w-bkg'!N4 -> #DIV/0! | O14: ='Average-w-bkg'!O14*'Average-w-bkg'!B4/'Average-w-bkg'!O4 -> #DIV/0! | P14: ='Average-w-bkg'!P14*'Average-w-bkg'!B4/'Average-w-bkg'!P4 -> #DIV/0! | Q14: ='Average-w-bkg'!Q14*'Average-w-bkg'!B4/'Average-w-bkg'!Q4 -> #DIV/0! | R14: ='Average-w-bkg'!R14*'Average-w-bkg'!B4/'Average-w-bkg'!R4 -> #DIV/0! | S14: ='Average-w-bkg'!S14*'Average-w-bkg'!B4/'Average-w-bkg'!S4 -> #DIV/0! | T14: ='Average-w-bkg'!T14*'Average-w-bkg'!B4/'Average-w-bkg'!T4 -> #DIV/0! | U14: ='Average-w-bkg'!U14*'Average-w-bkg'!B4/'Average-w-bkg'!U4 -> #DIV/0! | V14: ='Average-w-bkg'!V14*'Average-w-bkg'!B4/'Average-w-bkg'!V4 -> #DIV/0! | W14: ='Average-w-bkg'!W14*'Average-w-bkg'!B4/'Average-w-bkg'!W4 -> #DIV/0! | X14: ='Average-w-bkg'!X14*'Average-w-bkg'!B4/'Average-w-bkg'!X4 -> #DIV/0! | Y14: ='Average-w-bkg'!Y14*'Average-w-bkg'!B4/'Average-w-bkg'!Y4 -> #DIV/0!
A15: ='Sorting-1'!A16 -> #2 | B15: ='Average-w-bkg'!B15*'Average-w-bkg'!B4/'Average-w-bkg'!B4 -> #DIV/0! | C15: ='Average-w-bkg'!C15*'Average-w-bkg'!B4/'Average-w-bkg'!C4 -> #DIV/0! | D15: ='Average-w-bkg'!D15*'Average-w-bkg'!B4/'Average-w-bkg'!D4 -> #DIV/0! | E15: ='Average-w-bkg'!E15*'Average-w-bkg'!B4/'Average-w-bkg'!E4 -> #DIV/0! | F15: ='Average-w-bkg'!F15*'Average-w-bkg'!B4/'Average-w-bkg'!F4 -> #DIV/0! | G15: ='Average-w-bkg'!G15*'Average-w-bkg'!B4/'Average-w-bkg'!G4 -> #DIV/0! | H15: ='Average-w-bkg'!H15*'Average-w-bkg'!B4/'Average-w-bkg'!H4 -> #DIV/0! | I15: ='Average-w-bkg'!I15*'Average-w-bkg'!B4/'Average-w-bkg'!I4 -> #DIV/0! | J15: ='Average-w-bkg'!J15*'Average-w-bkg'!B4/'Average-w-bkg'!J4 -> #DIV/0! | K15: ='Average-w-bkg'!K15*'Average-w-bkg'!B4/'Average-w-bkg'!K4 -> #DIV/0! | L15: ='Average-w-bkg'!L15*'Average-w-bkg'!B4/'Average-w-bkg'!L4 -> #DIV/0! | M15: ='Average-w-bkg'!M15*'Average-w-bkg'!B4/'Average-w-bkg'!M4 -> #DIV/0! | N15: ='Average-w-bkg'!N15*'Average-w-bkg'!B4/'Average-w-bkg'!N4 -> #DIV/0! | O15: ='Average-w-bkg'!O15*'Average-w-bkg'!B4/'Average-w-bkg'!O4 -> #DIV/0! | P15: ='Average-w-bkg'!P15*'Average-w-bkg'!B4/'Average-w-bkg'!P4 -> #DIV/0! | Q15: ='Average-w-bkg'!Q15*'Average-w-bkg'!B4/'Average-w-bkg'!Q4 -> #DIV/0! | R15: ='Average-w-bkg'!R15*'Average-w-bkg'!B4/'Average-w-bkg'!R4 -> #DIV/0! | S15: ='Average-w-bkg'!S15*'Average-w-bkg'!B4/'Average-w-bkg'!S4 -> #DIV/0! | T15: ='Average-w-bkg'!T15*'Average-w-bkg'!B4/'Average-w-bkg'!T4 -> #DIV/0! | U15: ='Average-w-bkg'!U15*'Average-w-bkg'!B4/'Average-w-bkg'!U4 -> #DIV/0! | V15: ='Average-w-bkg'!V15*'Average-w-bkg'!B4/'Average-w-bkg'!V4 -> #DIV/0! | W15: ='Average-w-bkg'!W15*'Average-w-bkg'!B4/'Average-w-bkg'!W4 -> #DIV/0! | X15: ='Average-w-bkg'!X15*'Average-w-bkg'!B4/'Average-w-bkg'!X4 -> #DIV/0! | Y15: ='Average-w-bkg'!Y15*'Average-w-bkg'!B4/'Average-w-bkg'!Y4 -> #DIV/0!
A16: ='Sorting-1'!A17 -> #11 | B16: ='Average-w-bkg'!B16*'Average-w-bkg'!B4/'Average-w-bkg'!B4 -> #DIV/0! | C16: ='Average-w-bkg'!C16*'Average-w-bkg'!B4/'Average-w-bkg'!C4 -> #DIV/0! | D16: ='Average-w-bkg'!D16*'Average-w-bkg'!B4/'Average-w-bkg'!D4 -> #DIV/0! | E16: ='Average-w-bkg'!E16*'Average-w-bkg'!B4/'Average-w-bkg'!E4 -> #DIV/0! | F16: ='Average-w-bkg'!F16*'Average-w-bkg'!B4/'Average-w-bkg'!F4 -> #DIV/0! | G16: ='Average-w-bkg'!G16*'Average-w-bkg'!B4/'Average-w-bkg'!G4 -> #DIV/0! | H16: ='Average-w-bkg'!H16*'Average-w-bkg'!B4/'Average-w-bkg'!H4 -> #DIV/0! | I16: ='Average-w-bkg'!I16*'Average-w-bkg'!B4/'Average-w-bkg'!I4 -> #DIV/0! | J16: ='Average-w-bkg'!J16*'Average-w-bkg'!B4/'Average-w-bkg'!J4 -> #DIV/0! | K16: ='Average-w-bkg'!K16*'Average-w-bkg'!B4/'Average-w-bkg'!K4 -> #DIV/0! | L16: ='Average-w-bkg'!L16*'Average-w-bkg'!B4/'Average-w-bkg'!L4 -> #DIV/0! | M16: ='Average-w-bkg'!M16*'Average-w-bkg'!B4/'Average-w-bkg'!M4 -> #DIV/0! | N16: ='Average-w-bkg'!N16*'Average-w-bkg'!B4/'Average-w-bkg'!N4 -> #DIV/0! | O16: ='Average-w-bkg'!O16*'Average-w-bkg'!B4/'Average-w-bkg'!O4 -> #DIV/0! | P16: ='Average-w-bkg'!P16*'Average-w-bkg'!B4/'Average-w-bkg'!P4 -> #DIV/0! | Q16: ='Average-w-bkg'!Q16*'Average-w-bkg'!B4/'Average-w-bkg'!Q4 -> #DIV/0! | R16: ='Average-w-bkg'!R16*'Average-w-bkg'!B4/'Average-w-bkg'!R4 -> #DIV/0! | S16: ='Average-w-bkg'!S16*'Average-w-bkg'!B4/'Average-w-bkg'!S4 -> #DIV/0! | T16: ='Average-w-bkg'!T16*'Average-w-bkg'!B4/'Average-w-bkg'!T4 -> #DIV/0! | U16: ='Average-w-bkg'!U16*'Average-w-bkg'!B4/'Average-w-bkg'!U4 -> #DIV/0! | V16: ='Average-w-bkg'!V16*'Average-w-bkg'!B4/'Average-w-bkg'!V4 -> #DIV/0! | W16: ='Average-w-bkg'!W16*'Average-w-bkg'!B4/'Average-w-bkg'!W4 -> #DIV/0! | X16: ='Average-w-bkg'!X16*'Average-w-bkg'!B4/'Average-w-bkg'!X4 -> #DIV/0! | Y16: ='Average-w-bkg'!Y16*'Average-w-bkg'!B4/'Average-w-bkg'!Y4 -> #DIV/0!
A17: ='Sorting-1'!A18 -> #21 | B17: ='Average-w-bkg'!B17*'Average-w-bkg'!B4/'Average-w-bkg'!B4 -> #DIV/0! | C17: ='Average-w-bkg'!C17*'Average-w-bkg'!B4/'Average-w-bkg'!C4 -> #DIV/0! | D17: ='Average-w-bkg'!D17*'Average-w-bkg'!B4/'Average-w-bkg'!D4 -> #DIV/0! | E17: ='Average-w-bkg'!E17*'Average-w-bkg'!B4/'Average-w-bkg'!E4 -> #DIV/0! | F17: ='Average-w-bkg'!F17*'Average-w-bkg'!B4/'Average-w-bkg'!F4 -> #DIV/0! | G17: ='Average-w-bkg'!G17*'Average-w-bkg'!B4/'Average-w-bkg'!G4 -> #DIV/0! | H17: ='Average-w-bkg'!H17*'Average-w-bkg'!B4/'Average-w-bkg'!H4 -> #DIV/0! | I17: ='Average-w-bkg'!I17*'Average-w-bkg'!B4/'Average-w-bkg'!I4 -> #DIV/0! | J17: ='Average-w-bkg'!J17*'Average-w-bkg'!B4/'Average-w-bkg'!J4 -> #DIV/0! | K17: ='Average-w-bkg'!K17*'Average-w-bkg'!B4/'Average-w-bkg'!K4 -> #DIV/0! | L17: ='Average-w-bkg'!L17*'Average-w-bkg'!B4/'Average-w-bkg'!L4 -> #DIV/0! | M17: ='Average-w-bkg'!M17*'Average-w-bkg'!B4/'Average-w-bkg'!M4 -> #DIV/0! | N17: ='Average-w-bkg'!N17*'Average-w-bkg'!B4/'Average-w-bkg'!N4 -> #DIV/0! | O17: ='Average-w-bkg'!O17*'Average-w-bkg'!B4/'Average-w-bkg'!O4 -> #DIV/0! | P17: ='Average-w-bkg'!P17*'Average-w-bkg'!B4/'Average-w-bkg'!P4 -> #DIV/0! | Q17: ='Average-w-bkg'!Q17*'Average-w-bkg'!B4/'Average-w-bkg'!Q4 -> #DIV/0! | R17: ='Average-w-bkg'!R17*'Average-w-bkg'!B4/'Average-w-bkg'!R4 -> #DIV/0! | S17: ='Average-w-bkg'!S17*'Average-w-bkg'!B4/'Average-w-bkg'!S4 -> #DIV/0! | T17: ='Average-w-bkg'!T17*'Average-w-bkg'!B4/'Average-w-bkg'!T4 -> #DIV/0! | U17: ='Average-w-bkg'!U17*'Average-w-bkg'!B4/'Average-w-bkg'!U4 -> #DIV/0! | V17: ='Average-w-bkg'!V17*'Average-w-bkg'!B4/'Average-w-bkg'!V4 -> #DIV/0! | W17: ='Average-w-bkg'!W17*'Average-w-bkg'!B4/'Average-w-bkg'!W4 -> #DIV/0! | X17: ='Average-w-bkg'!X17*'Average-w-bkg'!B4/'Average-w-bkg'!X4 -> #DIV/0! | Y17: ='Average-w-bkg'!Y17*'Average-w-bkg'!B4/'Average-w-bkg'!Y4 -> #DIV/0!
A18: ='Sorting-1'!A19 -> #28 | B18: ='Average-w-bkg'!B18*'Average-w-bkg'!B4/'Average-w-bkg'!B4 -> #DIV/0! | C18: ='Average-w-bkg'!C18*'Average-w-bkg'!B4/'Average-w-bkg'!C4 -> #DIV/0! | D18: ='Average-w-bkg'!D18*'Average-w-bkg'!B4/'Average-w-bkg'!D4 -> #DIV/0! | E18: ='Average-w-bkg'!E18*'Average-w-bkg'!B4/'Average-w-bkg'!E4 -> #DIV/0! | F18: ='Average-w-bkg'!F18*'Average-w-bkg'!B4/'Average-w-bkg'!F4 -> #DIV/0! | G18: ='Average-w-bkg'!G18*'Average-w-bkg'!B4/'Average-w-bkg'!G4 -> #DIV/0! | H18: ='Average-w-bkg'!H18*'Average-w-bkg'!B4/'Average-w-bkg'!H4 -> #DIV/0! | I18: ='Average-w-bkg'!I18*'Average-w-bkg'!B4/'Average-w-bkg'!I4 -> #DIV/0! | J18: ='Average-w-bkg'!J18*'Average-w-bkg'!B4/'Average-w-bkg'!J4 -> #DIV/0! | K18: ='Average-w-bkg'!K18*'Average-w-bkg'!B4/'Average-w-bkg'!K4 -> #DIV/0! | L18: ='Average-w-bkg'!L18*'Average-w-bkg'!B4/'Average-w-bkg'!L4 -> #DIV/0! | M18: ='Average-w-bkg'!M18*'Average-w-bkg'!B4/'Average-w-bkg'!M4 -> #DIV/0! | N18: ='Average-w-bkg'!N18*'Average-w-bkg'!B4/'Average-w-bkg'!N4 -> #DIV/0! | O18: ='Average-w-bkg'!O18*'Average-w-bkg'!B4/'Average-w-bkg'!O4 -> #DIV/0! | P18: ='Average-w-bkg'!P18*'Average-w-bkg'!B4/'Average-w-bkg'!P4 -> #DIV/0! | Q18: ='Average-w-bkg'!Q18*'Average-w-bkg'!B4/'Average-w-bkg'!Q4 -> #DIV/0! | R18: ='Average-w-bkg'!R18*'Average-w-bkg'!B4/'Average-w-bkg'!R4 -> #DIV/0! | S18: ='Average-w-bkg'!S18*'Average-w-bkg'!B4/'Average-w-bkg'!S4 -> #DIV/0! | T18: ='Average-w-bkg'!T18*'Average-w-bkg'!B4/'Average-w-bkg'!T4 -> #DIV/0! | U18: ='Average-w-bkg'!U18*'Average-w-bkg'!B4/'Average-w-bkg'!U4 -> #DIV/0! | V18: ='Average-w-bkg'!V18*'Average-w-bkg'!B4/'Average-w-bkg'!V4 -> #DIV/0! | W18: ='Average-w-bkg'!W18*'Average-w-bkg'!B4/'Average-w-bkg'!W4 -> #DIV/0! | X18: ='Average-w-bkg'!X18*'Average-w-bkg'!B4/'Average-w-bkg'!X4 -> #DIV/0! | Y18: ='Average-w-bkg'!Y18*'Average-w-bkg'!B4/'Average-w-bkg'!Y4 -> #DIV/0!
A19: ='Sorting-1'!A20 -> #3 | B19: ='Average-w-bkg'!B19*'Average-w-bkg'!B4/'Average-w-bkg'!B4 -> #DIV/0! | C19: ='Average-w-bkg'!C19*'Average-w-bkg'!B4/'Average-w-bkg'!C4 -> #DIV/0! | D19: ='Average-w-bkg'!D19*'Average-w-bkg'!B4/'Average-w-bkg'!D4 -> #DIV/0! | E19: ='Average-w-bkg'!E19*'Average-w-bkg'!B4/'Average-w-bkg'!E4 -> #DIV/0! | F19: ='Average-w-bkg'!F19*'Average-w-bkg'!B4/'Average-w-bkg'!F4 -> #DIV/0! | G19: ='Average-w-bkg'!G19*'Average-w-bkg'!B4/'Average-w-bkg'!G4 -> #DIV/0! | H19: ='Average-w-bkg'!H19*'Average-w-bkg'!B4/'Average-w-bkg'!H4 -> #DIV/0! | I19: ='Average-w-bkg'!I19*'Average-w-bkg'!B4/'Average-w-bkg'!I4 -> #DIV/0! | J19: ='Average-w-bkg'!J19*'Average-w-bkg'!B4/'Average-w-bkg'!J4 -> #DIV/0! | K19: ='Average-w-bkg'!K19*'Average-w-bkg'!B4/'Average-w-bkg'!K4 -> #DIV/0! | L19: ='Average-w-bkg'!L19*'Average-w-bkg'!B4/'Average-w-bkg'!L4 -> #DIV/0! | M19: ='Average-w-bkg'!M19*'Average-w-bkg'!B4/'Average-w-bkg'!M4 -> #DIV/0! | N19: ='Average-w-bkg'!N19*'Average-w-bkg'!B4/'Average-w-bkg'!N4 -> #DIV/0! | O19: ='Average-w-bkg'!O19*'Average-w-bkg'!B4/'Average-w-bkg'!O4 -> #DIV/0! | P19: ='Average-w-bkg'!P19*'Average-w-bkg'!B4/'Average-w-bkg'!P4 -> #DIV/0! | Q19: ='Average-w-bkg'!Q19*'Average-w-bkg'!B4/'Average-w-bkg'!Q4 -> #DIV/0! | R19: ='Average-w-bkg'!R19*'Average-w-bkg'!B4/'Average-w-bkg'!R4 -> #DIV/0! | S19: ='Average-w-bkg'!S19*'Average-w-bkg'!B4/'Average-w-bkg'!S4 -> #DIV/0! | T19: ='Average-w-bkg'!T19*'Average-w-bkg'!B4/'Average-w-bkg'!T4 -> #DIV/0! | U19: ='Average-w-bkg'!U19*'Average-w-bkg'!B4/'Average-w-bkg'!U4 -> #DIV/0! | V19: ='Average-w-bkg'!V19*'Average-w-bkg'!B4/'Average-w-bkg'!V4 -> #DIV/0! | W19: ='Average-w-bkg'!W19*'Average-w-bkg'!B4/'Average-w-bkg'!W4 -> #DIV/0! | X19: ='Average-w-bkg'!X19*'Average-w-bkg'!B4/'Average-w-bkg'!X4 -> #DIV/0! | Y19: ='Average-w-bkg'!Y19*'Average-w-bkg'!B4/'Average-w-bkg'!Y4 -> #DIV/0!
A20: ='Sorting-1'!A21 -> #12 | B20: ='Average-w-bkg'!B20*'Average-w-bkg'!B4/'Average-w-bkg'!B4 -> #DIV/0! | C20: ='Average-w-bkg'!C20*'Average-w-bkg'!B4/'Average-w-bkg'!C4 -> #DIV/0! | D20: ='Average-w-bkg'!D20*'Average-w-bkg'!B4/'Average-w-bkg'!D4 -> #DIV/0! | E20: ='Average-w-bkg'!E20*'Average-w-bkg'!B4/'Average-w-bkg'!E4 -> #DIV/0! | F20: ='Average-w-bkg'!F20*'Average-w-bkg'!B4/'Average-w-bkg'!F4 -> #DIV/0! | G20: ='Average-w-bkg'!G20*'Average-w-bkg'!B4/'Average-w-bkg'!G4 -> #DIV/0! | H20: ='Average-w-bkg'!H20*'Average-w-bkg'!B4/'Average-w-bkg'!H4 -> #DIV/0! | I20: ='Average-w-bkg'!I20*'Average-w-bkg'!B4/'Average-w-bkg'!I4 -> #DIV/0! | J20: ='Average-w-bkg'!J20*'Average-w-bkg'!B4/'Average-w-bkg'!J4 -> #DIV/0! | K20: ='Average-w-bkg'!K20*'Average-w-bkg'!B4/'Average-w-bkg'!K4 -> #DIV/0! | L20: ='Average-w-bkg'!L20*'Average-w-bkg'!B4/'Average-w-bkg'!L4 -> #DIV/0! | M20: ='Average-w-bkg'!M20*'Average-w-bkg'!B4/'Average-w-bkg'!M4 -> #DIV/0! | N20: ='Average-w-bkg'!N20*'Average-w-bkg'!B4/'Average-w-bkg'!N4 -> #DIV/0! | O20: ='Average-w-bkg'!O20*'Average-w-bkg'!B4/'Average-w-bkg'!O4 -> #DIV/0! | P20: ='Average-w-bkg'!P20*'Average-w-bkg'!B4/'Average-w-bkg'!P4 -> #DIV/0! | Q20: ='Average-w-bkg'!Q20*'Average-w-bkg'!B4/'Average-w-bkg'!Q4 -> #DIV/0! | R20: ='Average-w-bkg'!R20*'Average-w-bkg'!B4/'Average-w-bkg'!R4 -> #DIV/0! | S20: ='Average-w-bkg'!S20*'Average-w-bkg'!B4/'Average-w-bkg'!S4 -> #DIV/0! | T20: ='Average-w-bkg'!T20*'Average-w-bkg'!B4/'Average-w-bkg'!T4 -> #DIV/0! | U20: ='Average-w-bkg'!U20*'Average-w-bkg'!B4/'Average-w-bkg'!U4 -> #DIV/0! | V20: ='Average-w-bkg'!V20*'Average-w-bkg'!B4/'Average-w-bkg'!V4 -> #DIV/0! | W20: ='Average-w-bkg'!W20*'Average-w-bkg'!B4/'Average-w-bkg'!W4 -> #DIV/0! | X20: ='Average-w-bkg'!X20*'Average-w-bkg'!B4/'Average-w-bkg'!X4 -> #DIV/0! | Y20: ='Average-w-bkg'!Y20*'Average-w-bkg'!B4/'Average-w-bkg'!Y4 -> #DIV/0!
A21: ='Sorting-1'!A22 -> #22 | B21: ='Average-w-bkg'!B21*'Average-w-bkg'!B4/'Average-w-bkg'!B4 -> #DIV/0! | C21: ='Average-w-bkg'!C21*'Average-w-bkg'!B4/'Average-w-bkg'!C4 -> #DIV/0! | D21: ='Average-w-bkg'!D21*'Average-w-bkg'!B4/'Average-w-bkg'!D4 -> #DIV/0! | E21: ='Average-w-bkg'!E21*'Average-w-bkg'!B4/'Average-w-bkg'!E4 -> #DIV/0! | F21: ='Average-w-bkg'!F21*'Average-w-bkg'!B4/'Average-w-bkg'!F4 -> #DIV/0! | G21: ='Average-w-bkg'!G21*'Average-w-bkg'!B4/'Average-w-bkg'!G4 -> #DIV/0! | H21: ='Average-w-bkg'!H21*'Average-w-bkg'!B4/'Average-w-bkg'!H4 -> #DIV/0! | I21: ='Average-w-bkg'!I21*'Average-w-bkg'!B4/'Average-w-bkg'!I4 -> #DIV/0! | J21: ='Average-w-bkg'!J21*'Average-w-bkg'!B4/'Average-w-bkg'!J4 -> #DIV/0! | K21: ='Average-w-bkg'!K21*'Average-w-bkg'!B4/'Average-w-bkg'!K4 -> #DIV/0! | L21: ='Average-w-bkg'!L21*'Average-w-bkg'!B4/'Average-w-bkg'!L4 -> #DIV/0! | M21: ='Average-w-bkg'!M21*'Average-w-bkg'!B4/'Average-w-bkg'!M4 -> #DIV/0! | N21: ='Average-w-bkg'!N21*'Average-w-bkg'!B4/'Average-w-bkg'!N4 -> #DIV/0! | O21: ='Average-w-bkg'!O21*'Average-w-bkg'!B4/'Average-w-bkg'!O4 -> #DIV/0! | P21: ='Average-w-bkg'!P21*'Average-w-bkg'!B4/'Average-w-bkg'!P4 -> #DIV/0! | Q21: ='Average-w-bkg'!Q21*'Average-w-bkg'!B4/'Average-w-bkg'!Q4 -> #DIV/0! | R21: ='Average-w-bkg'!R21*'Average-w-bkg'!B4/'Average-w-bkg'!R4 -> #DIV/0! | S21: ='Average-w-bkg'!S21*'Average-w-bkg'!B4/'Average-w-bkg'!S4 -> #DIV/0! | T21: ='Average-w-bkg'!T21*'Average-w-bkg'!B4/'Average-w-bkg'!T4 -> #DIV/0! | U21: ='Average-w-bkg'!U21*'Average-w-bkg'!B4/'Average-w-bkg'!U4 -> #DIV/0! | V21: ='Average-w-bkg'!V21*'Average-w-bkg'!B4/'Average-w-bkg'!V4 -> #DIV/0! | W21: ='Average-w-bkg'!W21*'Average-w-bkg'!B4/'Average-w-bkg'!W4 -> #DIV/0! | X21: ='Average-w-bkg'!X21*'Average-w-bkg'!B4/'Average-w-bkg'!X4 -> #DIV/0! | Y21: ='Average-w-bkg'!Y21*'Average-w-bkg'!B4/'Average-w-bkg'!Y4 -> #DIV/0!
A22: ='Sorting-1'!A23 -> #29 | B22: ='Average-w-bkg'!B22*'Average-w-bkg'!B4/'Average-w-bkg'!B4 -> #DIV/0! | C22: ='Average-w-bkg'!C22*'Average-w-bkg'!B4/'Average-w-bkg'!C4 -> #DIV/0! | D22: ='Average-w-bkg'!D22*'Average-w-bkg'!B4/'Average-w-bkg'!D4 -> #DIV/0! | E22: ='Average-w-bkg'!E22*'Average-w-bkg'!B4/'Average-w-bkg'!E4 -> #DIV/0! | F22: ='Average-w-bkg'!F22*'Average-w-bkg'!B4/'Average-w-bkg'!F4 -> #DIV/0! | G22: ='Average-w-bkg'!G22*'Average-w-bkg'!B4/'Average-w-bkg'!G4 -> #DIV/0! | H22: ='Average-w-bkg'!H22*'Average-w-bkg'!B4/'Average-w-bkg'!H4 -> #DIV/0! | I22: ='Average-w-bkg'!I22*'Average-w-bkg'!B4/'Average-w-bkg'!I4 -> #DIV/0! | J22: ='Average-w-bkg'!J22*'Average-w-bkg'!B4/'Average-w-bkg'!J4 -> #DIV/0! | K22: ='Average-w-bkg'!K22*'Average-w-bkg'!B4/'Average-w-bkg'!K4 -> #DIV/0! | L22: ='Average-w-bkg'!L22*'Average-w-bkg'!B4/'Average-w-bkg'!L4 -> #DIV/0! | M22: ='Average-w-bkg'!M22*'Average-w-bkg'!B4/'Average-w-bkg'!M4 -> #DIV/0! | N22: ='Average-w-bkg'!N22*'Average-w-bkg'!B4/'Average-w-bkg'!N4 -> #DIV/0! | O22: ='Average-w-bkg'!O22*'Average-w-bkg'!B4/'Average-w-bkg'!O4 -> #DIV/0! | P22: ='Average-w-bkg'!P22*'Average-w-bkg'!B4/'Average-w-bkg'!P4 -> #DIV/0! | Q22: ='Average-w-bkg'!Q22*'Average-w-bkg'!B4/'Average-w-bkg'!Q4 -> #DIV/0! | R22: ='Average-w-bkg'!R22*'Average-w-bkg'!B4/'Average-w-bkg'!R4 -> #DIV/0! | S22: ='Average-w-bkg'!S22*'Average-w-bkg'!B4/'Average-w-bkg'!S4 -> #DIV/0! | T22: ='Average-w-bkg'!T22*'Average-w-bkg'!B4/'Average-w-bkg'!T4 -> #DIV/0! | U22: ='Average-w-bkg'!U22*'Average-w-bkg'!B4/'Average-w-bkg'!U4 -> #DIV/0! | V22: ='Average-w-bkg'!V22*'Average-w-bkg'!B4/'Average-w-bkg'!V4 -> #DIV/0! | W22: ='Average-w-bkg'!W22*'Average-w-bkg'!B4/'Average-w-bkg'!W4 -> #DIV/0! | X22: ='Average-w-bkg'!X22*'Average-w-bkg'!B4/'Average-w-bkg'!X4 -> #DIV/0! | Y22: ='Average-w-bkg'!Y22*'Average-w-bkg'!B4/'Average-w-bkg'!Y4 -> #DIV/0!
A23: ='Sorting-1'!A24 -> #4 | B23: ='Average-w-bkg'!B23*'Average-w-bkg'!B4/'Average-w-bkg'!B4 -> #DIV/0! | C23: ='Average-w-bkg'!C23*'Average-w-bkg'!B4/'Average-w-bkg'!C4 -> #DIV/0! | D23: ='Average-w-bkg'!D23*'Average-w-bkg'!B4/'Average-w-bkg'!D4 -> #DIV/0! | E23: ='Average-w-bkg'!E23*'Average-w-bkg'!B4/'Average-w-bkg'!E4 -> #DIV/0! | F23: ='Average-w-bkg'!F23*'Average-w-bkg'!B4/'Average-w-bkg'!F4 -> #DIV/0! | G23: ='Average-w-bkg'!G23*'Average-w-bkg'!B4/'Average-w-bkg'!G4 -> #DIV/0! | H23: ='Average-w-bkg'!H23*'Average-w-bkg'!B4/'Average-w-bkg'!H4 -> #DIV/0! | I23: ='Average-w-bkg'!I23*'Average-w-bkg'!B4/'Average-w-bkg'!I4 -> #DIV/0! | J23: ='Average-w-bkg'!J23*'Average-w-bkg'!B4/'Average-w-bkg'!J4 -> #DIV/0! | K23: ='Average-w-bkg'!K23*'Average-w-bkg'!B4/'Average-w-bkg'!K4 -> #DIV/0! | L23: ='Average-w-bkg'!L23*'Average-w-bkg'!B4/'Average-w-bkg'!L4 -> #DIV/0! | M23: ='Average-w-bkg'!M23*'Average-w-bkg'!B4/'Average-w-bkg'!M4 -> #DIV/0! | N23: ='Average-w-bkg'!N23*'Average-w-bkg'!B4/'Average-w-bkg'!N4 -> #DIV/0! | O23: ='Average-w-bkg'!O23*'Average-w-bkg'!B4/'Average-w-bkg'!O4 -> #DIV/0! | P23: ='Average-w-bkg'!P23*'Average-w-bkg'!B4/'Average-w-bkg'!P4 -> #DIV/0! | Q23: ='Average-w-bkg'!Q23*'Average-w-bkg'!B4/'Average-w-bkg'!Q4 -> #DIV/0! | R23: ='Average-w-bkg'!R23*'Average-w-bkg'!B4/'Average-w-bkg'!R4 -> #DIV/0! | S23: ='Average-w-bkg'!S23*'Average-w-bkg'!B4/'Average-w-bkg'!S4 -> #DIV/0! | T23: ='Average-w-bkg'!T23*'Average-w-bkg'!B4/'Average-w-bkg'!T4 -> #DIV/0! | U23: ='Average-w-bkg'!U23*'Average-w-bkg'!B4/'Average-w-bkg'!U4 -> #DIV/0! | V23: ='Average-w-bkg'!V23*'Average-w-bkg'!B4/'Average-w-bkg'!V4 -> #DIV/0! | W23: ='Average-w-bkg'!W23*'Average-w-bkg'!B4/'Average-w-bkg'!W4 -> #DIV/0! | X23: ='Average-w-bkg'!X23*'Average-w-bkg'!B4/'Average-w-bkg'!X4 -> #DIV/0! | Y23: ='Average-w-bkg'!Y23*'Average-w-bkg'!B4/'Average-w-bkg'!Y4 -> #DIV/0!
A24: ='Sorting-1'!A25 -> #13 | B24: ='Average-w-bkg'!B24*'Average-w-bkg'!B4/'Average-w-bkg'!B4 -> #DIV/0! | C24: ='Average-w-bkg'!C24*'Average-w-bkg'!B4/'Average-w-bkg'!C4 -> #DIV/0! | D24: ='Average-w-bkg'!D24*'Average-w-bkg'!B4/'Average-w-bkg'!D4 -> #DIV/0! | E24: ='Average-w-bkg'!E24*'Average-w-bkg'!B4/'Average-w-bkg'!E4 -> #DIV/0! | F24: ='Average-w-bkg'!F24*'Average-w-bkg'!B4/'Average-w-bkg'!F4 -> #DIV/0! | G24: ='Average-w-bkg'!G24*'Average-w-bkg'!B4/'Average-w-bkg'!G4 -> #DIV/0! | H24: ='Average-w-bkg'!H24*'Average-w-bkg'!B4/'Average-w-bkg'!H4 -> #DIV/0! | I24: ='Average-w-bkg'!I24*'Average-w-bkg'!B4/'Average-w-bkg'!I4 -> #DIV/0! | J24: ='Average-w-bkg'!J24*'Average-w-bkg'!B4/'Average-w-bkg'!J4 -> #DIV/0! | K24: ='Average-w-bkg'!K24*'Average-w-bkg'!B4/'Average-w-bkg'!K4 -> #DIV/0! | L24: ='Average-w-bkg'!L24*'Average-w-bkg'!B4/'Average-w-bkg'!L4 -> #DIV/0! | M24: ='Average-w-bkg'!M24*'Average-w-bkg'!B4/'Average-w-bkg'!M4 -> #DIV/0! | N24: ='Average-w-bkg'!N24*'Average-w-bkg'!B4/'Average-w-bkg'!N4 -> #DIV/0! | O24: ='Average-w-bkg'!O24*'Average-w-bkg'!B4/'Average-w-bkg'!O4 -> #DIV/0! | P24: ='Average-w-bkg'!P24*'Average-w-bkg'!B4/'Average-w-bkg'!P4 -> #DIV/0! | Q24: ='Average-w-bkg'!Q24*'Average-w-bkg'!B4/'Average-w-bkg'!Q4 -> #DIV/0! | R24: ='Average-w-bkg'!R24*'Average-w-bkg'!B4/'Average-w-bkg'!R4 -> #DIV/0! | S24: ='Average-w-bkg'!S24*'Average-w-bkg'!B4/'Average-w-bkg'!S4 -> #DIV/0! | T24: ='Average-w-bkg'!T24*'Average-w-bkg'!B4/'Average-w-bkg'!T4 -> #DIV/0! | U24: ='Average-w-bkg'!U24*'Average-w-bkg'!B4/'Average-w-bkg'!U4 -> #DIV/0! | V24: ='Average-w-bkg'!V24*'Average-w-bkg'!B4/'Average-w-bkg'!V4 -> #DIV/0! | W24: ='Average-w-bkg'!W24*'Average-w-bkg'!B4/'Average-w-bkg'!W4 -> #DIV/0! | X24: ='Average-w-bkg'!X24*'Average-w-bkg'!B4/'Average-w-bkg'!X4 -> #DIV/0! | Y24: ='Average-w-bkg'!Y24*'Average-w-bkg'!B4/'Average-w-bkg'!Y4 -> #DIV/0!
A25: ='Sorting-1'!A26 -> #23 | B25: ='Average-w-bkg'!B25*'Average-w-bkg'!B4/'Average-w-bkg'!B4 -> #DIV/0! | C25: ='Average-w-bkg'!C25*'Average-w-bkg'!B4/'Average-w-bkg'!C4 -> #DIV/0! | D25: ='Average-w-bkg'!D25*'Average-w-bkg'!B4/'Average-w-bkg'!D4 -> #DIV/0! | E25: ='Average-w-bkg'!E25*'Average-w-bkg'!B4/'Average-w-bkg'!E4 -> #DIV/0! | F25: ='Average-w-bkg'!F25*'Average-w-bkg'!B4/'Average-w-bkg'!F4 -> #DIV/0! | G25: ='Average-w-bkg'!G25*'Average-w-bkg'!B4/'Average-w-bkg'!G4 -> #DIV/0! | H25: ='Average-w-bkg'!H25*'Average-w-bkg'!B4/'Average-w-bkg'!H4 -> #DIV/0! | I25: ='Average-w-bkg'!I25*'Average-w-bkg'!B4/'Average-w-bkg'!I4 -> #DIV/0! | J25: ='Average-w-bkg'!J25*'Average-w-bkg'!B4/'Average-w-bkg'!J4 -> #DIV/0! | K25: ='Average-w-bkg'!K25*'Average-w-bkg'!B4/'Average-w-bkg'!K4 -> #DIV/0! | L25: ='Average-w-bkg'!L25*'Average-w-bkg'!B4/'Average-w-bkg'!L4 -> #DIV/0! | M25: ='Average-w-bkg'!M25*'Average-w-bkg'!B4/'Average-w-bkg'!M4 -> #DIV/0! | N25: ='Average-w-bkg'!N25*'Average-w-bkg'!B4/'Average-w-bkg'!N4 -> #DIV/0! | O25: ='Average-w-bkg'!O25*'Average-w-bkg'!B4/'Average-w-bkg'!O4 -> #DIV/0! | P25: ='Average-w-bkg'!P25*'Average-w-bkg'!B4/'Average-w-bkg'!P4 -> #DIV/0! | Q25: ='Average-w-bkg'!Q25*'Average-w-bkg'!B4/'Average-w-bkg'!Q4 -> #DIV/0! | R25: ='Average-w-bkg'!R25*'Average-w-bkg'!B4/'Average-w-bkg'!R4 -> #DIV/0! | S25: ='Average-w-bkg'!S25*'Average-w-bkg'!B4/'Average-w-bkg'!S4 -> #DIV/0! | T25: ='Average-w-bkg'!T25*'Average-w-bkg'!B4/'Average-w-bkg'!T4 -> #DIV/0! | U25: ='Average-w-bkg'!U25*'Average-w-bkg'!B4/'Average-w-bkg'!U4 -> #DIV/0! | V25: ='Average-w-bkg'!V25*'Average-w-bkg'!B4/'Average-w-bkg'!V4 -> #DIV/0! | W25: ='Average-w-bkg'!W25*'Average-w-bkg'!B4/'Average-w-bkg'!W4 -> #DIV/0! | X25: ='Average-w-bkg'!X25*'Average-w-bkg'!B4/'Average-w-bkg'!X4 -> #DIV/0! | Y25: ='Average-w-bkg'!Y25*'Average-w-bkg'!B4/'Average-w-bkg'!Y4 -> #DIV/0!
A26: ='Sorting-1'!A27 -> #30 | B26: ='Average-w-bkg'!B26*'Average-w-bkg'!B4/'Average-w-bkg'!B4 -> #DIV/0! | C26: ='Average-w-bkg'!C26*'Average-w-bkg'!B4/'Average-w-bkg'!C4 -> #DIV/0! | D26: ='Average-w-bkg'!D26*'Average-w-bkg'!B4/'Average-w-bkg'!D4 -> #DIV/0! | E26: ='Average-w-bkg'!E26*'Average-w-bkg'!B4/'Average-w-bkg'!E4 -> #DIV/0! | F26: ='Average-w-bkg'!F26*'Average-w-bkg'!B4/'Average-w-bkg'!F4 -> #DIV/0! | G26: ='Average-w-bkg'!G26*'Average-w-bkg'!B4/'Average-w-bkg'!G4 -> #DIV/0! | H26: ='Average-w-bkg'!H26*'Average-w-bkg'!B4/'Average-w-bkg'!H4 -> #DIV/0! | I26: ='Average-w-bkg'!I26*'Average-w-bkg'!B4/'Average-w-bkg'!I4 -> #DIV/0! | J26: ='Average-w-bkg'!J26*'Average-w-bkg'!B4/'Average-w-bkg'!J4 -> #DIV/0! | K26: ='Average-w-bkg'!K26*'Average-w-bkg'!B4/'Average-w-bkg'!K4 -> #DIV/0! | L26: ='Average-w-bkg'!L26*'Average-w-bkg'!B4/'Average-w-bkg'!L4 -> #DIV/0! | M26: ='Average-w-bkg'!M26*'Average-w-bkg'!B4/'Average-w-bkg'!M4 -> #DIV/0! | N26: ='Average-w-bkg'!N26*'Average-w-bkg'!B4/'Average-w-bkg'!N4 -> #DIV/0! | O26: ='Average-w-bkg'!O26*'Average-w-bkg'!B4/'Average-w-bkg'!O4 -> #DIV/0! | P26: ='Average-w-bkg'!P26*'Average-w-bkg'!B4/'Average-w-bkg'!P4 -> #DIV/0! | Q26: ='Average-w-bkg'!Q26*'Average-w-bkg'!B4/'Average-w-bkg'!Q4 -> #DIV/0! | R26: ='Average-w-bkg'!R26*'Average-w-bkg'!B4/'Average-w-bkg'!R4 -> #DIV/0! | S26: ='Average-w-bkg'!S26*'Average-w-bkg'!B4/'Average-w-bkg'!S4 -> #DIV/0! | T26: ='Average-w-bkg'!T26*'Average-w-bkg'!B4/'Average-w-bkg'!T4 -> #DIV/0! | U26: ='Average-w-bkg'!U26*'Average-w-bkg'!B4/'Average-w-bkg'!U4 -> #DIV/0! | V26: ='Average-w-bkg'!V26*'Average-w-bkg'!B4/'Average-w-bkg'!V4 -> #DIV/0! | W26: ='Average-w-bkg'!W26*'Average-w-bkg'!B4/'Average-w-bkg'!W4 -> #DIV/0! | X26: ='Average-w-bkg'!X26*'Average-w-bkg'!B4/'Average-w-bkg'!X4 -> #DIV/0! | Y26: ='Average-w-bkg'!Y26*'Average-w-bkg'!B4/'Average-w-bkg'!Y4 -> #DIV/0!
A27: ='Sorting-1'!A28 -> #5 | B27: ='Average-w-bkg'!B27*'Average-w-bkg'!B4/'Average-w-bkg'!B4 -> #DIV/0! | C27: ='Average-w-bkg'!C27*'Average-w-bkg'!B4/'Average-w-bkg'!C4 -> #DIV/0! | D27: ='Average-w-bkg'!D27*'Average-w-bkg'!B4/'Average-w-bkg'!D4 -> #DIV/0! | E27: ='Average-w-bkg'!E27*'Average-w-bkg'!B4/'Average-w-bkg'!E4 -> #DIV/0! | F27: ='Average-w-bkg'!F27*'Average-w-bkg'!B4/'Average-w-bkg'!F4 -> #DIV/0! | G27: ='Average-w-bkg'!G27*'Average-w-bkg'!B4/'Average-w-bkg'!G4 -> #DIV/0! | H27: ='Average-w-bkg'!H27*'Average-w-bkg'!B4/'Average-w-bkg'!H4 -> #DIV/0! | I27: ='Average-w-bkg'!I27*'Average-w-bkg'!B4/'Average-w-bkg'!I4 -> #DIV/0! | J27: ='Average-w-bkg'!J27*'Average-w-bkg'!B4/'Average-w-bkg'!J4 -> #DIV/0! | K27: ='Average-w-bkg'!K27*'Average-w-bkg'!B4/'Average-w-bkg'!K4 -> #DIV/0! | L27: ='Average-w-bkg'!L27*'Average-w-bkg'!B4/'Average-w-bkg'!L4 -> #DIV/0! | M27: ='Average-w-bkg'!M27*'Average-w-bkg'!B4/'Average-w-bkg'!M4 -> #DIV/0! | N27: ='Average-w-bkg'!N27*'Average-w-bkg'!B4/'Average-w-bkg'!N4 -> #DIV/0! | O27: ='Average-w-bkg'!O27*'Average-w-bkg'!B4/'Average-w-bkg'!O4 -> #DIV/0! | P27: ='Average-w-bkg'!P27*'Average-w-bkg'!B4/'Average-w-bkg'!P4 -> #DIV/0! | Q27: ='Average-w-bkg'!Q27*'Average-w-bkg'!B4/'Average-w-bkg'!Q4 -> #DIV/0! | R27: ='Average-w-bkg'!R27*'Average-w-bkg'!B4/'Average-w-bkg'!R4 -> #DIV/0! | S27: ='Average-w-bkg'!S27*'Average-w-bkg'!B4/'Average-w-bkg'!S4 -> #DIV/0! | T27: ='Average-w-bkg'!T27*'Average-w-bkg'!B4/'Average-w-bkg'!T4 -> #DIV/0! | U27: ='Average-w-bkg'!U27*'Average-w-bkg'!B4/'Average-w-bkg'!U4 -> #DIV/0! | V27: ='Average-w-bkg'!V27*'Average-w-bkg'!B4/'Average-w-bkg'!V4 -> #DIV/0! | W27: ='Average-w-bkg'!W27*'Average-w-bkg'!B4/'Average-w-bkg'!W4 -> #DIV/0! | X27: ='Average-w-bkg'!X27*'Average-w-bkg'!B4/'Average-w-bkg'!X4 -> #DIV/0! | Y27: ='Average-w-bkg'!Y27*'Average-w-bkg'!B4/'Average-w-bkg'!Y4 -> #DIV/0!
