Workbook
Name ______A1: '[1]Map and Ab list'!#REF!
Name _____A1: '[1]Map and Ab list'!#REF!
Name ____A1: '[2]Aligning Data'!#REF!
Name ___A1: #REF!
Name __A1: '[2]Aligning Data'!#REF!
Name _A1: 'Map and Ab list'!#REF!

Sheet Cover page
B7: Customer Contact Name:
B8: Customer Institution:
B9: Contact Phone Number:
B10: Customer Email Address:
B11: Purchase Order Number
B12: Sales Order Number
B13: Protocol Number
B14: Study Director assigned:
B16: Service Provided
B18: Type of Service Provided: | C18: Full testing
B19: Sample Type and Preparation: | C19: Human serum
B20: Test procedure:
B21: Stability of sample and Standards or Positive Controls | C21: Stable to conditions of test
B22: Protocol sign off Date:
B23: Final Report completed date:
B24: Storage of Records and samples | C24: According to in house procedures
B28: Sign off:
B31: Study Director: | C31: Date:
B32: Laboratory Manager: | C32: Date:

Sheet Guide
B8: Analysis Tool Software for RayBio® Mouse Biotin-Label Based Antibody Arrays -- Mouse L-2, Membrane

Sheet Biostat Service
A1: Need help making sense of your data?
A3: RayBiotech offers affordable Biostatistics & Bioinformatics services.
B5: DATA CLEAN-UP | F5: DIFFERENTIAL EXPRESSION ANALYSIS | K5: CLUSTER ANALYSIS | P5: PATHWAY ANALYSIS | U5: BIOMARKER SELECTION
B6: Data outliers are identified & removed from further analyses. | F6: Identifies differentially-expressed proteins across groups using volcano plots & jitter plots. | K6: Clusters samples based on similar expression profiles. Includes heatmaps and more! | P6: Identifies the specific protein functions, biological pathways, and physical interactions enriched in a particular group. | U6: Uses various models to identify statistically-significant biomarkers between groups. Provides p-values.
B27: Contact us at info@raybiotech.com for more information.

Sheet Importing Data

Sheet Aligning Data
B2: RayBio® Mouse Biotin Label Based Antibody Arrays -- L-2 Array, Membrane
C4: Sample 1
B5: 1 | C5: A1 | D5: B1 | E5: C1 | F5: D1 | G5: E1 | H5: F1 | I5: G1 | J5: H1 | K5: I1 | L5: J1 | M5: K1 | N5: L1 | O5: M1 | P5: N1 | Q5: O1 | R5: P1 | S5: S1 | T5: R1 | U5: S1 | V5: T1 | W5: U1 | X5: V1 | Y5: W1 | Z5: X1 | AA5: Y1 | AB5: Z1 | AC5: AA1 | AD5: AB1 | AE5: AC1 | AF5: AD1 | AH5: Background
B6: 2 | C6: A2 | D6: B2 | E6: C2 | F6: D2 | G6: E2 | H6: F2 | I6: G2 | J6: H2 | K6: I2 | L6: J2 | M6: K2 | N6: L2 | O6: M2 | P6: N2 | Q6: O2 | R6: P2 | S6: S2 | T6: R2 | U6: S2 | V6: T2 | W6: U2 | X6: V2 | Y6: W2 | Z6: X2 | AA6: Y2 | AB6: Z2 | AC6: AA2 | AD6: AB2 | AE6: AC2 | AF6: AD2 | AH6: 0
B7: 3 | C7: A3 | D7: B3 | E7: C3 | F7: D3 | G7: E3 | H7: F3 | I7: G3 | J7: H3 | K7: I3 | L7: J3 | M7: K3 | N7: L3 | O7: M3 | P7: N3 | Q7: O3 | R7: P3 | S7: S3 | T7: R3 | U7: S3 | V7: T3 | W7: U3 | X7: V3 | Y7: W3 | Z7: X3 | AA7: Y3 | AB7: Z3 | AC7: AA3 | AD7: AB3 | AE7: AC3 | AF7: AD3 | AH7: 0
B8: 4 | C8: A4 | D8: B4 | E8: C4 | F8: D4 | G8: E4 | H8: F4 | I8: G4 | J8: H4 | K8: I4 | L8: J4 | M8: K4 | N8: L4 | O8: M4 | P8: N4 | Q8: O4 | R8: P4 | S8: S4 | T8: R4 | U8: S4 | V8: T4 | W8: U4 | X8: V4 | Y8: W4 | Z8: X4 | AA8: Y4 | AB8: Z4 | AC8: AA4 | AD8: AB4 | AE8: AC4 | AF8: AD4 | AH8: 0
B9: 5 | C9: A5 | D9: B5 | E9: C5 | F9: D5 | G9: E5 | H9: F5 | I9: G5 | J9: H5 | K9: I5 | L9: J5 | M9: K5 | N9: L5 | O9: M5 | P9: N5 | Q9: O5 | R9: P5 | S9: S5 | T9: R5 | U9: S5 | V9: T5 | W9: U5 | X9: V5 | Y9: W5 | Z9: X5 | AA9: Y5 | AB9: Z5 | AC9: AA5 | AD9: AB5 | AE9: AC5 | AF9: AD5 | AH9: 0
B10: 6 | C10: A6 | D10: B6 | E10: C6 | F10: D6 | G10: E6 | H10: F6 | I10: G6 | J10: H6 | K10: I6 | L10: J6 | M10: K6 | N10: L6 | O10: M6 | P10: N6 | Q10: O6 | R10: P6 | S10: S6 | T10: R6 | U10: S6 | V10: T6 | W10: U6 | X10: V6 | Y10: W6 | Z10: X6 | AA10: Y6 | AB10: Z6 | AC10: AA6 | AD10: AB6 | AE10: AC6 | AF10: AD6
B11: 7 | C11: A7 | D11: B7 | E11: C7 | F11: D7 | G11: E7 | H11: F7 | I11: G7 | J11: H7 | K11: I7 | L11: J7 | M11: K7 | N11: L7 | O11: M7 | P11: N7 | Q11: O7 | R11: P7 | S11: S7 | T11: R7 | U11: S7 | V11: T7 | W11: U7 | X11: V7 | Y11: W7 | Z11: X7 | AA11: Y7 | AB11: Z7 | AC11: AA7 | AD11: AB7 | AE11: AC7 | AF11: AD7
B12: 8 | C12: A8 | D12: B8 | E12: C8 | F12: D8 | G12: E8 | H12: F8 | I12: G8 | J12: H8 | K12: I8 | L12: J8 | M12: K8 | N12: L8 | O12: M8 | P12: N8 | Q12: O8 | R12: P8 | S12: S8 | T12: R8 | U12: S8 | V12: T8 | W12: U8 | X12: V8 | Y12: W8 | Z12: X8 | AA12: Y8 | AB12: Z8 | AC12: AA8 | AD12: AB8 | AE12: AC8 | AF12: AD8
B13: 9 | C13: A9 | D13: B9 | E13: C9 | F13: D9 | G13: E9 | H13: F9 | I13: G9 | J13: H9 | K13: I9 | L13: J9 | M13: K9 | N13: L9 | O13: M9 | P13: N9 | Q13: O9 | R13: P9 | S13: S9 | T13: R9 | U13: S9 | V13: T9 | W13: U9 | X13: V9 | Y13: W9 | Z13: X9 | AA13: Y9 | AB13: Z9 | AC13: AA9 | AD13: AB9 | AE13: AC9 | AF13: AD9
B14: 10 | C14: A10 | D14: B10 | E14: C10 | F14: D10 | G14: E10 | H14: F10 | I14: G10 | J14: H10 | K14: I10 | L14: J10 | M14: K10 | N14: L10 | O14: M10 | P14: N10 | Q14: O10 | R14: P10 | S14: S10 | T14: R10 | U14: S10 | V14: T10 | W14: U10 | X14: V10 | Y14: W10 | Z14: X10 | AA14: Y10 | AB14: Z10 | AC14: AA10 | AD14: AB10 | AE14: AC10 | AF14: AD10
B15: 11 | C15: A11 | D15: B11 | E15: C11 | F15: D11 | G15: E11 | H15: F11 | I15: G11 | J15: H11 | K15: I11 | L15: J11 | M15: K11 | N15: L11 | O15: M11 | P15: N11 | Q15: O11 | R15: P11 | S15: S11 | T15: R11 | U15: S11 | V15: T11 | W15: U11 | X15: V11 | Y15: W11 | Z15: X11 | AA15: Y11 | AB15: Z11 | AC15: AA11 | AD15: AB11 | AE15: AC11 | AF15: AD11
B16: 12 | C16: A12 | D16: B12 | E16: C12 | F16: D12 | G16: E12 | H16: F12 | I16: G12 | J16: H12 | K16: I12 | L16: J12 | M16: K12 | N16: L12 | O16: M12 | P16: N12 | Q16: O12 | R16: P12 | S16: S12 | T16: R12 | U16: S12 | V16: T12 | W16: U12 | X16: V12 | Y16: W12 | Z16: X12 | AA16: Y12 | AB16: Z12 | AC16: AA12 | AD16: AB12 | AE16: AC12 | AF16: AD12
B17: 13 | C17: A13 | D17: B13 | E17: C13 | F17: D13 | G17: E13 | H17: F13 | I17: G13 | J17: H13 | K17: I13 | L17: J13 | M17: K13 | N17: L13 | O17: M13 | P17: N13 | Q17: O13 | R17: P13 | S17: S13 | T17: R13 | U17: S13 | V17: T13 | W17: U13 | X17: V13 | Y17: W13 | Z17: X13 | AA17: Y13 | AB17: Z13 | AC17: AA13 | AD17: AB13 | AE17: AC13 | AF17: AD13
B18: 14 | C18: A14 | D18: B14 | E18: C14 | F18: D14 | G18: E14 | H18: F14 | I18: G14 | J18: H14 | K18: I14 | L18: J14 | M18: K14 | N18: L14 | O18: M14 | P18: N14 | Q18: O14 | R18: P14 | S18: S14 | T18: R14 | U18: S14 | V18: T14 | W18: U14 | X18: V14 | Y18: W14 | Z18: X14 | AA18: Y14 | AB18: Z14 | AC18: AA14 | AD18: AB14 | AE18: AC14 | AF18: AD14
B19: 15 | C19: A15 | D19: B15 | E19: C15 | F19: D15 | G19: E15 | H19: F15 | I19: G15 | J19: H15 | K19: I15 | L19: J15 | M19: K15 | N19: L15 | O19: M15 | P19: N15 | Q19: O15 | R19: P15 | S19: S15 | T19: R15 | U19: S15 | V19: T15 | W19: U15 | X19: V15 | Y19: W15 | Z19: X15 | AA19: Y15 | AB19: Z15 | AC19: AA15 | AD19: AB15 | AE19: AC15 | AF19: AD15
B20: 16 | C20: A16 | D20: B16 | E20: C16 | F20: D16 | G20: E16 | H20: F16 | I20: G16 | J20: H16 | K20: I16 | L20: J16 | M20: K16 | N20: L16 | O20: M16 | P20: N16 | Q20: O16 | R20: P16 | S20: S16 | T20: R16 | U20: S16 | V20: T16 | W20: U16 | X20: V16 | Y20: W16 | Z20: X16 | AA20: Y16 | AB20: Z16 | AC20: AA16 | AD20: AB16 | AE20: AC16 | AF20: AD16
B21: 17 | C21: A17 | D21: B17 | E21: C17 | F21: D17 | G21: E17 | H21: F17 | I21: G17 | J21: H17 | K21: I17 | L21: J17 | M21: K17 | N21: L17 | O21: M17 | P21: N17 | Q21: O17 | R21: P17 | S21: S17 | T21: R17 | U21: S17 | V21: T17 | W21: U17 | X21: V17 | Y21: W17 | Z21: X17 | AA21: Y17 | AB21: Z17 | AC21: AA17 | AD21: AB17 | AE21: AC17 | AF21: AD17
... B40: 36 | C40: A36 | D40: B36 | E40: C36 | F40: D36 | G40: E36 | H40: F36 | I40: G36 | J40: H36 | K40: I36 | L40: J36 | M40: K36 | N40: L36 | O40: M36 | P40: N36 | Q40: O36 | R40: P36 | S40: S36 | T40: R36 | U40: S36 | V40: T36 | W40: U36 | X40: V36 | Y40: W36 | Z40: X36 | AA40: Y36 | AB40: Z36 | AC40: AA36 | AD40: AB36 | AE40: AC36 | AF40: AD36
C42: Sample 2
B43: 1 | C43: A1 | D43: B1 | E43: C1 | F43: D1 | G43: E1 | H43: F1 | I43: G1 | J43: H1 | K43: I1 | L43: J1 | M43: K1 | N43: L1 | O43: M1 | P43: N1 | Q43: O1 | R43: P1 | S43: S1 | T43: R1 | U43: S1 | V43: T1 | W43: U1 | X43: V1 | Y43: W1 | Z43: X1 | AA43: Y1 | AB43: Z1 | AC43: AA1 | AD43: AB1 | AE43: AC1 | AF43: AD1 | AH43: Background
B44: 2 | C44: A2 | D44: B2 | E44: C2 | F44: D2 | G44: E2 | H44: F2 | I44: G2 | J44: H2 | K44: I2 | L44: J2 | M44: K2 | N44: L2 | O44: M2 | P44: N2 | Q44: O2 | R44: P2 | S44: S2 | T44: R2 | U44: S2 | V44: T2 | W44: U2 | X44: V2 | Y44: W2 | Z44: X2 | AA44: Y2 | AB44: Z2 | AC44: AA2 | AD44: AB2 | AE44: AC2 | AF44: AD2 | AH44: 0
B45: 3 | C45: A3 | D45: B3 | E45: C3 | F45: D3 | G45: E3 | H45: F3 | I45: G3 | J45: H3 | K45: I3 | L45: J3 | M45: K3 | N45: L3 | O45: M3 | P45: N3 | Q45: O3 | R45: P3 | S45: S3 | T45: R3 | U45: S3 | V45: T3 | W45: U3 | X45: V3 | Y45: W3 | Z45: X3 | AA45: Y3 | AB45: Z3 | AC45: AA3 | AD45: AB3 | AE45: AC3 | AF45: AD3 | AH45: 0
B46: 4 | C46: A4 | D46: B4 | E46: C4 | F46: D4 | G46: E4 | H46: F4 | I46: G4 | J46: H4 | K46: I4 | L46: J4 | M46: K4 | N46: L4 | O46: M4 | P46: N4 | Q46: O4 | R46: P4 | S46: S4 | T46: R4 | U46: S4 | V46: T4 | W46: U4 | X46: V4 | Y46: W4 | Z46: X4 | AA46: Y4 | AB46: Z4 | AC46: AA4 | AD46: AB4 | AE46: AC4 | AF46: AD4 | AH46: 0
B47: 5 | C47: A5 | D47: B5 | E47: C5 | F47: D5 | G47: E5 | H47: F5 | I47: G5 | J47: H5 | K47: I5 | L47: J5 | M47: K5 | N47: L5 | O47: M5 | P47: N5 | Q47: O5 | R47: P5 | S47: S5 | T47: R5 | U47: S5 | V47: T5 | W47: U5 | X47: V5 | Y47: W5 | Z47: X5 | AA47: Y5 | AB47: Z5 | AC47: AA5 | AD47: AB5 | AE47: AC5 | AF47: AD5 | AH47: 0
B48: 6 | C48: A6 | D48: B6 | E48: C6 | F48: D6 | G48: E6 | H48: F6 | I48: G6 | J48: H6 | K48: I6 | L48: J6 | M48: K6 | N48: L6 | O48: M6 | P48: N6 | Q48: O6 | R48: P6 | S48: S6 | T48: R6 | U48: S6 | V48: T6 | W48: U6 | X48: V6 | Y48: W6 | Z48: X6 | AA48: Y6 | AB48: Z6 | AC48: AA6 | AD48: AB6 | AE48: AC6 | AF48: AD6
B49: 7 | C49: A7 | D49: B7 | E49: C7 | F49: D7 | G49: E7 | H49: F7 | I49: G7 | J49: H7 | K49: I7 | L49: J7 | M49: K7 | N49: L7 | O49: M7 | P49: N7 | Q49: O7 | R49: P7 | S49: S7 | T49: R7 | U49: S7 | V49: T7 | W49: U7 | X49: V7 | Y49: W7 | Z49: X7 | AA49: Y7 | AB49: Z7 | AC49: AA7 | AD49: AB7 | AE49: AC7 | AF49: AD7
B50: 8 | C50: A8 | D50: B8 | E50: C8 | F50: D8 | G50: E8 | H50: F8 | I50: G8 | J50: H8 | K50: I8 | L50: J8 | M50: K8 | N50: L8 | O50: M8 | P50: N8 | Q50: O8 | R50: P8 | S50: S8 | T50: R8 | U50: S8 | V50: T8 | W50: U8 | X50: V8 | Y50: W8 | Z50: X8 | AA50: Y8 | AB50: Z8 | AC50: AA8 | AD50: AB8 | AE50: AC8 | AF50: AD8
B51: 9 | C51: A9 | D51: B9 | E51: C9 | F51: D9 | G51: E9 | H51: F9 | I51: G9 | J51: H9 | K51: I9 | L51: J9 | M51: K9 | N51: L9 | O51: M9 | P51: N9 | Q51: O9 | R51: P9 | S51: S9 | T51: R9 | U51: S9 | V51: T9 | W51: U9 | X51: V9 | Y51: W9 | Z51: X9 | AA51: Y9 | AB51: Z9 | AC51: AA9 | AD51: AB9 | AE51: AC9 | AF51: AD9
B52: 10 | C52: A10 | D52: B10 | E52: C10 | F52: D10 | G52: E10 | H52: F10 | I52: G10 | J52: H10 | K52: I10 | L52: J10 | M52: K10 | N52: L10 | O52: M10 | P52: N10 | Q52: O10 | R52: P10 | S52: S10 | T52: R10 | U52: S10 | V52: T10 | W52: U10 | X52: V10 | Y52: W10 | Z52: X10 | AA52: Y10 | AB52: Z10 | AC52: AA10 | AD52: AB10 | AE52: AC10 | AF52: AD10
B53: 11 | C53: A11 | D53: B11 | E53: C11 | F53: D11 | G53: E11 | H53: F11 | I53: G11 | J53: H11 | K53: I11 | L53: J11 | M53: K11 | N53: L11 | O53: M11 | P53: N11 | Q53: O11 | R53: P11 | S53: S11 | T53: R11 | U53: S11 | V53: T11 | W53: U11 | X53: V11 | Y53: W11 | Z53: X11 | AA53: Y11 | AB53: Z11 | AC53: AA11 | AD53: AB11 | AE53: AC11 | AF53: AD11
B54: 12 | C54: A12 | D54: B12 | E54: C12 | F54: D12 | G54: E12 | H54: F12 | I54: G12 | J54: H12 | K54: I12 | L54: J12 | M54: K12 | N54: L12 | O54: M12 | P54: N12 | Q54: O12 | R54: P12 | S54: S12 | T54: R12 | U54: S12 | V54: T12 | W54: U12 | X54: V12 | Y54: W12 | Z54: X12 | AA54: Y12 | AB54: Z12 | AC54: AA12 | AD54: AB12 | AE54: AC12 | AF54: AD12
B55: 13 | C55: A13 | D55: B13 | E55: C13 | F55: D13 | G55: E13 | H55: F13 | I55: G13 | J55: H13 | K55: I13 | L55: J13 | M55: K13 | N55: L13 | O55: M13 | P55: N13 | Q55: O13 | R55: P13 | S55: S13 | T55: R13 | U55: S13 | V55: T13 | W55: U13 | X55: V13 | Y55: W13 | Z55: X13 | AA55: Y13 | AB55: Z13 | AC55: AA13 | AD55: AB13 | AE55: AC13 | AF55: AD13
B56: 14 | C56: A14 | D56: B14 | E56: C14 | F56: D14 | G56: E14 | H56: F14 | I56: G14 | J56: H14 | K56: I14 | L56: J14 | M56: K14 | N56: L14 | O56: M14 | P56: N14 | Q56: O14 | R56: P14 | S56: S14 | T56: R14 | U56: S14 | V56: T14 | W56: U14 | X56: V14 | Y56: W14 | Z56: X14 | AA56: Y14 | AB56: Z14 | AC56: AA14 | AD56: AB14 | AE56: AC14 | AF56: AD14
B57: 15 | C57: A15 | D57: B15 | E57: C15 | F57: D15 | G57: E15 | H57: F15 | I57: G15 | J57: H15 | K57: I15 | L57: J15 | M57: K15 | N57: L15 | O57: M15 | P57: N15 | Q57: O15 | R57: P15 | S57: S15 | T57: R15 | U57: S15 | V57: T15 | W57: U15 | X57: V15 | Y57: W15 | Z57: X15 | AA57: Y15 | AB57: Z15 | AC57: AA15 | AD57: AB15 | AE57: AC15 | AF57: AD15
B58: 16 | C58: A16 | D58: B16 | E58: C16 | F58: D16 | G58: E16 | H58: F16 | I58: G16 | J58: H16 | K58: I16 | L58: J16 | M58: K16 | N58: L16 | O58: M16 | P58: N16 | Q58: O16 | R58: P16 | S58: S16 | T58: R16 | U58: S16 | V58: T16 | W58: U16 | X58: V16 | Y58: W16 | Z58: X16 | AA58: Y16 | AB58: Z16 | AC58: AA16 | AD58: AB16 | AE58: AC16 | AF58: AD16
B59: 17 | C59: A17 | D59: B17 | E59: C17 | F59: D17 | G59: E17 | H59: F17 | I59: G17 | J59: H17 | K59: I17 | L59: J17 | M59: K17 | N59: L17 | O59: M17 | P59: N17 | Q59: O17 | R59: P17 | S59: S17 | T59: R17 | U59: S17 | V59: T17 | W59: U17 | X59: V17 | Y59: W17 | Z59: X17 | AA59: Y17 | AB59: Z17 | AC59: AA17 | AD59: AB17 | AE59: AC17 | AF59: AD17
... B78: 36 | C78: A36 | D78: B36 | E78: C36 | F78: D36 | G78: E36 | H78: F36 | I78: G36 | J78: H36 | K78: I36 | L78: J36 | M78: K36 | N78: L36 | O78: M36 | P78: N36 | Q78: O36 | R78: P36 | S78: S36 | T78: R36 | U78: S36 | V78: T36 | W78: U36 | X78: V36 | Y78: W36 | Z78: X36 | AA78: Y36 | AB78: Z36 | AC78: AA36 | AD78: AB36 | AE78: AC36 | AF78: AD36
C80: Sample 3
...

Sheet Map and Ab list
B1: ='Aligning Data'!B2:P2 -> RayBio® Mouse Biotin Label Based Antibody Arrays -- L-2 Array, Membrane
C3: ='Aligning Data'!C4 -> Sample 1
B4: 1 | C4: Positive 1a | D4: Positive 2a | E4: Positive 3a | F4: Neg | G4: AARE | H4: ACAT1 | I4: ACOT2 | J4: ADAM28 | K4: AHCY | L4: AK1 | M4: AKR1A1 | N4: ALDH2 | O4: alpha 5 D | P4: ANKRD9 | Q4: ANXA3 | R4: AP180 | S4: AP3S2 | T4: APLP2 | U4: ApoA V | V4: ASPM | W4: ASS1 | X4: ATOX1 | Y4: ATPG | Z4: AUTS2 | AA4: BAI2 | AB4: BarX1 | AC4: BBS1 | AD4: BE2I / UBC9 | AE4: BLM | AF4: BOLA2 | AH4: Background
C5: ='Aligning Data'!C5 -> A1 | D5: ='Aligning Data'!D5 -> B1 | E5: ='Aligning Data'!E5 -> C1 | F5: ='Aligning Data'!F5 -> D1 | G5: ='Aligning Data'!G5 -> E1 | H5: ='Aligning Data'!H5 -> F1 | I5: ='Aligning Data'!I5 -> G1 | J5: ='Aligning Data'!J5 -> H1 | ... AF5: ='Aligning Data'!AF5 -> AD1
B6: 2
C7: ='Aligning Data'!C6 -> A2 | D7: ='Aligning Data'!D6 -> B2 | E7: ='Aligning Data'!E6 -> C2 | F7: ='Aligning Data'!F6 -> D2 | G7: ='Aligning Data'!G6 -> E2 | H7: ='Aligning Data'!H6 -> F2 | I7: ='Aligning Data'!I6 -> G2 | J7: ='Aligning Data'!J6 -> H2 | ... AF7: ='Aligning Data'!AF6 -> AD2
B8: 3 | C8: Neg | D8: Neg | E8: Neg | F8: C10orf58 | G8: CACNA1H | H8: Calpain 2 | I8: CaMK2 | J8: CaMK2D | K8: CBL | L8: CBR1 | M8: CCDC58 | N8: CCT6A | O8: CHCHD3 | P8: Cingulin | Q8: CIT | R8: CMG1 | S8: CNBP | T8: CNPY2 | U8: Coilin | V8: COL8A2 | W8: COLEC11 | X8: COPG2 | Y8: CORO1B | Z8: CPA3 | AA8: CPI17 alpha | AB8: CrkRS | AC8: CRLF3 | AD8: CSRP3 | AE8: CTNNAL1 | AF8: CTNND1
C9: ='Aligning Data'!C7 -> A3 | D9: ='Aligning Data'!D7 -> B3 | E9: ='Aligning Data'!E7 -> C3 | F9: ='Aligning Data'!F7 -> D3 | G9: ='Aligning Data'!G7 -> E3 | H9: ='Aligning Data'!H7 -> F3 | I9: ='Aligning Data'!I7 -> G3 | J9: ='Aligning Data'!J7 -> H3 | ... AF9: ='Aligning Data'!AF7 -> AD3
B10: 4
C11: ='Aligning Data'!C8 -> A4 | D11: ='Aligning Data'!D8 -> B4 | E11: ='Aligning Data'!E8 -> C4 | F11: ='Aligning Data'!F8 -> D4 | G11: ='Aligning Data'!G8 -> E4 | H11: ='Aligning Data'!H8 -> F4 | I11: ='Aligning Data'!I8 -> G4 | J11: ='Aligning Data'!J8 -> H4 | ... AF11: ='Aligning Data'!AF8 -> AD4
B12: 5 | C12: Cyclophilin F | D12: Cytochrome b5 | E12: DCAMKL1 | F12: Dematin | G12: DIAPH1 | H12: DKC1 | I12: DLST | J12: DMRT1 | K12: Dystrophin | L12: Ebf4 | M12: EBP50 | N12: ECHDC1 | O12: EHHADH | P12: EIF3D | Q12: eIF4A2 | R12: eIF4GII | S12: ENDOD1 | T12: EYA2 | U12: Factor VIII | V12: Filaggrin | W12: FITM1 | X12: GARS | Y12: GCC2 | Z12: GLI-2 | AA12: GLOD4 | AB12: GLUL | AC12: GMPR1 | AD12: GOLGA3 | AE12: GP2 | AF12: gp340
C13: ='Aligning Data'!C9 -> A5 | D13: ='Aligning Data'!D9 -> B5 | E13: ='Aligning Data'!E9 -> C5 | F13: ='Aligning Data'!F9 -> D5 | G13: ='Aligning Data'!G9 -> E5 | H13: ='Aligning Data'!H9 -> F5 | I13: ='Aligning Data'!I9 -> G5 | J13: ='Aligning Data'!J9 -> H5 | ... AF13: ='Aligning Data'!AF9 -> AD5
B14: 6
C15: ='Aligning Data'!C10 -> A6 | D15: ='Aligning Data'!D10 -> B6 | E15: ='Aligning Data'!E10 -> C6 | F15: ='Aligning Data'!F10 -> D6 | G15: ='Aligning Data'!G10 -> E6 | H15: ='Aligning Data'!H10 -> F6 | I15: ='Aligning Data'!I10 -> G6 | J15: ='Aligning Data'!J10 -> H6 | ... AF15: ='Aligning Data'!AF10 -> AD6
B16: 7 | C16: GTF2F1 | D16: HA1 | E16: HARS | F16: HIC1 | G16: HIP55 | H16: H1F0 | I16: HIST1H1B | J16: HIVEP2 | K16: hnRNP K | L16: hnRNP R | M16: HNRNPUL2 | N16: HNRPA3 | O16: HP1 g | P16: Importin 7 | Q16: Involucrin | R16: ISLR | S16: ITPR2 | T16: ITPR3 | U16: KCNAB3 | V16: LAMA5 | W16: LDB3 | X16: LHPP | Y16: LIPG | Z16: MAP4K4 | AA16: MICALL2 | AB16: MON2 | AC16: MPST | AD16: MRC2 | AE16: MSH3 | AF16: MTA2
C17: ='Aligning Data'!C11 -> A7 | D17: ='Aligning Data'!D11 -> B7 | E17: ='Aligning Data'!E11 -> C7 | F17: ='Aligning Data'!F11 -> D7 | G17: ='Aligning Data'!G11 -> E7 | H17: ='Aligning Data'!H11 -> F7 | I17: ='Aligning Data'!I11 -> G7 | J17: ='Aligning Data'!J11 -> H7 | ... AF17: ='Aligning Data'!AF11 -> AD7
B18: 8
C19: ='Aligning Data'!C12 -> A8 | D19: ='Aligning Data'!D12 -> B8 | E19: ='Aligning Data'!E12 -> C8 | F19: ='Aligning Data'!F12 -> D8 | G19: ='Aligning Data'!G12 -> E8 | H19: ='Aligning Data'!H12 -> F8 | I19: ='Aligning Data'!I12 -> G8 | J19: ='Aligning Data'!J12 -> H8 | ... AF19: ='Aligning Data'!AF12 -> AD8
B20: 9 | C20: MTHFD1 | D20: MUC5B | E20: MVD | F20: Myosin IIB | G20: NACA1 | H20: NAGPA | I20: NAV2 | J20: NFATC4 | K20: NNT | L20: NPEPPS | M20: NQO2 | N20: NSFL1C | O20: Nucleobindin 1 | P20: NUP214 | Q20: OAF | R20: OIT3 | S20: OPCML | T20: Orosomucoid 2 | U20: OSBP1 | V20: OSCAR | W20: OSM R beta | X20: Osteoadherin | Y20: OTC | Z20: OTUB1 | AA20: OTUD7A | AB20: Oxytocin-neurophysin 1 | AC20: p16 ARC | AD20: p23 | AE20: p39 | AF20: P4HB
C21: ='Aligning Data'!C13 -> A9 | D21: ='Aligning Data'!D13 -> B9 | E21: ='Aligning Data'!E13 -> C9 | F21: ='Aligning Data'!F13 -> D9 | G21: ='Aligning Data'!G13 -> E9 | H21: ='Aligning Data'!H13 -> F9 | I21: ='Aligning Data'!I13 -> G9 | J21: ='Aligning Data'!J13 -> H9 | ... AF21: ='Aligning Data'!AF13 -> AD9
B22: 10
C23: ='Aligning Data'!C14 -> A10 | D23: ='Aligning Data'!D14 -> B10 | E23: ='Aligning Data'!E14 -> C10 | F23: ='Aligning Data'!F14 -> D10 | G23: ='Aligning Data'!G14 -> E10 | H23: ='Aligning Data'!H14 -> F10 | I23: ='Aligning Data'!I14 -> G10 | J23: ='Aligning Data'!J14 -> H10 | ... AF23: ='Aligning Data'!AF14 -> AD10
B24: 11 | C24: p73 | D24: PABP1 | E24: PACS1 | F24: PNLIP | G24: PARVB | H24: PCAP | I24: PCBP1 | J24: PCBP2 | K24: PCCA | L24: PCDH12 | M24: PCDH8 | N24: PCK2 | O24: PCMT1 | P24: PCNA | Q24: PCPE-1 | R24: PCSK9 | S24: PDAP1 | T24: PDE1B | U24: PDIA6 | V24: PDLIM1 | W24: PDLIM3 | X24: PDZD2 | Y24: PEBP1 | Z24: PEBP4 | AA24: PENK | AB24: PEPD | AC24: perilipin 3 | AD24: Perilipin-1 | AE24: Periostin | AF24: Periplakin
C25: ='Aligning Data'!C15 -> A11 | D25: ='Aligning Data'!D15 -> B11 | E25: ='Aligning Data'!E15 -> C11 | F25: ='Aligning Data'!F15 -> D11 | G25: ='Aligning Data'!G15 -> E11 | H25: ='Aligning Data'!H15 -> F11 | I25: ='Aligning Data'!I15 -> G11 | J25: ='Aligning Data'!J15 -> H11 | ... AF25: ='Aligning Data'!AF15 -> AD11
B26: 12
C27: ='Aligning Data'!C16 -> A12 | D27: ='Aligning Data'!D16 -> B12 | E27: ='Aligning Data'!E16 -> C12 | F27: ='Aligning Data'!F16 -> D12 | G27: ='Aligning Data'!G16 -> E12 | H27: ='Aligning Data'!H16 -> F12 | I27: ='Aligning Data'!I16 -> G12 | J27: ='Aligning Data'!J16 -> H12 | ... AF27: ='Aligning Data'!AF16 -> AD12
B28: 13 | C28: Peroxiredoxin 2 | D28: Peroxiredoxin 3 | E28: Peroxiredoxin-1 | F28: PFAS | G28: PFDN6 | H28: PFKL | I28: PGAM1 | J28: PGAM2 | K28: PGK-1 | L28: PGLS | M28: PG-M | N28: PGM1 | O28: PGRPL | P28: PHGDH | Q28: Piccolo | R28: pIgR | S28: PIK3C2B | T28: PIN | U28: PIP5K2 alpha | V28: PISD | W28: PLA2G1B | X28: Plastin 3 | Y28: Plastin L | Z28: PLBD2 | AA28: PLD4 | AB28: Plectin | AC28: Plexin B1 | AD28: Plexin B2 | AE28: PLOD1 | AF28: PLOD2
C29: ='Aligning Data'!C17 -> A13 | D29: ='Aligning Data'!D17 -> B13 | E29: ='Aligning Data'!E17 -> C13 | F29: ='Aligning Data'!F17 -> D13 | G29: ='Aligning Data'!G17 -> E13 | H29: ='Aligning Data'!H17 -> F13 | I29: ='Aligning Data'!I17 -> G13 | J29: ='Aligning Data'!J17 -> H13 | ... AF29: ='Aligning Data'!AF17 -> AD13
B30: 14
C31: ='Aligning Data'!C18 -> A14 | D31: ='Aligning Data'!D18 -> B14 | E31: ='Aligning Data'!E18 -> C14 | F31: ='Aligning Data'!F18 -> D14 | G31: ='Aligning Data'!G18 -> E14 | H31: ='Aligning Data'!H18 -> F14 | I31: ='Aligning Data'!I18 -> G14 | J31: ='Aligning Data'!J18 -> H14 | ... AF31: ='Aligning Data'!AF18 -> AD14
B32: 15 | C32: Plxdc2 | D32: PMCA | E32: PNP | F32: POLD2 | G32: POLR2A | H32: POR | I32: PPOX | J32: PPP1CC | K32: PPP1R9A | L32: PPP2R1B | M32: PPP2R4 | N32: PRCP | O32: PRDM13 | P32: PREP | Q32: PRG2 | R32: Prion protein PrP | S32: Profilin 1 | T32: Prolargin | U32: Prosaposin | V32: Prostaglandin D Synthase | W32: PSMD2 | X32: Protein C | Y32: Protein Z | Z32: PRR4 | AA32: PRRC2A | AB32: PRSS23 | AC32: PRSS3 | AD32: PRTN3 | AE32: PSMA1 | AF32: PSMA2
C33: ='Aligning Data'!C19 -> A15 | D33: ='Aligning Data'!D19 -> B15 | E33: ='Aligning Data'!E19 -> C15 | F33: ='Aligning Data'!F19 -> D15 | G33: ='Aligning Data'!G19 -> E15 | H33: ='Aligning Data'!H19 -> F15 | I33: ='Aligning Data'!I19 -> G15 | J33: ='Aligning Data'!J19 -> H15 | ... AF33: ='Aligning Data'!AF19 -> AD15
B34: 16
C35: ='Aligning Data'!C20 -> A16 | D35: ='Aligning Data'!D20 -> B16 | E35: ='Aligning Data'!E20 -> C16 | F35: ='Aligning Data'!F20 -> D16 | G35: ='Aligning Data'!G20 -> E16 | H35: ='Aligning Data'!H20 -> F16 | I35: ='Aligning Data'!I20 -> G16 | J35: ='Aligning Data'!J20 -> H16 | ... AF35: ='Aligning Data'!AF20 -> AD16
B36: 17 | C36: PSMA4 | D36: PSMA5 | E36: PSMA6 | F36: PSMB1 | G36: PSMB2 | H36: PSMB3 | I36: PSMB4 | J36: PSMB5 | K36: PSMB6 | L36: PSMB7 | M36: PSMC3 | N36: PSMD1 | O36: PSMD5 | P36: PSMD9 | Q36: PSME1 | R36: PSME2 | S36: PTBP1 | T36: PTEN | U36: PTGR1 | V36: PTK 7 | W36: PTMA | X36: PTPRG | Y36: PTPRK | Z36: PTPRM | AA36: PTPRZ | AB36: PZP | AC36: QARS | AD36: QDPR | AE36: QPRT | AF36: Quiescin Q6
C37: ='Aligning Data'!C21 -> A17 | D37: ='Aligning Data'!D21 -> B17 | E37: ='Aligning Data'!E21 -> C17 | F37: ='Aligning Data'!F21 -> D17 | G37: ='Aligning Data'!G21 -> E17 | H37: ='Aligning Data'!H21 -> F17 | I37: ='Aligning Data'!I21 -> G17 | J37: ='Aligning Data'!J21 -> H17 | ... AF37: ='Aligning Data'!AF21 -> AD17
B38: 18
C39: ='Aligning Data'!C22 -> A18 | D39: ='Aligning Data'!D22 -> B18 | E39: ='Aligning Data'!E22 -> C18 | F39: ='Aligning Data'!F22 -> D18 | G39: ='Aligning Data'!G22 -> E18 | H39: ='Aligning Data'!H22 -> F18 | I39: ='Aligning Data'!I22 -> G18 | J39: ='Aligning Data'!J22 -> H18 | ... AF39: ='Aligning Data'!AF22 -> AD18
B40: 19 | C40: Rab1A | D40: Rab7a | E40: Ran | F40: RanBP1 | G40: RanGAP1 | H40: RAP1B | I40: Rbm15 | J40: RCL | K40: RECQ4 | L40: Reg3A | M40: REV3L | N40: RHOC | O40: RHOG | P40: Ribonuclease A | Q40: Ribonuclease T2 | R40: RLF | S40: RNASE4 | T40: Rnose2 | U40: RP1 | V40: RPL10 | W40: RPL10A | X40: RPL11 | Y40: RPL12 | Z40: RPL14 | AA40: RPL17 | AB40: RPL22 | AC40: RPL23A | AD40: RPL3 | AE40: RPL32 | AF40: RPL4
C41: ='Aligning Data'!C23 -> A19 | D41: ='Aligning Data'!D23 -> B19 | E41: ='Aligning Data'!E23 -> C19 | F41: ='Aligning Data'!F23 -> D19 | G41: ='Aligning Data'!G23 -> E19 | H41: ='Aligning Data'!H23 -> F19 | I41: ='Aligning Data'!I23 -> G19 | J41: ='Aligning Data'!J23 -> H19 | ... AF41: ='Aligning Data'!AF23 -> AD19
...

Sheet Sorting
B2: ='Map and Ab list'!B1 -> RayBio® Mouse Biotin Label Based Antibody Arrays -- L-2 Array, Membrane
B3: Sorting with Background
C4: ='Map and Ab list'!C3 -> Sample 1 | G4: ='Map and Ab list'!C77 -> Sample 2 | K4: ='Map and Ab list'!C151 -> Sample 3 | O4: ='Map and Ab list'!C225 -> Sample 4 | S4: ='Map and Ab list'!C299 -> Sample 5 | W4: ='Map and Ab list'!C373 -> Sample 6 | AA4: ='Map and Ab list'!C447 -> Sample 7 | AE4: ='Map and Ab list'!C521 -> Sample 8 | AI4: ='Map and Ab list'!C595 -> Sample 9 | AM4: ='Map and Ab list'!C669 -> Sample 10 | AQ4: ='Map and Ab list'!C743 -> Sample 11 | AU4: ='Map and Ab list'!C817 -> Sample 12
A5: 1 | B5: Positive Control | E5: =(SUM(OFFSET('Map and Ab list'!$C$5:$E$5,0,0,1,3))+SUM(OFFSET('Map and Ab list'!$C$7:$E$7,0,0,1,3))+SUM(OFFSET('Map and Ab list'!$AD$69:$AF$69,0,0,1,3))+SUM(OFFSET('Map and Ab list'!$AD$71:$AF$71,0,0,1,3)))/12 -> 0 | I5: =(SUM(OFFSET('Map and Ab list'!$C$5:$E$5,74,0,1,3))+SUM(OFFSET('Map and Ab list'!$C$7:$E$7,74,0,1,3))+SUM(OFFSET('Map and Ab list'!$AD$69:$AF$69,74,0,1,3))+SUM(OFFSET('Map and Ab list'!$AD$71:$AF$71,74,0,1,3)))/12 -> 0 | M5: =(SUM(OFFSET('Map and Ab list'!$C$5:$E$5,148,0,1,3))+SUM(OFFSET('Map and Ab list'!$C$7:$E$7,148,0,1,3))+SUM(OFFSET('Map and Ab list'!$AD$69:$AF$69,148,0,1,3))+SUM(OFFSET('Map and Ab list'!$AD$71:$AF$71,148,0,1,3)))/12 -> 0 | Q5: =(SUM(OFFSET('Map and Ab list'!$C$5:$E$5,222,0,1,3))+SUM(OFFSET('Map and Ab list'!$C$7:$E$7,222,0,1,3))+SUM(OFFSET('Map and Ab list'!$AD$69:$AF$69,222,0,1,3))+SUM(OFFSET('Map and Ab list'!$AD$71:$AF$71,222,0,1,3)))/12 -> 0 | U5: =(SUM(OFFSET('Map and Ab list'!$C$5:$E$5,296,0,1,3))+SUM(OFFSET('Map and Ab list'!$C$7:$E$7,296,0,1,3))+SUM(OFFSET('Map and Ab list'!$AD$69:$AF$69,296,0,1,3))+SUM(OFFSET('Map and Ab list'!$AD$71:$AF$71,296,0,1,3)))/12 -> 0 | Y5: =(SUM(OFFSET('Map and Ab list'!$C$5:$E$5,370,0,1,3))+SUM(OFFSET('Map and Ab list'!$C$7:$E$7,370,0,1,3))+SUM(OFFSET('Map and Ab list'!$AD$69:$AF$69,370,0,1,3))+SUM(OFFSET('Map and Ab list'!$AD$71:$AF$71,370,0,1,3)))/12 -> 0 | AC5: =(SUM(OFFSET('Map and Ab list'!$C$5:$E$5,444,0,1,3))+SUM(OFFSET('Map and Ab list'!$C$7:$E$7,444,0,1,3))+SUM(OFFSET('Map and Ab list'!$AD$69:$AF$69,444,0,1,3))+SUM(OFFSET('Map and Ab list'!$AD$71:$AF$71,444,0,1,3)))/12 -> 0 | AG5: =(SUM(OFFSET('Map and Ab list'!$C$5:$E$5,518,0,1,3))+SUM(OFFSET('Map and Ab list'!$C$7:$E$7,518,0,1,3))+SUM(OFFSET('Map and Ab list'!$AD$69:$AF$69,518,0,1,3))+SUM(OFFSET('Map and Ab list'!$AD$71:$AF$71,518,0,1,3)))/12 -> 0 | AK5: =(SUM(OFFSET('Map and Ab list'!$C$5:$E$5,592,0,1,3))+SUM(OFFSET('Map and Ab list'!$C$7:$E$7,592,0,1,3))+SUM(OFFSET('Map and Ab list'!$AD$69:$AF$69,592,0,1,3))+SUM(OFFSET('Map and Ab list'!$AD$71:$AF$71,592,0,1,3)))/12 -> 0 | AO5: =(SUM(OFFSET('Map and Ab list'!$C$5:$E$5,666,0,1,3))+SUM(OFFSET('Map and Ab list'!$C$7:$E$7,666,0,1,3))+SUM(OFFSET('Map and Ab list'!$AD$69:$AF$69,666,0,1,3))+SUM(OFFSET('Map and Ab list'!$AD$71:$AF$71,666,0,1,3)))/12 -> 0 | AS5: =(SUM(OFFSET('Map and Ab list'!$C$5:$E$5,740,0,1,3))+SUM(OFFSET('Map and Ab list'!$C$7:$E$7,740,0,1,3))+SUM(OFFSET('Map and Ab list'!$AD$69:$AF$69,740,0,1,3))+SUM(OFFSET('Map and Ab list'!$AD$71:$AF$71,740,0,1,3)))/12 -> 0 | AW5: =(SUM(OFFSET('Map and Ab list'!$C$5:$E$5,814,0,1,3))+SUM(OFFSET('Map and Ab list'!$C$7:$E$7,814,0,1,3))+SUM(OFFSET('Map and Ab list'!$AD$69:$AF$69,814,0,1,3))+SUM(OFFSET('Map and Ab list'!$AD$71:$AF$71,814,0,1,3)))/12 -> 0
A6: 2 | B6: Neg | E6: =(OFFSET('Map and Ab list'!$F$5,0,0,1,1)+OFFSET('Map and Ab list'!$F$7,0,0,1,1)+SUM(OFFSET('Map and Ab list'!$C$9:$E$9,0,0,1,3))+SUM(OFFSET('Map and Ab list'!$C$11:$E$11,0,0,1,3)))/8 -> #VALUE! | I6: =(OFFSET('Map and Ab list'!$F$5,74,0,1,1)+OFFSET('Map and Ab list'!$F$7,74,0,1,1)+SUM(OFFSET('Map and Ab list'!$C$9:$E$9,74,0,1,3))+SUM(OFFSET('Map and Ab list'!$C$11:$E$11,74,0,1,3)))/8 -> #VALUE! | M6: =(OFFSET('Map and Ab list'!$F$5,148,0,1,1)+OFFSET('Map and Ab list'!$F$7,148,0,1,1)+SUM(OFFSET('Map and Ab list'!$C$9:$E$9,148,0,1,3))+SUM(OFFSET('Map and Ab list'!$C$11:$E$11,148,0,1,3)))/8 -> #VALUE! | Q6: =(OFFSET('Map and Ab list'!$F$5,222,0,1,1)+OFFSET('Map and Ab list'!$F$7,222,0,1,1)+SUM(OFFSET('Map and Ab list'!$C$9:$E$9,222,0,1,3))+SUM(OFFSET('Map and Ab list'!$C$11:$E$11,222,0,1,3)))/8 -> #VALUE! | U6: =(OFFSET('Map and Ab list'!$F$5,296,0,1,1)+OFFSET('Map and Ab list'!$F$7,296,0,1,1)+SUM(OFFSET('Map and Ab list'!$C$9:$E$9,296,0,1,3))+SUM(OFFSET('Map and Ab list'!$C$11:$E$11,296,0,1,3)))/8 -> #VALUE! | Y6: =(OFFSET('Map and Ab list'!$F$5,370,0,1,1)+OFFSET('Map and Ab list'!$F$7,370,0,1,1)+SUM(OFFSET('Map and Ab list'!$C$9:$E$9,370,0,1,3))+SUM(OFFSET('Map and Ab list'!$C$11:$E$11,370,0,1,3)))/8 -> #VALUE! | AC6: =(OFFSET('Map and Ab list'!$F$5,444,0,1,1)+OFFSET('Map and Ab list'!$F$7,444,0,1,1)+SUM(OFFSET('Map and Ab list'!$C$9:$E$9,444,0,1,3))+SUM(OFFSET('Map and Ab list'!$C$11:$E$11,444,0,1,3)))/8 -> #VALUE! | AG6: =(OFFSET('Map and Ab list'!$F$5,518,0,1,1)+OFFSET('Map and Ab list'!$F$7,518,0,1,1)+SUM(OFFSET('Map and Ab list'!$C$9:$E$9,518,0,1,3))+SUM(OFFSET('Map and Ab list'!$C$11:$E$11,518,0,1,3)))/8 -> #VALUE! | AK6: =(OFFSET('Map and Ab list'!$F$5,592,0,1,1)+OFFSET('Map and Ab list'!$F$7,592,0,1,1)+SUM(OFFSET('Map and Ab list'!$C$9:$E$9,592,0,1,3))+SUM(OFFSET('Map and Ab list'!$C$11:$E$11,592,0,1,3)))/8 -> #VALUE! | AO6: =(OFFSET('Map and Ab list'!$F$5,666,0,1,1)+OFFSET('Map and Ab list'!$F$7,666,0,1,1)+SUM(OFFSET('Map and Ab list'!$C$9:$E$9,666,0,1,3))+SUM(OFFSET('Map and Ab list'!$C$11:$E$11,666,0,1,3)))/8 -> #VALUE! | AS6: =(OFFSET('Map and Ab list'!$F$5,740,0,1,1)+OFFSET('Map and Ab list'!$F$7,740,0,1,1)+SUM(OFFSET('Map and Ab list'!$C$9:$E$9,740,0,1,3))+SUM(OFFSET('Map and Ab list'!$C$11:$E$11,740,0,1,3)))/8 -> #VALUE! | AW6: =(OFFSET('Map and Ab list'!$F$5,814,0,1,1)+OFFSET('Map and Ab list'!$F$7,814,0,1,1)+SUM(OFFSET('Map and Ab list'!$C$9:$E$9,814,0,1,3))+SUM(OFFSET('Map and Ab list'!$C$11:$E$11,814,0,1,3)))/8 -> #VALUE!
A7: 3 | B7: AARE | C7: ='Map and Ab list'!G5 -> E1 | D7: ='Map and Ab list'!G7 -> E2 | E7: =(C7+D7)/2 -> #VALUE! | G7: ='Map and Ab list'!G79 -> E1 | H7: ='Map and Ab list'!G81 -> E2 | I7: =(G7+H7)/2 -> #VALUE! | K7: ='Map and Ab list'!G153 -> E1 | L7: ='Map and Ab list'!G155 -> E2 | M7: =(K7+L7)/2 -> #VALUE! | O7: ='Map and Ab list'!G227 -> E1 | P7: ='Map and Ab list'!G229 -> E2 | Q7: =(O7+P7)/2 -> #VALUE! | S7: ='Map and Ab list'!G301 -> E1 | T7: ='Map and Ab list'!G303 -> E2 | U7: =(S7+T7)/2 -> #VALUE! | W7: ='Map and Ab list'!G375 -> E1 | X7: ='Map and Ab list'!G377 -> E2 | Y7: =(W7+X7)/2 -> #VALUE! | AA7: ='Map and Ab list'!G449 -> E1 | AB7: ='Map and Ab list'!G451 -> E2 | AC7: =(AA7+AB7)/2 -> #VALUE! | AE7: ='Map and Ab list'!G523 -> E1 | AF7: ='Map and Ab list'!G525 -> E2 | AG7: =(AE7+AF7)/2 -> #VALUE! | AI7: ='Map and Ab list'!G597 -> E1 | AJ7: ='Map and Ab list'!G599 -> E2 | AK7: =(AI7+AJ7)/2 -> #VALUE! | AM7: ='Map and Ab list'!G671 -> E1 | AN7: ='Map and Ab list'!G673 -> E2 | AO7: =(AM7+AN7)/2 -> #VALUE! | AQ7: ='Map and Ab list'!G745 -> E1 | AR7: ='Map and Ab list'!G747 -> E2 | AS7: =(AQ7+AR7)/2 -> #VALUE! | AU7: ='Map and Ab list'!G819 -> E1 | AV7: ='Map and Ab list'!G821 -> E2 | AW7: =(AU7+AV7)/2 -> #VALUE!
A8: 4 | B8: ACAT1 | C8: ='Map and Ab list'!H5 -> F1 | D8: ='Map and Ab list'!H7 -> F2 | E8: =(C8+D8)/2 -> #VALUE! | G8: ='Map and Ab list'!H79 -> F1 | H8: ='Map and Ab list'!H81 -> F2 | I8: =(G8+H8)/2 -> #VALUE! | K8: ='Map and Ab list'!H153 -> F1 | L8: ='Map and Ab list'!H155 -> F2 | M8: =(K8+L8)/2 -> #VALUE! | O8: ='Map and Ab list'!H227 -> F1 | P8: ='Map and Ab list'!H229 -> F2 | Q8: =(O8+P8)/2 -> #VALUE! | S8: ='Map and Ab list'!H301 -> F1 | T8: ='Map and Ab list'!H303 -> F2 | U8: =(S8+T8)/2 -> #VALUE! | W8: ='Map and Ab list'!H375 -> F1 | X8: ='Map and Ab list'!H377 -> F2 | Y8: =(W8+X8)/2 -> #VALUE! | AA8: ='Map and Ab list'!H449 -> F1 | AB8: ='Map and Ab list'!H451 -> F2 | AC8: =(AA8+AB8)/2 -> #VALUE! | AE8: ='Map and Ab list'!H523 -> F1 | AF8: ='Map and Ab list'!H525 -> F2 | AG8: =(AE8+AF8)/2 -> #VALUE! | AI8: ='Map and Ab list'!H597 -> F1 | AJ8: ='Map and Ab list'!H599 -> F2 | AK8: =(AI8+AJ8)/2 -> #VALUE! | AM8: ='Map and Ab list'!H671 -> F1 | AN8: ='Map and Ab list'!H673 -> F2 | AO8: =(AM8+AN8)/2 -> #VALUE! | AQ8: ='Map and Ab list'!H745 -> F1 | AR8: ='Map and Ab list'!H747 -> F2 | AS8: =(AQ8+AR8)/2 -> #VALUE! | AU8: ='Map and Ab list'!H819 -> F1 | AV8: ='Map and Ab list'!H821 -> F2 | AW8: =(AU8+AV8)/2 -> #VALUE!
A9: 5 | B9: ACOT2 | C9: ='Map and Ab list'!I5 -> G1 | D9: ='Map and Ab list'!I7 -> G2 | E9: =(C9+D9)/2 -> #VALUE! | G9: ='Map and Ab list'!I79 -> G1 | H9: ='Map and Ab list'!I81 -> G2 | I9: =(G9+H9)/2 -> #VALUE! | K9: ='Map and Ab list'!I153 -> G1 | L9: ='Map and Ab list'!I155 -> G2 | M9: =(K9+L9)/2 -> #VALUE! | O9: ='Map and Ab list'!I227 -> G1 | P9: ='Map and Ab list'!I229 -> G2 | Q9: =(O9+P9)/2 -> #VALUE! | S9: ='Map and Ab list'!I301 -> G1 | T9: ='Map and Ab list'!I303 -> G2 | U9: =(S9+T9)/2 -> #VALUE! | W9: ='Map and Ab list'!I375 -> G1 | X9: ='Map and Ab list'!I377 -> G2 | Y9: =(W9+X9)/2 -> #VALUE! | AA9: ='Map and Ab list'!I449 -> G1 | AB9: ='Map and Ab list'!I451 -> G2 | AC9: =(AA9+AB9)/2 -> #VALUE! | AE9: ='Map and Ab list'!I523 -> G1 | AF9: ='Map and Ab list'!I525 -> G2 | AG9: =(AE9+AF9)/2 -> #VALUE! | AI9: ='Map and Ab list'!I597 -> G1 | AJ9: ='Map and Ab list'!I599 -> G2 | AK9: =(AI9+AJ9)/2 -> #VALUE! | AM9: ='Map and Ab list'!I671 -> G1 | AN9: ='Map and Ab list'!I673 -> G2 | AO9: =(AM9+AN9)/2 -> #VALUE! | AQ9: ='Map and Ab list'!I745 -> G1 | AR9: ='Map and Ab list'!I747 -> G2 | AS9: =(AQ9+AR9)/2 -> #VALUE! | AU9: ='Map and Ab list'!I819 -> G1 | AV9: ='Map and Ab list'!I821 -> G2 | AW9: =(AU9+AV9)/2 -> #VALUE!
A10: 6 | B10: ADAM28 | C10: ='Map and Ab list'!J5 -> H1 | D10: ='Map and Ab list'!J7 -> H2 | E10: =(C10+D10)/2 -> #VALUE! | G10: ='Map and Ab list'!J79 -> H1 | H10: ='Map and Ab list'!J81 -> H2 | I10: =(G10+H10)/2 -> #VALUE! | K10: ='Map and Ab list'!J153 -> H1 | L10: ='Map and Ab list'!J155 -> H2 | M10: =(K10+L10)/2 -> #VALUE! | O10: ='Map and Ab list'!J227 -> H1 | P10: ='Map and Ab list'!J229 -> H2 | Q10: =(O10+P10)/2 -> #VALUE! | S10: ='Map and Ab list'!J301 -> H1 | T10: ='Map and Ab list'!J303 -> H2 | U10: =(S10+T10)/2 -> #VALUE! | W10: ='Map and Ab list'!J375 -> H1 | X10: ='Map and Ab list'!J377 -> H2 | Y10: =(W10+X10)/2 -> #VALUE! | AA10: ='Map and Ab list'!J449 -> H1 | AB10: ='Map and Ab list'!J451 -> H2 | AC10: =(AA10+AB10)/2 -> #VALUE! | AE10: ='Map and Ab list'!J523 -> H1 | AF10: ='Map and Ab list'!J525 -> H2 | AG10: =(AE10+AF10)/2 -> #VALUE! | AI10: ='Map and Ab list'!J597 -> H1 | AJ10: ='Map and Ab list'!J599 -> H2 | AK10: =(AI10+AJ10)/2 -> #VALUE! | AM10: ='Map and Ab list'!J671 -> H1 | AN10: ='Map and Ab list'!J673 -> H2 | AO10: =(AM10+AN10)/2 -> #VALUE! | AQ10: ='Map and Ab list'!J745 -> H1 | AR10: ='Map and Ab list'!J747 -> H2 | AS10: =(AQ10+AR10)/2 -> #VALUE! | AU10: ='Map and Ab list'!J819 -> H1 | AV10: ='Map and Ab list'!J821 -> H2 | AW10: =(AU10+AV10)/2 -> #VALUE!
A11: 7 | B11: AHCY | C11: ='Map and Ab list'!K5 -> I1 | D11: ='Map and Ab list'!K7 -> I2 | E11: =(C11+D11)/2 -> #VALUE! | G11: ='Map and Ab list'!K79 -> I1 | H11: ='Map and Ab list'!K81 -> I2 | I11: =(G11+H11)/2 -> #VALUE! | K11: ='Map and Ab list'!K153 -> I1 | L11: ='Map and Ab list'!K155 -> I2 | M11: =(K11+L11)/2 -> #VALUE! | O11: ='Map and Ab list'!K227 -> I1 | P11: ='Map and Ab list'!K229 -> I2 | Q11: =(O11+P11)/2 -> #VALUE! | S11: ='Map and Ab list'!K301 -> I1 | T11: ='Map and Ab list'!K303 -> I2 | U11: =(S11+T11)/2 -> #VALUE! | W11: ='Map and Ab list'!K375 -> I1 | X11: ='Map and Ab list'!K377 -> I2 | Y11: =(W11+X11)/2 -> #VALUE! | AA11: ='Map and Ab list'!K449 -> I1 | AB11: ='Map and Ab list'!K451 -> I2 | AC11: =(AA11+AB11)/2 -> #VALUE! | AE11: ='Map and Ab list'!K523 -> I1 | AF11: ='Map and Ab list'!K525 -> I2 | AG11: =(AE11+AF11)/2 -> #VALUE! | AI11: ='Map and Ab list'!K597 -> I1 | AJ11: ='Map and Ab list'!K599 -> I2 | AK11: =(AI11+AJ11)/2 -> #VALUE! | AM11: ='Map and Ab list'!K671 -> I1 | AN11: ='Map and Ab list'!K673 -> I2 | AO11: =(AM11+AN11)/2 -> #VALUE! | AQ11: ='Map and Ab list'!K745 -> I1 | AR11: ='Map and Ab list'!K747 -> I2 | AS11: =(AQ11+AR11)/2 -> #VALUE! | AU11: ='Map and Ab list'!K819 -> I1 | AV11: ='Map and Ab list'!K821 -> I2 | AW11: =(AU11+AV11)/2 -> #VALUE!
A12: 8 | B12: AK1 | C12: ='Map and Ab list'!L5 -> J1 | D12: ='Map and Ab list'!L7 -> J2 | E12: =(C12+D12)/2 -> #VALUE! | G12: ='Map and Ab list'!L79 -> J1 | H12: ='Map and Ab list'!L81 -> J2 | I12: =(G12+H12)/2 -> #VALUE! | K12: ='Map and Ab list'!L153 -> J1 | L12: ='Map and Ab list'!L155 -> J2 | M12: =(K12+L12)/2 -> #VALUE! | O12: ='Map and Ab list'!L227 -> J1 | P12: ='Map and Ab list'!L229 -> J2 | Q12: =(O12+P12)/2 -> #VALUE! | S12: ='Map and Ab list'!L301 -> J1 | T12: ='Map and Ab list'!L303 -> J2 | U12: =(S12+T12)/2 -> #VALUE! | W12: ='Map and Ab list'!L375 -> J1 | X12: ='Map and Ab list'!L377 -> J2 | Y12: =(W12+X12)/2 -> #VALUE! | AA12: ='Map and Ab list'!L449 -> J1 | AB12: ='Map and Ab list'!L451 -> J2 | AC12: =(AA12+AB12)/2 -> #VALUE! | AE12: ='Map and Ab list'!L523 -> J1 | AF12: ='Map and Ab list'!L525 -> J2 | AG12: =(AE12+AF12)/2 -> #VALUE! | AI12: ='Map and Ab list'!L597 -> J1 | AJ12: ='Map and Ab list'!L599 -> J2 | AK12: =(AI12+AJ12)/2 -> #VALUE! | AM12: ='Map and Ab list'!L671 -> J1 | AN12: ='Map and Ab list'!L673 -> J2 | AO12: =(AM12+AN12)/2 -> #VALUE! | AQ12: ='Map and Ab list'!L745 -> J1 | AR12: ='Map and Ab list'!L747 -> J2 | AS12: =(AQ12+AR12)/2 -> #VALUE! | AU12: ='Map and Ab list'!L819 -> J1 | AV12: ='Map and Ab list'!L821 -> J2 | AW12: =(AU12+AV12)/2 -> #VALUE!
A13: 9 | B13: AKR1A1 | C13: ='Map and Ab list'!M5 -> K1 | D13: ='Map and Ab list'!M7 -> K2 | E13: =(C13+D13)/2 -> #VALUE! | G13: ='Map and Ab list'!M79 -> K1 | H13: ='Map and Ab list'!M81 -> K2 | I13: =(G13+H13)/2 -> #VALUE! | K13: ='Map and Ab list'!M153 -> K1 | L13: ='Map and Ab list'!M155 -> K2 | M13: =(K13+L13)/2 -> #VALUE! | O13: ='Map and Ab list'!M227 -> K1 | P13: ='Map and Ab list'!M229 -> K2 | Q13: =(O13+P13)/2 -> #VALUE! | S13: ='Map and Ab list'!M301 -> K1 | T13: ='Map and Ab list'!M303 -> K2 | U13: =(S13+T13)/2 -> #VALUE! | W13: ='Map and Ab list'!M375 -> K1 | X13: ='Map and Ab list'!M377 -> K2 | Y13: =(W13+X13)/2 -> #VALUE! | AA13: ='Map and Ab list'!M449 -> K1 | AB13: ='Map and Ab list'!M451 -> K2 | AC13: =(AA13+AB13)/2 -> #VALUE! | AE13: ='Map and Ab list'!M523 -> K1 | AF13: ='Map and Ab list'!M525 -> K2 | AG13: =(AE13+AF13)/2 -> #VALUE! | AI13: ='Map and Ab list'!M597 -> K1 | AJ13: ='Map and Ab list'!M599 -> K2 | AK13: =(AI13+AJ13)/2 -> #VALUE! | AM13: ='Map and Ab list'!M671 -> K1 | AN13: ='Map and Ab list'!M673 -> K2 | AO13: =(AM13+AN13)/2 -> #VALUE! | AQ13: ='Map and Ab list'!M745 -> K1 | AR13: ='Map and Ab list'!M747 -> K2 | AS13: =(AQ13+AR13)/2 -> #VALUE! | AU13: ='Map and Ab list'!M819 -> K1 | AV13: ='Map and Ab list'!M821 -> K2 | AW13: =(AU13+AV13)/2 -> #VALUE!
A14: 10 | B14: ALDH2 | C14: ='Map and Ab list'!N5 -> L1 | D14: ='Map and Ab list'!N7 -> L2 | E14: =(C14+D14)/2 -> #VALUE! | G14: ='Map and Ab list'!N79 -> L1 | H14: ='Map and Ab list'!N81 -> L2 | I14: =(G14+H14)/2 -> #VALUE! | K14: ='Map and Ab list'!N153 -> L1 | L14: ='Map and Ab list'!N155 -> L2 | M14: =(K14+L14)/2 -> #VALUE! | O14: ='Map and Ab list'!N227 -> L1 | P14: ='Map and Ab list'!N229 -> L2 | Q14: =(O14+P14)/2 -> #VALUE! | S14: ='Map and Ab list'!N301 -> L1 | T14: ='Map and Ab list'!N303 -> L2 | U14: =(S14+T14)/2 -> #VALUE! | W14: ='Map and Ab list'!N375 -> L1 | X14: ='Map and Ab list'!N377 -> L2 | Y14: =(W14+X14)/2 -> #VALUE! | AA14: ='Map and Ab list'!N449 -> L1 | AB14: ='Map and Ab list'!N451 -> L2 | AC14: =(AA14+AB14)/2 -> #VALUE! | AE14: ='Map and Ab list'!N523 -> L1 | AF14: ='Map and Ab list'!N525 -> L2 | AG14: =(AE14+AF14)/2 -> #VALUE! | AI14: ='Map and Ab list'!N597 -> L1 | AJ14: ='Map and Ab list'!N599 -> L2 | AK14: =(AI14+AJ14)/2 -> #VALUE! | AM14: ='Map and Ab list'!N671 -> L1 | AN14: ='Map and Ab list'!N673 -> L2 | AO14: =(AM14+AN14)/2 -> #VALUE! | AQ14: ='Map and Ab list'!N745 -> L1 | AR14: ='Map and Ab list'!N747 -> L2 | AS14: =(AQ14+AR14)/2 -> #VALUE! | AU14: ='Map and Ab list'!N819 -> L1 | AV14: ='Map and Ab list'!N821 -> L2 | AW14: =(AU14+AV14)/2 -> #VALUE!
A15: 11 | B15: alpha 5 D | C15: ='Map and Ab list'!O5 -> M1 | D15: ='Map and Ab list'!O7 -> M2 | E15: =(C15+D15)/2 -> #VALUE! | G15: ='Map and Ab list'!O79 -> M1 | H15: ='Map and Ab list'!O81 -> M2 | I15: =(G15+H15)/2 -> #VALUE! | K15: ='Map and Ab list'!O153 -> M1 | L15: ='Map and Ab list'!O155 -> M2 | M15: =(K15+L15)/2 -> #VALUE! | O15: ='Map and Ab list'!O227 -> M1 | P15: ='Map and Ab list'!O229 -> M2 | Q15: =(O15+P15)/2 -> #VALUE! | S15: ='Map and Ab list'!O301 -> M1 | T15: ='Map and Ab list'!O303 -> M2 | U15: =(S15+T15)/2 -> #VALUE! | W15: ='Map and Ab list'!O375 -> M1 | X15: ='Map and Ab list'!O377 -> M2 | Y15: =(W15+X15)/2 -> #VALUE! | AA15: ='Map and Ab list'!O449 -> M1 | AB15: ='Map and Ab list'!O451 -> M2 | AC15: =(AA15+AB15)/2 -> #VALUE! | AE15: ='Map and Ab list'!O523 -> M1 | AF15: ='Map and Ab list'!O525 -> M2 | AG15: =(AE15+AF15)/2 -> #VALUE! | AI15: ='Map and Ab list'!O597 -> M1 | AJ15: ='Map and Ab list'!O599 -> M2 | AK15: =(AI15+AJ15)/2 -> #VALUE! | AM15: ='Map and Ab list'!O671 -> M1 | AN15: ='Map and Ab list'!O673 -> M2 | AO15: =(AM15+AN15)/2 -> #VALUE! | AQ15: ='Map and Ab list'!O745 -> M1 | AR15: ='Map and Ab list'!O747 -> M2 | AS15: =(AQ15+AR15)/2 -> #VALUE! | AU15: ='Map and Ab list'!O819 -> M1 | AV15: ='Map and Ab list'!O821 -> M2 | AW15: =(AU15+AV15)/2 -> #VALUE!
A16: 12 | B16: ANKRD9 | C16: ='Map and Ab list'!P5 -> N1 | D16: ='Map and Ab list'!P7 -> N2 | E16: =(C16+D16)/2 -> #VALUE! | G16: ='Map and Ab list'!P79 -> N1 | H16: ='Map and Ab list'!P81 -> N2 | I16: =(G16+H16)/2 -> #VALUE! | K16: ='Map and Ab list'!P153 -> N1 | L16: ='Map and Ab list'!P155 -> N2 | M16: =(K16+L16)/2 -> #VALUE! | O16: ='Map and Ab list'!P227 -> N1 | P16: ='Map and Ab list'!P229 -> N2 | Q16: =(O16+P16)/2 -> #VALUE! | S16: ='Map and Ab list'!P301 -> N1 | T16: ='Map and Ab list'!P303 -> N2 | U16: =(S16+T16)/2 -> #VALUE! | W16: ='Map and Ab list'!P375 -> N1 | X16: ='Map and Ab list'!P377 -> N2 | Y16: =(W16+X16)/2 -> #VALUE! | AA16: ='Map and Ab list'!P449 -> N1 | AB16: ='Map and Ab list'!P451 -> N2 | AC16: =(AA16+AB16)/2 -> #VALUE! | AE16: ='Map and Ab list'!P523 -> N1 | AF16: ='Map and Ab list'!P525 -> N2 | AG16: =(AE16+AF16)/2 -> #VALUE! | AI16: ='Map and Ab list'!P597 -> N1 | AJ16: ='Map and Ab list'!P599 -> N2 | AK16: =(AI16+AJ16)/2 -> #VALUE! | AM16: ='Map and Ab list'!P671 -> N1 | AN16: ='Map and Ab list'!P673 -> N2 | AO16: =(AM16+AN16)/2 -> #VALUE! | AQ16: ='Map and Ab list'!P745 -> N1 | AR16: ='Map and Ab list'!P747 -> N2 | AS16: =(AQ16+AR16)/2 -> #VALUE! | AU16: ='Map and Ab list'!P819 -> N1 | AV16: ='Map and Ab list'!P821 -> N2 | AW16: =(AU16+AV16)/2 -> #VALUE!
A17: 13 | B17: ANXA3 | C17: ='Map and Ab list'!Q5 -> O1 | D17: ='Map and Ab list'!Q7 -> O2 | E17: =(C17+D17)/2 -> #VALUE! | G17: ='Map and Ab list'!Q79 -> O1 | H17: ='Map and Ab list'!Q81 -> O2 | I17: =(G17+H17)/2 -> #VALUE! | K17: ='Map and Ab list'!Q153 -> O1 | L17: ='Map and Ab list'!Q155 -> O2 | M17: =(K17+L17)/2 -> #VALUE! | O17: ='Map and Ab list'!Q227 -> O1 | P17: ='Map and Ab list'!Q229 -> O2 | Q17: =(O17+P17)/2 -> #VALUE! | S17: ='Map and Ab list'!Q301 -> O1 | T17: ='Map and Ab list'!Q303 -> O2 | U17: =(S17+T17)/2 -> #VALUE! | W17: ='Map and Ab list'!Q375 -> O1 | X17: ='Map and Ab list'!Q377 -> O2 | Y17: =(W17+X17)/2 -> #VALUE! | AA17: ='Map and Ab list'!Q449 -> O1 | AB17: ='Map and Ab list'!Q451 -> O2 | AC17: =(AA17+AB17)/2 -> #VALUE! | AE17: ='Map and Ab list'!Q523 -> O1 | AF17: ='Map and Ab list'!Q525 -> O2 | AG17: =(AE17+AF17)/2 -> #VALUE! | AI17: ='Map and Ab list'!Q597 -> O1 | AJ17: ='Map and Ab list'!Q599 -> O2 | AK17: =(AI17+AJ17)/2 -> #VALUE! | AM17: ='Map and Ab list'!Q671 -> O1 | AN17: ='Map and Ab list'!Q673 -> O2 | AO17: =(AM17+AN17)/2 -> #VALUE! | AQ17: ='Map and Ab list'!Q745 -> O1 | AR17: ='Map and Ab list'!Q747 -> O2 | AS17: =(AQ17+AR17)/2 -> #VALUE! | AU17: ='Map and Ab list'!Q819 -> O1 | AV17: ='Map and Ab list'!Q821 -> O2 | AW17: =(AU17+AV17)/2 -> #VALUE!
A18: 14 | B18: AP180 | C18: ='Map and Ab list'!R5 -> P1 | D18: ='Map and Ab list'!R7 -> P2 | E18: =(C18+D18)/2 -> #VALUE! | G18: ='Map and Ab list'!R79 -> P1 | H18: ='Map and Ab list'!R81 -> P2 | I18: =(G18+H18)/2 -> #VALUE! | K18: ='Map and Ab list'!R153 -> P1 | L18: ='Map and Ab list'!R155 -> P2 | M18: =(K18+L18)/2 -> #VALUE! | O18: ='Map and Ab list'!R227 -> P1 | P18: ='Map and Ab list'!R229 -> P2 | Q18: =(O18+P18)/2 -> #VALUE! | S18: ='Map and Ab list'!R301 -> P1 | T18: ='Map and Ab list'!R303 -> P2 | U18: =(S18+T18)/2 -> #VALUE! | W18: ='Map and Ab list'!R375 -> P1 | X18: ='Map and Ab list'!R377 -> P2 | Y18: =(W18+X18)/2 -> #VALUE! | AA18: ='Map and Ab list'!R449 -> P1 | AB18: ='Map and Ab list'!R451 -> P2 | AC18: =(AA18+AB18)/2 -> #VALUE! | AE18: ='Map and Ab list'!R523 -> P1 | AF18: ='Map and Ab list'!R525 -> P2 | AG18: =(AE18+AF18)/2 -> #VALUE! | AI18: ='Map and Ab list'!R597 -> P1 | AJ18: ='Map and Ab list'!R599 -> P2 | AK18: =(AI18+AJ18)/2 -> #VALUE! | AM18: ='Map and Ab list'!R671 -> P1 | AN18: ='Map and Ab list'!R673 -> P2 | AO18: =(AM18+AN18)/2 -> #VALUE! | AQ18: ='Map and Ab list'!R745 -> P1 | AR18: ='Map and Ab list'!R747 -> P2 | AS18: =(AQ18+AR18)/2 -> #VALUE! | AU18: ='Map and Ab list'!R819 -> P1 | AV18: ='Map and Ab list'!R821 -> P2 | AW18: =(AU18+AV18)/2 -> #VALUE!
A19: 15 | B19: AP3S2 | C19: ='Map and Ab list'!S5 -> S1 | D19: ='Map and Ab list'!S7 -> S2 | E19: =(C19+D19)/2 -> #VALUE! | G19: ='Map and Ab list'!S79 -> S1 | H19: ='Map and Ab list'!S81 -> S2 | I19: =(G19+H19)/2 -> #VALUE! | K19: ='Map and Ab list'!S153 -> S1 | L19: ='Map and Ab list'!S155 -> S2 | M19: =(K19+L19)/2 -> #VALUE! | O19: ='Map and Ab list'!S227 -> S1 | P19: ='Map and Ab list'!S229 -> S2 | Q19: =(O19+P19)/2 -> #VALUE! | S19: ='Map and Ab list'!S301 -> S1 | T19: ='Map and Ab list'!S303 -> S2 | U19: =(S19+T19)/2 -> #VALUE! | W19: ='Map and Ab list'!S375 -> S1 | X19: ='Map and Ab list'!S377 -> S2 | Y19: =(W19+X19)/2 -> #VALUE! | AA19: ='Map and Ab list'!S449 -> S1 | AB19: ='Map and Ab list'!S451 -> S2 | AC19: =(AA19+AB19)/2 -> #VALUE! | AE19: ='Map and Ab list'!S523 -> S1 | AF19: ='Map and Ab list'!S525 -> S2 | AG19: =(AE19+AF19)/2 -> #VALUE! | AI19: ='Map and Ab list'!S597 -> S1 | AJ19: ='Map and Ab list'!S599 -> S2 | AK19: =(AI19+AJ19)/2 -> #VALUE! | AM19: ='Map and Ab list'!S671 -> S1 | AN19: ='Map and Ab list'!S673 -> S2 | AO19: =(AM19+AN19)/2 -> #VALUE! | AQ19: ='Map and Ab list'!S745 -> S1 | AR19: ='Map and Ab list'!S747 -> S2 | AS19: =(AQ19+AR19)/2 -> #VALUE! | AU19: ='Map and Ab list'!S819 -> S1 | AV19: ='Map and Ab list'!S821 -> S2 | AW19: =(AU19+AV19)/2 -> #VALUE!
A20: 16 | B20: APLP2 | C20: ='Map and Ab list'!T5 -> R1 | D20: ='Map and Ab list'!T7 -> R2 | E20: =(C20+D20)/2 -> #VALUE! | G20: ='Map and Ab list'!T79 -> R1 | H20: ='Map and Ab list'!T81 -> R2 | I20: =(G20+H20)/2 -> #VALUE! | K20: ='Map and Ab list'!T153 -> R1 | L20: ='Map and Ab list'!T155 -> R2 | M20: =(K20+L20)/2 -> #VALUE! | O20: ='Map and Ab list'!T227 -> R1 | P20: ='Map and Ab list'!T229 -> R2 | Q20: =(O20+P20)/2 -> #VALUE! | S20: ='Map and Ab list'!T301 -> R1 | T20: ='Map and Ab list'!T303 -> R2 | U20: =(S20+T20)/2 -> #VALUE! | W20: ='Map and Ab list'!T375 -> R1 | X20: ='Map and Ab list'!T377 -> R2 | Y20: =(W20+X20)/2 -> #VALUE! | AA20: ='Map and Ab list'!T449 -> R1 | AB20: ='Map and Ab list'!T451 -> R2 | AC20: =(AA20+AB20)/2 -> #VALUE! | AE20: ='Map and Ab list'!T523 -> R1 | AF20: ='Map and Ab list'!T525 -> R2 | AG20: =(AE20+AF20)/2 -> #VALUE! | AI20: ='Map and Ab list'!T597 -> R1 | AJ20: ='Map and Ab list'!T599 -> R2 | AK20: =(AI20+AJ20)/2 -> #VALUE! | AM20: ='Map and Ab list'!T671 -> R1 | AN20: ='Map and Ab list'!T673 -> R2 | AO20: =(AM20+AN20)/2 -> #VALUE! | AQ20: ='Map and Ab list'!T745 -> R1 | AR20: ='Map and Ab list'!T747 -> R2 | AS20: =(AQ20+AR20)/2 -> #VALUE! | AU20: ='Map and Ab list'!T819 -> R1 | AV20: ='Map and Ab list'!T821 -> R2 | AW20: =(AU20+AV20)/2 -> #VALUE!
A21: 17 | B21: ApoA V | C21: ='Map and Ab list'!U5 -> S1 | D21: ='Map and Ab list'!U7 -> S2 | E21: =(C21+D21)/2 -> #VALUE! | G21: ='Map and Ab list'!U79 -> S1 | H21: ='Map and Ab list'!U81 -> S2 | I21: =(G21+H21)/2 -> #VALUE! | K21: ='Map and Ab list'!U153 -> S1 | L21: ='Map and Ab list'!U155 -> S2 | M21: =(K21+L21)/2 -> #VALUE! | O21: ='Map and Ab list'!U227 -> S1 | P21: ='Map and Ab list'!U229 -> S2 | Q21: =(O21+P21)/2 -> #VALUE! | S21: ='Map and Ab list'!U301 -> S1 | T21: ='Map and Ab list'!U303 -> S2 | U21: =(S21+T21)/2 -> #VALUE! | W21: ='Map and Ab list'!U375 -> S1 | X21: ='Map and Ab list'!U377 -> S2 | Y21: =(W21+X21)/2 -> #VALUE! | AA21: ='Map and Ab list'!U449 -> S1 | AB21: ='Map and Ab list'!U451 -> S2 | AC21: =(AA21+AB21)/2 -> #VALUE! | AE21: ='Map and Ab list'!U523 -> S1 | AF21: ='Map and Ab list'!U525 -> S2 | AG21: =(AE21+AF21)/2 -> #VALUE! | AI21: ='Map and Ab list'!U597 -> S1 | AJ21: ='Map and Ab list'!U599 -> S2 | AK21: =(AI21+AJ21)/2 -> #VALUE! | AM21: ='Map and Ab list'!U671 -> S1 | AN21: ='Map and Ab list'!U673 -> S2 | AO21: =(AM21+AN21)/2 -> #VALUE! | AQ21: ='Map and Ab list'!U745 -> S1 | AR21: ='Map and Ab list'!U747 -> S2 | AS21: =(AQ21+AR21)/2 -> #VALUE! | AU21: ='Map and Ab list'!U819 -> S1 | AV21: ='Map and Ab list'!U821 -> S2 | AW21: =(AU21+AV21)/2 -> #VALUE!
A22: 18 | B22: ASPM | C22: ='Map and Ab list'!V5 -> T1 | D22: ='Map and Ab list'!V7 -> T2 | E22: =(C22+D22)/2 -> #VALUE! | G22: ='Map and Ab list'!V79 -> T1 | H22: ='Map and Ab list'!V81 -> T2 | I22: =(G22+H22)/2 -> #VALUE! | K22: ='Map and Ab list'!V153 -> T1 | L22: ='Map and Ab list'!V155 -> T2 | M22: =(K22+L22)/2 -> #VALUE! | O22: ='Map and Ab list'!V227 -> T1 | P22: ='Map and Ab list'!V229 -> T2 | Q22: =(O22+P22)/2 -> #VALUE! | S22: ='Map and Ab list'!V301 -> T1 | T22: ='Map and Ab list'!V303 -> T2 | U22: =(S22+T22)/2 -> #VALUE! | W22: ='Map and Ab list'!V375 -> T1 | X22: ='Map and Ab list'!V377 -> T2 | Y22: =(W22+X22)/2 -> #VALUE! | AA22: ='Map and Ab list'!V449 -> T1 | AB22: ='Map and Ab list'!V451 -> T2 | AC22: =(AA22+AB22)/2 -> #VALUE! | AE22: ='Map and Ab list'!V523 -> T1 | AF22: ='Map and Ab list'!V525 -> T2 | AG22: =(AE22+AF22)/2 -> #VALUE! | AI22: ='Map and Ab list'!V597 -> T1 | AJ22: ='Map and Ab list'!V599 -> T2 | AK22: =(AI22+AJ22)/2 -> #VALUE! | AM22: ='Map and Ab list'!V671 -> T1 | AN22: ='Map and Ab list'!V673 -> T2 | AO22: =(AM22+AN22)/2 -> #VALUE! | AQ22: ='Map and Ab list'!V745 -> T1 | AR22: ='Map and Ab list'!V747 -> T2 | AS22: =(AQ22+AR22)/2 -> #VALUE! | AU22: ='Map and Ab list'!V819 -> T1 | AV22: ='Map and Ab list'!V821 -> T2 | AW22: =(AU22+AV22)/2 -> #VALUE!
A23: 19 | B23: ASS1 | C23: ='Map and Ab list'!W5 -> U1 | D23: ='Map and Ab list'!W7 -> U2 | E23: =(C23+D23)/2 -> #VALUE! | G23: ='Map and Ab list'!W79 -> U1 | H23: ='Map and Ab list'!W81 -> U2 | I23: =(G23+H23)/2 -> #VALUE! | K23: ='Map and Ab list'!W153 -> U1 | L23: ='Map and Ab list'!W155 -> U2 | M23: =(K23+L23)/2 -> #VALUE! | O23: ='Map and Ab list'!W227 -> U1 | P23: ='Map and Ab list'!W229 -> U2 | Q23: =(O23+P23)/2 -> #VALUE! | S23: ='Map and Ab list'!W301 -> U1 | T23: ='Map and Ab list'!W303 -> U2 | U23: =(S23+T23)/2 -> #VALUE! | W23: ='Map and Ab list'!W375 -> U1 | X23: ='Map and Ab list'!W377 -> U2 | Y23: =(W23+X23)/2 -> #VALUE! | AA23: ='Map and Ab list'!W449 -> U1 | AB23: ='Map and Ab list'!W451 -> U2 | AC23: =(AA23+AB23)/2 -> #VALUE! | AE23: ='Map and Ab list'!W523 -> U1 | AF23: ='Map and Ab list'!W525 -> U2 | AG23: =(AE23+AF23)/2 -> #VALUE! | AI23: ='Map and Ab list'!W597 -> U1 | AJ23: ='Map and Ab list'!W599 -> U2 | AK23: =(AI23+AJ23)/2 -> #VALUE! | AM23: ='Map and Ab list'!W671 -> U1 | AN23: ='Map and Ab list'!W673 -> U2 | AO23: =(AM23+AN23)/2 -> #VALUE! | AQ23: ='Map and Ab list'!W745 -> U1 | AR23: ='Map and Ab list'!W747 -> U2 | AS23: =(AQ23+AR23)/2 -> #VALUE! | AU23: ='Map and Ab list'!W819 -> U1 | AV23: ='Map and Ab list'!W821 -> U2 | AW23: =(AU23+AV23)/2 -> #VALUE!
A24: 20 | B24: ATOX1 | C24: ='Map and Ab list'!X5 -> V1 | D24: ='Map and Ab list'!X7 -> V2 | E24: =(C24+D24)/2 -> #VALUE! | G24: ='Map and Ab list'!X79 -> V1 | H24: ='Map and Ab list'!X81 -> V2 | I24: =(G24+H24)/2 -> #VALUE! | K24: ='Map and Ab list'!X153 -> V1 | L24: ='Map and Ab list'!X155 -> V2 | M24: =(K24+L24)/2 -> #VALUE! | O24: ='Map and Ab list'!X227 -> V1 | P24: ='Map and Ab list'!X229 -> V2 | Q24: =(O24+P24)/2 -> #VALUE! | S24: ='Map and Ab list'!X301 -> V1 | T24: ='Map and Ab list'!X303 -> V2 | U24: =(S24+T24)/2 -> #VALUE! | W24: ='Map and Ab list'!X375 -> V1 | X24: ='Map and Ab list'!X377 -> V2 | Y24: =(W24+X24)/2 -> #VALUE! | AA24: ='Map and Ab list'!X449 -> V1 | AB24: ='Map and Ab list'!X451 -> V2 | AC24: =(AA24+AB24)/2 -> #VALUE! | AE24: ='Map and Ab list'!X523 -> V1 | AF24: ='Map and Ab list'!X525 -> V2 | AG24: =(AE24+AF24)/2 -> #VALUE! | AI24: ='Map and Ab list'!X597 -> V1 | AJ24: ='Map and Ab list'!X599 -> V2 | AK24: =(AI24+AJ24)/2 -> #VALUE! | AM24: ='Map and Ab list'!X671 -> V1 | AN24: ='Map and Ab list'!X673 -> V2 | AO24: =(AM24+AN24)/2 -> #VALUE! | AQ24: ='Map and Ab list'!X745 -> V1 | AR24: ='Map and Ab list'!X747 -> V2 | AS24: =(AQ24+AR24)/2 -> #VALUE! | AU24: ='Map and Ab list'!X819 -> V1 | AV24: ='Map and Ab list'!X821 -> V2 | AW24: =(AU24+AV24)/2 -> #VALUE!
A25: 21 | B25: ATPG | C25: ='Map and Ab list'!Y5 -> W1 | D25: ='Map and Ab list'!Y7 -> W2 | E25: =(C25+D25)/2 -> #VALUE! | G25: ='Map and Ab list'!Y79 -> W1 | H25: ='Map and Ab list'!Y81 -> W2 | I25: =(G25+H25)/2 -> #VALUE! | K25: ='Map and Ab list'!Y153 -> W1 | L25: ='Map and Ab list'!Y155 -> W2 | M25: =(K25+L25)/2 -> #VALUE! | O25: ='Map and Ab list'!Y227 -> W1 | P25: ='Map and Ab list'!Y229 -> W2 | Q25: =(O25+P25)/2 -> #VALUE! | S25: ='Map and Ab list'!Y301 -> W1 | T25: ='Map and Ab list'!Y303 -> W2 | U25: =(S25+T25)/2 -> #VALUE! | W25: ='Map and Ab list'!Y375 -> W1 | X25: ='Map and Ab list'!Y377 -> W2 | Y25: =(W25+X25)/2 -> #VALUE! | AA25: ='Map and Ab list'!Y449 -> W1 | AB25: ='Map and Ab list'!Y451 -> W2 | AC25: =(AA25+AB25)/2 -> #VALUE! | AE25: ='Map and Ab list'!Y523 -> W1 | AF25: ='Map and Ab list'!Y525 -> W2 | AG25: =(AE25+AF25)/2 -> #VALUE! | AI25: ='Map and Ab list'!Y597 -> W1 | AJ25: ='Map and Ab list'!Y599 -> W2 | AK25: =(AI25+AJ25)/2 -> #VALUE! | AM25: ='Map and Ab list'!Y671 -> W1 | AN25: ='Map and Ab list'!Y673 -> W2 | AO25: =(AM25+AN25)/2 -> #VALUE! | AQ25: ='Map and Ab list'!Y745 -> W1 | AR25: ='Map and Ab list'!Y747 -> W2 | AS25: =(AQ25+AR25)/2 -> #VALUE! | AU25: ='Map and Ab list'!Y819 -> W1 | AV25: ='Map and Ab list'!Y821 -> W2 | AW25: =(AU25+AV25)/2 -> #VALUE!
A26: 22 | B26: AUTS2 | C26: ='Map and Ab list'!Z5 -> X1 | D26: ='Map and Ab list'!Z7 -> X2 | E26: =(C26+D26)/2 -> #VALUE! | G26: ='Map and Ab list'!Z79 -> X1 | H26: ='Map and Ab list'!Z81 -> X2 | I26: =(G26+H26)/2 -> #VALUE! | K26: ='Map and Ab list'!Z153 -> X1 | L26: ='Map and Ab list'!Z155 -> X2 | M26: =(K26+L26)/2 -> #VALUE! | O26: ='Map and Ab list'!Z227 -> X1 | P26: ='Map and Ab list'!Z229 -> X2 | Q26: =(O26+P26)/2 -> #VALUE! | S26: ='Map and Ab list'!Z301 -> X1 | T26: ='Map and Ab list'!Z303 -> X2 | U26: =(S26+T26)/2 -> #VALUE! | W26: ='Map and Ab list'!Z375 -> X1 | X26: ='Map and Ab list'!Z377 -> X2 | Y26: =(W26+X26)/2 -> #VALUE! | AA26: ='Map and Ab list'!Z449 -> X1 | AB26: ='Map and Ab list'!Z451 -> X2 | AC26: =(AA26+AB26)/2 -> #VALUE! | AE26: ='Map and Ab list'!Z523 -> X1 | AF26: ='Map and Ab list'!Z525 -> X2 | AG26: =(AE26+AF26)/2 -> #VALUE! | AI26: ='Map and Ab list'!Z597 -> X1 | AJ26: ='Map and Ab list'!Z599 -> X2 | AK26: =(AI26+AJ26)/2 -> #VALUE! | AM26: ='Map and Ab list'!Z671 -> X1 | AN26: ='Map and Ab list'!Z673 -> X2 | AO26: =(AM26+AN26)/2 -> #VALUE! | AQ26: ='Map and Ab list'!Z745 -> X1 | AR26: ='Map and Ab list'!Z747 -> X2 | AS26: =(AQ26+AR26)/2 -> #VALUE! | AU26: ='Map and Ab list'!Z819 -> X1 | AV26: ='Map and Ab list'!Z821 -> X2 | AW26: =(AU26+AV26)/2 -> #VALUE!
A27: 23 | B27: BAI2 | C27: ='Map and Ab list'!AA5 -> Y1 | D27: ='Map and Ab list'!AA7 -> Y2 | E27: =(C27+D27)/2 -> #VALUE! | G27: ='Map and Ab list'!AA79 -> Y1 | H27: ='Map and Ab list'!AA81 -> Y2 | I27: =(G27+H27)/2 -> #VALUE! | K27: ='Map and Ab list'!AA153 -> Y1 | L27: ='Map and Ab list'!AA155 -> Y2 | M27: =(K27+L27)/2 -> #VALUE! | O27: ='Map and Ab list'!AA227 -> Y1 | P27: ='Map and Ab list'!AA229 -> Y2 | Q27: =(O27+P27)/2 -> #VALUE! | S27: ='Map and Ab list'!AA301 -> Y1 | T27: ='Map and Ab list'!AA303 -> Y2 | U27: =(S27+T27)/2 -> #VALUE! | W27: ='Map and Ab list'!AA375 -> Y1 | X27: ='Map and Ab list'!AA377 -> Y2 | Y27: =(W27+X27)/2 -> #VALUE! | AA27: ='Map and Ab list'!AA449 -> Y1 | AB27: ='Map and Ab list'!AA451 -> Y2 | AC27: =(AA27+AB27)/2 -> #VALUE! | AE27: ='Map and Ab list'!AA523 -> Y1 | AF27: ='Map and Ab list'!AA525 -> Y2 | AG27: =(AE27+AF27)/2 -> #VALUE! | AI27: ='Map and Ab list'!AA597 -> Y1 | AJ27: ='Map and Ab list'!AA599 -> Y2 | AK27: =(AI27+AJ27)/2 -> #VALUE! | AM27: ='Map and Ab list'!AA671 -> Y1 | AN27: ='Map and Ab list'!AA673 -> Y2 | AO27: =(AM27+AN27)/2 -> #VALUE! | AQ27: ='Map and Ab list'!AA745 -> Y1 | AR27: ='Map and Ab list'!AA747 -> Y2 | AS27: =(AQ27+AR27)/2 -> #VALUE! | AU27: ='Map and Ab list'!AA819 -> Y1 | AV27: ='Map and Ab list'!AA821 -> Y2 | AW27: =(AU27+AV27)/2 -> #VALUE!
A28: 24 | B28: BarX1 | C28: ='Map and Ab list'!AB5 -> Z1 | D28: ='Map and Ab list'!AB7 -> Z2 | E28: =(C28+D28)/2 -> #VALUE! | G28: ='Map and Ab list'!AB79 -> Z1 | H28: ='Map and Ab list'!AB81 -> Z2 | I28: =(G28+H28)/2 -> #VALUE! | K28: ='Map and Ab list'!AB153 -> Z1 | L28: ='Map and Ab list'!AB155 -> Z2 | M28: =(K28+L28)/2 -> #VALUE! | O28: ='Map and Ab list'!AB227 -> Z1 | P28: ='Map and Ab list'!AB229 -> Z2 | Q28: =(O28+P28)/2 -> #VALUE! | S28: ='Map and Ab list'!AB301 -> Z1 | T28: ='Map and Ab list'!AB303 -> Z2 | U28: =(S28+T28)/2 -> #VALUE! | W28: ='Map and Ab list'!AB375 -> Z1 | X28: ='Map and Ab list'!AB377 -> Z2 | Y28: =(W28+X28)/2 -> #VALUE! | AA28: ='Map and Ab list'!AB449 -> Z1 | AB28: ='Map and Ab list'!AB451 -> Z2 | AC28: =(AA28+AB28)/2 -> #VALUE! | AE28: ='Map and Ab list'!AB523 -> Z1 | AF28: ='Map and Ab list'!AB525 -> Z2 | AG28: =(AE28+AF28)/2 -> #VALUE! | AI28: ='Map and Ab list'!AB597 -> Z1 | AJ28: ='Map and Ab list'!AB599 -> Z2 | AK28: =(AI28+AJ28)/2 -> #VALUE! | AM28: ='Map and Ab list'!AB671 -> Z1 | AN28: ='Map and Ab list'!AB673 -> Z2 | AO28: =(AM28+AN28)/2 -> #VALUE! | AQ28: ='Map and Ab list'!AB745 -> Z1 | AR28: ='Map and Ab list'!AB747 -> Z2 | AS28: =(AQ28+AR28)/2 -> #VALUE! | AU28: ='Map and Ab list'!AB819 -> Z1 | AV28: ='Map and Ab list'!AB821 -> Z2 | AW28: =(AU28+AV28)/2 -> #VALUE!
