Workbook
Name ______A1: '[1]Map and Ab list'!#REF!
Name _____A1: '[1]Map and Ab list'!#REF!
Name ____A1: '[2]Aligning Data'!#REF!
Name ___A1: #REF!
Name __A1: '[2]Aligning Data'!#REF!
Name _A1: 'Map and Ab list'!#REF!

Sheet Cover page
B7: Customer Contact Name:
B8: Customer Institution:
B9: Contact Phone Number:
B10: Customer Email Address:
B11: Purchase Order Number
B12: Sales Order Number
B13: Protocol Number
B14: Study Director assigned:
B16: Service Provided
B18: Type of Service Provided: | C18: Full testing
B19: Sample Type and Preparation: | C19: Human serum
B20: Test procedure:
B21: Stability of sample and Standards or Positive Controls | C21: Stable to conditions of test
B22: Protocol sign off Date:
B23: Final Report completed date:
B24: Storage of Records and samples | C24: According to in house procedures
B28: Sign off:
B31: Study Director: | C31: Date:
B32: Laboratory Manager: | C32: Date:

Sheet Guide
B8: Analysis Tool Software for RayBio® Mouse Biotin-Label Based Antibody Arrays -- Mouse L-2, Membrane

Sheet Biostat Service
A1: Need help making sense of your data?
A3: RayBiotech offers affordable Biostatistics & Bioinformatics services.
B5: DATA CLEAN-UP | F5: DIFFERENTIAL EXPRESSION ANALYSIS | K5: CLUSTER ANALYSIS | P5: PATHWAY ANALYSIS | U5: BIOMARKER SELECTION
B6: Data outliers are identified & removed from further analyses. | F6: Identifies differentially-expressed proteins across groups using volcano plots & jitter plots. | K6: Clusters samples based on similar expression profiles. Includes heatmaps and more! | P6: Identifies the specific protein functions, biological pathways, and physical interactions enriched in a particular group. | U6: Uses various models to identify statistically-significant biomarkers between groups. Provides p-values.
B27: Contact us at info@raybiotech.com for more information.

Sheet Importing Data

Sheet Aligning Data
B2: RayBio® Mouse Biotin Label Based Antibody Arrays -- L-2 Array, Membrane
C4: Sample 1
B5: 1 | C5: A1 | D5: B1 | E5: C1 | F5: D1 | G5: E1 | H5: F1 | I5: G1 | J5: H1 | K5: I1 | L5: J1 | M5: K1 | N5: L1 | O5: M1 | P5: N1 | Q5: O1 | R5: P1 | S5: S1 | T5: R1 | U5: S1 | V5: T1 | W5: U1 | X5: V1 | Y5: W1 | Z5: X1 | AA5: Y1 | AB5: Z1 | AC5: AA1 | AD5: AB1 | AE5: AC1 | AF5: AD1 | AH5: Background
B6: 2 | C6: A2 | D6: B2 | E6: C2 | F6: D2 | G6: E2 | H6: F2 | I6: G2 | J6: H2 | K6: I2 | L6: J2 | M6: K2 | N6: L2 | O6: M2 | P6: N2 | Q6: O2 | R6: P2 | S6: S2 | T6: R2 | U6: S2 | V6: T2 | W6: U2 | X6: V2 | Y6: W2 | Z6: X2 | AA6: Y2 | AB6: Z2 | AC6: AA2 | AD6: AB2 | AE6: AC2 | AF6: AD2 | AH6: 0
B7: 3 | C7: A3 | D7: B3 | E7: C3 | F7: D3 | G7: E3 | H7: F3 | I7: G3 | J7: H3 | K7: I3 | L7: J3 | M7: K3 | N7: L3 | O7: M3 | P7: N3 | Q7: O3 | R7: P3 | S7: S3 | T7: R3 | U7: S3 | V7: T3 | W7: U3 | X7: V3 | Y7: W3 | Z7: X3 | AA7: Y3 | AB7: Z3 | AC7: AA3 | AD7: AB3 | AE7: AC3 | AF7: AD3 | AH7: 0
B8: 4 | C8: A4 | D8: B4 | E8: C4 | F8: D4 | G8: E4 | H8: F4 | I8: G4 | J8: H4 | K8: I4 | L8: J4 | M8: K4 | N8: L4 | O8: M4 | P8: N4 | Q8: O4 | R8: P4 | S8: S4 | T8: R4 | U8: S4 | V8: T4 | W8: U4 | X8: V4 | Y8: W4 | Z8: X4 | AA8: Y4 | AB8: Z4 | AC8: AA4 | AD8: AB4 | AE8: AC4 | AF8: AD4 | AH8: 0
B9: 5 | C9: A5 | D9: B5 | E9: C5 | F9: D5 | G9: E5 | H9: F5 | I9: G5 | J9: H5 | K9: I5 | L9: J5 | M9: K5 | N9: L5 | O9: M5 | P9: N5 | Q9: O5 | R9: P5 | S9: S5 | T9: R5 | U9: S5 | V9: T5 | W9: U5 | X9: V5 | Y9: W5 | Z9: X5 | AA9: Y5 | AB9: Z5 | AC9: AA5 | AD9: AB5 | AE9: AC5 | AF9: AD5 | AH9: 0
B10: 6 | C10: A6 | D10: B6 | E10: C6 | F10: D6 | G10: E6 | H10: F6 | I10: G6 | J10: H6 | K10: I6 | L10: J6 | M10: K6 | N10: L6 | O10: M6 | P10: N6 | Q10: O6 | R10: P6 | S10: S6 | T10: R6 | U10: S6 | V10: T6 | W10: U6 | X10: V6 | Y10: W6 | Z10: X6 | AA10: Y6 | AB10: Z6 | AC10: AA6 | AD10: AB6 | AE10: AC6 | AF10: AD6
B11: 7 | C11: A7 | D11: B7 | E11: C7 | F11: D7 | G11: E7 | H11: F7 | I11: G7 | J11: H7 | K11: I7 | L11: J7 | M11: K7 | N11: L7 | O11: M7 | P11: N7 | Q11: O7 | R11: P7 | S11: S7 | T11: R7 | U11: S7 | V11: T7 | W11: U7 | X11: V7 | Y11: W7 | Z11: X7 | AA11: Y7 | AB11: Z7 | AC11: AA7 | AD11: AB7 | AE11: AC7 | AF11: AD7
B12: 8 | C12: A8 | D12: B8 | E12: C8 | F12: D8 | G12: E8 | H12: F8 | I12: G8 | J12: H8 | K12: I8 | L12: J8 | M12: K8 | N12: L8 | O12: M8 | P12: N8 | Q12: O8 | R12: P8 | S12: S8 | T12: R8 | U12: S8 | V12: T8 | W12: U8 | X12: V8 | Y12: W8 | Z12: X8 | AA12: Y8 | AB12: Z8 | AC12: AA8 | AD12: AB8 | AE12: AC8 | AF12: AD8
B13: 9 | C13: A9 | D13: B9 | E13: C9 | F13: D9 | G13: E9 | H13: F9 | I13: G9 | J13: H9 | K13: I9 | L13: J9 | M13: K9 | N13: L9 | O13: M9 | P13: N9 | Q13: O9 | R13: P9 | S13: S9 | T13: R9 | U13: S9 | V13: T9 | W13: U9 | X13: V9 | Y13: W9 | Z13: X9 | AA13: Y9 | AB13: Z9 | AC13: AA9 | AD13: AB9 | AE13: AC9 | AF13: AD9
B14: 10 | C14: A10 | D14: B10 | E14: C10 | F14: D10 | G14: E10 | H14: F10 | I14: G10 | J14: H10 | K14: I10 | L14: J10 | M14: K10 | N14: L10 | O14: M10 | P14: N10 | Q14: O10 | R14: P10 | S14: S10 | T14: R10 | U14: S10 | V14: T10 | W14: U10 | X14: V10 | Y14: W10 | Z14: X10 | AA14: Y10 | AB14: Z10 | AC14: AA10 | AD14: AB10 | AE14: AC10 | AF14: AD10
B15: 11 | C15: A11 | D15: B11 | E15: C11 | F15: D11 | G15: E11 | H15: F11 | I15: G11 | J15: H11 | K15: I11 | L15: J11 | M15: K11 | N15: L11 | O15: M11 | P15: N11 | Q15: O11 | R15: P11 | S15: S11 | T15: R11 | U15: S11 | V15: T11 | W15: U11 | X15: V11 | Y15: W11 | Z15: X11 | AA15: Y11 | AB15: Z11 | AC15: AA11 | AD15: AB11 | AE15: AC11 | AF15: AD11
B16: 12 | C16: A12 | D16: B12 | E16: C12 | F16: D12 | G16: E12 | H16: F12 | I16: G12 | J16: H12 | K16: I12 | L16: J12 | M16: K12 | N16: L12 | O16: M12 | P16: N12 | Q16: O12 | R16: P12 | S16: S12 | T16: R12 | U16: S12 | V16: T12 | W16: U12 | X16: V12 | Y16: W12 | Z16: X12 | AA16: Y12 | AB16: Z12 | AC16: AA12 | AD16: AB12 | AE16: AC12 | AF16: AD12
B17: 13 | C17: A13 | D17: B13 | E17: C13 | F17: D13 | G17: E13 | H17: F13 | I17: G13 | J17: H13 | K17: I13 | L17: J13 | M17: K13 | N17: L13 | O17: M13 | P17: N13 | Q17: O13 | R17: P13 | S17: S13 | T17: R13 | U17: S13 | V17: T13 | W17: U13 | X17: V13 | Y17: W13 | Z17: X13 | AA17: Y13 | AB17: Z13 | AC17: AA13 | AD17: AB13 | AE17: AC13 | AF17: AD13
B18: 14 | C18: A14 | D18: B14 | E18: C14 | F18: D14 | G18: E14 | H18: F14 | I18: G14 | J18: H14 | K18: I14 | L18: J14 | M18: K14 | N18: L14 | O18: M14 | P18: N14 | Q18: O14 | R18: P14 | S18: S14 | T18: R14 | U18: S14 | V18: T14 | W18: U14 | X18: V14 | Y18: W14 | Z18: X14 | AA18: Y14 | AB18: Z14 | AC18: AA14 | AD18: AB14 | AE18: AC14 | AF18: AD14
B19: 15 | C19: A15 | D19: B15 | E19: C15 | F19: D15 | G19: E15 | H19: F15 | I19: G15 | J19: H15 | K19: I15 | L19: J15 | M19: K15 | N19: L15 | O19: M15 | P19: N15 | Q19: O15 | R19: P15 | S19: S15 | T19: R15 | U19: S15 | V19: T15 | W19: U15 | X19: V15 | Y19: W15 | Z19: X15 | AA19: Y15 | AB19: Z15 | AC19: AA15 | AD19: AB15 | AE19: AC15 | AF19: AD15
B20: 16 | C20: A16 | D20: B16 | E20: C16 | F20: D16 | G20: E16 | H20: F16 | I20: G16 | J20: H16 | K20: I16 | L20: J16 | M20: K16 | N20: L16 | O20: M16 | P20: N16 | Q20: O16 | R20: P16 | S20: S16 | T20: R16 | U20: S16 | V20: T16 | W20: U16 | X20: V16 | Y20: W16 | Z20: X16 | AA20: Y16 | AB20: Z16 | AC20: AA16 | AD20: AB16 | AE20: AC16 | AF20: AD16
B21: 17 | C21: A17 | D21: B17 | E21: C17 | F21: D17 | G21: E17 | H21: F17 | I21: G17 | J21: H17 | K21: I17 | L21: J17 | M21: K17 | N21: L17 | O21: M17 | P21: N17 | Q21: O17 | R21: P17 | S21: S17 | T21: R17 | U21: S17 | V21: T17 | W21: U17 | X21: V17 | Y21: W17 | Z21: X17 | AA21: Y17 | AB21: Z17 | AC21: AA17 | AD21: AB17 | AE21: AC17 | AF21: AD17
... B40: 36 | C40: A36 | D40: B36 | E40: C36 | F40: D36 | G40: E36 | H40: F36 | I40: G36 | J40: H36 | K40: I36 | L40: J36 | M40: K36 | N40: L36 | O40: M36 | P40: N36 | Q40: O36 | R40: P36 | S40: S36 | T40: R36 | U40: S36 | V40: T36 | W40: U36 | X40: V36 | Y40: W36 | Z40: X36 | AA40: Y36 | AB40: Z36 | AC40: AA36 | AD40: AB36 | AE40: AC36 | AF40: AD36
C42: Sample 2
B43: 1 | C43: A1 | D43: B1 | E43: C1 | F43: D1 | G43: E1 | H43: F1 | I43: G1 | J43: H1 | K43: I1 | L43: J1 | M43: K1 | N43: L1 | O43: M1 | P43: N1 | Q43: O1 | R43: P1 | S43: S1 | T43: R1 | U43: S1 | V43: T1 | W43: U1 | X43: V1 | Y43: W1 | Z43: X1 | AA43: Y1 | AB43: Z1 | AC43: AA1 | AD43: AB1 | AE43: AC1 | AF43: AD1 | AH43: Background
B44: 2 | C44: A2 | D44: B2 | E44: C2 | F44: D2 | G44: E2 | H44: F2 | I44: G2 | J44: H2 | K44: I2 | L44: J2 | M44: K2 | N44: L2 | O44: M2 | P44: N2 | Q44: O2 | R44: P2 | S44: S2 | T44: R2 | U44: S2 | V44: T2 | W44: U2 | X44: V2 | Y44: W2 | Z44: X2 | AA44: Y2 | AB44: Z2 | AC44: AA2 | AD44: AB2 | AE44: AC2 | AF44: AD2 | AH44: 0
B45: 3 | C45: A3 | D45: B3 | E45: C3 | F45: D3 | G45: E3 | H45: F3 | I45: G3 | J45: H3 | K45: I3 | L45: J3 | M45: K3 | N45: L3 | O45: M3 | P45: N3 | Q45: O3 | R45: P3 | S45: S3 | T45: R3 | U45: S3 | V45: T3 | W45: U3 | X45: V3 | Y45: W3 | Z45: X3 | AA45: Y3 | AB45: Z3 | AC45: AA3 | AD45: AB3 | AE45: AC3 | AF45: AD3 | AH45: 0
B46: 4 | C46: A4 | D46: B4 | E46: C4 | F46: D4 | G46: E4 | H46: F4 | I46: G4 | J46: H4 | K46: I4 | L46: J4 | M46: K4 | N46: L4 | O46: M4 | P46: N4 | Q46: O4 | R46: P4 | S46: S4 | T46: R4 | U46: S4 | V46: T4 | W46: U4 | X46: V4 | Y46: W4 | Z46: X4 | AA46: Y4 | AB46: Z4 | AC46: AA4 | AD46: AB4 | AE46: AC4 | AF46: AD4 | AH46: 0
B47: 5 | C47: A5 | D47: B5 | E47: C5 | F47: D5 | G47: E5 | H47: F5 | I47: G5 | J47: H5 | K47: I5 | L47: J5 | M47: K5 | N47: L5 | O47: M5 | P47: N5 | Q47: O5 | R47: P5 | S47: S5 | T47: R5 | U47: S5 | V47: T5 | W47: U5 | X47: V5 | Y47: W5 | Z47: X5 | AA47: Y5 | AB47: Z5 | AC47: AA5 | AD47: AB5 | AE47: AC5 | AF47: AD5 | AH47: 0
B48: 6 | C48: A6 | D48: B6 | E48: C6 | F48: D6 | G48: E6 | H48: F6 | I48: G6 | J48: H6 | K48: I6 | L48: J6 | M48: K6 | N48: L6 | O48: M6 | P48: N6 | Q48: O6 | R48: P6 | S48: S6 | T48: R6 | U48: S6 | V48: T6 | W48: U6 | X48: V6 | Y48: W6 | Z48: X6 | AA48: Y6 | AB48: Z6 | AC48: AA6 | AD48: AB6 | AE48: AC6 | AF48: AD6
B49: 7 | C49: A7 | D49: B7 | E49: C7 | F49: D7 | G49: E7 | H49: F7 | I49: G7 | J49: H7 | K49: I7 | L49: J7 | M49: K7 | N49: L7 | O49: M7 | P49: N7 | Q49: O7 | R49: P7 | S49: S7 | T49: R7 | U49: S7 | V49: T7 | W49: U7 | X49: V7 | Y49: W7 | Z49: X7 | AA49: Y7 | AB49: Z7 | AC49: AA7 | AD49: AB7 | AE49: AC7 | AF49: AD7
B50: 8 | C50: A8 | D50: B8 | E50: C8 | F50: D8 | G50: E8 | H50: F8 | I50: G8 | J50: H8 | K50: I8 | L50: J8 | M50: K8 | N50: L8 | O50: M8 | P50: N8 | Q50: O8 | R50: P8 | S50: S8 | T50: R8 | U50: S8 | V50: T8 | W50: U8 | X50: V8 | Y50: W8 | Z50: X8 | AA50: Y8 | AB50: Z8 | AC50: AA8 | AD50: AB8 | AE50: AC8 | AF50: AD8
B51: 9 | C51: A9 | D51: B9 | E51: C9 | F51: D9 | G51: E9 | H51: F9 | I51: G9 | J51: H9 | K51: I9 | L51: J9 | M51: K9 | N51: L9 | O51: M9 | P51: N9 | Q51: O9 | R51: P9 | S51: S9 | T51: R9 | U51: S9 | V51: T9 | W51: U9 | X51: V9 | Y51: W9 | Z51: X9 | AA51: Y9 | AB51: Z9 | AC51: AA9 | AD51: AB9 | AE51: AC9 | AF51: AD9
B52: 10 | C52: A10 | D52: B10 | E52: C10 | F52: D10 | G52: E10 | H52: F10 | I52: G10 | J52: H10 | K52: I10 | L52: J10 | M52: K10 | N52: L10 | O52: M10 | P52: N10 | Q52: O10 | R52: P10 | S52: S10 | T52: R10 | U52: S10 | V52: T10 | W52: U10 | X52: V10 | Y52: W10 | Z52: X10 | AA52: Y10 | AB52: Z10 | AC52: AA10 | AD52: AB10 | AE52: AC10 | AF52: AD10
B53: 11 | C53: A11 | D53: B11 | E53: C11 | F53: D11 | G53: E11 | H53: F11 | I53: G11 | J53: H11 | K53: I11 | L53: J11 | M53: K11 | N53: L11 | O53: M11 | P53: N11 | Q53: O11 | R53: P11 | S53: S11 | T53: R11 | U53: S11 | V53: T11 | W53: U11 | X53: V11 | Y53: W11 | Z53: X11 | AA53: Y11 | AB53: Z11 | AC53: AA11 | AD53: AB11 | AE53: AC11 | AF53: AD11
B54: 12 | C54: A12 | D54: B12 | E54: C12 | F54: D12 | G54: E12 | H54: F12 | I54: G12 | J54: H12 | K54: I12 | L54: J12 | M54: K12 | N54: L12 | O54: M12 | P54: N12 | Q54: O12 | R54: P12 | S54: S12 | T54: R12 | U54: S12 | V54: T12 | W54: U12 | X54: V12 | Y54: W12 | Z54: X12 | AA54: Y12 | AB54: Z12 | AC54: AA12 | AD54: AB12 | AE54: AC12 | AF54: AD12
B55: 13 | C55: A13 | D55: B13 | E55: C13 | F55: D13 | G55: E13 | H55: F13 | I55: G13 | J55: H13 | K55: I13 | L55: J13 | M55: K13 | N55: L13 | O55: M13 | P55: N13 | Q55: O13 | R55: P13 | S55: S13 | T55: R13 | U55: S13 | V55: T13 | W55: U13 | X55: V13 | Y55: W13 | Z55: X13 | AA55: Y13 | AB55: Z13 | AC55: AA13 | AD55: AB13 | AE55: AC13 | AF55: AD13
B56: 14 | C56: A14 | D56: B14 | E56: C14 | F56: D14 | G56: E14 | H56: F14 | I56: G14 | J56: H14 | K56: I14 | L56: J14 | M56: K14 | N56: L14 | O56: M14 | P56: N14 | Q56: O14 | R56: P14 | S56: S14 | T56: R14 | U56: S14 | V56: T14 | W56: U14 | X56: V14 | Y56: W14 | Z56: X14 | AA56: Y14 | AB56: Z14 | AC56: AA14 | AD56: AB14 | AE56: AC14 | AF56: AD14
B57: 15 | C57: A15 | D57: B15 | E57: C15 | F57: D15 | G57: E15 | H57: F15 | I57: G15 | J57: H15 | K57: I15 | L57: J15 | M57: K15 | N57: L15 | O57: M15 | P57: N15 | Q57: O15 | R57: P15 | S57: S15 | T57: R15 | U57: S15 | V57: T15 | W57: U15 | X57: V15 | Y57: W15 | Z57: X15 | AA57: Y15 | AB57: Z15 | AC57: AA15 | AD57: AB15 | AE57: AC15 | AF57: AD15
B58: 16 | C58: A16 | D58: B16 | E58: C16 | F58: D16 | G58: E16 | H58: F16 | I58: G16 | J58: H16 | K58: I16 | L58: J16 | M58: K16 | N58: L16 | O58: M16 | P58: N16 | Q58: O16 | R58: P16 | S58: S16 | T58: R16 | U58: S16 | V58: T16 | W58: U16 | X58: V16 | Y58: W16 | Z58: X16 | AA58: Y16 | AB58: Z16 | AC58: AA16 | AD58: AB16 | AE58: AC16 | AF58: AD16
B59: 17 | C59: A17 | D59: B17 | E59: C17 | F59: D17 | G59: E17 | H59: F17 | I59: G17 | J59: H17 | K59: I17 | L59: J17 | M59: K17 | N59: L17 | O59: M17 | P59: N17 | Q59: O17 | R59: P17 | S59: S17 | T59: R17 | U59: S17 | V59: T17 | W59: U17 | X59: V17 | Y59: W17 | Z59: X17 | AA59: Y17 | AB59: Z17 | AC59: AA17 | AD59: AB17 | AE59: AC17 | AF59: AD17
... B78: 36 | C78: A36 | D78: B36 | E78: C36 | F78: D36 | G78: E36 | H78: F36 | I78: G36 | J78: H36 | K78: I36 | L78: J36 | M78: K36 | N78: L36 | O78: M36 | P78: N36 | Q78: O36 | R78: P36 | S78: S36 | T78: R36 | U78: S36 | V78: T36 | W78: U36 | X78: V36 | Y78: W36 | Z78: X36 | AA78: Y36 | AB78: Z36 | AC78: AA36 | AD78: AB36 | AE78: AC36 | AF78: AD36
C80: Sample 3
B81: 1 | C81: A1 | D81: B1 | E81: C1 | F81: D1 | G81: E1 | H81: F1 | I81: G1 | J81: H1 | K81: I1 | L81: J1 | M81: K1 | N81: L1 | O81: M1 | P81: N1 | Q81: O1 | R81: P1 | S81: S1 | T81: R1 | U81: S1 | V81: T1 | W81: U1 | X81: V1 | Y81: W1 | Z81: X1 | AA81: Y1 | AB81: Z1 | AC81: AA1 | AD81: AB1 | AE81: AC1 | AF81: AD1 | AH81: Background
B82: 2 | C82: A2 | D82: B2 | E82: C2 | F82: D2 | G82: E2 | H82: F2 | I82: G2 | J82: H2 | K82: I2 | L82: J2 | M82: K2 | N82: L2 | O82: M2 | P82: N2 | Q82: O2 | R82: P2 | S82: S2 | T82: R2 | U82: S2 | V82: T2 | W82: U2 | X82: V2 | Y82: W2 | Z82: X2 | AA82: Y2 | AB82: Z2 | AC82: AA2 | AD82: AB2 | AE82: AC2 | AF82: AD2 | AH82: 0
B83: 3 | C83: A3 | D83: B3 | E83: C3 | F83: D3 | G83: E3 | H83: F3 | I83: G3 | J83: H3 | K83: I3 | L83: J3 | M83: K3 | N83: L3 | O83: M3 | P83: N3 | Q83: O3 | R83: P3 | S83: S3 | T83: R3 | U83: S3 | V83: T3 | W83: U3 | X83: V3 | Y83: W3 | Z83: X3 | AA83: Y3 | AB83: Z3 | AC83: AA3 | AD83: AB3 | AE83: AC3 | AF83: AD3 | AH83: 0
B84: 4 | C84: A4 | D84: B4 | E84: C4 | F84: D4 | G84: E4 | H84: F4 | I84: G4 | J84: H4 | K84: I4 | L84: J4 | M84: K4 | N84: L4 | O84: M4 | P84: N4 | Q84: O4 | R84: P4 | S84: S4 | T84: R4 | U84: S4 | V84: T4 | W84: U4 | X84: V4 | Y84: W4 | Z84: X4 | AA84: Y4 | AB84: Z4 | AC84: AA4 | AD84: AB4 | AE84: AC4 | AF84: AD4 | AH84: 0
B85: 5 | C85: A5 | D85: B5 | E85: C5 | F85: D5 | G85: E5 | H85: F5 | I85: G5 | J85: H5 | K85: I5 | L85: J5 | M85: K5 | N85: L5 | O85: M5 | P85: N5 | Q85: O5 | R85: P5 | S85: S5 | T85: R5 | U85: S5 | V85: T5 | W85: U5 | X85: V5 | Y85: W5 | Z85: X5 | AA85: Y5 | AB85: Z5 | AC85: AA5 | AD85: AB5 | AE85: AC5 | AF85: AD5 | AH85: 0
B86: 6 | C86: A6 | D86: B6 | E86: C6 | F86: D6 | G86: E6 | H86: F6 | I86: G6 | J86: H6 | K86: I6 | L86: J6 | M86: K6 | N86: L6 | O86: M6 | P86: N6 | Q86: O6 | R86: P6 | S86: S6 | T86: R6 | U86: S6 | V86: T6 | W86: U6 | X86: V6 | Y86: W6 | Z86: X6 | AA86: Y6 | AB86: Z6 | AC86: AA6 | AD86: AB6 | AE86: AC6 | AF86: AD6
B87: 7 | C87: A7 | D87: B7 | E87: C7 | F87: D7 | G87: E7 | H87: F7 | I87: G7 | J87: H7 | K87: I7 | L87: J7 | M87: K7 | N87: L7 | O87: M7 | P87: N7 | Q87: O7 | R87: P7 | S87: S7 | T87: R7 | U87: S7 | V87: T7 | W87: U7 | X87: V7 | Y87: W7 | Z87: X7 | AA87: Y7 | AB87: Z7 | AC87: AA7 | AD87: AB7 | AE87: AC7 | AF87: AD7
B88: 8 | C88: A8 | D88: B8 | E88: C8 | F88: D8 | G88: E8 | H88: F8 | I88: G8 | J88: H8 | K88: I8 | L88: J8 | M88: K8 | N88: L8 | O88: M8 | P88: N8 | Q88: O8 | R88: P8 | S88: S8 | T88: R8 | U88: S8 | V88: T8 | W88: U8 | X88: V8 | Y88: W8 | Z88: X8 | AA88: Y8 | AB88: Z8 | AC88: AA8 | AD88: AB8 | AE88: AC8 | AF88: AD8
B89: 9 | C89: A9 | D89: B9 | E89: C9 | F89: D9 | G89: E9 | H89: F9 | I89: G9 | J89: H9 | K89: I9 | L89: J9 | M89: K9 | N89: L9 | O89: M9 | P89: N9 | Q89: O9 | R89: P9 | S89: S9 | T89: R9 | U89: S9 | V89: T9 | W89: U9 | X89: V9 | Y89: W9 | Z89: X9 | AA89: Y9 | AB89: Z9 | AC89: AA9 | AD89: AB9 | AE89: AC9 | AF89: AD9
B90: 10 | C90: A10 | D90: B10 | E90: C10 | F90: D10 | G90: E10 | H90: F10 | I90: G10 | J90: H10 | K90: I10 | L90: J10 | M90: K10 | N90: L10 | O90: M10 | P90: N10 | Q90: O10 | R90: P10 | S90: S10 | T90: R10 | U90: S10 | V90: T10 | W90: U10 | X90: V10 | Y90: W10 | Z90: X10 | AA90: Y10 | AB90: Z10 | AC90: AA10 | AD90: AB10 | AE90: AC10 | AF90: AD10
B91: 11 | C91: A11 | D91: B11 | E91: C11 | F91: D11 | G91: E11 | H91: F11 | I91: G11 | J91: H11 | K91: I11 | L91: J11 | M91: K11 | N91: L11 | O91: M11 | P91: N11 | Q91: O11 | R91: P11 | S91: S11 | T91: R11 | U91: S11 | V91: T11 | W91: U11 | X91: V11 | Y91: W11 | Z91: X11 | AA91: Y11 | AB91: Z11 | AC91: AA11 | AD91: AB11 | AE91: AC11 | AF91: AD11
B92: 12 | C92: A12 | D92: B12 | E92: C12 | F92: D12 | G92: E12 | H92: F12 | I92: G12 | J92: H12 | K92: I12 | L92: J12 | M92: K12 | N92: L12 | O92: M12 | P92: N12 | Q92: O12 | R92: P12 | S92: S12 | T92: R12 | U92: S12 | V92: T12 | W92: U12 | X92: V12 | Y92: W12 | Z92: X12 | AA92: Y12 | AB92: Z12 | AC92: AA12 | AD92: AB12 | AE92: AC12 | AF92: AD12
B93: 13 | C93: A13 | D93: B13 | E93: C13 | F93: D13 | G93: E13 | H93: F13 | I93: G13 | J93: H13 | K93: I13 | L93: J13 | M93: K13 | N93: L13 | O93: M13 | P93: N13 | Q93: O13 | R93: P13 | S93: S13 | T93: R13 | U93: S13 | V93: T13 | W93: U13 | X93: V13 | Y93: W13 | Z93: X13 | AA93: Y13 | AB93: Z13 | AC93: AA13 | AD93: AB13 | AE93: AC13 | AF93: AD13
B94: 14 | C94: A14 | D94: B14 | E94: C14 | F94: D14 | G94: E14 | H94: F14 | I94: G14 | J94: H14 | K94: I14 | L94: J14 | M94: K14 | N94: L14 | O94: M14 | P94: N14 | Q94: O14 | R94: P14 | S94: S14 | T94: R14 | U94: S14 | V94: T14 | W94: U14 | X94: V14 | Y94: W14 | Z94: X14 | AA94: Y14 | AB94: Z14 | AC94: AA14 | AD94: AB14 | AE94: AC14 | AF94: AD14
B95: 15 | C95: A15 | D95: B15 | E95: C15 | F95: D15 | G95: E15 | H95: F15 | I95: G15 | J95: H15 | K95: I15 | L95: J15 | M95: K15 | N95: L15 | O95: M15 | P95: N15 | Q95: O15 | R95: P15 | S95: S15 | T95: R15 | U95: S15 | V95: T15 | W95: U15 | X95: V15 | Y95: W15 | Z95: X15 | AA95: Y15 | AB95: Z15 | AC95: AA15 | AD95: AB15 | AE95: AC15 | AF95: AD15
B96: 16 | C96: A16 | D96: B16 | E96: C16 | F96: D16 | G96: E16 | H96: F16 | I96: G16 | J96: H16 | K96: I16 | L96: J16 | M96: K16 | N96: L16 | O96: M16 | P96: N16 | Q96: O16 | R96: P16 | S96: S16 | T96: R16 | U96: S16 | V96: T16 | W96: U16 | X96: V16 | Y96: W16 | Z96: X16 | AA96: Y16 | AB96: Z16 | AC96: AA16 | AD96: AB16 | AE96: AC16 | AF96: AD16
B97: 17 | C97: A17 | D97: B17 | E97: C17 | F97: D17 | G97: E17 | H97: F17 | I97: G17 | J97: H17 | K97: I17 | L97: J17 | M97: K17 | N97: L17 | O97: M17 | P97: N17 | Q97: O17 | R97: P17 | S97: S17 | T97: R17 | U97: S17 | V97: T17 | W97: U17 | X97: V17 | Y97: W17 | Z97: X17 | AA97: Y17 | AB97: Z17 | AC97: AA17 | AD97: AB17 | AE97: AC17 | AF97: AD17
... B116: 36 | C116: A36 | D116: B36 | E116: C36 | F116: D36 | G116: E36 | H116: F36 | I116: G36 | J116: H36 | K116: I36 | L116: J36 | M116: K36 | N116: L36 | O116: M36 | P116: N36 | Q116: O36 | R116: P36 | S116: S36 | T116: R36 | U116: S36 | V116: T36 | W116: U36 | X116: V36 | Y116: W36 | Z116: X36 | AA116: Y36 | AB116: Z36 | AC116: AA36 | AD116: AB36 | AE116: AC36 | AF116: AD36
C118: Sample 4
B119: 1 | C119: A1 | D119: B1 | E119: C1 | F119: D1 | G119: E1 | H119: F1 | I119: G1 | J119: H1 | K119: I1 | L119: J1 | M119: K1 | N119: L1 | O119: M1 | P119: N1 | Q119: O1 | R119: P1 | S119: S1 | T119: R1 | U119: S1 | V119: T1 | W119: U1 | X119: V1 | Y119: W1 | Z119: X1 | AA119: Y1 | AB119: Z1 | AC119: AA1 | AD119: AB1 | AE119: AC1 | AF119: AD1 | AH119: Background
B120: 2 | C120: A2 | D120: B2 | E120: C2 | F120: D2 | G120: E2 | H120: F2 | I120: G2 | J120: H2 | K120: I2 | L120: J2 | M120: K2 | N120: L2 | O120: M2 | P120: N2 | Q120: O2 | R120: P2 | S120: S2 | T120: R2 | U120: S2 | V120: T2 | W120: U2 | X120: V2 | Y120: W2 | Z120: X2 | AA120: Y2 | AB120: Z2 | AC120: AA2 | AD120: AB2 | AE120: AC2 | AF120: AD2 | AH120: 0
B121: 3 | C121: A3 | D121: B3 | E121: C3 | F121: D3 | G121: E3 | H121: F3 | I121: G3 | J121: H3 | K121: I3 | L121: J3 | M121: K3 | N121: L3 | O121: M3 | P121: N3 | Q121: O3 | R121: P3 | S121: S3 | T121: R3 | U121: S3 | V121: T3 | W121: U3 | X121: V3 | Y121: W3 | Z121: X3 | AA121: Y3 | AB121: Z3 | AC121: AA3 | AD121: AB3 | AE121: AC3 | AF121: AD3 | AH121: 0
B122: 4 | C122: A4 | D122: B4 | E122: C4 | F122: D4 | G122: E4 | H122: F4 | I122: G4 | J122: H4 | K122: I4 | L122: J4 | M122: K4 | N122: L4 | O122: M4 | P122: N4 | Q122: O4 | R122: P4 | S122: S4 | T122: R4 | U122: S4 | V122: T4 | W122: U4 | X122: V4 | Y122: W4 | Z122: X4 | AA122: Y4 | AB122: Z4 | AC122: AA4 | AD122: AB4 | AE122: AC4 | AF122: AD4 | AH122: 0
B123: 5 | C123: A5 | D123: B5 | E123: C5 | F123: D5 | G123: E5 | H123: F5 | I123: G5 | J123: H5 | K123: I5 | L123: J5 | M123: K5 | N123: L5 | O123: M5 | P123: N5 | Q123: O5 | R123: P5 | S123: S5 | T123: R5 | U123: S5 | V123: T5 | W123: U5 | X123: V5 | Y123: W5 | Z123: X5 | AA123: Y5 | AB123: Z5 | AC123: AA5 | AD123: AB5 | AE123: AC5 | AF123: AD5 | AH123: 0
B124: 6 | C124: A6 | D124: B6 | E124: C6 | F124: D6 | G124: E6 | H124: F6 | I124: G6 | J124: H6 | K124: I6 | L124: J6 | M124: K6 | N124: L6 | O124: M6 | P124: N6 | Q124: O6 | R124: P6 | S124: S6 | T124: R6 | U124: S6 | V124: T6 | W124: U6 | X124: V6 | Y124: W6 | Z124: X6 | AA124: Y6 | AB124: Z6 | AC124: AA6 | AD124: AB6 | AE124: AC6 | AF124: AD6
B125: 7 | C125: A7 | D125: B7 | E125: C7 | F125: D7 | G125: E7 | H125: F7 | I125: G7 | J125: H7 | K125: I7 | L125: J7 | M125: K7 | N125: L7 | O125: M7 | P125: N7 | Q125: O7 | R125: P7 | S125: S7 | T125: R7 | U125: S7 | V125: T7 | W125: U7 | X125: V7 | Y125: W7 | Z125: X7 | AA125: Y7 | AB125: Z7 | AC125: AA7 | AD125: AB7 | AE125: AC7 | AF125: AD7
B126: 8 | C126: A8 | D126: B8 | E126: C8 | F126: D8 | G126: E8 | H126: F8 | I126: G8 | J126: H8 | K126: I8 | L126: J8 | M126: K8 | N126: L8 | O126: M8 | P126: N8 | Q126: O8 | R126: P8 | S126: S8 | T126: R8 | U126: S8 | V126: T8 | W126: U8 | X126: V8 | Y126: W8 | Z126: X8 | AA126: Y8 | AB126: Z8 | AC126: AA8 | AD126: AB8 | AE126: AC8 | AF126: AD8
B127: 9 | C127: A9 | D127: B9 | E127: C9 | F127: D9 | G127: E9 | H127: F9 | I127: G9 | J127: H9 | K127: I9 | L127: J9 | M127: K9 | N127: L9 | O127: M9 | P127: N9 | Q127: O9 | R127: P9 | S127: S9 | T127: R9 | U127: S9 | V127: T9 | W127: U9 | X127: V9 | Y127: W9 | Z127: X9 | AA127: Y9 | AB127: Z9 | AC127: AA9 | AD127: AB9 | AE127: AC9 | AF127: AD9
B128: 10 | C128: A10 | D128: B10 | E128: C10 | F128: D10 | G128: E10 | H128: F10 | I128: G10 | J128: H10 | K128: I10 | L128: J10 | M128: K10 | N128: L10 | O128: M10 | P128: N10 | Q128: O10 | R128: P10 | S128: S10 | T128: R10 | U128: S10 | V128: T10 | W128: U10 | X128: V10 | Y128: W10 | Z128: X10 | AA128: Y10 | AB128: Z10 | AC128: AA10 | AD128: AB10 | AE128: AC10 | AF128: AD10
B129: 11 | C129: A11 | D129: B11 | E129: C11 | F129: D11 | G129: E11 | H129: F11 | I129: G11 | J129: H11 | K129: I11 | L129: J11 | M129: K11 | N129: L11 | O129: M11 | P129: N11 | Q129: O11 | R129: P11 | S129: S11 | T129: R11 | U129: S11 | V129: T11 | W129: U11 | X129: V11 | Y129: W11 | Z129: X11 | AA129: Y11 | AB129: Z11 | AC129: AA11 | AD129: AB11 | AE129: AC11 | AF129: AD11
B130: 12 | C130: A12 | D130: B12 | E130: C12 | F130: D12 | G130: E12 | H130: F12 | I130: G12 | J130: H12 | K130: I12 | L130: J12 | M130: K12 | N130: L12 | O130: M12 | P130: N12 | Q130: O12 | R130: P12 | S130: S12 | T130: R12 | U130: S12 | V130: T12 | W130: U12 | X130: V12 | Y130: W12 | Z130: X12 | AA130: Y12 | AB130: Z12 | AC130: AA12 | AD130: AB12 | AE130: AC12 | AF130: AD12
B131: 13 | C131: A13 | D131: B13 | E131: C13 | F131: D13 | G131: E13 | H131: F13 | I131: G13 | J131: H13 | K131: I13 | L131: J13 | M131: K13 | N131: L13 | O131: M13 | P131: N13 | Q131: O13 | R131: P13 | S131: S13 | T131: R13 | U131: S13 | V131: T13 | W131: U13 | X131: V13 | Y131: W13 | Z131: X13 | AA131: Y13 | AB131: Z13 | AC131: AA13 | AD131: AB13 | AE131: AC13 | AF131: AD13
B132: 14 | C132: A14 | D132: B14 | E132: C14 | F132: D14 | G132: E14 | H132: F14 | I132: G14 | J132: H14 | K132: I14 | L132: J14 | M132: K14 | N132: L14 | O132: M14 | P132: N14 | Q132: O14 | R132: P14 | S132: S14 | T132: R14 | U132: S14 | V132: T14 | W132: U14 | X132: V14 | Y132: W14 | Z132: X14 | AA132: Y14 | AB132: Z14 | AC132: AA14 | AD132: AB14 | AE132: AC14 | AF132: AD14
B133: 15 | C133: A15 | D133: B15 | E133: C15 | F133: D15 | G133: E15 | H133: F15 | I133: G15 | J133: H15 | K133: I15 | L133: J15 | M133: K15 | N133: L15 | O133: M15 | P133: N15 | Q133: O15 | R133: P15 | S133: S15 | T133: R15 | U133: S15 | V133: T15 | W133: U15 | X133: V15 | Y133: W15 | Z133: X15 | AA133: Y15 | AB133: Z15 | AC133: AA15 | AD133: AB15 | AE133: AC15 | AF133: AD15
B134: 16 | C134: A16 | D134: B16 | E134: C16 | F134: D16 | G134: E16 | H134: F16 | I134: G16 | J134: H16 | K134: I16 | L134: J16 | M134: K16 | N134: L16 | O134: M16 | P134: N16 | Q134: O16 | R134: P16 | S134: S16 | T134: R16 | U134: S16 | V134: T16 | W134: U16 | X134: V16 | Y134: W16 | Z134: X16 | AA134: Y16 | AB134: Z16 | AC134: AA16 | AD134: AB16 | AE134: AC16 | AF134: AD16
B135: 17 | C135: A17 | D135: B17 | E135: C17 | F135: D17 | G135: E17 | H135: F17 | I135: G17 | J135: H17 | K135: I17 | L135: J17 | M135: K17 | N135: L17 | O135: M17 | P135: N17 | Q135: O17 | R135: P17 | S135: S17 | T135: R17 | U135: S17 | V135: T17 | W135: U17 | X135: V17 | Y135: W17 | Z135: X17 | AA135: Y17 | AB135: Z17 | AC135: AA17 | AD135: AB17 | AE135: AC17 | AF135: AD17
... B154: 36 | C154: A36 | D154: B36 | E154: C36 | F154: D36 | G154: E36 | H154: F36 | I154: G36 | J154: H36 | K154: I36 | L154: J36 | M154: K36 | N154: L36 | O154: M36 | P154: N36 | Q154: O36 | R154: P36 | S154: S36 | T154: R36 | U154: S36 | V154: T36 | W154: U36 | X154: V36 | Y154: W36 | Z154: X36 | AA154: Y36 | AB154: Z36 | AC154: AA36 | AD154: AB36 | AE154: AC36 | AF154: AD36
C156: Sample 5
B157: 1 | C157: A1 | D157: B1 | E157: C1 | F157: D1 | G157: E1 | H157: F1 | I157: G1 | J157: H1 | K157: I1 | L157: J1 | M157: K1 | N157: L1 | O157: M1 | P157: N1 | Q157: O1 | R157: P1 | S157: S1 | T157: R1 | U157: S1 | V157: T1 | W157: U1 | X157: V1 | Y157: W1 | Z157: X1 | AA157: Y1 | AB157: Z1 | AC157: AA1 | AD157: AB1 | AE157: AC1 | AF157: AD1 | AH157: Background
B158: 2 | C158: A2 | D158: B2 | E158: C2 | F158: D2 | G158: E2 | H158: F2 | I158: G2 | J158: H2 | K158: I2 | L158: J2 | M158: K2 | N158: L2 | O158: M2 | P158: N2 | Q158: O2 | R158: P2 | S158: S2 | T158: R2 | U158: S2 | V158: T2 | W158: U2 | X158: V2 | Y158: W2 | Z158: X2 | AA158: Y2 | AB158: Z2 | AC158: AA2 | AD158: AB2 | AE158: AC2 | AF158: AD2 | AH158: 0
B159: 3 | C159: A3 | D159: B3 | E159: C3 | F159: D3 | G159: E3 | H159: F3 | I159: G3 | J159: H3 | K159: I3 | L159: J3 | M159: K3 | N159: L3 | O159: M3 | P159: N3 | Q159: O3 | R159: P3 | S159: S3 | T159: R3 | U159: S3 | V159: T3 | W159: U3 | X159: V3 | Y159: W3 | Z159: X3 | AA159: Y3 | AB159: Z3 | AC159: AA3 | AD159: AB3 | AE159: AC3 | AF159: AD3 | AH159: 0
B160: 4 | C160: A4 | D160: B4 | E160: C4 | F160: D4 | G160: E4 | H160: F4 | I160: G4 | J160: H4 | K160: I4 | L160: J4 | M160: K4 | N160: L4 | O160: M4 | P160: N4 | Q160: O4 | R160: P4 | S160: S4 | T160: R4 | U160: S4 | V160: T4 | W160: U4 | X160: V4 | Y160: W4 | Z160: X4 | AA160: Y4 | AB160: Z4 | AC160: AA4 | AD160: AB4 | AE160: AC4 | AF160: AD4 | AH160: 0
B161: 5 | C161: A5 | D161: B5 | E161: C5 | F161: D5 | G161: E5 | H161: F5 | I161: G5 | J161: H5 | K161: I5 | L161: J5 | M161: K5 | N161: L5 | O161: M5 | P161: N5 | Q161: O5 | R161: P5 | S161: S5 | T161: R5 | U161: S5 | V161: T5 | W161: U5 | X161: V5 | Y161: W5 | Z161: X5 | AA161: Y5 | AB161: Z5 | AC161: AA5 | AD161: AB5 | AE161: AC5 | AF161: AD5 | AH161: 0
B162: 6 | C162: A6 | D162: B6 | E162: C6 | F162: D6 | G162: E6 | H162: F6 | I162: G6 | J162: H6 | K162: I6 | L162: J6 | M162: K6 | N162: L6 | O162: M6 | P162: N6 | Q162: O6 | R162: P6 | S162: S6 | T162: R6 | U162: S6 | V162: T6 | W162: U6 | X162: V6 | Y162: W6 | Z162: X6 | AA162: Y6 | AB162: Z6 | AC162: AA6 | AD162: AB6 | AE162: AC6 | AF162: AD6
B163: 7 | C163: A7 | D163: B7 | E163: C7 | F163: D7 | G163: E7 | H163: F7 | I163: G7 | J163: H7 | K163: I7 | L163: J7 | M163: K7 | N163: L7 | O163: M7 | P163: N7 | Q163: O7 | R163: P7 | S163: S7 | T163: R7 | U163: S7 | V163: T7 | W163: U7 | X163: V7 | Y163: W7 | Z163: X7 | AA163: Y7 | AB163: Z7 | AC163: AA7 | AD163: AB7 | AE163: AC7 | AF163: AD7
B164: 8 | C164: A8 | D164: B8 | E164: C8 | F164: D8 | G164: E8 | H164: F8 | I164: G8 | J164: H8 | K164: I8 | L164: J8 | M164: K8 | N164: L8 | O164: M8 | P164: N8 | Q164: O8 | R164: P8 | S164: S8 | T164: R8 | U164: S8 | V164: T8 | W164: U8 | X164: V8 | Y164: W8 | Z164: X8 | AA164: Y8 | AB164: Z8 | AC164: AA8 | AD164: AB8 | AE164: AC8 | AF164: AD8
B165: 9 | C165: A9 | D165: B9 | E165: C9 | F165: D9 | G165: E9 | H165: F9 | I165: G9 | J165: H9 | K165: I9 | L165: J9 | M165: K9 | N165: L9 | O165: M9 | P165: N9 | Q165: O9 | R165: P9 | S165: S9 | T165: R9 | U165: S9 | V165: T9 | W165: U9 | X165: V9 | Y165: W9 | Z165: X9 | AA165: Y9 | AB165: Z9 | AC165: AA9 | AD165: AB9 | AE165: AC9 | AF165: AD9
B166: 10 | C166: A10 | D166: B10 | E166: C10 | F166: D10 | G166: E10 | H166: F10 | I166: G10 | J166: H10 | K166: I10 | L166: J10 | M166: K10 | N166: L10 | O166: M10 | P166: N10 | Q166: O10 | R166: P10 | S166: S10 | T166: R10 | U166: S10 | V166: T10 | W166: U10 | X166: V10 | Y166: W10 | Z166: X10 | AA166: Y10 | AB166: Z10 | AC166: AA10 | AD166: AB10 | AE166: AC10 | AF166: AD10
B167: 11 | C167: A11 | D167: B11 | E167: C11 | F167: D11 | G167: E11 | H167: F11 | I167: G11 | J167: H11 | K167: I11 | L167: J11 | M167: K11 | N167: L11 | O167: M11 | P167: N11 | Q167: O11 | R167: P11 | S167: S11 | T167: R11 | U167: S11 | V167: T11 | W167: U11 | X167: V11 | Y167: W11 | Z167: X11 | AA167: Y11 | AB167: Z11 | AC167: AA11 | AD167: AB11 | AE167: AC11 | AF167: AD11
B168: 12 | C168: A12 | D168: B12 | E168: C12 | F168: D12 | G168: E12 | H168: F12 | I168: G12 | J168: H12 | K168: I12 | L168: J12 | M168: K12 | N168: L12 | O168: M12 | P168: N12 | Q168: O12 | R168: P12 | S168: S12 | T168: R12 | U168: S12 | V168: T12 | W168: U12 | X168: V12 | Y168: W12 | Z168: X12 | AA168: Y12 | AB168: Z12 | AC168: AA12 | AD168: AB12 | AE168: AC12 | AF168: AD12
B169: 13 | C169: A13 | D169: B13 | E169: C13 | F169: D13 | G169: E13 | H169: F13 | I169: G13 | J169: H13 | K169: I13 | L169: J13 | M169: K13 | N169: L13 | O169: M13 | P169: N13 | Q169: O13 | R169: P13 | S169: S13 | T169: R13 | U169: S13 | V169: T13 | W169: U13 | X169: V13 | Y169: W13 | Z169: X13 | AA169: Y13 | AB169: Z13 | AC169: AA13 | AD169: AB13 | AE169: AC13 | AF169: AD13
B170: 14 | C170: A14 | D170: B14 | E170: C14 | F170: D14 | G170: E14 | H170: F14 | I170: G14 | J170: H14 | K170: I14 | L170: J14 | M170: K14 | N170: L14 | O170: M14 | P170: N14 | Q170: O14 | R170: P14 | S170: S14 | T170: R14 | U170: S14 | V170: T14 | W170: U14 | X170: V14 | Y170: W14 | Z170: X14 | AA170: Y14 | AB170: Z14 | AC170: AA14 | AD170: AB14 | AE170: AC14 | AF170: AD14
B171: 15 | C171: A15 | D171: B15 | E171: C15 | F171: D15 | G171: E15 | H171: F15 | I171: G15 | J171: H15 | K171: I15 | L171: J15 | M171: K15 | N171: L15 | O171: M15 | P171: N15 | Q171: O15 | R171: P15 | S171: S15 | T171: R15 | U171: S15 | V171: T15 | W171: U15 | X171: V15 | Y171: W15 | Z171: X15 | AA171: Y15 | AB171: Z15 | AC171: AA15 | AD171: AB15 | AE171: AC15 | AF171: AD15
B172: 16 | C172: A16 | D172: B16 | E172: C16 | F172: D16 | G172: E16 | H172: F16 | I172: G16 | J172: H16 | K172: I16 | L172: J16 | M172: K16 | N172: L16 | O172: M16 | P172: N16 | Q172: O16 | R172: P16 | S172: S16 | T172: R16 | U172: S16 | V172: T16 | W172: U16 | X172: V16 | Y172: W16 | Z172: X16 | AA172: Y16 | AB172: Z16 | AC172: AA16 | AD172: AB16 | AE172: AC16 | AF172: AD16
B173: 17 | C173: A17 | D173: B17 | E173: C17 | F173: D17 | G173: E17 | H173: F17 | I173: G17 | J173: H17 | K173: I17 | L173: J17 | M173: K17 | N173: L17 | O173: M17 | P173: N17 | Q173: O17 | R173: P17 | S173: S17 | T173: R17 | U173: S17 | V173: T17 | W173: U17 | X173: V17 | Y173: W17 | Z173: X17 | AA173: Y17 | AB173: Z17 | AC173: AA17 | AD173: AB17 | AE173: AC17 | AF173: AD17
... B192: 36 | C192: A36 | D192: B36 | E192: C36 | F192: D36 | G192: E36 | H192: F36 | I192: G36 | J192: H36 | K192: I36 | L192: J36 | M192: K36 | N192: L36 | O192: M36 | P192: N36 | Q192: O36 | R192: P36 | S192: S36 | T192: R36 | U192: S36 | V192: T36 | W192: U36 | X192: V36 | Y192: W36 | Z192: X36 | AA192: Y36 | AB192: Z36 | AC192: AA36 | AD192: AB36 | AE192: AC36 | AF192: AD36
C194: Sample 6
B195: 1 | C195: A1 | D195: B1 | E195: C1 | F195: D1 | G195: E1 | H195: F1 | I195: G1 | J195: H1 | K195: I1 | L195: J1 | M195: K1 | N195: L1 | O195: M1 | P195: N1 | Q195: O1 | R195: P1 | S195: S1 | T195: R1 | U195: S1 | V195: T1 | W195: U1 | X195: V1 | Y195: W1 | Z195: X1 | AA195: Y1 | AB195: Z1 | AC195: AA1 | AD195: AB1 | AE195: AC1 | AF195: AD1 | AH195: Background
B196: 2 | C196: A2 | D196: B2 | E196: C2 | F196: D2 | G196: E2 | H196: F2 | I196: G2 | J196: H2 | K196: I2 | L196: J2 | M196: K2 | N196: L2 | O196: M2 | P196: N2 | Q196: O2 | R196: P2 | S196: S2 | T196: R2 | U196: S2 | V196: T2 | W196: U2 | X196: V2 | Y196: W2 | Z196: X2 | AA196: Y2 | AB196: Z2 | AC196: AA2 | AD196: AB2 | AE196: AC2 | AF196: AD2 | AH196: 0
B197: 3 | C197: A3 | D197: B3 | E197: C3 | F197: D3 | G197: E3 | H197: F3 | I197: G3 | J197: H3 | K197: I3 | L197: J3 | M197: K3 | N197: L3 | O197: M3 | P197: N3 | Q197: O3 | R197: P3 | S197: S3 | T197: R3 | U197: S3 | V197: T3 | W197: U3 | X197: V3 | Y197: W3 | Z197: X3 | AA197: Y3 | AB197: Z3 | AC197: AA3 | AD197: AB3 | AE197: AC3 | AF197: AD3 | AH197: 0
...

Sheet Map and Ab list
B1: ='Aligning Data'!B2:P2 -> RayBio® Mouse Biotin Label Based Antibody Arrays -- L-2 Array, Membrane
C3: ='Aligning Data'!C4 -> Sample 1
B4: 1 | C4: Positive 1a | D4: Positive 2a | E4: Positive 3a | F4: Neg | G4: AARE | H4: ACAT1 | I4: ACOT2 | J4: ADAM28 | K4: AHCY | L4: AK1 | M4: AKR1A1 | N4: ALDH2 | O4: alpha 5 D | P4: ANKRD9 | Q4: ANXA3 | R4: AP180 | S4: AP3S2 | T4: APLP2 | U4: ApoA V | V4: ASPM | W4: ASS1 | X4: ATOX1 | Y4: ATPG | Z4: AUTS2 | AA4: BAI2 | AB4: BarX1 | AC4: BBS1 | AD4: BE2I / UBC9 | AE4: BLM | AF4: BOLA2 | AH4: Background
C5: ='Aligning Data'!C5 -> A1 | D5: ='Aligning Data'!D5 -> B1 | E5: ='Aligning Data'!E5 -> C1 | F5: ='Aligning Data'!F5 -> D1 | G5: ='Aligning Data'!G5 -> E1 | H5: ='Aligning Data'!H5 -> F1 | I5: ='Aligning Data'!I5 -> G1 | J5: ='Aligning Data'!J5 -> H1 | ... AF5: ='Aligning Data'!AF5 -> AD1
B6: 2
C7: ='Aligning Data'!C6 -> A2 | D7: ='Aligning Data'!D6 -> B2 | E7: ='Aligning Data'!E6 -> C2 | F7: ='Aligning Data'!F6 -> D2 | G7: ='Aligning Data'!G6 -> E2 | H7: ='Aligning Data'!H6 -> F2 | I7: ='Aligning Data'!I6 -> G2 | J7: ='Aligning Data'!J6 -> H2 | ... AF7: ='Aligning Data'!AF6 -> AD2
B8: 3 | C8: Neg | D8: Neg | E8: Neg | F8: C10orf58 | G8: CACNA1H | H8: Calpain 2 | I8: CaMK2 | J8: CaMK2D | K8: CBL | L8: CBR1 | M8: CCDC58 | N8: CCT6A | O8: CHCHD3 | P8: Cingulin | Q8: CIT | R8: CMG1 | S8: CNBP | T8: CNPY2 | U8: Coilin | V8: COL8A2 | W8: COLEC11 | X8: COPG2 | Y8: CORO1B | Z8: CPA3 | AA8: CPI17 alpha | AB8: CrkRS | AC8: CRLF3 | AD8: CSRP3 | AE8: CTNNAL1 | AF8: CTNND1
C9: ='Aligning Data'!C7 -> A3 | D9: ='Aligning Data'!D7 -> B3 | E9: ='Aligning Data'!E7 -> C3 | F9: ='Aligning Data'!F7 -> D3 | G9: ='Aligning Data'!G7 -> E3 | H9: ='Aligning Data'!H7 -> F3 | I9: ='Aligning Data'!I7 -> G3 | J9: ='Aligning Data'!J7 -> H3 | ... AF9: ='Aligning Data'!AF7 -> AD3
B10: 4
C11: ='Aligning Data'!C8 -> A4 | D11: ='Aligning Data'!D8 -> B4 | E11: ='Aligning Data'!E8 -> C4 | F11: ='Aligning Data'!F8 -> D4 | G11: ='Aligning Data'!G8 -> E4 | H11: ='Aligning Data'!H8 -> F4 | I11: ='Aligning Data'!I8 -> G4 | J11: ='Aligning Data'!J8 -> H4 | ... AF11: ='Aligning Data'!AF8 -> AD4
B12: 5 | C12: Cyclophilin F | D12: Cytochrome b5 | E12: DCAMKL1 | F12: Dematin | G12: DIAPH1 | H12: DKC1 | I12: DLST | J12: DMRT1 | K12: Dystrophin | L12: Ebf4 | M12: EBP50 | N12: ECHDC1 | O12: EHHADH | P12: EIF3D | Q12: eIF4A2 | R12: eIF4GII | S12: ENDOD1 | T12: EYA2 | U12: Factor VIII | V12: Filaggrin | W12: FITM1 | X12: GARS | Y12: GCC2 | Z12: GLI-2 | AA12: GLOD4 | AB12: GLUL | AC12: GMPR1 | AD12: GOLGA3 | AE12: GP2 | AF12: gp340
C13: ='Aligning Data'!C9 -> A5 | D13: ='Aligning Data'!D9 -> B5 | E13: ='Aligning Data'!E9 -> C5 | F13: ='Aligning Data'!F9 -> D5 | G13: ='Aligning Data'!G9 -> E5 | H13: ='Aligning Data'!H9 -> F5 | I13: ='Aligning Data'!I9 -> G5 | J13: ='Aligning Data'!J9 -> H5 | ... AF13: ='Aligning Data'!AF9 -> AD5
B14: 6
C15: ='Aligning Data'!C10 -> A6 | D15: ='Aligning Data'!D10 -> B6 | E15: ='Aligning Data'!E10 -> C6 | F15: ='Aligning Data'!F10 -> D6 | G15: ='Aligning Data'!G10 -> E6 | H15: ='Aligning Data'!H10 -> F6 | I15: ='Aligning Data'!I10 -> G6 | J15: ='Aligning Data'!J10 -> H6 | ... AF15: ='Aligning Data'!AF10 -> AD6
B16: 7 | C16: GTF2F1 | D16: HA1 | E16: HARS | F16: HIC1 | G16: HIP55 | H16: H1F0 | I16: HIST1H1B | J16: HIVEP2 | K16: hnRNP K | L16: hnRNP R | M16: HNRNPUL2 | N16: HNRPA3 | O16: HP1 g | P16: Importin 7 | Q16: Involucrin | R16: ISLR | S16: ITPR2 | T16: ITPR3 | U16: KCNAB3 | V16: LAMA5 | W16: LDB3 | X16: LHPP | Y16: LIPG | Z16: MAP4K4 | AA16: MICALL2 | AB16: MON2 | AC16: MPST | AD16: MRC2 | AE16: MSH3 | AF16: MTA2
C17: ='Aligning Data'!C11 -> A7 | D17: ='Aligning Data'!D11 -> B7 | E17: ='Aligning Data'!E11 -> C7 | F17: ='Aligning Data'!F11 -> D7 | G17: ='Aligning Data'!G11 -> E7 | H17: ='Aligning Data'!H11 -> F7 | I17: ='Aligning Data'!I11 -> G7 | J17: ='Aligning Data'!J11 -> H7 | ... AF17: ='Aligning Data'!AF11 -> AD7
B18: 8
C19: ='Aligning Data'!C12 -> A8 | D19: ='Aligning Data'!D12 -> B8 | E19: ='Aligning Data'!E12 -> C8 | F19: ='Aligning Data'!F12 -> D8 | G19: ='Aligning Data'!G12 -> E8 | H19: ='Aligning Data'!H12 -> F8 | I19: ='Aligning Data'!I12 -> G8 | J19: ='Aligning Data'!J12 -> H8 | ... AF19: ='Aligning Data'!AF12 -> AD8
B20: 9 | C20: MTHFD1 | D20: MUC5B | E20: MVD | F20: Myosin IIB | G20: NACA1 | H20: NAGPA | I20: NAV2 | J20: NFATC4 | K20: NNT | L20: NPEPPS | M20: NQO2 | N20: NSFL1C | O20: Nucleobindin 1 | P20: NUP214 | Q20: OAF | R20: OIT3 | S20: OPCML | T20: Orosomucoid 2 | U20: OSBP1 | V20: OSCAR | W20: OSM R beta | X20: Osteoadherin | Y20: OTC | Z20: OTUB1 | AA20: OTUD7A | AB20: Oxytocin-neurophysin 1 | AC20: p16 ARC | AD20: p23 | AE20: p39 | AF20: P4HB
C21: ='Aligning Data'!C13 -> A9 | D21: ='Aligning Data'!D13 -> B9 | E21: ='Aligning Data'!E13 -> C9 | F21: ='Aligning Data'!F13 -> D9 | G21: ='Aligning Data'!G13 -> E9 | H21: ='Aligning Data'!H13 -> F9 | I21: ='Aligning Data'!I13 -> G9 | J21: ='Aligning Data'!J13 -> H9 | ... AF21: ='Aligning Data'!AF13 -> AD9
B22: 10
C23: ='Aligning Data'!C14 -> A10 | D23: ='Aligning Data'!D14 -> B10 | E23: ='Aligning Data'!E14 -> C10 | F23: ='Aligning Data'!F14 -> D10 | G23: ='Aligning Data'!G14 -> E10 | H23: ='Aligning Data'!H14 -> F10 | I23: ='Aligning Data'!I14 -> G10 | J23: ='Aligning Data'!J14 -> H10 | ... AF23: ='Aligning Data'!AF14 -> AD10
B24: 11 | C24: p73 | D24: PABP1 | E24: PACS1 | F24: PNLIP | G24: PARVB | H24: PCAP | I24: PCBP1 | J24: PCBP2 | K24: PCCA | L24: PCDH12 | M24: PCDH8 | N24: PCK2 | O24: PCMT1 | P24: PCNA | Q24: PCPE-1 | R24: PCSK9 | S24: PDAP1 | T24: PDE1B | U24: PDIA6 | V24: PDLIM1 | W24: PDLIM3 | X24: PDZD2 | Y24: PEBP1 | Z24: PEBP4 | AA24: PENK | AB24: PEPD | AC24: perilipin 3 | AD24: Perilipin-1 | AE24: Periostin | AF24: Periplakin
C25: ='Aligning Data'!C15 -> A11 | D25: ='Aligning Data'!D15 -> B11 | E25: ='Aligning Data'!E15 -> C11 | F25: ='Aligning Data'!F15 -> D11 | G25: ='Aligning Data'!G15 -> E11 | H25: ='Aligning Data'!H15 -> F11 | I25: ='Aligning Data'!I15 -> G11 | J25: ='Aligning Data'!J15 -> H11 | ... AF25: ='Aligning Data'!AF15 -> AD11
B26: 12
C27: ='Aligning Data'!C16 -> A12 | D27: ='Aligning Data'!D16 -> B12 | E27: ='Aligning Data'!E16 -> C12 | F27: ='Aligning Data'!F16 -> D12 | G27: ='Aligning Data'!G16 -> E12 | H27: ='Aligning Data'!H16 -> F12 | I27: ='Aligning Data'!I16 -> G12 | J27: ='Aligning Data'!J16 -> H12 | ... AF27: ='Aligning Data'!AF16 -> AD12
B28: 13 | C28: Peroxiredoxin 2 | D28: Peroxiredoxin 3 | E28: Peroxiredoxin-1 | F28: PFAS | G28: PFDN6 | H28: PFKL | I28: PGAM1 | J28: PGAM2 | K28: PGK-1 | L28: PGLS | M28: PG-M | N28: PGM1 | O28: PGRPL | P28: PHGDH | Q28: Piccolo | R28: pIgR | S28: PIK3C2B | T28: PIN | U28: PIP5K2 alpha | V28: PISD | W28: PLA2G1B | X28: Plastin 3 | Y28: Plastin L | Z28: PLBD2 | AA28: PLD4 | AB28: Plectin | AC28: Plexin B1 | AD28: Plexin B2 | AE28: PLOD1 | AF28: PLOD2
C29: ='Aligning Data'!C17 -> A13 | D29: ='Aligning Data'!D17 -> B13 | E29: ='Aligning Data'!E17 -> C13 | F29: ='Aligning Data'!F17 -> D13 | G29: ='Aligning Data'!G17 -> E13 | H29: ='Aligning Data'!H17 -> F13 | I29: ='Aligning Data'!I17 -> G13 | J29: ='Aligning Data'!J17 -> H13 | ... AF29: ='Aligning Data'!AF17 -> AD13
B30: 14
C31: ='Aligning Data'!C18 -> A14 | D31: ='Aligning Data'!D18 -> B14 | E31: ='Aligning Data'!E18 -> C14 | F31: ='Aligning Data'!F18 -> D14 | G31: ='Aligning Data'!G18 -> E14 | H31: ='Aligning Data'!H18 -> F14 | I31: ='Aligning Data'!I18 -> G14 | J31: ='Aligning Data'!J18 -> H14 | ... AF31: ='Aligning Data'!AF18 -> AD14
B32: 15 | C32: Plxdc2 | D32: PMCA | E32: PNP | F32: POLD2 | G32: POLR2A | H32: POR | I32: PPOX | J32: PPP1CC | K32: PPP1R9A | L32: PPP2R1B | M32: PPP2R4 | N32: PRCP | O32: PRDM13 | P32: PREP | Q32: PRG2 | R32: Prion protein PrP | S32: Profilin 1 | T32: Prolargin | U32: Prosaposin | V32: Prostaglandin D Synthase | W32: PSMD2 | X32: Protein C | Y32: Protein Z | Z32: PRR4 | AA32: PRRC2A | AB32: PRSS23 | AC32: PRSS3 | AD32: PRTN3 | AE32: PSMA1 | AF32: PSMA2
C33: ='Aligning Data'!C19 -> A15 | D33: ='Aligning Data'!D19 -> B15 | E33: ='Aligning Data'!E19 -> C15 | F33: ='Aligning Data'!F19 -> D15 | G33: ='Aligning Data'!G19 -> E15 | H33: ='Aligning Data'!H19 -> F15 | I33: ='Aligning Data'!I19 -> G15 | J33: ='Aligning Data'!J19 -> H15 | ... AF33: ='Aligning Data'!AF19 -> AD15
B34: 16
C35: ='Aligning Data'!C20 -> A16 | D35: ='Aligning Data'!D20 -> B16 | E35: ='Aligning Data'!E20 -> C16 | F35: ='Aligning Data'!F20 -> D16 | G35: ='Aligning Data'!G20 -> E16 | H35: ='Aligning Data'!H20 -> F16 | I35: ='Aligning Data'!I20 -> G16 | J35: ='Aligning Data'!J20 -> H16 | ... AF35: ='Aligning Data'!AF20 -> AD16
B36: 17 | C36: PSMA4 | D36: PSMA5 | E36: PSMA6 | F36: PSMB1 | G36: PSMB2 | H36: PSMB3 | I36: PSMB4 | J36: PSMB5 | K36: PSMB6 | L36: PSMB7 | M36: PSMC3 | N36: PSMD1 | O36: PSMD5 | P36: PSMD9 | Q36: PSME1 | R36: PSME2 | S36: PTBP1 | T36: PTEN | U36: PTGR1 | V36: PTK 7 | W36: PTMA | X36: PTPRG | Y36: PTPRK | Z36: PTPRM | AA36: PTPRZ | AB36: PZP | AC36: QARS | AD36: QDPR | AE36: QPRT | AF36: Quiescin Q6
C37: ='Aligning Data'!C21 -> A17 | D37: ='Aligning Data'!D21 -> B17 | E37: ='Aligning Data'!E21 -> C17 | F37: ='Aligning Data'!F21 -> D17 | G37: ='Aligning Data'!G21 -> E17 | H37: ='Aligning Data'!H21 -> F17 | I37: ='Aligning Data'!I21 -> G17 | J37: ='Aligning Data'!J21 -> H17 | ... AF37: ='Aligning Data'!AF21 -> AD17
B38: 18
C39: ='Aligning Data'!C22 -> A18 | D39: ='Aligning Data'!D22 -> B18 | E39: ='Aligning Data'!E22 -> C18 | F39: ='Aligning Data'!F22 -> D18 | G39: ='Aligning Data'!G22 -> E18 | H39: ='Aligning Data'!H22 -> F18 | I39: ='Aligning Data'!I22 -> G18 | J39: ='Aligning Data'!J22 -> H18 | ... AF39: ='Aligning Data'!AF22 -> AD18
B40: 19 | C40: Rab1A | D40: Rab7a | E40: Ran | F40: RanBP1 | G40: RanGAP1 | H40: RAP1B | I40: Rbm15 | J40: RCL | K40: RECQ4 | L40: Reg3A | M40: REV3L | N40: RHOC | O40: RHOG | P40: Ribonuclease A | Q40: Ribonuclease T2 | R40: RLF | S40: RNASE4 | T40: Rnose2 | U40: RP1 | V40: RPL10 | W40: RPL10A | X40: RPL11 | Y40: RPL12 | Z40: RPL14 | AA40: RPL17 | AB40: RPL22 | AC40: RPL23A | AD40: RPL3 | AE40: RPL32 | AF40: RPL4
C41: ='Aligning Data'!C23 -> A19 | D41: ='Aligning Data'!D23 -> B19 | E41: ='Aligning Data'!E23 -> C19 | F41: ='Aligning Data'!F23 -> D19 | G41: ='Aligning Data'!G23 -> E19 | H41: ='Aligning Data'!H23 -> F19 | I41: ='Aligning Data'!I23 -> G19 | J41: ='Aligning Data'!J23 -> H19 | ... AF41: ='Aligning Data'!AF23 -> AD19
B42: 20
C43: ='Aligning Data'!C24 -> A20 | D43: ='Aligning Data'!D24 -> B20 | E43: ='Aligning Data'!E24 -> C20 | F43: ='Aligning Data'!F24 -> D20 | G43: ='Aligning Data'!G24 -> E20 | H43: ='Aligning Data'!H24 -> F20 | I43: ='Aligning Data'!I24 -> G20 | J43: ='Aligning Data'!J24 -> H20 | ... AF43: ='Aligning Data'!AF24 -> AD20
B44: 21 | C44: RPL7 | D44: RPL7A | E44: RPLP0 | F44: RPLP2 | G44: RPS10 | H44: RPS11 | I44: RPS12 | J44: RPS13 | K44: RPS14 | L44: RPS15A | M44: RPS16 | N44: RPS18 | O44: RPS19 | P44: RPS2 | Q44: RPS20 | R44: RPS23 | S44: RPS25 | T44: RPS3 | U44: RPS3A | V44: RPS4X | W44: RPS5 | X44: RPS8 | Y44: RPS9 | Z44: RREB1 | AA44: RSF1 | AB44: RSU1 | AC44: RUSC1 | AD44: Septin 7 | AE44: S100A1 | AF44: S100A11
C45: ='Aligning Data'!C25 -> A21 | D45: ='Aligning Data'!D25 -> B21 | E45: ='Aligning Data'!E25 -> C21 | F45: ='Aligning Data'!F25 -> D21 | G45: ='Aligning Data'!G25 -> E21 | H45: ='Aligning Data'!H25 -> F21 | I45: ='Aligning Data'!I25 -> G21 | J45: ='Aligning Data'!J25 -> H21 | ... AF45: ='Aligning Data'!AF25 -> AD21
B46: 22
C47: ='Aligning Data'!C26 -> A22 | D47: ='Aligning Data'!D26 -> B22 | E47: ='Aligning Data'!E26 -> C22 | F47: ='Aligning Data'!F26 -> D22 | G47: ='Aligning Data'!G26 -> E22 | H47: ='Aligning Data'!H26 -> F22 | I47: ='Aligning Data'!I26 -> G22 | J47: ='Aligning Data'!J26 -> H22 | ... AF47: ='Aligning Data'!AF26 -> AD22
B48: 23 | C48: S100A7 | D48: S100A9 | E48: SAA1 | F48: SAA4 | G48: SBP-1 | H48: SC35 | I48: SCG | J48: SCN3A | K48: SCP2 | L48: SDNSF | M48: SDPR | N48: SECISBP2 | O48: Secretogranin V | P48: Semaphorin 6B | Q48: Semaphorin 7A | R48: SERBP1 | S48: Serpin A11 | T48: Serpin A7 | U48: Serpin B3D | V48: Serpin B6 | W48: Serpin B8 | X48: Serpin F2 | Y48: Serpin H1 | Z48: Serpin A10 | AA48: SERPINB1 | AB48: SerpinB4 | AC48: SerpinE2 | AD48: SerRS | AE48: SET | AF48: SEZ6L2
C49: ='Aligning Data'!C27 -> A23 | D49: ='Aligning Data'!D27 -> B23 | E49: ='Aligning Data'!E27 -> C23 | F49: ='Aligning Data'!F27 -> D23 | G49: ='Aligning Data'!G27 -> E23 | H49: ='Aligning Data'!H27 -> F23 | I49: ='Aligning Data'!I27 -> G23 | J49: ='Aligning Data'!J27 -> H23 | ... AF49: ='Aligning Data'!AF27 -> AD23
B50: 24
C51: ='Aligning Data'!C28 -> A24 | D51: ='Aligning Data'!D28 -> B24 | E51: ='Aligning Data'!E28 -> C24 | F51: ='Aligning Data'!F28 -> D24 | G51: ='Aligning Data'!G28 -> E24 | H51: ='Aligning Data'!H28 -> F24 | I51: ='Aligning Data'!I28 -> G24 | J51: ='Aligning Data'!J28 -> H24 | ... AF51: ='Aligning Data'!AF28 -> AD24
B52: 25 | C52: SF20 | D52: SHANK1 | E52: SHC1 | F52: SHMT1 | G52: SHOX | H52: SHP-1 | I52: Siglec-1 | J52: SIM2 | K52: SIRPB1 | L52: Six3 | M52: SLC4A1 | N52: SLITRK1 | O52: SLURP1 | P52: SMAD6 | Q52: SMC4 | R52: SMPD4 | S52: SNRPD1 | T52: SOD1 | U52: SOD2 | V52: SOD-3 | W52: Somatoliberin | X52: Somatostatin | Y52: SORD | Z52: SorLA | AA52: SOX4 | AB52: SOX5 | AC52: SP-D | AD52: Spectrin | AE52: SPEN | AF52: SPG48
C53: ='Aligning Data'!C29 -> A25 | D53: ='Aligning Data'!D29 -> B25 | E53: ='Aligning Data'!E29 -> C25 | F53: ='Aligning Data'!F29 -> D25 | G53: ='Aligning Data'!G29 -> E25 | H53: ='Aligning Data'!H29 -> F25 | I53: ='Aligning Data'!I29 -> G25 | J53: ='Aligning Data'!J29 -> H25 | ... AF53: ='Aligning Data'!AF29 -> AD25
B54: 26
C55: ='Aligning Data'!C30 -> A26 | D55: ='Aligning Data'!D30 -> B26 | E55: ='Aligning Data'!E30 -> C26 | F55: ='Aligning Data'!F30 -> D26 | G55: ='Aligning Data'!G30 -> E26 | H55: ='Aligning Data'!H30 -> F26 | I55: ='Aligning Data'!I30 -> G26 | J55: ='Aligning Data'!J30 -> H26 | ... AF55: ='Aligning Data'!AF30 -> AD26
B56: 27 | C56: SPINK5 | D56: SPS2L | E56: SPTBN2 | F56: SPTLC1 | G56: Src | H56: SSC5D | I56: STAT3 | J56: Stathmin 1 | K56: STI1 | L56: STOM | M56: STXBP2 | N56: SUCLG1 | O56: SUMO3 | P56: SVEP1 | Q56: Symplekin | R56: SynCAM | S56: Synemin | T56: SYNPO2L | U56: Syntaxin 7 | V56: TAB182 | W56: Talin1 | X56: TARS | Y56: TAX1BP3 | Z56: TBCA | AA56: TCEB2 | AB56: Tcf20 | AC56: TCP1 delta | AD56: TCP1 eta | AE56: TCP1 theta | AF56: TCTP
C57: ='Aligning Data'!C31 -> A27 | D57: ='Aligning Data'!D31 -> B27 | E57: ='Aligning Data'!E31 -> C27 | F57: ='Aligning Data'!F31 -> D27 | G57: ='Aligning Data'!G31 -> E27 | H57: ='Aligning Data'!H31 -> F27 | I57: ='Aligning Data'!I31 -> G27 | J57: ='Aligning Data'!J31 -> H27 | ... AF57: ='Aligning Data'!AF31 -> AD27
B58: 28
C59: ='Aligning Data'!C32 -> A28 | D59: ='Aligning Data'!D32 -> B28 | E59: ='Aligning Data'!E32 -> C28 | F59: ='Aligning Data'!F32 -> D28 | G59: ='Aligning Data'!G32 -> E28 | H59: ='Aligning Data'!H32 -> F28 | I59: ='Aligning Data'!I32 -> G28 | J59: ='Aligning Data'!J32 -> H28 | ... AF59: ='Aligning Data'!AF32 -> AD28
B60: 29 | C60: TDIF2 | D60: Tenascin C | E60: Tenascin XB | F60: TFF2 | G60: TGM3 | H60: Thioredoxin-1 | I60: THOP1 | J60: TIF1 alpha | K60: TMEM103 | L60: TOB2 | M60: TOMM70A | N60: TOP2B | O60: TPD52L2 | P60: TPM4 | Q60: TPP1 | R60: TPPP3 | S60: TPR | T60: Transaldolase 1/TALDO1 | U60: Transthyretin | V60: TRAP1 | W60: TRAP220 | X60: TRF 2 | Y60: TRIM14 | Z60: Tropomyosin 3 | AA60: TRP-1 | AB60: TRPS1 | AC60: Trypsinogeb-2 | AD60: TSR2 | AE60: TTC3 | AF60: TTF1
C61: ='Aligning Data'!C33 -> A29 | D61: ='Aligning Data'!D33 -> B29 | E61: ='Aligning Data'!E33 -> C29 | F61: ='Aligning Data'!F33 -> D29 | G61: ='Aligning Data'!G33 -> E29 | H61: ='Aligning Data'!H33 -> F29 | I61: ='Aligning Data'!I33 -> G29 | J61: ='Aligning Data'!J33 -> H29 | ... AF61: ='Aligning Data'!AF33 -> AD29
B62: 30
C63: ='Aligning Data'!C34 -> A30 | D63: ='Aligning Data'!D34 -> B30 | E63: ='Aligning Data'!E34 -> C30 | F63: ='Aligning Data'!F34 -> D30 | G63: ='Aligning Data'!G34 -> E30 | H63: ='Aligning Data'!H34 -> F30 | I63: ='Aligning Data'!I34 -> G30 | J63: ='Aligning Data'!J34 -> H30 | ... AF63: ='Aligning Data'!AF34 -> AD30
B64: 31 | C64: TUBA6 | D64: TWF2 | E64: TXNDC15 | F64: TXNDC4 | G64: TXNDC5 | H64: TXNRD2 | I64: UBA1 | J64: UBE2D3 | K64: Ube2L3 | L64: UBE2N/Ubc13 | M64: UCH-L1 | N64: UFM 1 | O64: UGGT | P64: UMP/CMP | Q64: UNC13 Homolog D | R64: UNC45A | S64: UNC5H4 | T64: UPB1 | U64: UQCRB | V64: UQCRH | W64: URB | X64: URB2 | Y64: UROC1 | Z64: UROD | AA64: Uroguanylin | AB64: URP2 | AC64: USP14 | AD64: USP2 | AE64: USP5 | AF64: Uteroglobin
C65: ='Aligning Data'!C35 -> A31 | D65: ='Aligning Data'!D35 -> B31 | E65: ='Aligning Data'!E35 -> C31 | F65: ='Aligning Data'!F35 -> D31 | G65: ='Aligning Data'!G35 -> E31 | H65: ='Aligning Data'!H35 -> F31 | I65: ='Aligning Data'!I35 -> G31 | J65: ='Aligning Data'!J35 -> H31 | ... AF65: ='Aligning Data'!AF35 -> AD31
B66: 32
C67: ='Aligning Data'!C36 -> A32 | D67: ='Aligning Data'!D36 -> B32 | E67: ='Aligning Data'!E36 -> C32 | F67: ='Aligning Data'!F36 -> D32 | G67: ='Aligning Data'!G36 -> E32 | H67: ='Aligning Data'!H36 -> F32 | I67: ='Aligning Data'!I36 -> G32 | J67: ='Aligning Data'!J36 -> H32 | ... AF67: ='Aligning Data'!AF36 -> AD32
B68: 33 | C68: Utrophin | D68: VARS | E68: VAP-1 | F68: VAP-A | G68: VCP | H68: VDAC1 | I68: VILIP3 | J68: Vimentin | K68: VNN1 | L68: VPS4B | M68: VSIG4 | N68: WDR1 | O68: WDR44 | P68: WISP2 | Q68: WNK2 | R68: XPG | S68: YB1 | T68: YN1 | U68: YY1 | V68: ZAK | W68: zbtb11 | X68: ZBTB4 | Y68: ZC3H18 | Z68: ZC3H4-N-t | AA68: ZC3H8 | AB68: ZNF295 | AC68: Zyxin | AD68: Positive 2c | AE68: Positive 2b | AF68: Positive 2a
C69: ='Aligning Data'!C37 -> A33 | D69: ='Aligning Data'!D37 -> B33 | E69: ='Aligning Data'!E37 -> C33 | F69: ='Aligning Data'!F37 -> D33 | G69: ='Aligning Data'!G37 -> E33 | H69: ='Aligning Data'!H37 -> F33 | I69: ='Aligning Data'!I37 -> G33 | J69: ='Aligning Data'!J37 -> H33 | ... AF69: ='Aligning Data'!AF37 -> AD33
B70: 34
C71: ='Aligning Data'!C38 -> A34 | D71: ='Aligning Data'!D38 -> B34 | E71: ='Aligning Data'!E38 -> C34 | F71: ='Aligning Data'!F38 -> D34 | G71: ='Aligning Data'!G38 -> E34 | H71: ='Aligning Data'!H38 -> F34 | I71: ='Aligning Data'!I38 -> G34 | J71: ='Aligning Data'!J38 -> H34 | ... AF71: ='Aligning Data'!AF38 -> AD34
B72: 35 | C72: Blank | D72: Blank | E72: Blank | F72: Blank | G72: Blank | H72: Blank | I72: Blank | J72: Blank | K72: Blank | L72: Blank | M72: Blank | N72: Blank | O72: Blank | P72: Blank | Q72: Blank | R72: Blank | S72: Blank | T72: Blank | U72: Blank | V72: Blank | W72: Blank | X72: Blank | Y72: Blank | Z72: Blank | AA72: Blank | AB72: Blank | AC72: Blank | AD72: Blank | AE72: Blank | AF72: Blank
C73: ='Aligning Data'!C39 -> A35 | D73: ='Aligning Data'!D39 -> B35 | E73: ='Aligning Data'!E39 -> C35 | F73: ='Aligning Data'!F39 -> D35 | G73: ='Aligning Data'!G39 -> E35 | H73: ='Aligning Data'!H39 -> F35 | I73: ='Aligning Data'!I39 -> G35 | J73: ='Aligning Data'!J39 -> H35 | ... AF73: ='Aligning Data'!AF39 -> AD35
B74: 36
C75: ='Aligning Data'!C40 -> A36 | D75: ='Aligning Data'!D40 -> B36 | E75: ='Aligning Data'!E40 -> C36 | F75: ='Aligning Data'!F40 -> D36 | G75: ='Aligning Data'!G40 -> E36 | H75: ='Aligning Data'!H40 -> F36 | I75: ='Aligning Data'!I40 -> G36 | J75: ='Aligning Data'!J40 -> H36 | ... AF75: ='Aligning Data'!AF40 -> AD36
C77: ='Aligning Data'!C42 -> Sample 2
B78: 1 | C78: Positive 1a | D78: Positive 2a | E78: Positive 3a | F78: Neg | G78: AARE | H78: ACAT1 | I78: ACOT2 | J78: ADAM28 | K78: AHCY | L78: AK1 | M78: AKR1A1 | N78: ALDH2 | O78: alpha 5 D | P78: ANKRD9 | Q78: ANXA3 | R78: AP180 | S78: AP3S2 | T78: APLP2 | U78: ApoA V | V78: ASPM | W78: ASS1 | X78: ATOX1 | Y78: ATPG | Z78: AUTS2 | AA78: BAI2 | AB78: BarX1 | AC78: BBS1 | AD78: BE2I / UBC9 | AE78: BLM | AF78: BOLA2 | AH78: Background
C79: ='Aligning Data'!C43 -> A1 | D79: ='Aligning Data'!D43 -> B1 | E79: ='Aligning Data'!E43 -> C1 | F79: ='Aligning Data'!F43 -> D1 | G79: ='Aligning Data'!G43 -> E1 | H79: ='Aligning Data'!H43 -> F1 | I79: ='Aligning Data'!I43 -> G1 | J79: ='Aligning Data'!J43 -> H1 | ... AF79: ='Aligning Data'!AF43 -> AD1
B80: 2 | C80: Positive 1a | D80: Positive 2a | E80: Positive 3a | F80: Neg | G80: AARE | H80: ACAT1 | I80: ACOT2 | J80: ADAM28 | K80: AHCY | L80: AK1 | M80: AKR1A1 | N80: ALDH2 | O80: alpha 5 D | P80: ANKRD9 | Q80: ANXA3 | R80: AP180 | S80: AP3S2 | T80: APLP2 | U80: ApoA V | V80: ASPM | W80: ASS1 | X80: ATOX1 | Y80: ATPG | Z80: AUTS2 | AA80: BAI2 | AB80: BarX1 | AC80: BBS1 | AD80: BE2I / UBC9 | AE80: BLM | AF80: BOLA2
C81: ='Aligning Data'!C44 -> A2 | D81: ='Aligning Data'!D44 -> B2 | E81: ='Aligning Data'!E44 -> C2 | F81: ='Aligning Data'!F44 -> D2 | G81: ='Aligning Data'!G44 -> E2 | H81: ='Aligning Data'!H44 -> F2 | I81: ='Aligning Data'!I44 -> G2 | J81: ='Aligning Data'!J44 -> H2 | ... AF81: ='Aligning Data'!AF44 -> AD2
B82: 3 | C82: Neg | D82: Neg | E82: Neg | F82: C10orf58 | G82: CACNA1H | H82: Calpain 2 | I82: CaMK2 | J82: CaMK2D | K82: CBL | L82: CBR1 | M82: CCDC58 | N82: CCT6A | O82: CHCHD3 | P82: Cingulin | Q82: CIT | R82: CMG1 | S82: CNBP | T82: CNPY2 | U82: Coilin | V82: COL8A2 | W82: COLEC11 | X82: COPG2 | Y82: CORO1B | Z82: CPA3 | AA82: CPI17 alpha | AB82: CrkRS | AC82: CRLF3 | AD82: CSRP3 | AE82: CTNNAL1 | AF82: CTNND1
C83: ='Aligning Data'!C45 -> A3 | D83: ='Aligning Data'!D45 -> B3 | E83: ='Aligning Data'!E45 -> C3 | F83: ='Aligning Data'!F45 -> D3 | G83: ='Aligning Data'!G45 -> E3 | H83: ='Aligning Data'!H45 -> F3 | I83: ='Aligning Data'!I45 -> G3 | J83: ='Aligning Data'!J45 -> H3 | ... AF83: ='Aligning Data'!AF45 -> AD3
B84: 4 | C84: Neg | D84: Neg | E84: Neg | F84: C10orf58 | G84: CACNA1H | H84: Calpain 2 | I84: CaMK2 | J84: CaMK2D | K84: CBL | L84: CBR1 | M84: CCDC58 | N84: CCT6A | O84: CHCHD3 | P84: Cingulin | Q84: CIT | R84: CMG1 | S84: CNBP | T84: CNPY2 | U84: Coilin | V84: COL8A2 | W84: COLEC11 | X84: COPG2 | Y84: CORO1B | Z84: CPA3 | AA84: CPI17 alpha | AB84: CrkRS | AC84: CRLF3 | AD84: CSRP3 | AE84: CTNNAL1 | AF84: CTNND1
C85: ='Aligning Data'!C46 -> A4 | D85: ='Aligning Data'!D46 -> B4 | E85: ='Aligning Data'!E46 -> C4 | F85: ='Aligning Data'!F46 -> D4 | G85: ='Aligning Data'!G46 -> E4 | H85: ='Aligning Data'!H46 -> F4 | I85: ='Aligning Data'!I46 -> G4 | J85: ='Aligning Data'!J46 -> H4 | ... AF85: ='Aligning Data'!AF46 -> AD4
B86: 5 | C86: Cyclophilin F | D86: Cytochrome b5 | E86: DCAMKL1 | F86: Dematin | G86: DIAPH1 | H86: DKC1 | I86: DLST | J86: DMRT1 | K86: Dystrophin | L86: Ebf4 | M86: EBP50 | N86: ECHDC1 | O86: EHHADH | P86: EIF3D | Q86: eIF4A2 | R86: eIF4GII | S86: ENDOD1 | T86: EYA2 | U86: Factor VIII | V86: Filaggrin | W86: FITM1 | X86: GARS | Y86: GCC2 | Z86: GLI-2 | AA86: GLOD4 | AB86: GLUL | AC86: GMPR1 | AD86: GOLGA3 | AE86: GP2 | AF86: gp340
C87: ='Aligning Data'!C47 -> A5 | D87: ='Aligning Data'!D47 -> B5 | E87: ='Aligning Data'!E47 -> C5 | F87: ='Aligning Data'!F47 -> D5 | G87: ='Aligning Data'!G47 -> E5 | H87: ='Aligning Data'!H47 -> F5 | I87: ='Aligning Data'!I47 -> G5 | J87: ='Aligning Data'!J47 -> H5 | ... AF87: ='Aligning Data'!AF47 -> AD5
B88: 6 | C88: Cyclophilin F | D88: Cytochrome b5 | E88: DCAMKL1 | F88: Dematin | G88: DIAPH1 | H88: DKC1 | I88: DLST | J88: DMRT1 | K88: Dystrophin | L88: Ebf4 | M88: EBP50 | N88: ECHDC1 | O88: EHHADH | P88: EIF3D | Q88: eIF4A2 | R88: eIF4GII | S88: ENDOD1 | T88: EYA2 | U88: Factor VIII | V88: Filaggrin | W88: FITM1 | X88: GARS | Y88: GCC2 | Z88: GLI-2 | AA88: GLOD4 | AB88: GLUL | AC88: GMPR1 | AD88: GOLGA3 | AE88: GP2 | AF88: gp340
C89: ='Aligning Data'!C48 -> A6 | D89: ='Aligning Data'!D48 -> B6 | E89: ='Aligning Data'!E48 -> C6 | F89: ='Aligning Data'!F48 -> D6 | G89: ='Aligning Data'!G48 -> E6 | H89: ='Aligning Data'!H48 -> F6 | I89: ='Aligning Data'!I48 -> G6 | J89: ='Aligning Data'!J48 -> H6 | ... AF89: ='Aligning Data'!AF48 -> AD6
B90: 7 | C90: GTF2F1 | D90: HA1 | E90: HARS | F90: HIC1 | G90: HIP55 | H90: H1F0 | I90: HIST1H1B | J90: HIVEP2 | K90: hnRNP K | L90: hnRNP R | M90: HNRNPUL2 | N90: HNRPA3 | O90: HP1 g | P90: Importin 7 | Q90: Involucrin | R90: ISLR | S90: ITPR2 | T90: ITPR3 | U90: KCNAB3 | V90: LAMA5 | W90: LDB3 | X90: LHPP | Y90: LIPG | Z90: MAP4K4 | AA90: MICALL2 | AB90: MON2 | AC90: MPST | AD90: MRC2 | AE90: MSH3 | AF90: MTA2
C91: ='Aligning Data'!C49 -> A7 | D91: ='Aligning Data'!D49 -> B7 | E91: ='Aligning Data'!E49 -> C7 | F91: ='Aligning Data'!F49 -> D7 | G91: ='Aligning Data'!G49 -> E7 | H91: ='Aligning Data'!H49 -> F7 | I91: ='Aligning Data'!I49 -> G7 | J91: ='Aligning Data'!J49 -> H7 | ... AF91: ='Aligning Data'!AF49 -> AD7
B92: 8 | C92: GTF2F1 | D92: HA1 | E92: HARS | F92: HIC1 | G92: HIP55 | H92: H1F0 | I92: HIST1H1B | J92: HIVEP2 | K92: hnRNP K | L92: hnRNP R | M92: HNRNPUL2 | N92: HNRPA3 | O92: HP1 g | P92: Importin 7 | Q92: Involucrin | R92: ISLR | S92: ITPR2 | T92: ITPR3 | U92: KCNAB3 | V92: LAMA5 | W92: LDB3 | X92: LHPP | Y92: LIPG | Z92: MAP4K4 | AA92: MICALL2 | AB92: MON2 | AC92: MPST | AD92: MRC2 | AE92: MSH3 | AF92: MTA2
C93: ='Aligning Data'!C50 -> A8 | D93: ='Aligning Data'!D50 -> B8 | E93: ='Aligning Data'!E50 -> C8 | F93: ='Aligning Data'!F50 -> D8 | G93: ='Aligning Data'!G50 -> E8 | H93: ='Aligning Data'!H50 -> F8 | I93: ='Aligning Data'!I50 -> G8 | J93: ='Aligning Data'!J50 -> H8 | ... AF93: ='Aligning Data'!AF50 -> AD8
B94: 9 | C94: MTHFD1 | D94: MUC5B | E94: MVD | F94: Myosin IIB | G94: NACA1 | H94: NAGPA | I94: NAV2 | J94: NFATC4 | K94: NNT | L94: NPEPPS | M94: NQO2 | N94: NSFL1C | O94: Nucleobindin 1 | P94: NUP214 | Q94: OAF | R94: OIT3 | S94: OPCML | T94: Orosomucoid 2 | U94: OSBP1 | V94: OSCAR | W94: OSM R beta | X94: Osteoadherin | Y94: OTC | Z94: OTUB1 | AA94: OTUD7A | AB94: Oxytocin-neurophysin 1 | AC94: p16 ARC | AD94: p23 | AE94: p39 | AF94: P4HB
C95: ='Aligning Data'!C51 -> A9 | D95: ='Aligning Data'!D51 -> B9 | E95: ='Aligning Data'!E51 -> C9 | F95: ='Aligning Data'!F51 -> D9 | G95: ='Aligning Data'!G51 -> E9 | H95: ='Aligning Data'!H51 -> F9 | I95: ='Aligning Data'!I51 -> G9 | J95: ='Aligning Data'!J51 -> H9 | ... AF95: ='Aligning Data'!AF51 -> AD9
B96: 10 | C96: MTHFD1 | D96: MUC5B | E96: MVD | F96: Myosin IIB | G96: NACA1 | H96: NAGPA | I96: NAV2 | J96: NFATC4 | K96: NNT | L96: NPEPPS | M96: NQO2 | N96: NSFL1C | O96: Nucleobindin 1 | P96: NUP214 | Q96: OAF | R96: OIT3 | S96: OPCML | T96: Orosomucoid 2 | U96: OSBP1 | V96: OSCAR | W96: OSM R beta | X96: Osteoadherin | Y96: OTC | Z96: OTUB1 | AA96: OTUD7A | AB96: Oxytocin-neurophysin 1 | AC96: p16 ARC | AD96: p23 | AE96: p39 | AF96: P4HB
C97: ='Aligning Data'!C52 -> A10 | D97: ='Aligning Data'!D52 -> B10 | E97: ='Aligning Data'!E52 -> C10 | F97: ='Aligning Data'!F52 -> D10 | G97: ='Aligning Data'!G52 -> E10 | H97: ='Aligning Data'!H52 -> F10 | I97: ='Aligning Data'!I52 -> G10 | J97: ='Aligning Data'!J52 -> H10 | ... AF97: ='Aligning Data'!AF52 -> AD10
B98: 11 | C98: p73 | D98: PABP1 | E98: PACS1 | F98: PNLIP | G98: PARVB | H98: PCAP | I98: PCBP1 | J98: PCBP2 | K98: PCCA | L98: PCDH12 | M98: PCDH8 | N98: PCK2 | O98: PCMT1 | P98: PCNA | Q98: PCPE-1 | R98: PCSK9 | S98: PDAP1 | T98: PDE1B | U98: PDIA6 | V98: PDLIM1 | W98: PDLIM3 | X98: PDZD2 | Y98: PEBP1 | Z98: PEBP4 | AA98: PENK | AB98: PEPD | AC98: perilipin 3 | AD98: Perilipin-1 | AE98: Periostin | AF98: Periplakin
C99: ='Aligning Data'!C53 -> A11 | D99: ='Aligning Data'!D53 -> B11 | E99: ='Aligning Data'!E53 -> C11 | F99: ='Aligning Data'!F53 -> D11 | G99: ='Aligning Data'!G53 -> E11 | H99: ='Aligning Data'!H53 -> F11 | I99: ='Aligning Data'!I53 -> G11 | J99: ='Aligning Data'!J53 -> H11 | ... AF99: ='Aligning Data'!AF53 -> AD11
B100: 12 | C100: p73 | D100: PABP1 | E100: PACS1 | F100: PNLIP | G100: PARVB | H100: PCAP | I100: PCBP1 | J100: PCBP2 | K100: PCCA | L100: PCDH12 | M100: PCDH8 | N100: PCK2 | O100: PCMT1 | P100: PCNA | Q100: PCPE-1 | R100: PCSK9 | S100: PDAP1 | T100: PDE1B | U100: PDIA6 | V100: PDLIM1 | W100: PDLIM3 | X100: PDZD2 | Y100: PEBP1 | Z100: PEBP4 | AA100: PENK | AB100: PEPD | AC100: perilipin 3 | AD100: Perilipin-1 | AE100: Periostin | AF100: Periplakin
C101: ='Aligning Data'!C54 -> A12 | D101: ='Aligning Data'!D54 -> B12 | E101: ='Aligning Data'!E54 -> C12 | F101: ='Aligning Data'!F54 -> D12 | G101: ='Aligning Data'!G54 -> E12 | H101: ='Aligning Data'!H54 -> F12 | I101: ='Aligning Data'!I54 -> G12 | J101: ='Aligning Data'!J54 -> H12 | ... AF101: ='Aligning Data'!AF54 -> AD12
B102: 13 | C102: Peroxiredoxin 2 | D102: Peroxiredoxin 3 | E102: Peroxiredoxin-1 | F102: PFAS | G102: PFDN6 | H102: PFKL | I102: PGAM1 | J102: PGAM2 | K102: PGK-1 | L102: PGLS | M102: PG-M | N102: PGM1 | O102: PGRPL | P102: PHGDH | Q102: Piccolo | R102: pIgR | S102: PIK3C2B | T102: PIN | U102: PIP5K2 alpha | V102: PISD | W102: PLA2G1B | X102: Plastin 3 | Y102: Plastin L | Z102: PLBD2 | AA102: PLD4 | AB102: Plectin | AC102: Plexin B1 | AD102: Plexin B2 | AE102: PLOD1 | AF102: PLOD2
...

Sheet Sorting
B2: ='Map and Ab list'!B1 -> RayBio® Mouse Biotin Label Based Antibody Arrays -- L-2 Array, Membrane
B3: Sorting with Background
C4: ='Map and Ab list'!C3 -> Sample 1 | G4: ='Map and Ab list'!C77 -> Sample 2 | K4: ='Map and Ab list'!C151 -> Sample 3 | O4: ='Map and Ab list'!C225 -> Sample 4 | S4: ='Map and Ab list'!C299 -> Sample 5 | W4: ='Map and Ab list'!C373 -> Sample 6 | AA4: ='Map and Ab list'!C447 -> Sample 7 | AE4: ='Map and Ab list'!C521 -> Sample 8 | AI4: ='Map and Ab list'!C595 -> Sample 9 | AM4: ='Map and Ab list'!C669 -> Sample 10 | AQ4: ='Map and Ab list'!C743 -> Sample 11 | AU4: ='Map and Ab list'!C817 -> Sample 12
A5: 1 | B5: Positive Control | E5: =(SUM(OFFSET('Map and Ab list'!$C$5:$E$5,0,0,1,3))+SUM(OFFSET('Map and Ab list'!$C$7:$E$7,0,0,1,3))+SUM(OFFSET('Map and Ab list'!$AD$69:$AF$69,0,0,1,3))+SUM(OFFSET('Map and Ab list'!$AD$71:$AF$71,0,0,1,3)))/12 -> 0 | I5: =(SUM(OFFSET('Map and Ab list'!$C$5:$E$5,74,0,1,3))+SUM(OFFSET('Map and Ab list'!$C$7:$E$7,74,0,1,3))+SUM(OFFSET('Map and Ab list'!$AD$69:$AF$69,74,0,1,3))+SUM(OFFSET('Map and Ab list'!$AD$71:$AF$71,74,0,1,3)))/12 -> 0 | M5: =(SUM(OFFSET('Map and Ab list'!$C$5:$E$5,148,0,1,3))+SUM(OFFSET('Map and Ab list'!$C$7:$E$7,148,0,1,3))+SUM(OFFSET('Map and Ab list'!$AD$69:$AF$69,148,0,1,3))+SUM(OFFSET('Map and Ab list'!$AD$71:$AF$71,148,0,1,3)))/12 -> 0 | Q5: =(SUM(OFFSET('Map and Ab list'!$C$5:$E$5,222,0,1,3))+SUM(OFFSET('Map and Ab list'!$C$7:$E$7,222,0,1,3))+SUM(OFFSET('Map and Ab list'!$AD$69:$AF$69,222,0,1,3))+SUM(OFFSET('Map and Ab list'!$AD$71:$AF$71,222,0,1,3)))/12 -> 0 | U5: =(SUM(OFFSET('Map and Ab list'!$C$5:$E$5,296,0,1,3))+SUM(OFFSET('Map and Ab list'!$C$7:$E$7,296,0,1,3))+SUM(OFFSET('Map and Ab list'!$AD$69:$AF$69,296,0,1,3))+SUM(OFFSET('Map and Ab list'!$AD$71:$AF$71,296,0,1,3)))/12 -> 0 | Y5: =(SUM(OFFSET('Map and Ab list'!$C$5:$E$5,370,0,1,3))+SUM(OFFSET('Map and Ab list'!$C$7:$E$7,370,0,1,3))+SUM(OFFSET('Map and Ab list'!$AD$69:$AF$69,370,0,1,3))+SUM(OFFSET('Map and Ab list'!$AD$71:$AF$71,370,0,1,3)))/12 -> 0 | AC5: =(SUM(OFFSET('Map and Ab list'!$C$5:$E$5,444,0,1,3))+SUM(OFFSET('Map and Ab list'!$C$7:$E$7,444,0,1,3))+SUM(OFFSET('Map and Ab list'!$AD$69:$AF$69,444,0,1,3))+SUM(OFFSET('Map and Ab list'!$AD$71:$AF$71,444,0,1,3)))/12 -> 0 | AG5: =(SUM(OFFSET('Map and Ab list'!$C$5:$E$5,518,0,1,3))+SUM(OFFSET('Map and Ab list'!$C$7:$E$7,518,0,1,3))+SUM(OFFSET('Map and Ab list'!$AD$69:$AF$69,518,0,1,3))+SUM(OFFSET('Map and Ab list'!$AD$71:$AF$71,518,0,1,3)))/12 -> 0 | AK5: =(SUM(OFFSET('Map and Ab list'!$C$5:$E$5,592,0,1,3))+SUM(OFFSET('Map and Ab list'!$C$7:$E$7,592,0,1,3))+SUM(OFFSET('Map and Ab list'!$AD$69:$AF$69,592,0,1,3))+SUM(OFFSET('Map and Ab list'!$AD$71:$AF$71,592,0,1,3)))/12 -> 0 | AO5: =(SUM(OFFSET('Map and Ab list'!$C$5:$E$5,666,0,1,3))+SUM(OFFSET('Map and Ab list'!$C$7:$E$7,666,0,1,3))+SUM(OFFSET('Map and Ab list'!$AD$69:$AF$69,666,0,1,3))+SUM(OFFSET('Map and Ab list'!$AD$71:$AF$71,666,0,1,3)))/12 -> 0 | AS5: =(SUM(OFFSET('Map and Ab list'!$C$5:$E$5,740,0,1,3))+SUM(OFFSET('Map and Ab list'!$C$7:$E$7,740,0,1,3))+SUM(OFFSET('Map and Ab list'!$AD$69:$AF$69,740,0,1,3))+SUM(OFFSET('Map and Ab list'!$AD$71:$AF$71,740,0,1,3)))/12 -> 0 | AW5: =(SUM(OFFSET('Map and Ab list'!$C$5:$E$5,814,0,1,3))+SUM(OFFSET('Map and Ab list'!$C$7:$E$7,814,0,1,3))+SUM(OFFSET('Map and Ab list'!$AD$69:$AF$69,814,0,1,3))+SUM(OFFSET('Map and Ab list'!$AD$71:$AF$71,814,0,1,3)))/12 -> 0
A6: 2 | B6: Neg | E6: =(OFFSET('Map and Ab list'!$F$5,0,0,1,1)+OFFSET('Map and Ab list'!$F$7,0,0,1,1)+SUM(OFFSET('Map and Ab list'!$C$9:$E$9,0,0,1,3))+SUM(OFFSET('Map and Ab list'!$C$11:$E$11,0,0,1,3)))/8 -> #VALUE! | I6: =(OFFSET('Map and Ab list'!$F$5,74,0,1,1)+OFFSET('Map and Ab list'!$F$7,74,0,1,1)+SUM(OFFSET('Map and Ab list'!$C$9:$E$9,74,0,1,3))+SUM(OFFSET('Map and Ab list'!$C$11:$E$11,74,0,1,3)))/8 -> #VALUE! | M6: =(OFFSET('Map and Ab list'!$F$5,148,0,1,1)+OFFSET('Map and Ab list'!$F$7,148,0,1,1)+SUM(OFFSET('Map and Ab list'!$C$9:$E$9,148,0,1,3))+SUM(OFFSET('Map and Ab list'!$C$11:$E$11,148,0,1,3)))/8 -> #VALUE! | Q6: =(OFFSET('Map and Ab list'!$F$5,222,0,1,1)+OFFSET('Map and Ab list'!$F$7,222,0,1,1)+SUM(OFFSET('Map and Ab list'!$C$9:$E$9,222,0,1,3))+SUM(OFFSET('Map and Ab list'!$C$11:$E$11,222,0,1,3)))/8 -> #VALUE! | U6: =(OFFSET('Map and Ab list'!$F$5,296,0,1,1)+OFFSET('Map and Ab list'!$F$7,296,0,1,1)+SUM(OFFSET('Map and Ab list'!$C$9:$E$9,296,0,1,3))+SUM(OFFSET('Map and Ab list'!$C$11:$E$11,296,0,1,3)))/8 -> #VALUE! | Y6: =(OFFSET('Map and Ab list'!$F$5,370,0,1,1)+OFFSET('Map and Ab list'!$F$7,370,0,1,1)+SUM(OFFSET('Map and Ab list'!$C$9:$E$9,370,0,1,3))+SUM(OFFSET('Map and Ab list'!$C$11:$E$11,370,0,1,3)))/8 -> #VALUE! | AC6: =(OFFSET('Map and Ab list'!$F$5,444,0,1,1)+OFFSET('Map and Ab list'!$F$7,444,0,1,1)+SUM(OFFSET('Map and Ab list'!$C$9:$E$9,444,0,1,3))+SUM(OFFSET('Map and Ab list'!$C$11:$E$11,444,0,1,3)))/8 -> #VALUE! | AG6: =(OFFSET('Map and Ab list'!$F$5,518,0,1,1)+OFFSET('Map and Ab list'!$F$7,518,0,1,1)+SUM(OFFSET('Map and Ab list'!$C$9:$E$9,518,0,1,3))+SUM(OFFSET('Map and Ab list'!$C$11:$E$11,518,0,1,3)))/8 -> #VALUE! | AK6: =(OFFSET('Map and Ab list'!$F$5,592,0,1,1)+OFFSET('Map and Ab list'!$F$7,592,0,1,1)+SUM(OFFSET('Map and Ab list'!$C$9:$E$9,592,0,1,3))+SUM(OFFSET('Map and Ab list'!$C$11:$E$11,592,0,1,3)))/8 -> #VALUE! | AO6: =(OFFSET('Map and Ab list'!$F$5,666,0,1,1)+OFFSET('Map and Ab list'!$F$7,666,0,1,1)+SUM(OFFSET('Map and Ab list'!$C$9:$E$9,666,0,1,3))+SUM(OFFSET('Map and Ab list'!$C$11:$E$11,666,0,1,3)))/8 -> #VALUE! | AS6: =(OFFSET('Map and Ab list'!$F$5,740,0,1,1)+OFFSET('Map and Ab list'!$F$7,740,0,1,1)+SUM(OFFSET('Map and Ab list'!$C$9:$E$9,740,0,1,3))+SUM(OFFSET('Map and Ab list'!$C$11:$E$11,740,0,1,3)))/8 -> #VALUE! | AW6: =(OFFSET('Map and Ab list'!$F$5,814,0,1,1)+OFFSET('Map and Ab list'!$F$7,814,0,1,1)+SUM(OFFSET('Map and Ab list'!$C$9:$E$9,814,0,1,3))+SUM(OFFSET('Map and Ab list'!$C$11:$E$11,814,0,1,3)))/8 -> #VALUE!
A7: 3 | B7: AARE | C7: ='Map and Ab list'!G5 -> E1 | D7: ='Map and Ab list'!G7 -> E2 | E7: =(C7+D7)/2 -> #VALUE! | G7: ='Map and Ab list'!G79 -> E1 | H7: ='Map and Ab list'!G81 -> E2 | I7: =(G7+H7)/2 -> #VALUE! | K7: ='Map and Ab list'!G153 -> E1 | L7: ='Map and Ab list'!G155 -> E2 | M7: =(K7+L7)/2 -> #VALUE! | O7: ='Map and Ab list'!G227 -> E1 | P7: ='Map and Ab list'!G229 -> E2 | Q7: =(O7+P7)/2 -> #VALUE! | S7: ='Map and Ab list'!G301 -> E1 | T7: ='Map and Ab list'!G303 -> E2 | U7: =(S7+T7)/2 -> #VALUE! | W7: ='Map and Ab list'!G375 -> E1 | X7: ='Map and Ab list'!G377 -> E2 | Y7: =(W7+X7)/2 -> #VALUE! | AA7: ='Map and Ab list'!G449 -> E1 | AB7: ='Map and Ab list'!G451 -> E2 | AC7: =(AA7+AB7)/2 -> #VALUE! | AE7: ='Map and Ab list'!G523 -> E1 | AF7: ='Map and Ab list'!G525 -> E2 | AG7: =(AE7+AF7)/2 -> #VALUE! | AI7: ='Map and Ab list'!G597 -> E1 | AJ7: ='Map and Ab list'!G599 -> E2 | AK7: =(AI7+AJ7)/2 -> #VALUE! | AM7: ='Map and Ab list'!G671 -> E1 | AN7: ='Map and Ab list'!G673 -> E2 | AO7: =(AM7+AN7)/2 -> #VALUE! | AQ7: ='Map and Ab list'!G745 -> E1 | AR7: ='Map and Ab list'!G747 -> E2 | AS7: =(AQ7+AR7)/2 -> #VALUE! | AU7: ='Map and Ab list'!G819 -> E1 | AV7: ='Map and Ab list'!G821 -> E2 | AW7: =(AU7+AV7)/2 -> #VALUE!
A8: 4 | B8: ACAT1 | C8: ='Map and Ab list'!H5 -> F1 | D8: ='Map and Ab list'!H7 -> F2 | E8: =(C8+D8)/2 -> #VALUE! | G8: ='Map and Ab list'!H79 -> F1 | H8: ='Map and Ab list'!H81 -> F2 | I8: =(G8+H8)/2 -> #VALUE! | K8: ='Map and Ab list'!H153 -> F1 | L8: ='Map and Ab list'!H155 -> F2 | M8: =(K8+L8)/2 -> #VALUE! | O8: ='Map and Ab list'!H227 -> F1 | P8: ='Map and Ab list'!H229 -> F2 | Q8: =(O8+P8)/2 -> #VALUE! | S8: ='Map and Ab list'!H301 -> F1 | T8: ='Map and Ab list'!H303 -> F2 | U8: =(S8+T8)/2 -> #VALUE! | W8: ='Map and Ab list'!H375 -> F1 | X8: ='Map and Ab list'!H377 -> F2 | Y8: =(W8+X8)/2 -> #VALUE! | AA8: ='Map and Ab list'!H449 -> F1 | AB8: ='Map and Ab list'!H451 -> F2 | AC8: =(AA8+AB8)/2 -> #VALUE! | AE8: ='Map and Ab list'!H523 -> F1 | AF8: ='Map and Ab list'!H525 -> F2 | AG8: =(AE8+AF8)/2 -> #VALUE! | AI8: ='Map and Ab list'!H597 -> F1 | AJ8: ='Map and Ab list'!H599 -> F2 | AK8: =(AI8+AJ8)/2 -> #VALUE! | AM8: ='Map and Ab list'!H671 -> F1 | AN8: ='Map and Ab list'!H673 -> F2 | AO8: =(AM8+AN8)/2 -> #VALUE! | AQ8: ='Map and Ab list'!H745 -> F1 | AR8: ='Map and Ab list'!H747 -> F2 | AS8: =(AQ8+AR8)/2 -> #VALUE! | AU8: ='Map and Ab list'!H819 -> F1 | AV8: ='Map and Ab list'!H821 -> F2 | AW8: =(AU8+AV8)/2 -> #VALUE!
A9: 5 | B9: ACOT2 | C9: ='Map and Ab list'!I5 -> G1 | D9: ='Map and Ab list'!I7 -> G2 | E9: =(C9+D9)/2 -> #VALUE! | G9: ='Map and Ab list'!I79 -> G1 | H9: ='Map and Ab list'!I81 -> G2 | I9: =(G9+H9)/2 -> #VALUE! | K9: ='Map and Ab list'!I153 -> G1 | L9: ='Map and Ab list'!I155 -> G2 | M9: =(K9+L9)/2 -> #VALUE! | O9: ='Map and Ab list'!I227 -> G1 | P9: ='Map and Ab list'!I229 -> G2 | Q9: =(O9+P9)/2 -> #VALUE! | S9: ='Map and Ab list'!I301 -> G1 | T9: ='Map and Ab list'!I303 -> G2 | U9: =(S9+T9)/2 -> #VALUE! | W9: ='Map and Ab list'!I375 -> G1 | X9: ='Map and Ab list'!I377 -> G2 | Y9: =(W9+X9)/2 -> #VALUE! | AA9: ='Map and Ab list'!I449 -> G1 | AB9: ='Map and Ab list'!I451 -> G2 | AC9: =(AA9+AB9)/2 -> #VALUE! | AE9: ='Map and Ab list'!I523 -> G1 | AF9: ='Map and Ab list'!I525 -> G2 | AG9: =(AE9+AF9)/2 -> #VALUE! | AI9: ='Map and Ab list'!I597 -> G1 | AJ9: ='Map and Ab list'!I599 -> G2 | AK9: =(AI9+AJ9)/2 -> #VALUE! | AM9: ='Map and Ab list'!I671 -> G1 | AN9: ='Map and Ab list'!I673 -> G2 | AO9: =(AM9+AN9)/2 -> #VALUE! | AQ9: ='Map and Ab list'!I745 -> G1 | AR9: ='Map and Ab list'!I747 -> G2 | AS9: =(AQ9+AR9)/2 -> #VALUE! | AU9: ='Map and Ab list'!I819 -> G1 | AV9: ='Map and Ab list'!I821 -> G2 | AW9: =(AU9+AV9)/2 -> #VALUE!
A10: 6 | B10: ADAM28 | C10: ='Map and Ab list'!J5 -> H1 | D10: ='Map and Ab list'!J7 -> H2 | E10: =(C10+D10)/2 -> #VALUE! | G10: ='Map and Ab list'!J79 -> H1 | H10: ='Map and Ab list'!J81 -> H2 | I10: =(G10+H10)/2 -> #VALUE! | K10: ='Map and Ab list'!J153 -> H1 | L10: ='Map and Ab list'!J155 -> H2 | M10: =(K10+L10)/2 -> #VALUE! | O10: ='Map and Ab list'!J227 -> H1 | P10: ='Map and Ab list'!J229 -> H2 | Q10: =(O10+P10)/2 -> #VALUE! | S10: ='Map and Ab list'!J301 -> H1 | T10: ='Map and Ab list'!J303 -> H2 | U10: =(S10+T10)/2 -> #VALUE! | W10: ='Map and Ab list'!J375 -> H1 | X10: ='Map and Ab list'!J377 -> H2 | Y10: =(W10+X10)/2 -> #VALUE! | AA10: ='Map and Ab list'!J449 -> H1 | AB10: ='Map and Ab list'!J451 -> H2 | AC10: =(AA10+AB10)/2 -> #VALUE! | AE10: ='Map and Ab list'!J523 -> H1 | AF10: ='Map and Ab list'!J525 -> H2 | AG10: =(AE10+AF10)/2 -> #VALUE! | AI10: ='Map and Ab list'!J597 -> H1 | AJ10: ='Map and Ab list'!J599 -> H2 | AK10: =(AI10+AJ10)/2 -> #VALUE! | AM10: ='Map and Ab list'!J671 -> H1 | AN10: ='Map and Ab list'!J673 -> H2 | AO10: =(AM10+AN10)/2 -> #VALUE! | AQ10: ='Map and Ab list'!J745 -> H1 | AR10: ='Map and Ab list'!J747 -> H2 | AS10: =(AQ10+AR10)/2 -> #VALUE! | AU10: ='Map and Ab list'!J819 -> H1 | AV10: ='Map and Ab list'!J821 -> H2 | AW10: =(AU10+AV10)/2 -> #VALUE!
A11: 7 | B11: AHCY | C11: ='Map and Ab list'!K5 -> I1 | D11: ='Map and Ab list'!K7 -> I2 | E11: =(C11+D11)/2 -> #VALUE! | G11: ='Map and Ab list'!K79 -> I1 | H11: ='Map and Ab list'!K81 -> I2 | I11: =(G11+H11)/2 -> #VALUE! | K11: ='Map and Ab list'!K153 -> I1 | L11: ='Map and Ab list'!K155 -> I2 | M11: =(K11+L11)/2 -> #VALUE! | O11: ='Map and Ab list'!K227 -> I1 | P11: ='Map and Ab list'!K229 -> I2 | Q11: =(O11+P11)/2 -> #VALUE! | S11: ='Map and Ab list'!K301 -> I1 | T11: ='Map and Ab list'!K303 -> I2 | U11: =(S11+T11)/2 -> #VALUE! | W11: ='Map and Ab list'!K375 -> I1 | X11: ='Map and Ab list'!K377 -> I2 | Y11: =(W11+X11)/2 -> #VALUE! | AA11: ='Map and Ab list'!K449 -> I1 | AB11: ='Map and Ab list'!K451 -> I2 | AC11: =(AA11+AB11)/2 -> #VALUE! | AE11: ='Map and Ab list'!K523 -> I1 | AF11: ='Map and Ab list'!K525 -> I2 | AG11: =(AE11+AF11)/2 -> #VALUE! | AI11: ='Map and Ab list'!K597 -> I1 | AJ11: ='Map and Ab list'!K599 -> I2 | AK11: =(AI11+AJ11)/2 -> #VALUE! | AM11: ='Map and Ab list'!K671 -> I1 | AN11: ='Map and Ab list'!K673 -> I2 | AO11: =(AM11+AN11)/2 -> #VALUE! | AQ11: ='Map and Ab list'!K745 -> I1 | AR11: ='Map and Ab list'!K747 -> I2 | AS11: =(AQ11+AR11)/2 -> #VALUE! | AU11: ='Map and Ab list'!K819 -> I1 | AV11: ='Map and Ab list'!K821 -> I2 | AW11: =(AU11+AV11)/2 -> #VALUE!
A12: 8 | B12: AK1 | C12: ='Map and Ab list'!L5 -> J1 | D12: ='Map and Ab list'!L7 -> J2 | E12: =(C12+D12)/2 -> #VALUE! | G12: ='Map and Ab list'!L79 -> J1 | H12: ='Map and Ab list'!L81 -> J2 | I12: =(G12+H12)/2 -> #VALUE! | K12: ='Map and Ab list'!L153 -> J1 | L12: ='Map and Ab list'!L155 -> J2 | M12: =(K12+L12)/2 -> #VALUE! | O12: ='Map and Ab list'!L227 -> J1 | P12: ='Map and Ab list'!L229 -> J2 | Q12: =(O12+P12)/2 -> #VALUE! | S12: ='Map and Ab list'!L301 -> J1 | T12: ='Map and Ab list'!L303 -> J2 | U12: =(S12+T12)/2 -> #VALUE! | W12: ='Map and Ab list'!L375 -> J1 | X12: ='Map and Ab list'!L377 -> J2 | Y12: =(W12+X12)/2 -> #VALUE! | AA12: ='Map and Ab list'!L449 -> J1 | AB12: ='Map and Ab list'!L451 -> J2 | AC12: =(AA12+AB12)/2 -> #VALUE! | AE12: ='Map and Ab list'!L523 -> J1 | AF12: ='Map and Ab list'!L525 -> J2 | AG12: =(AE12+AF12)/2 -> #VALUE! | AI12: ='Map and Ab list'!L597 -> J1 | AJ12: ='Map and Ab list'!L599 -> J2 | AK12: =(AI12+AJ12)/2 -> #VALUE! | AM12: ='Map and Ab list'!L671 -> J1 | AN12: ='Map and Ab list'!L673 -> J2 | AO12: =(AM12+AN12)/2 -> #VALUE! | AQ12: ='Map and Ab list'!L745 -> J1 | AR12: ='Map and Ab list'!L747 -> J2 | AS12: =(AQ12+AR12)/2 -> #VALUE! | AU12: ='Map and Ab list'!L819 -> J1 | AV12: ='Map and Ab list'!L821 -> J2 | AW12: =(AU12+AV12)/2 -> #VALUE!
A13: 9 | B13: AKR1A1 | C13: ='Map and Ab list'!M5 -> K1 | D13: ='Map and Ab list'!M7 -> K2 | E13: =(C13+D13)/2 -> #VALUE! | G13: ='Map and Ab list'!M79 -> K1 | H13: ='Map and Ab list'!M81 -> K2 | I13: =(G13+H13)/2 -> #VALUE! | K13: ='Map and Ab list'!M153 -> K1 | L13: ='Map and Ab list'!M155 -> K2 | M13: =(K13+L13)/2 -> #VALUE! | O13: ='Map and Ab list'!M227 -> K1 | P13: ='Map and Ab list'!M229 -> K2 | Q13: =(O13+P13)/2 -> #VALUE! | S13: ='Map and Ab list'!M301 -> K1 | T13: ='Map and Ab list'!M303 -> K2 | U13: =(S13+T13)/2 -> #VALUE! | W13: ='Map and Ab list'!M375 -> K1 | X13: ='Map and Ab list'!M377 -> K2 | Y13: =(W13+X13)/2 -> #VALUE! | AA13: ='Map and Ab list'!M449 -> K1 | AB13: ='Map and Ab list'!M451 -> K2 | AC13: =(AA13+AB13)/2 -> #VALUE! | AE13: ='Map and Ab list'!M523 -> K1 | AF13: ='Map and Ab list'!M525 -> K2 | AG13: =(AE13+AF13)/2 -> #VALUE! | AI13: ='Map and Ab list'!M597 -> K1 | AJ13: ='Map and Ab list'!M599 -> K2 | AK13: =(AI13+AJ13)/2 -> #VALUE! | AM13: ='Map and Ab list'!M671 -> K1 | AN13: ='Map and Ab list'!M673 -> K2 | AO13: =(AM13+AN13)/2 -> #VALUE! | AQ13: ='Map and Ab list'!M745 -> K1 | AR13: ='Map and Ab list'!M747 -> K2 | AS13: =(AQ13+AR13)/2 -> #VALUE! | AU13: ='Map and Ab list'!M819 -> K1 | AV13: ='Map and Ab list'!M821 -> K2 | AW13: =(AU13+AV13)/2 -> #VALUE!
A14: 10 | B14: ALDH2 | C14: ='Map and Ab list'!N5 -> L1 | D14: ='Map and Ab list'!N7 -> L2 | E14: =(C14+D14)/2 -> #VALUE! | G14: ='Map and Ab list'!N79 -> L1 | H14: ='Map and Ab list'!N81 -> L2 | I14: =(G14+H14)/2 -> #VALUE! | K14: ='Map and Ab list'!N153 -> L1 | L14: ='Map and Ab list'!N155 -> L2 | M14: =(K14+L14)/2 -> #VALUE! | O14: ='Map and Ab list'!N227 -> L1 | P14: ='Map and Ab list'!N229 -> L2 | Q14: =(O14+P14)/2 -> #VALUE! | S14: ='Map and Ab list'!N301 -> L1 | T14: ='Map and Ab list'!N303 -> L2 | U14: =(S14+T14)/2 -> #VALUE! | W14: ='Map and Ab list'!N375 -> L1 | X14: ='Map and Ab list'!N377 -> L2 | Y14: =(W14+X14)/2 -> #VALUE! | AA14: ='Map and Ab list'!N449 -> L1 | AB14: ='Map and Ab list'!N451 -> L2 | AC14: =(AA14+AB14)/2 -> #VALUE! | AE14: ='Map and Ab list'!N523 -> L1 | AF14: ='Map and Ab list'!N525 -> L2 | AG14: =(AE14+AF14)/2 -> #VALUE! | AI14: ='Map and Ab list'!N597 -> L1 | AJ14: ='Map and Ab list'!N599 -> L2 | AK14: =(AI14+AJ14)/2 -> #VALUE! | AM14: ='Map and Ab list'!N671 -> L1 | AN14: ='Map and Ab list'!N673 -> L2 | AO14: =(AM14+AN14)/2 -> #VALUE! | AQ14: ='Map and Ab list'!N745 -> L1 | AR14: ='Map and Ab list'!N747 -> L2 | AS14: =(AQ14+AR14)/2 -> #VALUE! | AU14: ='Map and Ab list'!N819 -> L1 | AV14: ='Map and Ab list'!N821 -> L2 | AW14: =(AU14+AV14)/2 -> #VALUE!
A15: 11 | B15: alpha 5 D | C15: ='Map and Ab list'!O5 -> M1 | D15: ='Map and Ab list'!O7 -> M2 | E15: =(C15+D15)/2 -> #VALUE! | G15: ='Map and Ab list'!O79 -> M1 | H15: ='Map and Ab list'!O81 -> M2 | I15: =(G15+H15)/2 -> #VALUE! | K15: ='Map and Ab list'!O153 -> M1 | L15: ='Map and Ab list'!O155 -> M2 | M15: =(K15+L15)/2 -> #VALUE! | O15: ='Map and Ab list'!O227 -> M1 | P15: ='Map and Ab list'!O229 -> M2 | Q15: =(O15+P15)/2 -> #VALUE! | S15: ='Map and Ab list'!O301 -> M1 | T15: ='Map and Ab list'!O303 -> M2 | U15: =(S15+T15)/2 -> #VALUE! | W15: ='Map and Ab list'!O375 -> M1 | X15: ='Map and Ab list'!O377 -> M2 | Y15: =(W15+X15)/2 -> #VALUE! | AA15: ='Map and Ab list'!O449 -> M1 | AB15: ='Map and Ab list'!O451 -> M2 | AC15: =(AA15+AB15)/2 -> #VALUE! | AE15: ='Map and Ab list'!O523 -> M1 | AF15: ='Map and Ab list'!O525 -> M2 | AG15: =(AE15+AF15)/2 -> #VALUE! | AI15: ='Map and Ab list'!O597 -> M1 | AJ15: ='Map and Ab list'!O599 -> M2 | AK15: =(AI15+AJ15)/2 -> #VALUE! | AM15: ='Map and Ab list'!O671 -> M1 | AN15: ='Map and Ab list'!O673 -> M2 | AO15: =(AM15+AN15)/2 -> #VALUE! | AQ15: ='Map and Ab list'!O745 -> M1 | AR15: ='Map and Ab list'!O747 -> M2 | AS15: =(AQ15+AR15)/2 -> #VALUE! | AU15: ='Map and Ab list'!O819 -> M1 | AV15: ='Map and Ab list'!O821 -> M2 | AW15: =(AU15+AV15)/2 -> #VALUE!
A16: 12 | B16: ANKRD9 | C16: ='Map and Ab list'!P5 -> N1 | D16: ='Map and Ab list'!P7 -> N2 | E16: =(C16+D16)/2 -> #VALUE! | G16: ='Map and Ab list'!P79 -> N1 | H16: ='Map and Ab list'!P81 -> N2 | I16: =(G16+H16)/2 -> #VALUE! | K16: ='Map and Ab list'!P153 -> N1 | L16: ='Map and Ab list'!P155 -> N2 | M16: =(K16+L16)/2 -> #VALUE! | O16: ='Map and Ab list'!P227 -> N1 | P16: ='Map and Ab list'!P229 -> N2 | Q16: =(O16+P16)/2 -> #VALUE! | S16: ='Map and Ab list'!P301 -> N1 | T16: ='Map and Ab list'!P303 -> N2 | U16: =(S16+T16)/2 -> #VALUE! | W16: ='Map and Ab list'!P375 -> N1 | X16: ='Map and Ab list'!P377 -> N2 | Y16: =(W16+X16)/2 -> #VALUE! | AA16: ='Map and Ab list'!P449 -> N1 | AB16: ='Map and Ab list'!P451 -> N2 | AC16: =(AA16+AB16)/2 -> #VALUE! | AE16: ='Map and Ab list'!P523 -> N1 | AF16: ='Map and Ab list'!P525 -> N2 | AG16: =(AE16+AF16)/2 -> #VALUE! | AI16: ='Map and Ab list'!P597 -> N1 | AJ16: ='Map and Ab list'!P599 -> N2 | AK16: =(AI16+AJ16)/2 -> #VALUE! | AM16: ='Map and Ab list'!P671 -> N1 | AN16: ='Map and Ab list'!P673 -> N2 | AO16: =(AM16+AN16)/2 -> #VALUE! | AQ16: ='Map and Ab list'!P745 -> N1 | AR16: ='Map and Ab list'!P747 -> N2 | AS16: =(AQ16+AR16)/2 -> #VALUE! | AU16: ='Map and Ab list'!P819 -> N1 | AV16: ='Map and Ab list'!P821 -> N2 | AW16: =(AU16+AV16)/2 -> #VALUE!
A17: 13 | B17: ANXA3 | C17: ='Map and Ab list'!Q5 -> O1 | D17: ='Map and Ab list'!Q7 -> O2 | E17: =(C17+D17)/2 -> #VALUE! | G17: ='Map and Ab list'!Q79 -> O1 | H17: ='Map and Ab list'!Q81 -> O2 | I17: =(G17+H17)/2 -> #VALUE! | K17: ='Map and Ab list'!Q153 -> O1 | L17: ='Map and Ab list'!Q155 -> O2 | M17: =(K17+L17)/2 -> #VALUE! | O17: ='Map and Ab list'!Q227 -> O1 | P17: ='Map and Ab list'!Q229 -> O2 | Q17: =(O17+P17)/2 -> #VALUE! | S17: ='Map and Ab list'!Q301 -> O1 | T17: ='Map and Ab list'!Q303 -> O2 | U17: =(S17+T17)/2 -> #VALUE! | W17: ='Map and Ab list'!Q375 -> O1 | X17: ='Map and Ab list'!Q377 -> O2 | Y17: =(W17+X17)/2 -> #VALUE! | AA17: ='Map and Ab list'!Q449 -> O1 | AB17: ='Map and Ab list'!Q451 -> O2 | AC17: =(AA17+AB17)/2 -> #VALUE! | AE17: ='Map and Ab list'!Q523 -> O1 | AF17: ='Map and Ab list'!Q525 -> O2 | AG17: =(AE17+AF17)/2 -> #VALUE! | AI17: ='Map and Ab list'!Q597 -> O1 | AJ17: ='Map and Ab list'!Q599 -> O2 | AK17: =(AI17+AJ17)/2 -> #VALUE! | AM17: ='Map and Ab list'!Q671 -> O1 | AN17: ='Map and Ab list'!Q673 -> O2 | AO17: =(AM17+AN17)/2 -> #VALUE! | AQ17: ='Map and Ab list'!Q745 -> O1 | AR17: ='Map and Ab list'!Q747 -> O2 | AS17: =(AQ17+AR17)/2 -> #VALUE! | AU17: ='Map and Ab list'!Q819 -> O1 | AV17: ='Map and Ab list'!Q821 -> O2 | AW17: =(AU17+AV17)/2 -> #VALUE!
A18: 14 | B18: AP180 | C18: ='Map and Ab list'!R5 -> P1 | D18: ='Map and Ab list'!R7 -> P2 | E18: =(C18+D18)/2 -> #VALUE! | G18: ='Map and Ab list'!R79 -> P1 | H18: ='Map and Ab list'!R81 -> P2 | I18: =(G18+H18)/2 -> #VALUE! | K18: ='Map and Ab list'!R153 -> P1 | L18: ='Map and Ab list'!R155 -> P2 | M18: =(K18+L18)/2 -> #VALUE! | O18: ='Map and Ab list'!R227 -> P1 | P18: ='Map and Ab list'!R229 -> P2 | Q18: =(O18+P18)/2 -> #VALUE! | S18: ='Map and Ab list'!R301 -> P1 | T18: ='Map and Ab list'!R303 -> P2 | U18: =(S18+T18)/2 -> #VALUE! | W18: ='Map and Ab list'!R375 -> P1 | X18: ='Map and Ab list'!R377 -> P2 | Y18: =(W18+X18)/2 -> #VALUE! | AA18: ='Map and Ab list'!R449 -> P1 | AB18: ='Map and Ab list'!R451 -> P2 | AC18: =(AA18+AB18)/2 -> #VALUE! | AE18: ='Map and Ab list'!R523 -> P1 | AF18: ='Map and Ab list'!R525 -> P2 | AG18: =(AE18+AF18)/2 -> #VALUE! | AI18: ='Map and Ab list'!R597 -> P1 | AJ18: ='Map and Ab list'!R599 -> P2 | AK18: =(AI18+AJ18)/2 -> #VALUE! | AM18: ='Map and Ab list'!R671 -> P1 | AN18: ='Map and Ab list'!R673 -> P2 | AO18: =(AM18+AN18)/2 -> #VALUE! | AQ18: ='Map and Ab list'!R745 -> P1 | AR18: ='Map and Ab list'!R747 -> P2 | AS18: =(AQ18+AR18)/2 -> #VALUE! | AU18: ='Map and Ab list'!R819 -> P1 | AV18: ='Map and Ab list'!R821 -> P2 | AW18: =(AU18+AV18)/2 -> #VALUE!
A19: 15 | B19: AP3S2 | C19: ='Map and Ab list'!S5 -> S1 | D19: ='Map and Ab list'!S7 -> S2 | E19: =(C19+D19)/2 -> #VALUE! | G19: ='Map and Ab list'!S79 -> S1 | H19: ='Map and Ab list'!S81 -> S2 | I19: =(G19+H19)/2 -> #VALUE! | K19: ='Map and Ab list'!S153 -> S1 | L19: ='Map and Ab list'!S155 -> S2 | M19: =(K19+L19)/2 -> #VALUE! | O19: ='Map and Ab list'!S227 -> S1 | P19: ='Map and Ab list'!S229 -> S2 | Q19: =(O19+P19)/2 -> #VALUE! | S19: ='Map and Ab list'!S301 -> S1 | T19: ='Map and Ab list'!S303 -> S2 | U19: =(S19+T19)/2 -> #VALUE! | W19: ='Map and Ab list'!S375 -> S1 | X19: ='Map and Ab list'!S377 -> S2 | Y19: =(W19+X19)/2 -> #VALUE! | AA19: ='Map and Ab list'!S449 -> S1 | AB19: ='Map and Ab list'!S451 -> S2 | AC19: =(AA19+AB19)/2 -> #VALUE! | AE19: ='Map and Ab list'!S523 -> S1 | AF19: ='Map and Ab list'!S525 -> S2 | AG19: =(AE19+AF19)/2 -> #VALUE! | AI19: ='Map and Ab list'!S597 -> S1 | AJ19: ='Map and Ab list'!S599 -> S2 | AK19: =(AI19+AJ19)/2 -> #VALUE! | AM19: ='Map and Ab list'!S671 -> S1 | AN19: ='Map and Ab list'!S673 -> S2 | AO19: =(AM19+AN19)/2 -> #VALUE! | AQ19: ='Map and Ab list'!S745 -> S1 | AR19: ='Map and Ab list'!S747 -> S2 | AS19: =(AQ19+AR19)/2 -> #VALUE! | AU19: ='Map and Ab list'!S819 -> S1 | AV19: ='Map and Ab list'!S821 -> S2 | AW19: =(AU19+AV19)/2 -> #VALUE!
A20: 16 | B20: APLP2 | C20: ='Map and Ab list'!T5 -> R1 | D20: ='Map and Ab list'!T7 -> R2 | E20: =(C20+D20)/2 -> #VALUE! | G20: ='Map and Ab list'!T79 -> R1 | H20: ='Map and Ab list'!T81 -> R2 | I20: =(G20+H20)/2 -> #VALUE! | K20: ='Map and Ab list'!T153 -> R1 | L20: ='Map and Ab list'!T155 -> R2 | M20: =(K20+L20)/2 -> #VALUE! | O20: ='Map and Ab list'!T227 -> R1 | P20: ='Map and Ab list'!T229 -> R2 | Q20: =(O20+P20)/2 -> #VALUE! | S20: ='Map and Ab list'!T301 -> R1 | T20: ='Map and Ab list'!T303 -> R2 | U20: =(S20+T20)/2 -> #VALUE! | W20: ='Map and Ab list'!T375 -> R1 | X20: ='Map and Ab list'!T377 -> R2 | Y20: =(W20+X20)/2 -> #VALUE! | AA20: ='Map and Ab list'!T449 -> R1 | AB20: ='Map and Ab list'!T451 -> R2 | AC20: =(AA20+AB20)/2 -> #VALUE! | AE20: ='Map and Ab list'!T523 -> R1 | AF20: ='Map and Ab list'!T525 -> R2 | AG20: =(AE20+AF20)/2 -> #VALUE! | AI20: ='Map and Ab list'!T597 -> R1 | AJ20: ='Map and Ab list'!T599 -> R2 | AK20: =(AI20+AJ20)/2 -> #VALUE! | AM20: ='Map and Ab list'!T671 -> R1 | AN20: ='Map and Ab list'!T673 -> R2 | AO20: =(AM20+AN20)/2 -> #VALUE! | AQ20: ='Map and Ab list'!T745 -> R1 | AR20: ='Map and Ab list'!T747 -> R2 | AS20: =(AQ20+AR20)/2 -> #VALUE! | AU20: ='Map and Ab list'!T819 -> R1 | AV20: ='Map and Ab list'!T821 -> R2 | AW20: =(AU20+AV20)/2 -> #VALUE!
A21: 17 | B21: ApoA V | C21: ='Map and Ab list'!U5 -> S1 | D21: ='Map and Ab list'!U7 -> S2 | E21: =(C21+D21)/2 -> #VALUE! | G21: ='Map and Ab list'!U79 -> S1 | H21: ='Map and Ab list'!U81 -> S2 | I21: =(G21+H21)/2 -> #VALUE! | K21: ='Map and Ab list'!U153 -> S1 | L21: ='Map and Ab list'!U155 -> S2 | M21: =(K21+L21)/2 -> #VALUE! | O21: ='Map and Ab list'!U227 -> S1 | P21: ='Map and Ab list'!U229 -> S2 | Q21: =(O21+P21)/2 -> #VALUE! | S21: ='Map and Ab list'!U301 -> S1 | T21: ='Map and Ab list'!U303 -> S2 | U21: =(S21+T21)/2 -> #VALUE! | W21: ='Map and Ab list'!U375 -> S1 | X21: ='Map and Ab list'!U377 -> S2 | Y21: =(W21+X21)/2 -> #VALUE! | AA21: ='Map and Ab list'!U449 -> S1 | AB21: ='Map and Ab list'!U451 -> S2 | AC21: =(AA21+AB21)/2 -> #VALUE! | AE21: ='Map and Ab list'!U523 -> S1 | AF21: ='Map and Ab list'!U525 -> S2 | AG21: =(AE21+AF21)/2 -> #VALUE! | AI21: ='Map and Ab list'!U597 -> S1 | AJ21: ='Map and Ab list'!U599 -> S2 | AK21: =(AI21+AJ21)/2 -> #VALUE! | AM21: ='Map and Ab list'!U671 -> S1 | AN21: ='Map and Ab list'!U673 -> S2 | AO21: =(AM21+AN21)/2 -> #VALUE! | AQ21: ='Map and Ab list'!U745 -> S1 | AR21: ='Map and Ab list'!U747 -> S2 | AS21: =(AQ21+AR21)/2 -> #VALUE! | AU21: ='Map and Ab list'!U819 -> S1 | AV21: ='Map and Ab list'!U821 -> S2 | AW21: =(AU21+AV21)/2 -> #VALUE!
A22: 18 | B22: ASPM | C22: ='Map and Ab list'!V5 -> T1 | D22: ='Map and Ab list'!V7 -> T2 | E22: =(C22+D22)/2 -> #VALUE! | G22: ='Map and Ab list'!V79 -> T1 | H22: ='Map and Ab list'!V81 -> T2 | I22: =(G22+H22)/2 -> #VALUE! | K22: ='Map and Ab list'!V153 -> T1 | L22: ='Map and Ab list'!V155 -> T2 | M22: =(K22+L22)/2 -> #VALUE! | O22: ='Map and Ab list'!V227 -> T1 | P22: ='Map and Ab list'!V229 -> T2 | Q22: =(O22+P22)/2 -> #VALUE! | S22: ='Map and Ab list'!V301 -> T1 | T22: ='Map and Ab list'!V303 -> T2 | U22: =(S22+T22)/2 -> #VALUE! | W22: ='Map and Ab list'!V375 -> T1 | X22: ='Map and Ab list'!V377 -> T2 | Y22: =(W22+X22)/2 -> #VALUE! | AA22: ='Map and Ab list'!V449 -> T1 | AB22: ='Map and Ab list'!V451 -> T2 | AC22: =(AA22+AB22)/2 -> #VALUE! | AE22: ='Map and Ab list'!V523 -> T1 | AF22: ='Map and Ab list'!V525 -> T2 | AG22: =(AE22+AF22)/2 -> #VALUE! | AI22: ='Map and Ab list'!V597 -> T1 | AJ22: ='Map and Ab list'!V599 -> T2 | AK22: =(AI22+AJ22)/2 -> #VALUE! | AM22: ='Map and Ab list'!V671 -> T1 | AN22: ='Map and Ab list'!V673 -> T2 | AO22: =(AM22+AN22)/2 -> #VALUE! | AQ22: ='Map and Ab list'!V745 -> T1 | AR22: ='Map and Ab list'!V747 -> T2 | AS22: =(AQ22+AR22)/2 -> #VALUE! | AU22: ='Map and Ab list'!V819 -> T1 | AV22: ='Map and Ab list'!V821 -> T2 | AW22: =(AU22+AV22)/2 -> #VALUE!
A23: 19 | B23: ASS1 | C23: ='Map and Ab list'!W5 -> U1 | D23: ='Map and Ab list'!W7 -> U2 | E23: =(C23+D23)/2 -> #VALUE! | G23: ='Map and Ab list'!W79 -> U1 | H23: ='Map and Ab list'!W81 -> U2 | I23: =(G23+H23)/2 -> #VALUE! | K23: ='Map and Ab list'!W153 -> U1 | L23: ='Map and Ab list'!W155 -> U2 | M23: =(K23+L23)/2 -> #VALUE! | O23: ='Map and Ab list'!W227 -> U1 | P23: ='Map and Ab list'!W229 -> U2 | Q23: =(O23+P23)/2 -> #VALUE! | S23: ='Map and Ab list'!W301 -> U1 | T23: ='Map and Ab list'!W303 -> U2 | U23: =(S23+T23)/2 -> #VALUE! | W23: ='Map and Ab list'!W375 -> U1 | X23: ='Map and Ab list'!W377 -> U2 | Y23: =(W23+X23)/2 -> #VALUE! | AA23: ='Map and Ab list'!W449 -> U1 | AB23: ='Map and Ab list'!W451 -> U2 | AC23: =(AA23+AB23)/2 -> #VALUE! | AE23: ='Map and Ab list'!W523 -> U1 | AF23: ='Map and Ab list'!W525 -> U2 | AG23: =(AE23+AF23)/2 -> #VALUE! | AI23: ='Map and Ab list'!W597 -> U1 | AJ23: ='Map and Ab list'!W599 -> U2 | AK23: =(AI23+AJ23)/2 -> #VALUE! | AM23: ='Map and Ab list'!W671 -> U1 | AN23: ='Map and Ab list'!W673 -> U2 | AO23: =(AM23+AN23)/2 -> #VALUE! | AQ23: ='Map and Ab list'!W745 -> U1 | AR23: ='Map and Ab list'!W747 -> U2 | AS23: =(AQ23+AR23)/2 -> #VALUE! | AU23: ='Map and Ab list'!W819 -> U1 | AV23: ='Map and Ab list'!W821 -> U2 | AW23: =(AU23+AV23)/2 -> #VALUE!
A24: 20 | B24: ATOX1 | C24: ='Map and Ab list'!X5 -> V1 | D24: ='Map and Ab list'!X7 -> V2 | E24: =(C24+D24)/2 -> #VALUE! | G24: ='Map and Ab list'!X79 -> V1 | H24: ='Map and Ab list'!X81 -> V2 | I24: =(G24+H24)/2 -> #VALUE! | K24: ='Map and Ab list'!X153 -> V1 | L24: ='Map and Ab list'!X155 -> V2 | M24: =(K24+L24)/2 -> #VALUE! | O24: ='Map and Ab list'!X227 -> V1 | P24: ='Map and Ab list'!X229 -> V2 | Q24: =(O24+P24)/2 -> #VALUE! | S24: ='Map and Ab list'!X301 -> V1 | T24: ='Map and Ab list'!X303 -> V2 | U24: =(S24+T24)/2 -> #VALUE! | W24: ='Map and Ab list'!X375 -> V1 | X24: ='Map and Ab list'!X377 -> V2 | Y24: =(W24+X24)/2 -> #VALUE! | AA24: ='Map and Ab list'!X449 -> V1 | AB24: ='Map and Ab list'!X451 -> V2 | AC24: =(AA24+AB24)/2 -> #VALUE! | AE24: ='Map and Ab list'!X523 -> V1 | AF24: ='Map and Ab list'!X525 -> V2 | AG24: =(AE24+AF24)/2 -> #VALUE! | AI24: ='Map and Ab list'!X597 -> V1 | AJ24: ='Map and Ab list'!X599 -> V2 | AK24: =(AI24+AJ24)/2 -> #VALUE! | AM24: ='Map and Ab list'!X671 -> V1 | AN24: ='Map and Ab list'!X673 -> V2 | AO24: =(AM24+AN24)/2 -> #VALUE! | AQ24: ='Map and Ab list'!X745 -> V1 | AR24: ='Map and Ab list'!X747 -> V2 | AS24: =(AQ24+AR24)/2 -> #VALUE! | AU24: ='Map and Ab list'!X819 -> V1 | AV24: ='Map and Ab list'!X821 -> V2 | AW24: =(AU24+AV24)/2 -> #VALUE!
A25: 21 | B25: ATPG | C25: ='Map and Ab list'!Y5 -> W1 | D25: ='Map and Ab list'!Y7 -> W2 | E25: =(C25+D25)/2 -> #VALUE! | G25: ='Map and Ab list'!Y79 -> W1 | H25: ='Map and Ab list'!Y81 -> W2 | I25: =(G25+H25)/2 -> #VALUE! | K25: ='Map and Ab list'!Y153 -> W1 | L25: ='Map and Ab list'!Y155 -> W2 | M25: =(K25+L25)/2 -> #VALUE! | O25: ='Map and Ab list'!Y227 -> W1 | P25: ='Map and Ab list'!Y229 -> W2 | Q25: =(O25+P25)/2 -> #VALUE! | S25: ='Map and Ab list'!Y301 -> W1 | T25: ='Map and Ab list'!Y303 -> W2 | U25: =(S25+T25)/2 -> #VALUE! | W25: ='Map and Ab list'!Y375 -> W1 | X25: ='Map and Ab list'!Y377 -> W2 | Y25: =(W25+X25)/2 -> #VALUE! | AA25: ='Map and Ab list'!Y449 -> W1 | AB25: ='Map and Ab list'!Y451 -> W2 | AC25: =(AA25+AB25)/2 -> #VALUE! | AE25: ='Map and Ab list'!Y523 -> W1 | AF25: ='Map and Ab list'!Y525 -> W2 | AG25: =(AE25+AF25)/2 -> #VALUE! | AI25: ='Map and Ab list'!Y597 -> W1 | AJ25: ='Map and Ab list'!Y599 -> W2 | AK25: =(AI25+AJ25)/2 -> #VALUE! | AM25: ='Map and Ab list'!Y671 -> W1 | AN25: ='Map and Ab list'!Y673 -> W2 | AO25: =(AM25+AN25)/2 -> #VALUE! | AQ25: ='Map and Ab list'!Y745 -> W1 | AR25: ='Map and Ab list'!Y747 -> W2 | AS25: =(AQ25+AR25)/2 -> #VALUE! | AU25: ='Map and Ab list'!Y819 -> W1 | AV25: ='Map and Ab list'!Y821 -> W2 | AW25: =(AU25+AV25)/2 -> #VALUE!
A26: 22 | B26: AUTS2 | C26: ='Map and Ab list'!Z5 -> X1 | D26: ='Map and Ab list'!Z7 -> X2 | E26: =(C26+D26)/2 -> #VALUE! | G26: ='Map and Ab list'!Z79 -> X1 | H26: ='Map and Ab list'!Z81 -> X2 | I26: =(G26+H26)/2 -> #VALUE! | K26: ='Map and Ab list'!Z153 -> X1 | L26: ='Map and Ab list'!Z155 -> X2 | M26: =(K26+L26)/2 -> #VALUE! | O26: ='Map and Ab list'!Z227 -> X1 | P26: ='Map and Ab list'!Z229 -> X2 | Q26: =(O26+P26)/2 -> #VALUE! | S26: ='Map and Ab list'!Z301 -> X1 | T26: ='Map and Ab list'!Z303 -> X2 | U26: =(S26+T26)/2 -> #VALUE! | W26: ='Map and Ab list'!Z375 -> X1 | X26: ='Map and Ab list'!Z377 -> X2 | Y26: =(W26+X26)/2 -> #VALUE! | AA26: ='Map and Ab list'!Z449 -> X1 | AB26: ='Map and Ab list'!Z451 -> X2 | AC26: =(AA26+AB26)/2 -> #VALUE! | AE26: ='Map and Ab list'!Z523 -> X1 | AF26: ='Map and Ab list'!Z525 -> X2 | AG26: =(AE26+AF26)/2 -> #VALUE! | AI26: ='Map and Ab list'!Z597 -> X1 | AJ26: ='Map and Ab list'!Z599 -> X2 | AK26: =(AI26+AJ26)/2 -> #VALUE! | AM26: ='Map and Ab list'!Z671 -> X1 | AN26: ='Map and Ab list'!Z673 -> X2 | AO26: =(AM26+AN26)/2 -> #VALUE! | AQ26: ='Map and Ab list'!Z745 -> X1 | AR26: ='Map and Ab list'!Z747 -> X2 | AS26: =(AQ26+AR26)/2 -> #VALUE! | AU26: ='Map and Ab list'!Z819 -> X1 | AV26: ='Map and Ab list'!Z821 -> X2 | AW26: =(AU26+AV26)/2 -> #VALUE!
A27: 23 | B27: BAI2 | C27: ='Map and Ab list'!AA5 -> Y1 | D27: ='Map and Ab list'!AA7 -> Y2 | E27: =(C27+D27)/2 -> #VALUE! | G27: ='Map and Ab list'!AA79 -> Y1 | H27: ='Map and Ab list'!AA81 -> Y2 | I27: =(G27+H27)/2 -> #VALUE! | K27: ='Map and Ab list'!AA153 -> Y1 | L27: ='Map and Ab list'!AA155 -> Y2 | M27: =(K27+L27)/2 -> #VALUE! | O27: ='Map and Ab list'!AA227 -> Y1 | P27: ='Map and Ab list'!AA229 -> Y2 | Q27: =(O27+P27)/2 -> #VALUE! | S27: ='Map and Ab list'!AA301 -> Y1 | T27: ='Map and Ab list'!AA303 -> Y2 | U27: =(S27+T27)/2 -> #VALUE! | W27: ='Map and Ab list'!AA375 -> Y1 | X27: ='Map and Ab list'!AA377 -> Y2 | Y27: =(W27+X27)/2 -> #VALUE! | AA27: ='Map and Ab list'!AA449 -> Y1 | AB27: ='Map and Ab list'!AA451 -> Y2 | AC27: =(AA27+AB27)/2 -> #VALUE! | AE27: ='Map and Ab list'!AA523 -> Y1 | AF27: ='Map and Ab list'!AA525 -> Y2 | AG27: =(AE27+AF27)/2 -> #VALUE! | AI27: ='Map and Ab list'!AA597 -> Y1 | AJ27: ='Map and Ab list'!AA599 -> Y2 | AK27: =(AI27+AJ27)/2 -> #VALUE! | AM27: ='Map and Ab list'!AA671 -> Y1 | AN27: ='Map and Ab list'!AA673 -> Y2 | AO27: =(AM27+AN27)/2 -> #VALUE! | AQ27: ='Map and Ab list'!AA745 -> Y1 | AR27: ='Map and Ab list'!AA747 -> Y2 | AS27: =(AQ27+AR27)/2 -> #VALUE! | AU27: ='Map and Ab list'!AA819 -> Y1 | AV27: ='Map and Ab list'!AA821 -> Y2 | AW27: =(AU27+AV27)/2 -> #VALUE!
A28: 24 | B28: BarX1 | C28: ='Map and Ab list'!AB5 -> Z1 | D28: ='Map and Ab list'!AB7 -> Z2 | E28: =(C28+D28)/2 -> #VALUE! | G28: ='Map and Ab list'!AB79 -> Z1 | H28: ='Map and Ab list'!AB81 -> Z2 | I28: =(G28+H28)/2 -> #VALUE! | K28: ='Map and Ab list'!AB153 -> Z1 | L28: ='Map and Ab list'!AB155 -> Z2 | M28: =(K28+L28)/2 -> #VALUE! | O28: ='Map and Ab list'!AB227 -> Z1 | P28: ='Map and Ab list'!AB229 -> Z2 | Q28: =(O28+P28)/2 -> #VALUE! | S28: ='Map and Ab list'!AB301 -> Z1 | T28: ='Map and Ab list'!AB303 -> Z2 | U28: =(S28+T28)/2 -> #VALUE! | W28: ='Map and Ab list'!AB375 -> Z1 | X28: ='Map and Ab list'!AB377 -> Z2 | Y28: =(W28+X28)/2 -> #VALUE! | AA28: ='Map and Ab list'!AB449 -> Z1 | AB28: ='Map and Ab list'!AB451 -> Z2 | AC28: =(AA28+AB28)/2 -> #VALUE! | AE28: ='Map and Ab list'!AB523 -> Z1 | AF28: ='Map and Ab list'!AB525 -> Z2 | AG28: =(AE28+AF28)/2 -> #VALUE! | AI28: ='Map and Ab list'!AB597 -> Z1 | AJ28: ='Map and Ab list'!AB599 -> Z2 | AK28: =(AI28+AJ28)/2 -> #VALUE! | AM28: ='Map and Ab list'!AB671 -> Z1 | AN28: ='Map and Ab list'!AB673 -> Z2 | AO28: =(AM28+AN28)/2 -> #VALUE! | AQ28: ='Map and Ab list'!AB745 -> Z1 | AR28: ='Map and Ab list'!AB747 -> Z2 | AS28: =(AQ28+AR28)/2 -> #VALUE! | AU28: ='Map and Ab list'!AB819 -> Z1 | AV28: ='Map and Ab list'!AB821 -> Z2 | AW28: =(AU28+AV28)/2 -> #VALUE!
A29: 25 | B29: BBS1 | C29: ='Map and Ab list'!AC5 -> AA1 | D29: ='Map and Ab list'!AC7 -> AA2 | E29: =(C29+D29)/2 -> #VALUE! | G29: ='Map and Ab list'!AC79 -> AA1 | H29: ='Map and Ab list'!AC81 -> AA2 | I29: =(G29+H29)/2 -> #VALUE! | K29: ='Map and Ab list'!AC153 -> AA1 | L29: ='Map and Ab list'!AC155 -> AA2 | M29: =(K29+L29)/2 -> #VALUE! | O29: ='Map and Ab list'!AC227 -> AA1 | P29: ='Map and Ab list'!AC229 -> AA2 | Q29: =(O29+P29)/2 -> #VALUE! | S29: ='Map and Ab list'!AC301 -> AA1 | T29: ='Map and Ab list'!AC303 -> AA2 | U29: =(S29+T29)/2 -> #VALUE! | W29: ='Map and Ab list'!AC375 -> AA1 | X29: ='Map and Ab list'!AC377 -> AA2 | Y29: =(W29+X29)/2 -> #VALUE! | AA29: ='Map and Ab list'!AC449 -> AA1 | AB29: ='Map and Ab list'!AC451 -> AA2 | AC29: =(AA29+AB29)/2 -> #VALUE! | AE29: ='Map and Ab list'!AC523 -> AA1 | AF29: ='Map and Ab list'!AC525 -> AA2 | AG29: =(AE29+AF29)/2 -> #VALUE! | AI29: ='Map and Ab list'!AC597 -> AA1 | AJ29: ='Map and Ab list'!AC599 -> AA2 | AK29: =(AI29+AJ29)/2 -> #VALUE! | AM29: ='Map and Ab list'!AC671 -> AA1 | AN29: ='Map and Ab list'!AC673 -> AA2 | AO29: =(AM29+AN29)/2 -> #VALUE! | AQ29: ='Map and Ab list'!AC745 -> AA1 | AR29: ='Map and Ab list'!AC747 -> AA2 | AS29: =(AQ29+AR29)/2 -> #VALUE! | AU29: ='Map and Ab list'!AC819 -> AA1 | AV29: ='Map and Ab list'!AC821 -> AA2 | AW29: =(AU29+AV29)/2 -> #VALUE!
A30: 26 | B30: BE2I / UBC9 | C30: ='Map and Ab list'!AD5 -> AB1 | D30: ='Map and Ab list'!AD7 -> AB2 | E30: =(C30+D30)/2 -> #VALUE! | G30: ='Map and Ab list'!AD79 -> AB1 | H30: ='Map and Ab list'!AD81 -> AB2 | I30: =(G30+H30)/2 -> #VALUE! | K30: ='Map and Ab list'!AD153 -> AB1 | L30: ='Map and Ab list'!AD155 -> AB2 | M30: =(K30+L30)/2 -> #VALUE! | O30: ='Map and Ab list'!AD227 -> AB1 | P30: ='Map and Ab list'!AD229 -> AB2 | Q30: =(O30+P30)/2 -> #VALUE! | S30: ='Map and Ab list'!AD301 -> AB1 | T30: ='Map and Ab list'!AD303 -> AB2 | U30: =(S30+T30)/2 -> #VALUE! | W30: ='Map and Ab list'!AD375 -> AB1 | X30: ='Map and Ab list'!AD377 -> AB2 | Y30: =(W30+X30)/2 -> #VALUE! | AA30: ='Map and Ab list'!AD449 -> AB1 | AB30: ='Map and Ab list'!AD451 -> AB2 | AC30: =(AA30+AB30)/2 -> #VALUE! | AE30: ='Map and Ab list'!AD523 -> AB1 | AF30: ='Map and Ab list'!AD525 -> AB2 | AG30: =(AE30+AF30)/2 -> #VALUE! | AI30: ='Map and Ab list'!AD597 -> AB1 | AJ30: ='Map and Ab list'!AD599 -> AB2 | AK30: =(AI30+AJ30)/2 -> #VALUE! | AM30: ='Map and Ab list'!AD671 -> AB1 | AN30: ='Map and Ab list'!AD673 -> AB2 | AO30: =(AM30+AN30)/2 -> #VALUE! | AQ30: ='Map and Ab list'!AD745 -> AB1 | AR30: ='Map and Ab list'!AD747 -> AB2 | AS30: =(AQ30+AR30)/2 -> #VALUE! | AU30: ='Map and Ab list'!AD819 -> AB1 | AV30: ='Map and Ab list'!AD821 -> AB2 | AW30: =(AU30+AV30)/2 -> #VALUE!
A31: 27 | B31: BLM | C31: ='Map and Ab list'!AE5 -> AC1 | D31: ='Map and Ab list'!AE7 -> AC2 | E31: =(C31+D31)/2 -> #VALUE! | G31: ='Map and Ab list'!AE79 -> AC1 | H31: ='Map and Ab list'!AE81 -> AC2 | I31: =(G31+H31)/2 -> #VALUE! | K31: ='Map and Ab list'!AE153 -> AC1 | L31: ='Map and Ab list'!AE155 -> AC2 | M31: =(K31+L31)/2 -> #VALUE! | O31: ='Map and Ab list'!AE227 -> AC1 | P31: ='Map and Ab list'!AE229 -> AC2 | Q31: =(O31+P31)/2 -> #VALUE! | S31: ='Map and Ab list'!AE301 -> AC1 | T31: ='Map and Ab list'!AE303 -> AC2 | U31: =(S31+T31)/2 -> #VALUE! | W31: ='Map and Ab list'!AE375 -> AC1 | X31: ='Map and Ab list'!AE377 -> AC2 | Y31: =(W31+X31)/2 -> #VALUE! | AA31: ='Map and Ab list'!AE449 -> AC1 | AB31: ='Map and Ab list'!AE451 -> AC2 | AC31: =(AA31+AB31)/2 -> #VALUE! | AE31: ='Map and Ab list'!AE523 -> AC1 | AF31: ='Map and Ab list'!AE525 -> AC2 | AG31: =(AE31+AF31)/2 -> #VALUE! | AI31: ='Map and Ab list'!AE597 -> AC1 | AJ31: ='Map and Ab list'!AE599 -> AC2 | AK31: =(AI31+AJ31)/2 -> #VALUE! | AM31: ='Map and Ab list'!AE671 -> AC1 | AN31: ='Map and Ab list'!AE673 -> AC2 | AO31: =(AM31+AN31)/2 -> #VALUE! | AQ31: ='Map and Ab list'!AE745 -> AC1 | AR31: ='Map and Ab list'!AE747 -> AC2 | AS31: =(AQ31+AR31)/2 -> #VALUE! | AU31: ='Map and Ab list'!AE819 -> AC1 | AV31: ='Map and Ab list'!AE821 -> AC2 | AW31: =(AU31+AV31)/2 -> #VALUE!
A32: 28 | B32: BOLA2 | C32: ='Map and Ab list'!AF5 -> AD1 | D32: ='Map and Ab list'!AF7 -> AD2 | E32: =(C32+D32)/2 -> #VALUE! | G32: ='Map and Ab list'!AF79 -> AD1 | H32: ='Map and Ab list'!AF81 -> AD2 | I32: =(G32+H32)/2 -> #VALUE! | K32: ='Map and Ab list'!AF153 -> AD1 | L32: ='Map and Ab list'!AF155 -> AD2 | M32: =(K32+L32)/2 -> #VALUE! | O32: ='Map and Ab list'!AF227 -> AD1 | P32: ='Map and Ab list'!AF229 -> AD2 | Q32: =(O32+P32)/2 -> #VALUE! | S32: ='Map and Ab list'!AF301 -> AD1 | T32: ='Map and Ab list'!AF303 -> AD2 | U32: =(S32+T32)/2 -> #VALUE! | W32: ='Map and Ab list'!AF375 -> AD1 | X32: ='Map and Ab list'!AF377 -> AD2 | Y32: =(W32+X32)/2 -> #VALUE! | AA32: ='Map and Ab list'!AF449 -> AD1 | AB32: ='Map and Ab list'!AF451 -> AD2 | AC32: =(AA32+AB32)/2 -> #VALUE! | AE32: ='Map and Ab list'!AF523 -> AD1 | AF32: ='Map and Ab list'!AF525 -> AD2 | AG32: =(AE32+AF32)/2 -> #VALUE! | AI32: ='Map and Ab list'!AF597 -> AD1 | AJ32: ='Map and Ab list'!AF599 -> AD2 | AK32: =(AI32+AJ32)/2 -> #VALUE! | AM32: ='Map and Ab list'!AF671 -> AD1 | AN32: ='Map and Ab list'!AF673 -> AD2 | AO32: =(AM32+AN32)/2 -> #VALUE! | AQ32: ='Map and Ab list'!AF745 -> AD1 | AR32: ='Map and Ab list'!AF747 -> AD2 | AS32: =(AQ32+AR32)/2 -> #VALUE! | AU32: ='Map and Ab list'!AF819 -> AD1 | AV32: ='Map and Ab list'!AF821 -> AD2 | AW32: =(AU32+AV32)/2 -> #VALUE!
A33: 29 | B33: C10orf58 | C33: ='Map and Ab list'!F9 -> D3 | D33: ='Map and Ab list'!F11 -> D4 | E33: =(C33+D33)/2 -> #VALUE! | G33: ='Map and Ab list'!F83 -> D3 | H33: ='Map and Ab list'!F85 -> D4 | I33: =(G33+H33)/2 -> #VALUE! | K33: ='Map and Ab list'!F157 -> D3 | L33: ='Map and Ab list'!F159 -> D4 | M33: =(K33+L33)/2 -> #VALUE! | O33: ='Map and Ab list'!F231 -> D3 | P33: ='Map and Ab list'!F233 -> D4 | Q33: =(O33+P33)/2 -> #VALUE! | S33: ='Map and Ab list'!F305 -> D3 | T33: ='Map and Ab list'!F307 -> D4 | U33: =(S33+T33)/2 -> #VALUE! | W33: ='Map and Ab list'!F379 -> D3 | X33: ='Map and Ab list'!F381 -> D4 | Y33: =(W33+X33)/2 -> #VALUE! | AA33: ='Map and Ab list'!F453 -> D3 | AB33: ='Map and Ab list'!F455 -> D4 | AC33: =(AA33+AB33)/2 -> #VALUE! | AE33: ='Map and Ab list'!F527 -> D3 | AF33: ='Map and Ab list'!F529 -> D4 | AG33: =(AE33+AF33)/2 -> #VALUE! | AI33: ='Map and Ab list'!F601 -> D3 | AJ33: ='Map and Ab list'!F603 -> D4 | AK33: =(AI33+AJ33)/2 -> #VALUE! | AM33: ='Map and Ab list'!F601 -> D3 | AN33: ='Map and Ab list'!F677 -> D4 | AO33: =(AM33+AN33)/2 -> #VALUE! | AQ33: ='Map and Ab list'!F749 -> D3 | AR33: ='Map and Ab list'!F751 -> D4 | AS33: =(AQ33+AR33)/2 -> #VALUE! | AU33: ='Map and Ab list'!F823 -> D3 | AV33: ='Map and Ab list'!F825 -> D4 | AW33: =(AU33+AV33)/2 -> #VALUE!
A34: 30 | B34: CACNA1H | C34: ='Map and Ab list'!G9 -> E3 | D34: ='Map and Ab list'!G11 -> E4 | E34: =(C34+D34)/2 -> #VALUE! | G34: ='Map and Ab list'!G83 -> E3 | H34: ='Map and Ab list'!G85 -> E4 | I34: =(G34+H34)/2 -> #VALUE! | K34: ='Map and Ab list'!G157 -> E3 | L34: ='Map and Ab list'!G159 -> E4 | M34: =(K34+L34)/2 -> #VALUE! | O34: ='Map and Ab list'!G231 -> E3 | P34: ='Map and Ab list'!G233 -> E4 | Q34: =(O34+P34)/2 -> #VALUE! | S34: ='Map and Ab list'!G305 -> E3 | T34: ='Map and Ab list'!G307 -> E4 | U34: =(S34+T34)/2 -> #VALUE! | W34: ='Map and Ab list'!G379 -> E3 | X34: ='Map and Ab list'!G381 -> E4 | Y34: =(W34+X34)/2 -> #VALUE! | AA34: ='Map and Ab list'!G453 -> E3 | AB34: ='Map and Ab list'!G455 -> E4 | AC34: =(AA34+AB34)/2 -> #VALUE! | AE34: ='Map and Ab list'!G527 -> E3 | AF34: ='Map and Ab list'!G529 -> E4 | AG34: =(AE34+AF34)/2 -> #VALUE! | AI34: ='Map and Ab list'!G601 -> E3 | AJ34: ='Map and Ab list'!G603 -> E4 | AK34: =(AI34+AJ34)/2 -> #VALUE! | AM34: ='Map and Ab list'!G675 -> E3 | AN34: ='Map and Ab list'!G677 -> E4 | AO34: =(AM34+AN34)/2 -> #VALUE! | AQ34: ='Map and Ab list'!G749 -> E3 | AR34: ='Map and Ab list'!G751 -> E4 | AS34: =(AQ34+AR34)/2 -> #VALUE! | AU34: ='Map and Ab list'!G823 -> E3 | AV34: ='Map and Ab list'!G825 -> E4 | AW34: =(AU34+AV34)/2 -> #VALUE!
A35: 31 | B35: Calpain 2 | C35: ='Map and Ab list'!H9 -> F3 | D35: ='Map and Ab list'!H11 -> F4 | E35: =(C35+D35)/2 -> #VALUE! | G35: ='Map and Ab list'!H83 -> F3 | H35: ='Map and Ab list'!H85 -> F4 | I35: =(G35+H35)/2 -> #VALUE! | K35: ='Map and Ab list'!H157 -> F3 | L35: ='Map and Ab list'!H159 -> F4 | M35: =(K35+L35)/2 -> #VALUE! | O35: ='Map and Ab list'!H231 -> F3 | P35: ='Map and Ab list'!H233 -> F4 | Q35: =(O35+P35)/2 -> #VALUE! | S35: ='Map and Ab list'!H305 -> F3 | T35: ='Map and Ab list'!H307 -> F4 | U35: =(S35+T35)/2 -> #VALUE! | W35: ='Map and Ab list'!H379 -> F3 | X35: ='Map and Ab list'!H381 -> F4 | Y35: =(W35+X35)/2 -> #VALUE! | AA35: ='Map and Ab list'!H453 -> F3 | AB35: ='Map and Ab list'!H455 -> F4 | AC35: =(AA35+AB35)/2 -> #VALUE! | AE35: ='Map and Ab list'!H527 -> F3 | AF35: ='Map and Ab list'!H529 -> F4 | AG35: =(AE35+AF35)/2 -> #VALUE! | AI35: ='Map and Ab list'!H601 -> F3 | AJ35: ='Map and Ab list'!H603 -> F4 | AK35: =(AI35+AJ35)/2 -> #VALUE! | AM35: ='Map and Ab list'!H675 -> F3 | AN35: ='Map and Ab list'!H677 -> F4 | AO35: =(AM35+AN35)/2 -> #VALUE! | AQ35: ='Map and Ab list'!H749 -> F3 | AR35: ='Map and Ab list'!H751 -> F4 | AS35: =(AQ35+AR35)/2 -> #VALUE! | AU35: ='Map and Ab list'!H823 -> F3 | AV35: ='Map and Ab list'!H825 -> F4 | AW35: =(AU35+AV35)/2 -> #VALUE!
A36: 32 | B36: CaMK2 | C36: ='Map and Ab list'!I9 -> G3 | D36: ='Map and Ab list'!I11 -> G4 | E36: =(C36+D36)/2 -> #VALUE! | G36: ='Map and Ab list'!I83 -> G3 | H36: ='Map and Ab list'!I85 -> G4 | I36: =(G36+H36)/2 -> #VALUE! | K36: ='Map and Ab list'!I157 -> G3 | L36: ='Map and Ab list'!I159 -> G4 | M36: =(K36+L36)/2 -> #VALUE! | O36: ='Map and Ab list'!I231 -> G3 | P36: ='Map and Ab list'!I233 -> G4 | Q36: =(O36+P36)/2 -> #VALUE! | S36: ='Map and Ab list'!I305 -> G3 | T36: ='Map and Ab list'!I307 -> G4 | U36: =(S36+T36)/2 -> #VALUE! | W36: ='Map and Ab list'!I379 -> G3 | X36: ='Map and Ab list'!I381 -> G4 | Y36: =(W36+X36)/2 -> #VALUE! | AA36: ='Map and Ab list'!I453 -> G3 | AB36: ='Map and Ab list'!I455 -> G4 | AC36: =(AA36+AB36)/2 -> #VALUE! | AE36: ='Map and Ab list'!I527 -> G3 | AF36: ='Map and Ab list'!I529 -> G4 | AG36: =(AE36+AF36)/2 -> #VALUE! | AI36: ='Map and Ab list'!I601 -> G3 | AJ36: ='Map and Ab list'!I603 -> G4 | AK36: =(AI36+AJ36)/2 -> #VALUE! | AM36: ='Map and Ab list'!I675 -> G3 | AN36: ='Map and Ab list'!I677 -> G4 | AO36: =(AM36+AN36)/2 -> #VALUE! | AQ36: ='Map and Ab list'!I749 -> G3 | AR36: ='Map and Ab list'!I751 -> G4 | AS36: =(AQ36+AR36)/2 -> #VALUE! | AU36: ='Map and Ab list'!I823 -> G3 | AV36: ='Map and Ab list'!I825 -> G4 | AW36: =(AU36+AV36)/2 -> #VALUE!
A37: 33 | B37: CaMK2D | C37: ='Map and Ab list'!J9 -> H3 | D37: ='Map and Ab list'!J11 -> H4 | E37: =(C37+D37)/2 -> #VALUE! | G37: ='Map and Ab list'!J83 -> H3 | H37: ='Map and Ab list'!J85 -> H4 | I37: =(G37+H37)/2 -> #VALUE! | K37: ='Map and Ab list'!J157 -> H3 | L37: ='Map and Ab list'!J159 -> H4 | M37: =(K37+L37)/2 -> #VALUE! | O37: ='Map and Ab list'!J231 -> H3 | P37: ='Map and Ab list'!J233 -> H4 | Q37: =(O37+P37)/2 -> #VALUE! | S37: ='Map and Ab list'!J305 -> H3 | T37: ='Map and Ab list'!J307 -> H4 | U37: =(S37+T37)/2 -> #VALUE! | W37: ='Map and Ab list'!J379 -> H3 | X37: ='Map and Ab list'!J381 -> H4 | Y37: =(W37+X37)/2 -> #VALUE! | AA37: ='Map and Ab list'!J453 -> H3 | AB37: ='Map and Ab list'!J455 -> H4 | AC37: =(AA37+AB37)/2 -> #VALUE! | AE37: ='Map and Ab list'!J527 -> H3 | AF37: ='Map and Ab list'!J529 -> H4 | AG37: =(AE37+AF37)/2 -> #VALUE! | AI37: ='Map and Ab list'!J601 -> H3 | AJ37: ='Map and Ab list'!J603 -> H4 | AK37: =(AI37+AJ37)/2 -> #VALUE! | AM37: ='Map and Ab list'!J675 -> H3 | AN37: ='Map and Ab list'!J677 -> H4 | AO37: =(AM37+AN37)/2 -> #VALUE! | AQ37: ='Map and Ab list'!J749 -> H3 | AR37: ='Map and Ab list'!J751 -> H4 | AS37: =(AQ37+AR37)/2 -> #VALUE! | AU37: ='Map and Ab list'!J823 -> H3 | AV37: ='Map and Ab list'!J825 -> H4 | AW37: =(AU37+AV37)/2 -> #VALUE!
A38: 34 | B38: CBL | C38: ='Map and Ab list'!K9 -> I3 | D38: ='Map and Ab list'!K11 -> I4 | E38: =(C38+D38)/2 -> #VALUE! | G38: ='Map and Ab list'!K83 -> I3 | H38: ='Map and Ab list'!K85 -> I4 | I38: =(G38+H38)/2 -> #VALUE! | K38: ='Map and Ab list'!K157 -> I3 | L38: ='Map and Ab list'!K159 -> I4 | M38: =(K38+L38)/2 -> #VALUE! | O38: ='Map and Ab list'!K231 -> I3 | P38: ='Map and Ab list'!K233 -> I4 | Q38: =(O38+P38)/2 -> #VALUE! | S38: ='Map and Ab list'!K305 -> I3 | T38: ='Map and Ab list'!K307 -> I4 | U38: =(S38+T38)/2 -> #VALUE! | W38: ='Map and Ab list'!K379 -> I3 | X38: ='Map and Ab list'!K381 -> I4 | Y38: =(W38+X38)/2 -> #VALUE! | AA38: ='Map and Ab list'!K453 -> I3 | AB38: ='Map and Ab list'!K455 -> I4 | AC38: =(AA38+AB38)/2 -> #VALUE! | AE38: ='Map and Ab list'!K527 -> I3 | AF38: ='Map and Ab list'!K529 -> I4 | AG38: =(AE38+AF38)/2 -> #VALUE! | AI38: ='Map and Ab list'!K601 -> I3 | AJ38: ='Map and Ab list'!K603 -> I4 | AK38: =(AI38+AJ38)/2 -> #VALUE! | AM38: ='Map and Ab list'!K675 -> I3 | AN38: ='Map and Ab list'!K677 -> I4 | AO38: =(AM38+AN38)/2 -> #VALUE! | AQ38: ='Map and Ab list'!K749 -> I3 | AR38: ='Map and Ab list'!K751 -> I4 | AS38: =(AQ38+AR38)/2 -> #VALUE! | AU38: ='Map and Ab list'!K823 -> I3 | AV38: ='Map and Ab list'!K825 -> I4 | AW38: =(AU38+AV38)/2 -> #VALUE!
A39: 35 | B39: CBR1 | C39: ='Map and Ab list'!L9 -> J3 | D39: ='Map and Ab list'!L11 -> J4 | E39: =(C39+D39)/2 -> #VALUE! | G39: ='Map and Ab list'!L83 -> J3 | H39: ='Map and Ab list'!L85 -> J4 | I39: =(G39+H39)/2 -> #VALUE! | K39: ='Map and Ab list'!L157 -> J3 | L39: ='Map and Ab list'!L159 -> J4 | M39: =(K39+L39)/2 -> #VALUE! | O39: ='Map and Ab list'!L231 -> J3 | P39: ='Map and Ab list'!L233 -> J4 | Q39: =(O39+P39)/2 -> #VALUE! | S39: ='Map and Ab list'!L305 -> J3 | T39: ='Map and Ab list'!L307 -> J4 | U39: =(S39+T39)/2 -> #VALUE! | W39: ='Map and Ab list'!L379 -> J3 | X39: ='Map and Ab list'!L381 -> J4 | Y39: =(W39+X39)/2 -> #VALUE! | AA39: ='Map and Ab list'!L453 -> J3 | AB39: ='Map and Ab list'!L455 -> J4 | AC39: =(AA39+AB39)/2 -> #VALUE! | AE39: ='Map and Ab list'!L527 -> J3 | AF39: ='Map and Ab list'!L529 -> J4 | AG39: =(AE39+AF39)/2 -> #VALUE! | AI39: ='Map and Ab list'!L601 -> J3 | AJ39: ='Map and Ab list'!L603 -> J4 | AK39: =(AI39+AJ39)/2 -> #VALUE! | AM39: ='Map and Ab list'!L675 -> J3 | AN39: ='Map and Ab list'!L677 -> J4 | AO39: =(AM39+AN39)/2 -> #VALUE! | AQ39: ='Map and Ab list'!L749 -> J3 | AR39: ='Map and Ab list'!L751 -> J4 | AS39: =(AQ39+AR39)/2 -> #VALUE! | AU39: ='Map and Ab list'!L823 -> J3 | AV39: ='Map and Ab list'!L825 -> J4 | AW39: =(AU39+AV39)/2 -> #VALUE!
A40: 36 | B40: CCDC58 | C40: ='Map and Ab list'!M9 -> K3 | D40: ='Map and Ab list'!M11 -> K4 | E40: =(C40+D40)/2 -> #VALUE! | G40: ='Map and Ab list'!M83 -> K3 | H40: ='Map and Ab list'!M85 -> K4 | I40: =(G40+H40)/2 -> #VALUE! | K40: ='Map and Ab list'!M157 -> K3 | L40: ='Map and Ab list'!M159 -> K4 | M40: =(K40+L40)/2 -> #VALUE! | O40: ='Map and Ab list'!M231 -> K3 | P40: ='Map and Ab list'!M233 -> K4 | Q40: =(O40+P40)/2 -> #VALUE! | S40: ='Map and Ab list'!M305 -> K3 | T40: ='Map and Ab list'!M307 -> K4 | U40: =(S40+T40)/2 -> #VALUE! | W40: ='Map and Ab list'!M379 -> K3 | X40: ='Map and Ab list'!M381 -> K4 | Y40: =(W40+X40)/2 -> #VALUE! | AA40: ='Map and Ab list'!M453 -> K3 | AB40: ='Map and Ab list'!M455 -> K4 | AC40: =(AA40+AB40)/2 -> #VALUE! | AE40: ='Map and Ab list'!M527 -> K3 | AF40: ='Map and Ab list'!M529 -> K4 | AG40: =(AE40+AF40)/2 -> #VALUE! | AI40: ='Map and Ab list'!M601 -> K3 | AJ40: ='Map and Ab list'!M603 -> K4 | AK40: =(AI40+AJ40)/2 -> #VALUE! | AM40: ='Map and Ab list'!M675 -> K3 | AN40: ='Map and Ab list'!M677 -> K4 | AO40: =(AM40+AN40)/2 -> #VALUE! | AQ40: ='Map and Ab list'!M749 -> K3 | AR40: ='Map and Ab list'!M751 -> K4 | AS40: =(AQ40+AR40)/2 -> #VALUE! | AU40: ='Map and Ab list'!M823 -> K3 | AV40: ='Map and Ab list'!M825 -> K4 | AW40: =(AU40+AV40)/2 -> #VALUE!
A41: 37 | B41: CCT6A | C41: ='Map and Ab list'!N9 -> L3 | D41: ='Map and Ab list'!N11 -> L4 | E41: =(C41+D41)/2 -> #VALUE! | G41: ='Map and Ab list'!N83 -> L3 | H41: ='Map and Ab list'!N85 -> L4 | I41: =(G41+H41)/2 -> #VALUE! | K41: ='Map and Ab list'!N157 -> L3 | L41: ='Map and Ab list'!N159 -> L4 | M41: =(K41+L41)/2 -> #VALUE! | O41: ='Map and Ab list'!N231 -> L3 | P41: ='Map and Ab list'!N233 -> L4 | Q41: =(O41+P41)/2 -> #VALUE! | S41: ='Map and Ab list'!N305 -> L3 | T41: ='Map and Ab list'!N307 -> L4 | U41: =(S41+T41)/2 -> #VALUE! | W41: ='Map and Ab list'!N379 -> L3 | X41: ='Map and Ab list'!N381 -> L4 | Y41: =(W41+X41)/2 -> #VALUE! | AA41: ='Map and Ab list'!N453 -> L3 | AB41: ='Map and Ab list'!N455 -> L4 | AC41: =(AA41+AB41)/2 -> #VALUE! | AE41: ='Map and Ab list'!N527 -> L3 | AF41: ='Map and Ab list'!N529 -> L4 | AG41: =(AE41+AF41)/2 -> #VALUE! | AI41: ='Map and Ab list'!N601 -> L3 | AJ41: ='Map and Ab list'!N603 -> L4 | AK41: =(AI41+AJ41)/2 -> #VALUE! | AM41: ='Map and Ab list'!N675 -> L3 | AN41: ='Map and Ab list'!N677 -> L4 | AO41: =(AM41+AN41)/2 -> #VALUE! | AQ41: ='Map and Ab list'!N749 -> L3 | AR41: ='Map and Ab list'!N751 -> L4 | AS41: =(AQ41+AR41)/2 -> #VALUE! | AU41: ='Map and Ab list'!N823 -> L3 | AV41: ='Map and Ab list'!N825 -> L4 | AW41: =(AU41+AV41)/2 -> #VALUE!
A42: 38 | B42: CHCHD3 | C42: ='Map and Ab list'!O9 -> M3 | D42: ='Map and Ab list'!O11 -> M4 | E42: =(C42+D42)/2 -> #VALUE! | G42: ='Map and Ab list'!O83 -> M3 | H42: ='Map and Ab list'!O85 -> M4 | I42: =(G42+H42)/2 -> #VALUE! | K42: ='Map and Ab list'!O157 -> M3 | L42: ='Map and Ab list'!O159 -> M4 | M42: =(K42+L42)/2 -> #VALUE! | O42: ='Map and Ab list'!O231 -> M3 | P42: ='Map and Ab list'!O233 -> M4 | Q42: =(O42+P42)/2 -> #VALUE! | S42: ='Map and Ab list'!O305 -> M3 | T42: ='Map and Ab list'!O307 -> M4 | U42: =(S42+T42)/2 -> #VALUE! | W42: ='Map and Ab list'!O379 -> M3 | X42: ='Map and Ab list'!O381 -> M4 | Y42: =(W42+X42)/2 -> #VALUE! | AA42: ='Map and Ab list'!O453 -> M3 | AB42: ='Map and Ab list'!O455 -> M4 | AC42: =(AA42+AB42)/2 -> #VALUE! | AE42: ='Map and Ab list'!O527 -> M3 | AF42: ='Map and Ab list'!O529 -> M4 | AG42: =(AE42+AF42)/2 -> #VALUE! | AI42: ='Map and Ab list'!O601 -> M3 | AJ42: ='Map and Ab list'!O603 -> M4 | AK42: =(AI42+AJ42)/2 -> #VALUE! | AM42: ='Map and Ab list'!O675 -> M3 | AN42: ='Map and Ab list'!O677 -> M4 | AO42: =(AM42+AN42)/2 -> #VALUE! | AQ42: ='Map and Ab list'!O749 -> M3 | AR42: ='Map and Ab list'!O751 -> M4 | AS42: =(AQ42+AR42)/2 -> #VALUE! | AU42: ='Map and Ab list'!O823 -> M3 | AV42: ='Map and Ab list'!O825 -> M4 | AW42: =(AU42+AV42)/2 -> #VALUE!
A43: 39 | B43: Cingulin | C43: ='Map and Ab list'!P9 -> N3 | D43: ='Map and Ab list'!P11 -> N4 | E43: =(C43+D43)/2 -> #VALUE! | G43: ='Map and Ab list'!P83 -> N3 | H43: ='Map and Ab list'!P85 -> N4 | I43: =(G43+H43)/2 -> #VALUE! | K43: ='Map and Ab list'!P157 -> N3 | L43: ='Map and Ab list'!P159 -> N4 | M43: =(K43+L43)/2 -> #VALUE! | O43: ='Map and Ab list'!P231 -> N3 | P43: ='Map and Ab list'!P233 -> N4 | Q43: =(O43+P43)/2 -> #VALUE! | S43: ='Map and Ab list'!P305 -> N3 | T43: ='Map and Ab list'!P307 -> N4 | U43: =(S43+T43)/2 -> #VALUE! | W43: ='Map and Ab list'!P379 -> N3 | X43: ='Map and Ab list'!P381 -> N4 | Y43: =(W43+X43)/2 -> #VALUE! | AA43: ='Map and Ab list'!P453 -> N3 | AB43: ='Map and Ab list'!P455 -> N4 | AC43: =(AA43+AB43)/2 -> #VALUE! | AE43: ='Map and Ab list'!P527 -> N3 | AF43: ='Map and Ab list'!P529 -> N4 | AG43: =(AE43+AF43)/2 -> #VALUE! | AI43: ='Map and Ab list'!P601 -> N3 | AJ43: ='Map and Ab list'!P603 -> N4 | AK43: =(AI43+AJ43)/2 -> #VALUE! | AM43: ='Map and Ab list'!P675 -> N3 | AN43: ='Map and Ab list'!P677 -> N4 | AO43: =(AM43+AN43)/2 -> #VALUE! | AQ43: ='Map and Ab list'!P749 -> N3 | AR43: ='Map and Ab list'!P751 -> N4 | AS43: =(AQ43+AR43)/2 -> #VALUE! | AU43: ='Map and Ab list'!P823 -> N3 | AV43: ='Map and Ab list'!P825 -> N4 | AW43: =(AU43+AV43)/2 -> #VALUE!
A44: 40 | B44: CIT | C44: ='Map and Ab list'!Q9 -> O3 | D44: ='Map and Ab list'!Q11 -> O4 | E44: =(C44+D44)/2 -> #VALUE! | G44: ='Map and Ab list'!Q83 -> O3 | H44: ='Map and Ab list'!Q85 -> O4 | I44: =(G44+H44)/2 -> #VALUE! | K44: ='Map and Ab list'!Q157 -> O3 | L44: ='Map and Ab list'!Q159 -> O4 | M44: =(K44+L44)/2 -> #VALUE! | O44: ='Map and Ab list'!Q231 -> O3 | P44: ='Map and Ab list'!Q233 -> O4 | Q44: =(O44+P44)/2 -> #VALUE! | S44: ='Map and Ab list'!Q305 -> O3 | T44: ='Map and Ab list'!Q307 -> O4 | U44: =(S44+T44)/2 -> #VALUE! | W44: ='Map and Ab list'!Q379 -> O3 | X44: ='Map and Ab list'!Q381 -> O4 | Y44: =(W44+X44)/2 -> #VALUE! | AA44: ='Map and Ab list'!Q453 -> O3 | AB44: ='Map and Ab list'!Q455 -> O4 | AC44: =(AA44+AB44)/2 -> #VALUE! | AE44: ='Map and Ab list'!Q527 -> O3 | AF44: ='Map and Ab list'!Q529 -> O4 | AG44: =(AE44+AF44)/2 -> #VALUE! | AI44: ='Map and Ab list'!Q601 -> O3 | AJ44: ='Map and Ab list'!Q603 -> O4 | AK44: =(AI44+AJ44)/2 -> #VALUE! | AM44: ='Map and Ab list'!Q675 -> O3 | AN44: ='Map and Ab list'!Q677 -> O4 | AO44: =(AM44+AN44)/2 -> #VALUE! | AQ44: ='Map and Ab list'!Q749 -> O3 | AR44: ='Map and Ab list'!Q751 -> O4 | AS44: =(AQ44+AR44)/2 -> #VALUE! | AU44: ='Map and Ab list'!Q823 -> O3 | AV44: ='Map and Ab list'!Q825 -> O4 | AW44: =(AU44+AV44)/2 -> #VALUE!
A45: 41 | B45: CMG1 | C45: ='Map and Ab list'!R9 -> P3 | D45: ='Map and Ab list'!R11 -> P4 | E45: =(C45+D45)/2 -> #VALUE! | G45: ='Map and Ab list'!R83 -> P3 | H45: ='Map and Ab list'!R85 -> P4 | I45: =(G45+H45)/2 -> #VALUE! | K45: ='Map and Ab list'!R157 -> P3 | L45: ='Map and Ab list'!R159 -> P4 | M45: =(K45+L45)/2 -> #VALUE! | O45: ='Map and Ab list'!R231 -> P3 | P45: ='Map and Ab list'!R233 -> P4 | Q45: =(O45+P45)/2 -> #VALUE! | S45: ='Map and Ab list'!R305 -> P3 | T45: ='Map and Ab list'!R307 -> P4 | U45: =(S45+T45)/2 -> #VALUE! | W45: ='Map and Ab list'!R379 -> P3 | X45: ='Map and Ab list'!R381 -> P4 | Y45: =(W45+X45)/2 -> #VALUE! | AA45: ='Map and Ab list'!R453 -> P3 | AB45: ='Map and Ab list'!R455 -> P4 | AC45: =(AA45+AB45)/2 -> #VALUE! | AE45: ='Map and Ab list'!R527 -> P3 | AF45: ='Map and Ab list'!R529 -> P4 | AG45: =(AE45+AF45)/2 -> #VALUE! | AI45: ='Map and Ab list'!R601 -> P3 | AJ45: ='Map and Ab list'!R603 -> P4 | AK45: =(AI45+AJ45)/2 -> #VALUE! | AM45: ='Map and Ab list'!R675 -> P3 | AN45: ='Map and Ab list'!R677 -> P4 | AO45: =(AM45+AN45)/2 -> #VALUE! | AQ45: ='Map and Ab list'!R749 -> P3 | AR45: ='Map and Ab list'!R751 -> P4 | AS45: =(AQ45+AR45)/2 -> #VALUE! | AU45: ='Map and Ab list'!R823 -> P3 | AV45: ='Map and Ab list'!R825 -> P4 | AW45: =(AU45+AV45)/2 -> #VALUE!
A46: 42 | B46: CNBP | C46: ='Map and Ab list'!S9 -> S3 | D46: ='Map and Ab list'!S11 -> S4 | E46: =(C46+D46)/2 -> #VALUE! | G46: ='Map and Ab list'!S83 -> S3 | H46: ='Map and Ab list'!S85 -> S4 | I46: =(G46+H46)/2 -> #VALUE! | K46: ='Map and Ab list'!S157 -> S3 | L46: ='Map and Ab list'!S159 -> S4 | M46: =(K46+L46)/2 -> #VALUE! | O46: ='Map and Ab list'!S231 -> S3 | P46: ='Map and Ab list'!S233 -> S4 | Q46: =(O46+P46)/2 -> #VALUE! | S46: ='Map and Ab list'!S305 -> S3 | T46: ='Map and Ab list'!S307 -> S4 | U46: =(S46+T46)/2 -> #VALUE! | W46: ='Map and Ab list'!S379 -> S3 | X46: ='Map and Ab list'!S381 -> S4 | Y46: =(W46+X46)/2 -> #VALUE! | AA46: ='Map and Ab list'!S453 -> S3 | AB46: ='Map and Ab list'!S455 -> S4 | AC46: =(AA46+AB46)/2 -> #VALUE! | AE46: ='Map and Ab list'!S527 -> S3 | AF46: ='Map and Ab list'!S529 -> S4 | AG46: =(AE46+AF46)/2 -> #VALUE! | AI46: ='Map and Ab list'!S601 -> S3 | AJ46: ='Map and Ab list'!S603 -> S4 | AK46: =(AI46+AJ46)/2 -> #VALUE! | AM46: ='Map and Ab list'!S675 -> S3 | AN46: ='Map and Ab list'!S677 -> S4 | AO46: =(AM46+AN46)/2 -> #VALUE! | AQ46: ='Map and Ab list'!S749 -> S3 | AR46: ='Map and Ab list'!S751 -> S4 | AS46: =(AQ46+AR46)/2 -> #VALUE! | AU46: ='Map and Ab list'!S823 -> S3 | AV46: ='Map and Ab list'!S825 -> S4 | AW46: =(AU46+AV46)/2 -> #VALUE!
A47: 43 | B47: CNPY2 | C47: ='Map and Ab list'!T9 -> R3 | D47: ='Map and Ab list'!T11 -> R4 | E47: =(C47+D47)/2 -> #VALUE! | G47: ='Map and Ab list'!T83 -> R3 | H47: ='Map and Ab list'!T85 -> R4 | I47: =(G47+H47)/2 -> #VALUE! | K47: ='Map and Ab list'!T157 -> R3 | L47: ='Map and Ab list'!T159 -> R4 | M47: =(K47+L47)/2 -> #VALUE! | O47: ='Map and Ab list'!T231 -> R3 | P47: ='Map and Ab list'!T233 -> R4 | Q47: =(O47+P47)/2 -> #VALUE! | S47: ='Map and Ab list'!T305 -> R3 | T47: ='Map and Ab list'!T307 -> R4 | U47: =(S47+T47)/2 -> #VALUE! | W47: ='Map and Ab list'!T379 -> R3 | X47: ='Map and Ab list'!T381 -> R4 | Y47: =(W47+X47)/2 -> #VALUE! | AA47: ='Map and Ab list'!T453 -> R3 | AB47: ='Map and Ab list'!T455 -> R4 | AC47: =(AA47+AB47)/2 -> #VALUE! | AE47: ='Map and Ab list'!T527 -> R3 | AF47: ='Map and Ab list'!T529 -> R4 | AG47: =(AE47+AF47)/2 -> #VALUE! | AI47: ='Map and Ab list'!T601 -> R3 | AJ47: ='Map and Ab list'!T603 -> R4 | AK47: =(AI47+AJ47)/2 -> #VALUE! | AM47: ='Map and Ab list'!T675 -> R3 | AN47: ='Map and Ab list'!T677 -> R4 | AO47: =(AM47+AN47)/2 -> #VALUE! | AQ47: ='Map and Ab list'!T749 -> R3 | AR47: ='Map and Ab list'!T751 -> R4 | AS47: =(AQ47+AR47)/2 -> #VALUE! | AU47: ='Map and Ab list'!T823 -> R3 | AV47: ='Map and Ab list'!T825 -> R4 | AW47: =(AU47+AV47)/2 -> #VALUE!
A48: 44 | B48: Coilin | C48: ='Map and Ab list'!U9 -> S3 | D48: ='Map and Ab list'!U11 -> S4 | E48: =(C48+D48)/2 -> #VALUE! | G48: ='Map and Ab list'!U83 -> S3 | H48: ='Map and Ab list'!U85 -> S4 | I48: =(G48+H48)/2 -> #VALUE! | K48: ='Map and Ab list'!U157 -> S3 | L48: ='Map and Ab list'!U159 -> S4 | M48: =(K48+L48)/2 -> #VALUE! | O48: ='Map and Ab list'!U231 -> S3 | P48: ='Map and Ab list'!U233 -> S4 | Q48: =(O48+P48)/2 -> #VALUE! | S48: ='Map and Ab list'!U305 -> S3 | T48: ='Map and Ab list'!U307 -> S4 | U48: =(S48+T48)/2 -> #VALUE! | W48: ='Map and Ab list'!U379 -> S3 | X48: ='Map and Ab list'!U381 -> S4 | Y48: =(W48+X48)/2 -> #VALUE! | AA48: ='Map and Ab list'!U453 -> S3 | AB48: ='Map and Ab list'!U455 -> S4 | AC48: =(AA48+AB48)/2 -> #VALUE! | AE48: ='Map and Ab list'!U527 -> S3 | AF48: ='Map and Ab list'!U529 -> S4 | AG48: =(AE48+AF48)/2 -> #VALUE! | AI48: ='Map and Ab list'!U601 -> S3 | AJ48: ='Map and Ab list'!U603 -> S4 | AK48: =(AI48+AJ48)/2 -> #VALUE! | AM48: ='Map and Ab list'!U675 -> S3 | AN48: ='Map and Ab list'!U677 -> S4 | AO48: =(AM48+AN48)/2 -> #VALUE! | AQ48: ='Map and Ab list'!U749 -> S3 | AR48: ='Map and Ab list'!U751 -> S4 | AS48: =(AQ48+AR48)/2 -> #VALUE! | AU48: ='Map and Ab list'!U823 -> S3 | AV48: ='Map and Ab list'!U825 -> S4 | AW48: =(AU48+AV48)/2 -> #VALUE!
A49: 45 | B49: COL8A2 | C49: ='Map and Ab list'!V9 -> T3 | D49: ='Map and Ab list'!V11 -> T4 | E49: =(C49+D49)/2 -> #VALUE! | G49: ='Map and Ab list'!V83 -> T3 | H49: ='Map and Ab list'!V85 -> T4 | I49: =(G49+H49)/2 -> #VALUE! | K49: ='Map and Ab list'!V157 -> T3 | L49: ='Map and Ab list'!V159 -> T4 | M49: =(K49+L49)/2 -> #VALUE! | O49: ='Map and Ab list'!V231 -> T3 | P49: ='Map and Ab list'!V233 -> T4 | Q49: =(O49+P49)/2 -> #VALUE! | S49: ='Map and Ab list'!V305 -> T3 | T49: ='Map and Ab list'!V307 -> T4 | U49: =(S49+T49)/2 -> #VALUE! | W49: ='Map and Ab list'!V379 -> T3 | X49: ='Map and Ab list'!V381 -> T4 | Y49: =(W49+X49)/2 -> #VALUE! | AA49: ='Map and Ab list'!V453 -> T3 | AB49: ='Map and Ab list'!V455 -> T4 | AC49: =(AA49+AB49)/2 -> #VALUE! | AE49: ='Map and Ab list'!V527 -> T3 | AF49: ='Map and Ab list'!V529 -> T4 | AG49: =(AE49+AF49)/2 -> #VALUE! | AI49: ='Map and Ab list'!V601 -> T3 | AJ49: ='Map and Ab list'!V603 -> T4 | AK49: =(AI49+AJ49)/2 -> #VALUE! | AM49: ='Map and Ab list'!V675 -> T3 | AN49: ='Map and Ab list'!V677 -> T4 | AO49: =(AM49+AN49)/2 -> #VALUE! | AQ49: ='Map and Ab list'!V749 -> T3 | AR49: ='Map and Ab list'!V751 -> T4 | AS49: =(AQ49+AR49)/2 -> #VALUE! | AU49: ='Map and Ab list'!V823 -> T3 | AV49: ='Map and Ab list'!V825 -> T4 | AW49: =(AU49+AV49)/2 -> #VALUE!
A50: 46 | B50: COLEC11 | C50: ='Map and Ab list'!W9 -> U3 | D50: ='Map and Ab list'!W11 -> U4 | E50: =(C50+D50)/2 -> #VALUE! | G50: ='Map and Ab list'!W83 -> U3 | H50: ='Map and Ab list'!W85 -> U4 | I50: =(G50+H50)/2 -> #VALUE! | K50: ='Map and Ab list'!W157 -> U3 | L50: ='Map and Ab list'!W159 -> U4 | M50: =(K50+L50)/2 -> #VALUE! | O50: ='Map and Ab list'!W231 -> U3 | P50: ='Map and Ab list'!W233 -> U4 | Q50: =(O50+P50)/2 -> #VALUE! | S50: ='Map and Ab list'!W305 -> U3 | T50: ='Map and Ab list'!W307 -> U4 | U50: =(S50+T50)/2 -> #VALUE! | W50: ='Map and Ab list'!W379 -> U3 | X50: ='Map and Ab list'!W381 -> U4 | Y50: =(W50+X50)/2 -> #VALUE! | AA50: ='Map and Ab list'!W453 -> U3 | AB50: ='Map and Ab list'!W455 -> U4 | AC50: =(AA50+AB50)/2 -> #VALUE! | AE50: ='Map and Ab list'!W527 -> U3 | AF50: ='Map and Ab list'!W529 -> U4 | AG50: =(AE50+AF50)/2 -> #VALUE! | AI50: ='Map and Ab list'!W601 -> U3 | AJ50: ='Map and Ab list'!W603 -> U4 | AK50: =(AI50+AJ50)/2 -> #VALUE! | AM50: ='Map and Ab list'!W675 -> U3 | AN50: ='Map and Ab list'!W677 -> U4 | AO50: =(AM50+AN50)/2 -> #VALUE! | AQ50: ='Map and Ab list'!W749 -> U3 | AR50: ='Map and Ab list'!W751 -> U4 | AS50: =(AQ50+AR50)/2 -> #VALUE! | AU50: ='Map and Ab list'!W823 -> U3 | AV50: ='Map and Ab list'!W825 -> U4 | AW50: =(AU50+AV50)/2 -> #VALUE!
A51: 47 | B51: COPG2 | C51: ='Map and Ab list'!X9 -> V3 | D51: ='Map and Ab list'!X11 -> V4 | E51: =(C51+D51)/2 -> #VALUE! | G51: ='Map and Ab list'!X83 -> V3 | H51: ='Map and Ab list'!X85 -> V4 | I51: =(G51+H51)/2 -> #VALUE! | K51: ='Map and Ab list'!X157 -> V3 | L51: ='Map and Ab list'!X159 -> V4 | M51: =(K51+L51)/2 -> #VALUE! | O51: ='Map and Ab list'!X231 -> V3 | P51: ='Map and Ab list'!X233 -> V4 | Q51: =(O51+P51)/2 -> #VALUE! | S51: ='Map and Ab list'!X305 -> V3 | T51: ='Map and Ab list'!X307 -> V4 | U51: =(S51+T51)/2 -> #VALUE! | W51: ='Map and Ab list'!X379 -> V3 | X51: ='Map and Ab list'!X381 -> V4 | Y51: =(W51+X51)/2 -> #VALUE! | AA51: ='Map and Ab list'!X453 -> V3 | AB51: ='Map and Ab list'!X455 -> V4 | AC51: =(AA51+AB51)/2 -> #VALUE! | AE51: ='Map and Ab list'!X527 -> V3 | AF51: ='Map and Ab list'!X529 -> V4 | AG51: =(AE51+AF51)/2 -> #VALUE! | AI51: ='Map and Ab list'!X601 -> V3 | AJ51: ='Map and Ab list'!X603 -> V4 | AK51: =(AI51+AJ51)/2 -> #VALUE! | AM51: ='Map and Ab list'!X675 -> V3 | AN51: ='Map and Ab list'!X677 -> V4 | AO51: =(AM51+AN51)/2 -> #VALUE! | AQ51: ='Map and Ab list'!X749 -> V3 | AR51: ='Map and Ab list'!X751 -> V4 | AS51: =(AQ51+AR51)/2 -> #VALUE! | AU51: ='Map and Ab list'!X823 -> V3 | AV51: ='Map and Ab list'!X825 -> V4 | AW51: =(AU51+AV51)/2 -> #VALUE!
A52: 48 | B52: CORO1B | C52: ='Map and Ab list'!Y9 -> W3 | D52: ='Map and Ab list'!Y11 -> W4 | E52: =(C52+D52)/2 -> #VALUE! | G52: ='Map and Ab list'!Y83 -> W3 | H52: ='Map and Ab list'!Y85 -> W4 | I52: =(G52+H52)/2 -> #VALUE! | K52: ='Map and Ab list'!Y157 -> W3 | L52: ='Map and Ab list'!Y159 -> W4 | M52: =(K52+L52)/2 -> #VALUE! | O52: ='Map and Ab list'!Y231 -> W3 | P52: ='Map and Ab list'!Y233 -> W4 | Q52: =(O52+P52)/2 -> #VALUE! | S52: ='Map and Ab list'!Y305 -> W3 | T52: ='Map and Ab list'!Y307 -> W4 | U52: =(S52+T52)/2 -> #VALUE! | W52: ='Map and Ab list'!Y379 -> W3 | X52: ='Map and Ab list'!Y381 -> W4 | Y52: =(W52+X52)/2 -> #VALUE! | AA52: ='Map and Ab list'!Y453 -> W3 | AB52: ='Map and Ab list'!Y455 -> W4 | AC52: =(AA52+AB52)/2 -> #VALUE! | AE52: ='Map and Ab list'!Y527 -> W3 | AF52: ='Map and Ab list'!Y529 -> W4 | AG52: =(AE52+AF52)/2 -> #VALUE! | AI52: ='Map and Ab list'!Y601 -> W3 | AJ52: ='Map and Ab list'!Y603 -> W4 | AK52: =(AI52+AJ52)/2 -> #VALUE! | AM52: ='Map and Ab list'!Y675 -> W3 | AN52: ='Map and Ab list'!Y677 -> W4 | AO52: =(AM52+AN52)/2 -> #VALUE! | AQ52: ='Map and Ab list'!Y749 -> W3 | AR52: ='Map and Ab list'!Y751 -> W4 | AS52: =(AQ52+AR52)/2 -> #VALUE! | AU52: ='Map and Ab list'!Y823 -> W3 | AV52: ='Map and Ab list'!Y825 -> W4 | AW52: =(AU52+AV52)/2 -> #VALUE!
A53: 49 | B53: CPA3 | C53: ='Map and Ab list'!Z9 -> X3 | D53: ='Map and Ab list'!Z11 -> X4 | E53: =(C53+D53)/2 -> #VALUE! | G53: ='Map and Ab list'!Z83 -> X3 | H53: ='Map and Ab list'!Z85 -> X4 | I53: =(G53+H53)/2 -> #VALUE! | K53: ='Map and Ab list'!Z157 -> X3 | L53: ='Map and Ab list'!Z159 -> X4 | M53: =(K53+L53)/2 -> #VALUE! | O53: ='Map and Ab list'!Z231 -> X3 | P53: ='Map and Ab list'!Z233 -> X4 | Q53: =(O53+P53)/2 -> #VALUE! | S53: ='Map and Ab list'!Z305 -> X3 | T53: ='Map and Ab list'!Z307 -> X4 | U53: =(S53+T53)/2 -> #VALUE! | W53: ='Map and Ab list'!Z379 -> X3 | X53: ='Map and Ab list'!Z381 -> X4 | Y53: =(W53+X53)/2 -> #VALUE! | AA53: ='Map and Ab list'!Z453 -> X3 | AB53: ='Map and Ab list'!Z455 -> X4 | AC53: =(AA53+AB53)/2 -> #VALUE! | AE53: ='Map and Ab list'!Z527 -> X3 | AF53: ='Map and Ab list'!Z529 -> X4 | AG53: =(AE53+AF53)/2 -> #VALUE! | AI53: ='Map and Ab list'!Z601 -> X3 | AJ53: ='Map and Ab list'!Z603 -> X4 | AK53: =(AI53+AJ53)/2 -> #VALUE! | AM53: ='Map and Ab list'!Z675 -> X3 | AN53: ='Map and Ab list'!Z677 -> X4 | AO53: =(AM53+AN53)/2 -> #VALUE! | AQ53: ='Map and Ab list'!Z749 -> X3 | AR53: ='Map and Ab list'!Z751 -> X4 | AS53: =(AQ53+AR53)/2 -> #VALUE! | AU53: ='Map and Ab list'!Z823 -> X3 | AV53: ='Map and Ab list'!Z825 -> X4 | AW53: =(AU53+AV53)/2 -> #VALUE!
A54: 50 | B54: CPI17 alpha | C54: ='Map and Ab list'!AA9 -> Y3 | D54: ='Map and Ab list'!AA11 -> Y4 | E54: =(C54+D54)/2 -> #VALUE! | G54: ='Map and Ab list'!AA83 -> Y3 | H54: ='Map and Ab list'!AA85 -> Y4 | I54: =(G54+H54)/2 -> #VALUE! | K54: ='Map and Ab list'!AA157 -> Y3 | L54: ='Map and Ab list'!AA159 -> Y4 | M54: =(K54+L54)/2 -> #VALUE! | O54: ='Map and Ab list'!AA231 -> Y3 | P54: ='Map and Ab list'!AA233 -> Y4 | Q54: =(O54+P54)/2 -> #VALUE! | S54: ='Map and Ab list'!AA305 -> Y3 | T54: ='Map and Ab list'!AA307 -> Y4 | U54: =(S54+T54)/2 -> #VALUE! | W54: ='Map and Ab list'!AA379 -> Y3 | X54: ='Map and Ab list'!AA381 -> Y4 | Y54: =(W54+X54)/2 -> #VALUE! | AA54: ='Map and Ab list'!AA453 -> Y3 | AB54: ='Map and Ab list'!AA455 -> Y4 | AC54: =(AA54+AB54)/2 -> #VALUE! | AE54: ='Map and Ab list'!AA527 -> Y3 | AF54: ='Map and Ab list'!AA529 -> Y4 | AG54: =(AE54+AF54)/2 -> #VALUE! | AI54: ='Map and Ab list'!AA601 -> Y3 | AJ54: ='Map and Ab list'!AA603 -> Y4 | AK54: =(AI54+AJ54)/2 -> #VALUE! | AM54: ='Map and Ab list'!AA675 -> Y3 | AN54: ='Map and Ab list'!AA677 -> Y4 | AO54: =(AM54+AN54)/2 -> #VALUE! | AQ54: ='Map and Ab list'!AA749 -> Y3 | AR54: ='Map and Ab list'!AA751 -> Y4 | AS54: =(AQ54+AR54)/2 -> #VALUE! | AU54: ='Map and Ab list'!AA823 -> Y3 | AV54: ='Map and Ab list'!AA825 -> Y4 | AW54: =(AU54+AV54)/2 -> #VALUE!
A55: 51 | B55: CrkRS | C55: ='Map and Ab list'!AB9 -> Z3 | D55: ='Map and Ab list'!AB11 -> Z4 | E55: =(C55+D55)/2 -> #VALUE! | G55: ='Map and Ab list'!AB83 -> Z3 | H55: ='Map and Ab list'!AB85 -> Z4 | I55: =(G55+H55)/2 -> #VALUE! | K55: ='Map and Ab list'!AB157 -> Z3 | L55: ='Map and Ab list'!AB159 -> Z4 | M55: =(K55+L55)/2 -> #VALUE! | O55: ='Map and Ab list'!AB231 -> Z3 | P55: ='Map and Ab list'!AB233 -> Z4 | Q55: =(O55+P55)/2 -> #VALUE! | S55: ='Map and Ab list'!AB305 -> Z3 | T55: ='Map and Ab list'!AB307 -> Z4 | U55: =(S55+T55)/2 -> #VALUE! | W55: ='Map and Ab list'!AB379 -> Z3 | X55: ='Map and Ab list'!AB381 -> Z4 | Y55: =(W55+X55)/2 -> #VALUE! | AA55: ='Map and Ab list'!AB453 -> Z3 | AB55: ='Map and Ab list'!AB455 -> Z4 | AC55: =(AA55+AB55)/2 -> #VALUE! | AE55: ='Map and Ab list'!AB527 -> Z3 | AF55: ='Map and Ab list'!AB529 -> Z4 | AG55: =(AE55+AF55)/2 -> #VALUE! | AI55: ='Map and Ab list'!AB601 -> Z3 | AJ55: ='Map and Ab list'!AB603 -> Z4 | AK55: =(AI55+AJ55)/2 -> #VALUE! | AM55: ='Map and Ab list'!AB675 -> Z3 | AN55: ='Map and Ab list'!AB677 -> Z4 | AO55: =(AM55+AN55)/2 -> #VALUE! | AQ55: ='Map and Ab list'!AB749 -> Z3 | AR55: ='Map and Ab list'!AB751 -> Z4 | AS55: =(AQ55+AR55)/2 -> #VALUE! | AU55: ='Map and Ab list'!AB823 -> Z3 | AV55: ='Map and Ab list'!AB825 -> Z4 | AW55: =(AU55+AV55)/2 -> #VALUE!
A56: 52 | B56: CRLF3 | C56: ='Map and Ab list'!AC9 -> AA3 | D56: ='Map and Ab list'!AC11 -> AA4 | E56: =(C56+D56)/2 -> #VALUE! | G56: ='Map and Ab list'!AC83 -> AA3 | H56: ='Map and Ab list'!AC85 -> AA4 | I56: =(G56+H56)/2 -> #VALUE! | K56: ='Map and Ab list'!AC157 -> AA3 | L56: ='Map and Ab list'!AC159 -> AA4 | M56: =(K56+L56)/2 -> #VALUE! | O56: ='Map and Ab list'!AC231 -> AA3 | P56: ='Map and Ab list'!AC233 -> AA4 | Q56: =(O56+P56)/2 -> #VALUE! | S56: ='Map and Ab list'!AC305 -> AA3 | T56: ='Map and Ab list'!AC307 -> AA4 | U56: =(S56+T56)/2 -> #VALUE! | W56: ='Map and Ab list'!AC379 -> AA3 | X56: ='Map and Ab list'!AC381 -> AA4 | Y56: =(W56+X56)/2 -> #VALUE! | AA56: ='Map and Ab list'!AC453 -> AA3 | AB56: ='Map and Ab list'!AC455 -> AA4 | AC56: =(AA56+AB56)/2 -> #VALUE! | AE56: ='Map and Ab list'!AC527 -> AA3 | AF56: ='Map and Ab list'!AC529 -> AA4 | AG56: =(AE56+AF56)/2 -> #VALUE! | AI56: ='Map and Ab list'!AC601 -> AA3 | AJ56: ='Map and Ab list'!AC603 -> AA4 | AK56: =(AI56+AJ56)/2 -> #VALUE! | AM56: ='Map and Ab list'!AC675 -> AA3 | AN56: ='Map and Ab list'!AC677 -> AA4 | AO56: =(AM56+AN56)/2 -> #VALUE! | AQ56: ='Map and Ab list'!AC749 -> AA3 | AR56: ='Map and Ab list'!AC751 -> AA4 | AS56: =(AQ56+AR56)/2 -> #VALUE! | AU56: ='Map and Ab list'!AC823 -> AA3 | AV56: ='Map and Ab list'!AC825 -> AA4 | AW56: =(AU56+AV56)/2 -> #VALUE!
A57: 53 | B57: CSRP3 | C57: ='Map and Ab list'!AD9 -> AB3 | D57: ='Map and Ab list'!AD11 -> AB4 | E57: =(C57+D57)/2 -> #VALUE! | G57: ='Map and Ab list'!AD83 -> AB3 | H57: ='Map and Ab list'!AD85 -> AB4 | I57: =(G57+H57)/2 -> #VALUE! | K57: ='Map and Ab list'!AD157 -> AB3 | L57: ='Map and Ab list'!AD159 -> AB4 | M57: =(K57+L57)/2 -> #VALUE! | O57: ='Map and Ab list'!AD231 -> AB3 | P57: ='Map and Ab list'!AD233 -> AB4 | Q57: =(O57+P57)/2 -> #VALUE! | S57: ='Map and Ab list'!AD305 -> AB3 | T57: ='Map and Ab list'!AD307 -> AB4 | U57: =(S57+T57)/2 -> #VALUE! | W57: ='Map and Ab list'!AD379 -> AB3 | X57: ='Map and Ab list'!AD381 -> AB4 | Y57: =(W57+X57)/2 -> #VALUE! | AA57: ='Map and Ab list'!AD453 -> AB3 | AB57: ='Map and Ab list'!AD455 -> AB4 | AC57: =(AA57+AB57)/2 -> #VALUE! | AE57: ='Map and Ab list'!AD527 -> AB3 | AF57: ='Map and Ab list'!AD529 -> AB4 | AG57: =(AE57+AF57)/2 -> #VALUE! | AI57: ='Map and Ab list'!AD601 -> AB3 | AJ57: ='Map and Ab list'!AD603 -> AB4 | AK57: =(AI57+AJ57)/2 -> #VALUE! | AM57: ='Map and Ab list'!AD675 -> AB3 | AN57: ='Map and Ab list'!AD677 -> AB4 | AO57: =(AM57+AN57)/2 -> #VALUE! | AQ57: ='Map and Ab list'!AD749 -> AB3 | AR57: ='Map and Ab list'!AD751 -> AB4 | AS57: =(AQ57+AR57)/2 -> #VALUE! | AU57: ='Map and Ab list'!AD823 -> AB3 | AV57: ='Map and Ab list'!AD825 -> AB4 | AW57: =(AU57+AV57)/2 -> #VALUE!
A58: 54 | B58: CTNNAL1 | C58: ='Map and Ab list'!AE9 -> AC3 | D58: ='Map and Ab list'!AE11 -> AC4 | E58: =(C58+D58)/2 -> #VALUE! | G58: ='Map and Ab list'!AE83 -> AC3 | H58: ='Map and Ab list'!AE85 -> AC4 | I58: =(G58+H58)/2 -> #VALUE! | K58: ='Map and Ab list'!AE157 -> AC3 | L58: ='Map and Ab list'!AE159 -> AC4 | M58: =(K58+L58)/2 -> #VALUE! | O58: ='Map and Ab list'!AE231 -> AC3 | P58: ='Map and Ab list'!AE233 -> AC4 | Q58: =(O58+P58)/2 -> #VALUE! | S58: ='Map and Ab list'!AE305 -> AC3 | T58: ='Map and Ab list'!AE307 -> AC4 | U58: =(S58+T58)/2 -> #VALUE! | W58: ='Map and Ab list'!AE379 -> AC3 | X58: ='Map and Ab list'!AE381 -> AC4 | Y58: =(W58+X58)/2 -> #VALUE! | AA58: ='Map and Ab list'!AE453 -> AC3 | AB58: ='Map and Ab list'!AE455 -> AC4 | AC58: =(AA58+AB58)/2 -> #VALUE! | AE58: ='Map and Ab list'!AE527 -> AC3 | AF58: ='Map and Ab list'!AE529 -> AC4 | AG58: =(AE58+AF58)/2 -> #VALUE! | AI58: ='Map and Ab list'!AE601 -> AC3 | AJ58: ='Map and Ab list'!AE603 -> AC4 | AK58: =(AI58+AJ58)/2 -> #VALUE! | AM58: ='Map and Ab list'!AE675 -> AC3 | AN58: ='Map and Ab list'!AE677 -> AC4 | AO58: =(AM58+AN58)/2 -> #VALUE! | AQ58: ='Map and Ab list'!AE749 -> AC3 | AR58: ='Map and Ab list'!AE751 -> AC4 | AS58: =(AQ58+AR58)/2 -> #VALUE! | AU58: ='Map and Ab list'!AE823 -> AC3 | AV58: ='Map and Ab list'!AE825 -> AC4 | AW58: =(AU58+AV58)/2 -> #VALUE!
A59: 55 | B59: CTNND1 | C59: ='Map and Ab list'!AF9 -> AD3 | D59: ='Map and Ab list'!AF11 -> AD4 | E59: =(C59+D59)/2 -> #VALUE! | G59: ='Map and Ab list'!AF83 -> AD3 | H59: ='Map and Ab list'!AF85 -> AD4 | I59: =(G59+H59)/2 -> #VALUE! | K59: ='Map and Ab list'!AF157 -> AD3 | L59: ='Map and Ab list'!AF159 -> AD4 | M59: =(K59+L59)/2 -> #VALUE! | O59: ='Map and Ab list'!AF231 -> AD3 | P59: ='Map and Ab list'!AF233 -> AD4 | Q59: =(O59+P59)/2 -> #VALUE! | S59: ='Map and Ab list'!AF305 -> AD3 | T59: ='Map and Ab list'!AF307 -> AD4 | U59: =(S59+T59)/2 -> #VALUE! | W59: ='Map and Ab list'!AF379 -> AD3 | X59: ='Map and Ab list'!AF381 -> AD4 | Y59: =(W59+X59)/2 -> #VALUE! | AA59: ='Map and Ab list'!AF453 -> AD3 | AB59: ='Map and Ab list'!AF455 -> AD4 | AC59: =(AA59+AB59)/2 -> #VALUE! | AE59: ='Map and Ab list'!AF527 -> AD3 | AF59: ='Map and Ab list'!AF529 -> AD4 | AG59: =(AE59+AF59)/2 -> #VALUE! | AI59: ='Map and Ab list'!AF601 -> AD3 | AJ59: ='Map and Ab list'!AF603 -> AD4 | AK59: =(AI59+AJ59)/2 -> #VALUE! | AM59: ='Map and Ab list'!AF675 -> AD3 | AN59: ='Map and Ab list'!AF677 -> AD4 | AO59: =(AM59+AN59)/2 -> #VALUE! | AQ59: ='Map and Ab list'!AF749 -> AD3 | AR59: ='Map and Ab list'!AF751 -> AD4 | AS59: =(AQ59+AR59)/2 -> #VALUE! | AU59: ='Map and Ab list'!AF823 -> AD3 | AV59: ='Map and Ab list'!AF825 -> AD4 | AW59: =(AU59+AV59)/2 -> #VALUE!
A60: 56 | B60: Cyclophilin F | C60: ='Map and Ab list'!C13 -> A5 | D60: ='Map and Ab list'!C15 -> A6 | E60: =(C60+D60)/2 -> #VALUE! | G60: ='Map and Ab list'!C87 -> A5 | H60: ='Map and Ab list'!C89 -> A6 | I60: =(G60+H60)/2 -> #VALUE! | K60: ='Map and Ab list'!C161 -> A5 | L60: ='Map and Ab list'!C163 -> A6 | M60: =(K60+L60)/2 -> #VALUE! | O60: ='Map and Ab list'!C235 -> A5 | P60: ='Map and Ab list'!C237 -> A6 | Q60: =(O60+P60)/2 -> #VALUE! | S60: ='Map and Ab list'!C309 -> A5 | T60: ='Map and Ab list'!C311 -> A6 | U60: =(S60+T60)/2 -> #VALUE! | W60: ='Map and Ab list'!C383 -> A5 | X60: ='Map and Ab list'!C385 -> A6 | Y60: =(W60+X60)/2 -> #VALUE! | AA60: ='Map and Ab list'!C457 -> A5 | AB60: ='Map and Ab list'!C459 -> A6 | AC60: =(AA60+AB60)/2 -> #VALUE! | AE60: ='Map and Ab list'!C531 -> A5 | AF60: ='Map and Ab list'!C533 -> A6 | AG60: =(AE60+AF60)/2 -> #VALUE! | AI60: ='Map and Ab list'!C605 -> A5 | AJ60: ='Map and Ab list'!C607 -> A6 | AK60: =(AI60+AJ60)/2 -> #VALUE! | AM60: ='Map and Ab list'!C679 -> A5 | AN60: ='Map and Ab list'!C681 -> A6 | AO60: =(AM60+AN60)/2 -> #VALUE! | AQ60: ='Map and Ab list'!C753 -> A5 | AR60: ='Map and Ab list'!C755 -> A6 | AS60: =(AQ60+AR60)/2 -> #VALUE! | AU60: ='Map and Ab list'!C827 -> A5 | AV60: ='Map and Ab list'!C829 -> A6 | AW60: =(AU60+AV60)/2 -> #VALUE!
A61: 57 | B61: Cytochrome b5 | C61: ='Map and Ab list'!D13 -> B5 | D61: ='Map and Ab list'!D15 -> B6 | E61: =(C61+D61)/2 -> #VALUE! | G61: ='Map and Ab list'!D87 -> B5 | H61: ='Map and Ab list'!D89 -> B6 | I61: =(G61+H61)/2 -> #VALUE! | K61: ='Map and Ab list'!D161 -> B5 | L61: ='Map and Ab list'!D163 -> B6 | M61: =(K61+L61)/2 -> #VALUE! | O61: ='Map and Ab list'!D235 -> B5 | P61: ='Map and Ab list'!D237 -> B6 | Q61: =(O61+P61)/2 -> #VALUE! | S61: ='Map and Ab list'!D309 -> B5 | T61: ='Map and Ab list'!D311 -> B6 | U61: =(S61+T61)/2 -> #VALUE! | W61: ='Map and Ab list'!D383 -> B5 | X61: ='Map and Ab list'!D385 -> B6 | Y61: =(W61+X61)/2 -> #VALUE! | AA61: ='Map and Ab list'!D457 -> B5 | AB61: ='Map and Ab list'!D459 -> B6 | AC61: =(AA61+AB61)/2 -> #VALUE! | AE61: ='Map and Ab list'!D531 -> B5 | AF61: ='Map and Ab list'!D533 -> B6 | AG61: =(AE61+AF61)/2 -> #VALUE! | AI61: ='Map and Ab list'!D605 -> B5 | AJ61: ='Map and Ab list'!D607 -> B6 | AK61: =(AI61+AJ61)/2 -> #VALUE! | AM61: ='Map and Ab list'!D679 -> B5 | AN61: ='Map and Ab list'!D681 -> B6 | AO61: =(AM61+AN61)/2 -> #VALUE! | AQ61: ='Map and Ab list'!D753 -> B5 | AR61: ='Map and Ab list'!D755 -> B6 | AS61: =(AQ61+AR61)/2 -> #VALUE! | AU61: ='Map and Ab list'!D827 -> B5 | AV61: ='Map and Ab list'!D829 -> B6 | AW61: =(AU61+AV61)/2 -> #VALUE!
A62: 58 | B62: DCAMKL1 | C62: ='Map and Ab list'!E13 -> C5 | D62: ='Map and Ab list'!E15 -> C6 | E62: =(C62+D62)/2 -> #VALUE! | G62: ='Map and Ab list'!E87 -> C5 | H62: ='Map and Ab list'!E89 -> C6 | I62: =(G62+H62)/2 -> #VALUE! | K62: ='Map and Ab list'!E161 -> C5 | L62: ='Map and Ab list'!E163 -> C6 | M62: =(K62+L62)/2 -> #VALUE! | O62: ='Map and Ab list'!E235 -> C5 | P62: ='Map and Ab list'!E237 -> C6 | Q62: =(O62+P62)/2 -> #VALUE! | S62: ='Map and Ab list'!E309 -> C5 | T62: ='Map and Ab list'!E311 -> C6 | U62: =(S62+T62)/2 -> #VALUE! | W62: ='Map and Ab list'!E383 -> C5 | X62: ='Map and Ab list'!E385 -> C6 | Y62: =(W62+X62)/2 -> #VALUE! | AA62: ='Map and Ab list'!E457 -> C5 | AB62: ='Map and Ab list'!E459 -> C6 | AC62: =(AA62+AB62)/2 -> #VALUE! | AE62: ='Map and Ab list'!E531 -> C5 | AF62: ='Map and Ab list'!E533 -> C6 | AG62: =(AE62+AF62)/2 -> #VALUE! | AI62: ='Map and Ab list'!E605 -> C5 | AJ62: ='Map and Ab list'!E607 -> C6 | AK62: =(AI62+AJ62)/2 -> #VALUE! | AM62: ='Map and Ab list'!E679 -> C5 | AN62: ='Map and Ab list'!E681 -> C6 | AO62: =(AM62+AN62)/2 -> #VALUE! | AQ62: ='Map and Ab list'!E753 -> C5 | AR62: ='Map and Ab list'!E755 -> C6 | AS62: =(AQ62+AR62)/2 -> #VALUE! | AU62: ='Map and Ab list'!E827 -> C5 | AV62: ='Map and Ab list'!E829 -> C6 | AW62: =(AU62+AV62)/2 -> #VALUE!
A63: 59 | B63: Dematin | C63: ='Map and Ab list'!F13 -> D5 | D63: ='Map and Ab list'!F15 -> D6 | E63: =(C63+D63)/2 -> #VALUE! | G63: ='Map and Ab list'!F87 -> D5 | H63: ='Map and Ab list'!F89 -> D6 | I63: =(G63+H63)/2 -> #VALUE! | K63: ='Map and Ab list'!F161 -> D5 | L63: ='Map and Ab list'!F163 -> D6 | M63: =(K63+L63)/2 -> #VALUE! | O63: ='Map and Ab list'!F235 -> D5 | P63: ='Map and Ab list'!F237 -> D6 | Q63: =(O63+P63)/2 -> #VALUE! | S63: ='Map and Ab list'!F309 -> D5 | T63: ='Map and Ab list'!F311 -> D6 | U63: =(S63+T63)/2 -> #VALUE! | W63: ='Map and Ab list'!F383 -> D5 | X63: ='Map and Ab list'!F385 -> D6 | Y63: =(W63+X63)/2 -> #VALUE! | AA63: ='Map and Ab list'!F457 -> D5 | AB63: ='Map and Ab list'!F459 -> D6 | AC63: =(AA63+AB63)/2 -> #VALUE! | AE63: ='Map and Ab list'!F531 -> D5 | AF63: ='Map and Ab list'!F533 -> D6 | AG63: =(AE63+AF63)/2 -> #VALUE! | AI63: ='Map and Ab list'!F605 -> D5 | AJ63: ='Map and Ab list'!F607 -> D6 | AK63: =(AI63+AJ63)/2 -> #VALUE! | AM63: ='Map and Ab list'!F679 -> D5 | AN63: ='Map and Ab list'!F681 -> D6 | AO63: =(AM63+AN63)/2 -> #VALUE! | AQ63: ='Map and Ab list'!F753 -> D5 | AR63: ='Map and Ab list'!F755 -> D6 | AS63: =(AQ63+AR63)/2 -> #VALUE! | AU63: ='Map and Ab list'!F827 -> D5 | AV63: ='Map and Ab list'!F829 -> D6 | AW63: =(AU63+AV63)/2 -> #VALUE!
A64: 60 | B64: DIAPH1 | C64: ='Map and Ab list'!G13 -> E5 | D64: ='Map and Ab list'!G15 -> E6 | E64: =(C64+D64)/2 -> #VALUE! | G64: ='Map and Ab list'!G87 -> E5 | H64: ='Map and Ab list'!G89 -> E6 | I64: =(G64+H64)/2 -> #VALUE! | K64: ='Map and Ab list'!G161 -> E5 | L64: ='Map and Ab list'!G163 -> E6 | M64: =(K64+L64)/2 -> #VALUE! | O64: ='Map and Ab list'!G235 -> E5 | P64: ='Map and Ab list'!G237 -> E6 | Q64: =(O64+P64)/2 -> #VALUE! | S64: ='Map and Ab list'!G309 -> E5 | T64: ='Map and Ab list'!G311 -> E6 | U64: =(S64+T64)/2 -> #VALUE! | W64: ='Map and Ab list'!G383 -> E5 | X64: ='Map and Ab list'!G385 -> E6 | Y64: =(W64+X64)/2 -> #VALUE! | AA64: ='Map and Ab list'!G457 -> E5 | AB64: ='Map and Ab list'!G459 -> E6 | AC64: =(AA64+AB64)/2 -> #VALUE! | AE64: ='Map and Ab list'!G531 -> E5 | AF64: ='Map and Ab list'!G533 -> E6 | AG64: =(AE64+AF64)/2 -> #VALUE! | AI64: ='Map and Ab list'!G605 -> E5 | AJ64: ='Map and Ab list'!G607 -> E6 | AK64: =(AI64+AJ64)/2 -> #VALUE! | AM64: ='Map and Ab list'!G679 -> E5 | AN64: ='Map and Ab list'!G681 -> E6 | AO64: =(AM64+AN64)/2 -> #VALUE! | AQ64: ='Map and Ab list'!G753 -> E5 | AR64: ='Map and Ab list'!G755 -> E6 | AS64: =(AQ64+AR64)/2 -> #VALUE! | AU64: ='Map and Ab list'!G827 -> E5 | AV64: ='Map and Ab list'!G829 -> E6 | AW64: =(AU64+AV64)/2 -> #VALUE!
A65: 61 | B65: DKC1 | C65: ='Map and Ab list'!H13 -> F5 | D65: ='Map and Ab list'!H15 -> F6 | E65: =(C65+D65)/2 -> #VALUE! | G65: ='Map and Ab list'!H87 -> F5 | H65: ='Map and Ab list'!H89 -> F6 | I65: =(G65+H65)/2 -> #VALUE! | K65: ='Map and Ab list'!H161 -> F5 | L65: ='Map and Ab list'!H163 -> F6 | M65: =(K65+L65)/2 -> #VALUE! | O65: ='Map and Ab list'!H235 -> F5 | P65: ='Map and Ab list'!H237 -> F6 | Q65: =(O65+P65)/2 -> #VALUE! | S65: ='Map and Ab list'!H309 -> F5 | T65: ='Map and Ab list'!H311 -> F6 | U65: =(S65+T65)/2 -> #VALUE! | W65: ='Map and Ab list'!H383 -> F5 | X65: ='Map and Ab list'!H385 -> F6 | Y65: =(W65+X65)/2 -> #VALUE! | AA65: ='Map and Ab list'!H457 -> F5 | AB65: ='Map and Ab list'!H459 -> F6 | AC65: =(AA65+AB65)/2 -> #VALUE! | AE65: ='Map and Ab list'!H531 -> F5 | AF65: ='Map and Ab list'!H533 -> F6 | AG65: =(AE65+AF65)/2 -> #VALUE! | AI65: ='Map and Ab list'!H605 -> F5 | AJ65: ='Map and Ab list'!H607 -> F6 | AK65: =(AI65+AJ65)/2 -> #VALUE! | AM65: ='Map and Ab list'!H679 -> F5 | AN65: ='Map and Ab list'!H681 -> F6 | AO65: =(AM65+AN65)/2 -> #VALUE! | AQ65: ='Map and Ab list'!H753 -> F5 | AR65: ='Map and Ab list'!H755 -> F6 | AS65: =(AQ65+AR65)/2 -> #VALUE! | AU65: ='Map and Ab list'!H827 -> F5 | AV65: ='Map and Ab list'!H829 -> F6 | AW65: =(AU65+AV65)/2 -> #VALUE!
A66: 62 | B66: DLST | C66: ='Map and Ab list'!I13 -> G5 | D66: ='Map and Ab list'!I15 -> G6 | E66: =(C66+D66)/2 -> #VALUE! | G66: ='Map and Ab list'!I87 -> G5 | H66: ='Map and Ab list'!I89 -> G6 | I66: =(G66+H66)/2 -> #VALUE! | K66: ='Map and Ab list'!I161 -> G5 | L66: ='Map and Ab list'!I163 -> G6 | M66: =(K66+L66)/2 -> #VALUE! | O66: ='Map and Ab list'!I235 -> G5 | P66: ='Map and Ab list'!I237 -> G6 | Q66: =(O66+P66)/2 -> #VALUE! | S66: ='Map and Ab list'!I309 -> G5 | T66: ='Map and Ab list'!I311 -> G6 | U66: =(S66+T66)/2 -> #VALUE! | W66: ='Map and Ab list'!I383 -> G5 | X66: ='Map and Ab list'!I385 -> G6 | Y66: =(W66+X66)/2 -> #VALUE! | AA66: ='Map and Ab list'!I457 -> G5 | AB66: ='Map and Ab list'!I459 -> G6 | AC66: =(AA66+AB66)/2 -> #VALUE! | AE66: ='Map and Ab list'!I531 -> G5 | AF66: ='Map and Ab list'!I533 -> G6 | AG66: =(AE66+AF66)/2 -> #VALUE! | AI66: ='Map and Ab list'!I605 -> G5 | AJ66: ='Map and Ab list'!I607 -> G6 | AK66: =(AI66+AJ66)/2 -> #VALUE! | AM66: ='Map and Ab list'!I679 -> G5 | AN66: ='Map and Ab list'!I681 -> G6 | AO66: =(AM66+AN66)/2 -> #VALUE! | AQ66: ='Map and Ab list'!I753 -> G5 | AR66: ='Map and Ab list'!I755 -> G6 | AS66: =(AQ66+AR66)/2 -> #VALUE! | AU66: ='Map and Ab list'!I827 -> G5 | AV66: ='Map and Ab list'!I829 -> G6 | AW66: =(AU66+AV66)/2 -> #VALUE!
A67: 63 | B67: DMRT1 | C67: ='Map and Ab list'!J13 -> H5 | D67: ='Map and Ab list'!J15 -> H6 | E67: =(C67+D67)/2 -> #VALUE! | G67: ='Map and Ab list'!J87 -> H5 | H67: ='Map and Ab list'!J89 -> H6 | I67: =(G67+H67)/2 -> #VALUE! | K67: ='Map and Ab list'!J161 -> H5 | L67: ='Map and Ab list'!J163 -> H6 | M67: =(K67+L67)/2 -> #VALUE! | O67: ='Map and Ab list'!J235 -> H5 | P67: ='Map and Ab list'!J237 -> H6 | Q67: =(O67+P67)/2 -> #VALUE! | S67: ='Map and Ab list'!J309 -> H5 | T67: ='Map and Ab list'!J311 -> H6 | U67: =(S67+T67)/2 -> #VALUE! | W67: ='Map and Ab list'!J383 -> H5 | X67: ='Map and Ab list'!J385 -> H6 | Y67: =(W67+X67)/2 -> #VALUE! | AA67: ='Map and Ab list'!J457 -> H5 | AB67: ='Map and Ab list'!J459 -> H6 | AC67: =(AA67+AB67)/2 -> #VALUE! | AE67: ='Map and Ab list'!J531 -> H5 | AF67: ='Map and Ab list'!J533 -> H6 | AG67: =(AE67+AF67)/2 -> #VALUE! | AI67: ='Map and Ab list'!J605 -> H5 | AJ67: ='Map and Ab list'!J607 -> H6 | AK67: =(AI67+AJ67)/2 -> #VALUE! | AM67: ='Map and Ab list'!J679 -> H5 | AN67: ='Map and Ab list'!J681 -> H6 | AO67: =(AM67+AN67)/2 -> #VALUE! | AQ67: ='Map and Ab list'!J753 -> H5 | AR67: ='Map and Ab list'!J755 -> H6 | AS67: =(AQ67+AR67)/2 -> #VALUE! | AU67: ='Map and Ab list'!J827 -> H5 | AV67: ='Map and Ab list'!J829 -> H6 | AW67: =(AU67+AV67)/2 -> #VALUE!
A68: 64 | B68: Dystrophin | C68: ='Map and Ab list'!K13 -> I5 | D68: ='Map and Ab list'!K15 -> I6 | E68: =(C68+D68)/2 -> #VALUE! | G68: ='Map and Ab list'!K87 -> I5 | H68: ='Map and Ab list'!K89 -> I6 | I68: =(G68+H68)/2 -> #VALUE! | K68: ='Map and Ab list'!K161 -> I5 | L68: ='Map and Ab list'!K163 -> I6 | M68: =(K68+L68)/2 -> #VALUE! | O68: ='Map and Ab list'!K235 -> I5 | P68: ='Map and Ab list'!K237 -> I6 | Q68: =(O68+P68)/2 -> #VALUE! | S68: ='Map and Ab list'!K309 -> I5 | T68: ='Map and Ab list'!K311 -> I6 | U68: =(S68+T68)/2 -> #VALUE! | W68: ='Map and Ab list'!K383 -> I5 | X68: ='Map and Ab list'!K385 -> I6 | Y68: =(W68+X68)/2 -> #VALUE! | AA68: ='Map and Ab list'!K457 -> I5 | AB68: ='Map and Ab list'!K459 -> I6 | AC68: =(AA68+AB68)/2 -> #VALUE! | AE68: ='Map and Ab list'!K531 -> I5 | AF68: ='Map and Ab list'!K533 -> I6 | AG68: =(AE68+AF68)/2 -> #VALUE! | AI68: ='Map and Ab list'!K605 -> I5 | AJ68: ='Map and Ab list'!K607 -> I6 | AK68: =(AI68+AJ68)/2 -> #VALUE! | AM68: ='Map and Ab list'!K679 -> I5 | AN68: ='Map and Ab list'!K681 -> I6 | AO68: =(AM68+AN68)/2 -> #VALUE! | AQ68: ='Map and Ab list'!K753 -> I5 | AR68: ='Map and Ab list'!K755 -> I6 | AS68: =(AQ68+AR68)/2 -> #VALUE! | AU68: ='Map and Ab list'!K827 -> I5 | AV68: ='Map and Ab list'!K829 -> I6 | AW68: =(AU68+AV68)/2 -> #VALUE!
A69: 65 | B69: Ebf4 | C69: ='Map and Ab list'!L13 -> J5 | D69: ='Map and Ab list'!L15 -> J6 | E69: =(C69+D69)/2 -> #VALUE! | G69: ='Map and Ab list'!L87 -> J5 | H69: ='Map and Ab list'!L89 -> J6 | I69: =(G69+H69)/2 -> #VALUE! | K69: ='Map and Ab list'!L161 -> J5 | L69: ='Map and Ab list'!L163 -> J6 | M69: =(K69+L69)/2 -> #VALUE! | O69: ='Map and Ab list'!L235 -> J5 | P69: ='Map and Ab list'!L237 -> J6 | Q69: =(O69+P69)/2 -> #VALUE! | S69: ='Map and Ab list'!L309 -> J5 | T69: ='Map and Ab list'!L311 -> J6 | U69: =(S69+T69)/2 -> #VALUE! | W69: ='Map and Ab list'!L383 -> J5 | X69: ='Map and Ab list'!L385 -> J6 | Y69: =(W69+X69)/2 -> #VALUE! | AA69: ='Map and Ab list'!L457 -> J5 | AB69: ='Map and Ab list'!L459 -> J6 | AC69: =(AA69+AB69)/2 -> #VALUE! | AE69: ='Map and Ab list'!L531 -> J5 | AF69: ='Map and Ab list'!L533 -> J6 | AG69: =(AE69+AF69)/2 -> #VALUE! | AI69: ='Map and Ab list'!L605 -> J5 | AJ69: ='Map and Ab list'!L607 -> J6 | AK69: =(AI69+AJ69)/2 -> #VALUE! | AM69: ='Map and Ab list'!L679 -> J5 | AN69: ='Map and Ab list'!L681 -> J6 | AO69: =(AM69+AN69)/2 -> #VALUE! | AQ69: ='Map and Ab list'!L753 -> J5 | AR69: ='Map and Ab list'!L755 -> J6 | AS69: =(AQ69+AR69)/2 -> #VALUE! | AU69: ='Map and Ab list'!L827 -> J5 | AV69: ='Map and Ab list'!L829 -> J6 | AW69: =(AU69+AV69)/2 -> #VALUE!
A70: 66 | B70: EBP50 | C70: ='Map and Ab list'!M13 -> K5 | D70: ='Map and Ab list'!M15 -> K6 | E70: =(C70+D70)/2 -> #VALUE! | G70: ='Map and Ab list'!M87 -> K5 | H70: ='Map and Ab list'!M89 -> K6 | I70: =(G70+H70)/2 -> #VALUE! | K70: ='Map and Ab list'!M161 -> K5 | L70: ='Map and Ab list'!M163 -> K6 | M70: =(K70+L70)/2 -> #VALUE! | O70: ='Map and Ab list'!M235 -> K5 | P70: ='Map and Ab list'!M237 -> K6 | Q70: =(O70+P70)/2 -> #VALUE! | S70: ='Map and Ab list'!M309 -> K5 | T70: ='Map and Ab list'!M311 -> K6 | U70: =(S70+T70)/2 -> #VALUE! | W70: ='Map and Ab list'!M383 -> K5 | X70: ='Map and Ab list'!M385 -> K6 | Y70: =(W70+X70)/2 -> #VALUE! | AA70: ='Map and Ab list'!M457 -> K5 | AB70: ='Map and Ab list'!M459 -> K6 | AC70: =(AA70+AB70)/2 -> #VALUE! | AE70: ='Map and Ab list'!M531 -> K5 | AF70: ='Map and Ab list'!M533 -> K6 | AG70: =(AE70+AF70)/2 -> #VALUE! | AI70: ='Map and Ab list'!M605 -> K5 | AJ70: ='Map and Ab list'!M607 -> K6 | AK70: =(AI70+AJ70)/2 -> #VALUE! | AM70: ='Map and Ab list'!M679 -> K5 | AN70: ='Map and Ab list'!M681 -> K6 | AO70: =(AM70+AN70)/2 -> #VALUE! | AQ70: ='Map and Ab list'!M753 -> K5 | AR70: ='Map and Ab list'!M755 -> K6 | AS70: =(AQ70+AR70)/2 -> #VALUE! | AU70: ='Map and Ab list'!M827 -> K5 | AV70: ='Map and Ab list'!M829 -> K6 | AW70: =(AU70+AV70)/2 -> #VALUE!
A71: 67 | B71: ECHDC1 | C71: ='Map and Ab list'!N13 -> L5 | D71: ='Map and Ab list'!N15 -> L6 | E71: =(C71+D71)/2 -> #VALUE! | G71: ='Map and Ab list'!N87 -> L5 | H71: ='Map and Ab list'!N89 -> L6 | I71: =(G71+H71)/2 -> #VALUE! | K71: ='Map and Ab list'!N161 -> L5 | L71: ='Map and Ab list'!N163 -> L6 | M71: =(K71+L71)/2 -> #VALUE! | O71: ='Map and Ab list'!N235 -> L5 | P71: ='Map and Ab list'!N237 -> L6 | Q71: =(O71+P71)/2 -> #VALUE! | S71: ='Map and Ab list'!N309 -> L5 | T71: ='Map and Ab list'!N311 -> L6 | U71: =(S71+T71)/2 -> #VALUE! | W71: ='Map and Ab list'!N383 -> L5 | X71: ='Map and Ab list'!N385 -> L6 | Y71: =(W71+X71)/2 -> #VALUE! | AA71: ='Map and Ab list'!N457 -> L5 | AB71: ='Map and Ab list'!N459 -> L6 | AC71: =(AA71+AB71)/2 -> #VALUE! | AE71: ='Map and Ab list'!N531 -> L5 | AF71: ='Map and Ab list'!N533 -> L6 | AG71: =(AE71+AF71)/2 -> #VALUE! | AI71: ='Map and Ab list'!N605 -> L5 | AJ71: ='Map and Ab list'!N607 -> L6 | AK71: =(AI71+AJ71)/2 -> #VALUE! | AM71: ='Map and Ab list'!N679 -> L5 | AN71: ='Map and Ab list'!N681 -> L6 | AO71: =(AM71+AN71)/2 -> #VALUE! | AQ71: ='Map and Ab list'!N753 -> L5 | AR71: ='Map and Ab list'!N755 -> L6 | AS71: =(AQ71+AR71)/2 -> #VALUE! | AU71: ='Map and Ab list'!N827 -> L5 | AV71: ='Map and Ab list'!N829 -> L6 | AW71: =(AU71+AV71)/2 -> #VALUE!
A72: 68 | B72: EHHADH | C72: ='Map and Ab list'!O13 -> M5 | D72: ='Map and Ab list'!O15 -> M6 | E72: =(C72+D72)/2 -> #VALUE! | G72: ='Map and Ab list'!O87 -> M5 | H72: ='Map and Ab list'!O89 -> M6 | I72: =(G72+H72)/2 -> #VALUE! | K72: ='Map and Ab list'!O161 -> M5 | L72: ='Map and Ab list'!O163 -> M6 | M72: =(K72+L72)/2 -> #VALUE! | O72: ='Map and Ab list'!O235 -> M5 | P72: ='Map and Ab list'!O237 -> M6 | Q72: =(O72+P72)/2 -> #VALUE! | S72: ='Map and Ab list'!O309 -> M5 | T72: ='Map and Ab list'!O311 -> M6 | U72: =(S72+T72)/2 -> #VALUE! | W72: ='Map and Ab list'!O383 -> M5 | X72: ='Map and Ab list'!O385 -> M6 | Y72: =(W72+X72)/2 -> #VALUE! | AA72: ='Map and Ab list'!O457 -> M5 | AB72: ='Map and Ab list'!O459 -> M6 | AC72: =(AA72+AB72)/2 -> #VALUE! | AE72: ='Map and Ab list'!O531 -> M5 | AF72: ='Map and Ab list'!O533 -> M6 | AG72: =(AE72+AF72)/2 -> #VALUE! | AI72: ='Map and Ab list'!O605 -> M5 | AJ72: ='Map and Ab list'!O607 -> M6 | AK72: =(AI72+AJ72)/2 -> #VALUE! | AM72: ='Map and Ab list'!O679 -> M5 | AN72: ='Map and Ab list'!O681 -> M6 | AO72: =(AM72+AN72)/2 -> #VALUE! | AQ72: ='Map and Ab list'!O753 -> M5 | AR72: ='Map and Ab list'!O755 -> M6 | AS72: =(AQ72+AR72)/2 -> #VALUE! | AU72: ='Map and Ab list'!O827 -> M5 | AV72: ='Map and Ab list'!O829 -> M6 | AW72: =(AU72+AV72)/2 -> #VALUE!
A73: 69 | B73: EIF3D | C73: ='Map and Ab list'!P13 -> N5 | D73: ='Map and Ab list'!P15 -> N6 | E73: =(C73+D73)/2 -> #VALUE! | G73: ='Map and Ab list'!P87 -> N5 | H73: ='Map and Ab list'!P89 -> N6 | I73: =(G73+H73)/2 -> #VALUE! | K73: ='Map and Ab list'!P161 -> N5 | L73: ='Map and Ab list'!P163 -> N6 | M73: =(K73+L73)/2 -> #VALUE! | O73: ='Map and Ab list'!P235 -> N5 | P73: ='Map and Ab list'!P237 -> N6 | Q73: =(O73+P73)/2 -> #VALUE! | S73: ='Map and Ab list'!P309 -> N5 | T73: ='Map and Ab list'!P311 -> N6 | U73: =(S73+T73)/2 -> #VALUE! | W73: ='Map and Ab list'!P383 -> N5 | X73: ='Map and Ab list'!P385 -> N6 | Y73: =(W73+X73)/2 -> #VALUE! | AA73: ='Map and Ab list'!P457 -> N5 | AB73: ='Map and Ab list'!P459 -> N6 | AC73: =(AA73+AB73)/2 -> #VALUE! | AE73: ='Map and Ab list'!P531 -> N5 | AF73: ='Map and Ab list'!P533 -> N6 | AG73: =(AE73+AF73)/2 -> #VALUE! | AI73: ='Map and Ab list'!P605 -> N5 | AJ73: ='Map and Ab list'!P607 -> N6 | AK73: =(AI73+AJ73)/2 -> #VALUE! | AM73: ='Map and Ab list'!P679 -> N5 | AN73: ='Map and Ab list'!P681 -> N6 | AO73: =(AM73+AN73)/2 -> #VALUE! | AQ73: ='Map and Ab list'!P753 -> N5 | AR73: ='Map and Ab list'!P755 -> N6 | AS73: =(AQ73+AR73)/2 -> #VALUE! | AU73: ='Map and Ab list'!P827 -> N5 | AV73: ='Map and Ab list'!P829 -> N6 | AW73: =(AU73+AV73)/2 -> #VALUE!
A74: 70 | B74: eIF4A2 | C74: ='Map and Ab list'!Q13 -> O5 | D74: ='Map and Ab list'!Q15 -> O6 | E74: =(C74+D74)/2 -> #VALUE! | G74: ='Map and Ab list'!Q87 -> O5 | H74: ='Map and Ab list'!Q89 -> O6 | I74: =(G74+H74)/2 -> #VALUE! | K74: ='Map and Ab list'!Q161 -> O5 | L74: ='Map and Ab list'!Q163 -> O6 | M74: =(K74+L74)/2 -> #VALUE! | O74: ='Map and Ab list'!Q235 -> O5 | P74: ='Map and Ab list'!Q237 -> O6 | Q74: =(O74+P74)/2 -> #VALUE! | S74: ='Map and Ab list'!Q309 -> O5 | T74: ='Map and Ab list'!Q311 -> O6 | U74: =(S74+T74)/2 -> #VALUE! | W74: ='Map and Ab list'!Q383 -> O5 | X74: ='Map and Ab list'!Q385 -> O6 | Y74: =(W74+X74)/2 -> #VALUE! | AA74: ='Map and Ab list'!Q457 -> O5 | AB74: ='Map and Ab list'!Q459 -> O6 | AC74: =(AA74+AB74)/2 -> #VALUE! | AE74: ='Map and Ab list'!Q531 -> O5 | AF74: ='Map and Ab list'!Q533 -> O6 | AG74: =(AE74+AF74)/2 -> #VALUE! | AI74: ='Map and Ab list'!Q605 -> O5 | AJ74: ='Map and Ab list'!Q607 -> O6 | AK74: =(AI74+AJ74)/2 -> #VALUE! | AM74: ='Map and Ab list'!Q679 -> O5 | AN74: ='Map and Ab list'!Q681 -> O6 | AO74: =(AM74+AN74)/2 -> #VALUE! | AQ74: ='Map and Ab list'!Q753 -> O5 | AR74: ='Map and Ab list'!Q755 -> O6 | AS74: =(AQ74+AR74)/2 -> #VALUE! | AU74: ='Map and Ab list'!Q827 -> O5 | AV74: ='Map and Ab list'!Q829 -> O6 | AW74: =(AU74+AV74)/2 -> #VALUE!
A75: 71 | B75: eIF4GII | C75: ='Map and Ab list'!R13 -> P5 | D75: ='Map and Ab list'!R15 -> P6 | E75: =(C75+D75)/2 -> #VALUE! | G75: ='Map and Ab list'!R87 -> P5 | H75: ='Map and Ab list'!R89 -> P6 | I75: =(G75+H75)/2 -> #VALUE! | K75: ='Map and Ab list'!R161 -> P5 | L75: ='Map and Ab list'!R163 -> P6 | M75: =(K75+L75)/2 -> #VALUE! | O75: ='Map and Ab list'!R235 -> P5 | P75: ='Map and Ab list'!R237 -> P6 | Q75: =(O75+P75)/2 -> #VALUE! | S75: ='Map and Ab list'!R309 -> P5 | T75: ='Map and Ab list'!R311 -> P6 | U75: =(S75+T75)/2 -> #VALUE! | W75: ='Map and Ab list'!R383 -> P5 | X75: ='Map and Ab list'!R385 -> P6 | Y75: =(W75+X75)/2 -> #VALUE! | AA75: ='Map and Ab list'!R457 -> P5 | AB75: ='Map and Ab list'!R459 -> P6 | AC75: =(AA75+AB75)/2 -> #VALUE! | AE75: ='Map and Ab list'!R531 -> P5 | AF75: ='Map and Ab list'!R533 -> P6 | AG75: =(AE75+AF75)/2 -> #VALUE! | AI75: ='Map and Ab list'!R605 -> P5 | AJ75: ='Map and Ab list'!R607 -> P6 | AK75: =(AI75+AJ75)/2 -> #VALUE! | AM75: ='Map and Ab list'!R679 -> P5 | AN75: ='Map and Ab list'!R681 -> P6 | AO75: =(AM75+AN75)/2 -> #VALUE! | AQ75: ='Map and Ab list'!R753 -> P5 | AR75: ='Map and Ab list'!R755 -> P6 | AS75: =(AQ75+AR75)/2 -> #VALUE! | AU75: ='Map and Ab list'!R827 -> P5 | AV75: ='Map and Ab list'!R829 -> P6 | AW75: =(AU75+AV75)/2 -> #VALUE!
A76: 72 | B76: ENDOD1 | C76: ='Map and Ab list'!S13 -> S5 | D76: ='Map and Ab list'!S15 -> S6 | E76: =(C76+D76)/2 -> #VALUE! | G76: ='Map and Ab list'!S87 -> S5 | H76: ='Map and Ab list'!S89 -> S6 | I76: =(G76+H76)/2 -> #VALUE! | K76: ='Map and Ab list'!S161 -> S5 | L76: ='Map and Ab list'!S163 -> S6 | M76: =(K76+L76)/2 -> #VALUE! | O76: ='Map and Ab list'!S235 -> S5 | P76: ='Map and Ab list'!S237 -> S6 | Q76: =(O76+P76)/2 -> #VALUE! | S76: ='Map and Ab list'!S309 -> S5 | T76: ='Map and Ab list'!S311 -> S6 | U76: =(S76+T76)/2 -> #VALUE! | W76: ='Map and Ab list'!S383 -> S5 | X76: ='Map and Ab list'!S385 -> S6 | Y76: =(W76+X76)/2 -> #VALUE! | AA76: ='Map and Ab list'!S457 -> S5 | AB76: ='Map and Ab list'!S459 -> S6 | AC76: =(AA76+AB76)/2 -> #VALUE! | AE76: ='Map and Ab list'!S531 -> S5 | AF76: ='Map and Ab list'!S533 -> S6 | AG76: =(AE76+AF76)/2 -> #VALUE! | AI76: ='Map and Ab list'!S605 -> S5 | AJ76: ='Map and Ab list'!S607 -> S6 | AK76: =(AI76+AJ76)/2 -> #VALUE! | AM76: ='Map and Ab list'!S679 -> S5 | AN76: ='Map and Ab list'!S681 -> S6 | AO76: =(AM76+AN76)/2 -> #VALUE! | AQ76: ='Map and Ab list'!S753 -> S5 | AR76: ='Map and Ab list'!S755 -> S6 | AS76: =(AQ76+AR76)/2 -> #VALUE! | AU76: ='Map and Ab list'!S827 -> S5 | AV76: ='Map and Ab list'!S829 -> S6 | AW76: =(AU76+AV76)/2 -> #VALUE!
A77: 73 | B77: EYA2 | C77: ='Map and Ab list'!T13 -> R5 | D77: ='Map and Ab list'!T15 -> R6 | E77: =(C77+D77)/2 -> #VALUE! | G77: ='Map and Ab list'!T87 -> R5 | H77: ='Map and Ab list'!T89 -> R6 | I77: =(G77+H77)/2 -> #VALUE! | K77: ='Map and Ab list'!T161 -> R5 | L77: ='Map and Ab list'!T163 -> R6 | M77: =(K77+L77)/2 -> #VALUE! | O77: ='Map and Ab list'!T235 -> R5 | P77: ='Map and Ab list'!T237 -> R6 | Q77: =(O77+P77)/2 -> #VALUE! | S77: ='Map and Ab list'!T309 -> R5 | T77: ='Map and Ab list'!T311 -> R6 | U77: =(S77+T77)/2 -> #VALUE! | W77: ='Map and Ab list'!T383 -> R5 | X77: ='Map and Ab list'!T385 -> R6 | Y77: =(W77+X77)/2 -> #VALUE! | AA77: ='Map and Ab list'!T457 -> R5 | AB77: ='Map and Ab list'!T459 -> R6 | AC77: =(AA77+AB77)/2 -> #VALUE! | AE77: ='Map and Ab list'!T531 -> R5 | AF77: ='Map and Ab list'!T533 -> R6 | AG77: =(AE77+AF77)/2 -> #VALUE! | AI77: ='Map and Ab list'!T605 -> R5 | AJ77: ='Map and Ab list'!T607 -> R6 | AK77: =(AI77+AJ77)/2 -> #VALUE! | AM77: ='Map and Ab list'!T679 -> R5 | AN77: ='Map and Ab list'!T681 -> R6 | AO77: =(AM77+AN77)/2 -> #VALUE! | AQ77: ='Map and Ab list'!T753 -> R5 | AR77: ='Map and Ab list'!T755 -> R6 | AS77: =(AQ77+AR77)/2 -> #VALUE! | AU77: ='Map and Ab list'!T827 -> R5 | AV77: ='Map and Ab list'!T829 -> R6 | AW77: =(AU77+AV77)/2 -> #VALUE!
A78: 74 | B78: Factor VIII | C78: ='Map and Ab list'!U13 -> S5 | D78: ='Map and Ab list'!U15 -> S6 | E78: =(C78+D78)/2 -> #VALUE! | G78: ='Map and Ab list'!U87 -> S5 | H78: ='Map and Ab list'!U89 -> S6 | I78: =(G78+H78)/2 -> #VALUE! | K78: ='Map and Ab list'!U161 -> S5 | L78: ='Map and Ab list'!U163 -> S6 | M78: =(K78+L78)/2 -> #VALUE! | O78: ='Map and Ab list'!U235 -> S5 | P78: ='Map and Ab list'!U237 -> S6 | Q78: =(O78+P78)/2 -> #VALUE! | S78: ='Map and Ab list'!U309 -> S5 | T78: ='Map and Ab list'!U311 -> S6 | U78: =(S78+T78)/2 -> #VALUE! | W78: ='Map and Ab list'!U383 -> S5 | X78: ='Map and Ab list'!U385 -> S6 | Y78: =(W78+X78)/2 -> #VALUE! | AA78: ='Map and Ab list'!U457 -> S5 | AB78: ='Map and Ab list'!U459 -> S6 | AC78: =(AA78+AB78)/2 -> #VALUE! | AE78: ='Map and Ab list'!U531 -> S5 | AF78: ='Map and Ab list'!U533 -> S6 | AG78: =(AE78+AF78)/2 -> #VALUE! | AI78: ='Map and Ab list'!U605 -> S5 | AJ78: ='Map and Ab list'!U607 -> S6 | AK78: =(AI78+AJ78)/2 -> #VALUE! | AM78: ='Map and Ab list'!U679 -> S5 | AN78: ='Map and Ab list'!U681 -> S6 | AO78: =(AM78+AN78)/2 -> #VALUE! | AQ78: ='Map and Ab list'!U753 -> S5 | AR78: ='Map and Ab list'!U755 -> S6 | AS78: =(AQ78+AR78)/2 -> #VALUE! | AU78: ='Map and Ab list'!U827 -> S5 | AV78: ='Map and Ab list'!U829 -> S6 | AW78: =(AU78+AV78)/2 -> #VALUE!
A79: 75 | B79: Filaggrin | C79: ='Map and Ab list'!V13 -> T5 | D79: ='Map and Ab list'!V15 -> T6 | E79: =(C79+D79)/2 -> #VALUE! | G79: ='Map and Ab list'!V87 -> T5 | H79: ='Map and Ab list'!V89 -> T6 | I79: =(G79+H79)/2 -> #VALUE! | K79: ='Map and Ab list'!V161 -> T5 | L79: ='Map and Ab list'!V163 -> T6 | M79: =(K79+L79)/2 -> #VALUE! | O79: ='Map and Ab list'!V235 -> T5 | P79: ='Map and Ab list'!V237 -> T6 | Q79: =(O79+P79)/2 -> #VALUE! | S79: ='Map and Ab list'!V309 -> T5 | T79: ='Map and Ab list'!V311 -> T6 | U79: =(S79+T79)/2 -> #VALUE! | W79: ='Map and Ab list'!V383 -> T5 | X79: ='Map and Ab list'!V385 -> T6 | Y79: =(W79+X79)/2 -> #VALUE! | AA79: ='Map and Ab list'!V457 -> T5 | AB79: ='Map and Ab list'!V459 -> T6 | AC79: =(AA79+AB79)/2 -> #VALUE! | AE79: ='Map and Ab list'!V531 -> T5 | AF79: ='Map and Ab list'!V533 -> T6 | AG79: =(AE79+AF79)/2 -> #VALUE! | AI79: ='Map and Ab list'!V605 -> T5 | AJ79: ='Map and Ab list'!V607 -> T6 | AK79: =(AI79+AJ79)/2 -> #VALUE! | AM79: ='Map and Ab list'!V679 -> T5 | AN79: ='Map and Ab list'!V681 -> T6 | AO79: =(AM79+AN79)/2 -> #VALUE! | AQ79: ='Map and Ab list'!V753 -> T5 | AR79: ='Map and Ab list'!V755 -> T6 | AS79: =(AQ79+AR79)/2 -> #VALUE! | AU79: ='Map and Ab list'!V827 -> T5 | AV79: ='Map and Ab list'!V829 -> T6 | AW79: =(AU79+AV79)/2 -> #VALUE!
A80: 76 | B80: FITM1 | C80: ='Map and Ab list'!W13 -> U5 | D80: ='Map and Ab list'!W15 -> U6 | E80: =(C80+D80)/2 -> #VALUE! | G80: ='Map and Ab list'!W87 -> U5 | H80: ='Map and Ab list'!W89 -> U6 | I80: =(G80+H80)/2 -> #VALUE! | K80: ='Map and Ab list'!W161 -> U5 | L80: ='Map and Ab list'!W163 -> U6 | M80: =(K80+L80)/2 -> #VALUE! | O80: ='Map and Ab list'!W235 -> U5 | P80: ='Map and Ab list'!W237 -> U6 | Q80: =(O80+P80)/2 -> #VALUE! | S80: ='Map and Ab list'!W309 -> U5 | T80: ='Map and Ab list'!W311 -> U6 | U80: =(S80+T80)/2 -> #VALUE! | W80: ='Map and Ab list'!W383 -> U5 | X80: ='Map and Ab list'!W385 -> U6 | Y80: =(W80+X80)/2 -> #VALUE! | AA80: ='Map and Ab list'!W457 -> U5 | AB80: ='Map and Ab list'!W459 -> U6 | AC80: =(AA80+AB80)/2 -> #VALUE! | AE80: ='Map and Ab list'!W531 -> U5 | AF80: ='Map and Ab list'!W533 -> U6 | AG80: =(AE80+AF80)/2 -> #VALUE! | AI80: ='Map and Ab list'!W605 -> U5 | AJ80: ='Map and Ab list'!W607 -> U6 | AK80: =(AI80+AJ80)/2 -> #VALUE! | AM80: ='Map and Ab list'!W679 -> U5 | AN80: ='Map and Ab list'!W681 -> U6 | AO80: =(AM80+AN80)/2 -> #VALUE! | AQ80: ='Map and Ab list'!W753 -> U5 | AR80: ='Map and Ab list'!W755 -> U6 | AS80: =(AQ80+AR80)/2 -> #VALUE! | AU80: ='Map and Ab list'!W827 -> U5 | AV80: ='Map and Ab list'!W829 -> U6 | AW80: =(AU80+AV80)/2 -> #VALUE!
A81: 77 | B81: GARS | C81: ='Map and Ab list'!X13 -> V5 | D81: ='Map and Ab list'!X15 -> V6 | E81: =(C81+D81)/2 -> #VALUE! | G81: ='Map and Ab list'!X87 -> V5 | H81: ='Map and Ab list'!X89 -> V6 | I81: =(G81+H81)/2 -> #VALUE! | K81: ='Map and Ab list'!X161 -> V5 | L81: ='Map and Ab list'!X163 -> V6 | M81: =(K81+L81)/2 -> #VALUE! | O81: ='Map and Ab list'!X235 -> V5 | P81: ='Map and Ab list'!X237 -> V6 | Q81: =(O81+P81)/2 -> #VALUE! | S81: ='Map and Ab list'!X309 -> V5 | T81: ='Map and Ab list'!X311 -> V6 | U81: =(S81+T81)/2 -> #VALUE! | W81: ='Map and Ab list'!X383 -> V5 | X81: ='Map and Ab list'!X385 -> V6 | Y81: =(W81+X81)/2 -> #VALUE! | AA81: ='Map and Ab list'!X457 -> V5 | AB81: ='Map and Ab list'!X459 -> V6 | AC81: =(AA81+AB81)/2 -> #VALUE! | AE81: ='Map and Ab list'!X531 -> V5 | AF81: ='Map and Ab list'!X533 -> V6 | AG81: =(AE81+AF81)/2 -> #VALUE! | AI81: ='Map and Ab list'!X605 -> V5 | AJ81: ='Map and Ab list'!X607 -> V6 | AK81: =(AI81+AJ81)/2 -> #VALUE! | AM81: ='Map and Ab list'!X679 -> V5 | AN81: ='Map and Ab list'!X681 -> V6 | AO81: =(AM81+AN81)/2 -> #VALUE! | AQ81: ='Map and Ab list'!X753 -> V5 | AR81: ='Map and Ab list'!X755 -> V6 | AS81: =(AQ81+AR81)/2 -> #VALUE! | AU81: ='Map and Ab list'!X827 -> V5 | AV81: ='Map and Ab list'!X829 -> V6 | AW81: =(AU81+AV81)/2 -> #VALUE!
A82: 78 | B82: GCC2 | C82: ='Map and Ab list'!Y13 -> W5 | D82: ='Map and Ab list'!Y15 -> W6 | E82: =(C82+D82)/2 -> #VALUE! | G82: ='Map and Ab list'!Y87 -> W5 | H82: ='Map and Ab list'!Y89 -> W6 | I82: =(G82+H82)/2 -> #VALUE! | K82: ='Map and Ab list'!Y161 -> W5 | L82: ='Map and Ab list'!Y163 -> W6 | M82: =(K82+L82)/2 -> #VALUE! | O82: ='Map and Ab list'!Y235 -> W5 | P82: ='Map and Ab list'!Y237 -> W6 | Q82: =(O82+P82)/2 -> #VALUE! | S82: ='Map and Ab list'!Y309 -> W5 | T82: ='Map and Ab list'!Y311 -> W6 | U82: =(S82+T82)/2 -> #VALUE! | W82: ='Map and Ab list'!Y383 -> W5 | X82: ='Map and Ab list'!Y385 -> W6 | Y82: =(W82+X82)/2 -> #VALUE! | AA82: ='Map and Ab list'!Y457 -> W5 | AB82: ='Map and Ab list'!Y459 -> W6 | AC82: =(AA82+AB82)/2 -> #VALUE! | AE82: ='Map and Ab list'!Y531 -> W5 | AF82: ='Map and Ab list'!Y533 -> W6 | AG82: =(AE82+AF82)/2 -> #VALUE! | AI82: ='Map and Ab list'!Y605 -> W5 | AJ82: ='Map and Ab list'!Y607 -> W6 | AK82: =(AI82+AJ82)/2 -> #VALUE! | AM82: ='Map and Ab list'!Y679 -> W5 | AN82: ='Map and Ab list'!Y681 -> W6 | AO82: =(AM82+AN82)/2 -> #VALUE! | AQ82: ='Map and Ab list'!Y753 -> W5 | AR82: ='Map and Ab list'!Y755 -> W6 | AS82: =(AQ82+AR82)/2 -> #VALUE! | AU82: ='Map and Ab list'!Y827 -> W5 | AV82: ='Map and Ab list'!Y829 -> W6 | AW82: =(AU82+AV82)/2 -> #VALUE!
A83: 79 | B83: GLI-2 | C83: ='Map and Ab list'!Z13 -> X5 | D83: ='Map and Ab list'!Z15 -> X6 | E83: =(C83+D83)/2 -> #VALUE! | G83: ='Map and Ab list'!Z87 -> X5 | H83: ='Map and Ab list'!Z89 -> X6 | I83: =(G83+H83)/2 -> #VALUE! | K83: ='Map and Ab list'!Z161 -> X5 | L83: ='Map and Ab list'!Z163 -> X6 | M83: =(K83+L83)/2 -> #VALUE! | O83: ='Map and Ab list'!Z235 -> X5 | P83: ='Map and Ab list'!Z237 -> X6 | Q83: =(O83+P83)/2 -> #VALUE! | S83: ='Map and Ab list'!Z309 -> X5 | T83: ='Map and Ab list'!Z311 -> X6 | U83: =(S83+T83)/2 -> #VALUE! | W83: ='Map and Ab list'!Z383 -> X5 | X83: ='Map and Ab list'!Z385 -> X6 | Y83: =(W83+X83)/2 -> #VALUE! | AA83: ='Map and Ab list'!Z457 -> X5 | AB83: ='Map and Ab list'!Z459 -> X6 | AC83: =(AA83+AB83)/2 -> #VALUE! | AE83: ='Map and Ab list'!Z531 -> X5 | AF83: ='Map and Ab list'!Z533 -> X6 | AG83: =(AE83+AF83)/2 -> #VALUE! | AI83: ='Map and Ab list'!Z605 -> X5 | AJ83: ='Map and Ab list'!Z607 -> X6 | AK83: =(AI83+AJ83)/2 -> #VALUE! | AM83: ='Map and Ab list'!Z679 -> X5 | AN83: ='Map and Ab list'!Z681 -> X6 | AO83: =(AM83+AN83)/2 -> #VALUE! | AQ83: ='Map and Ab list'!Z753 -> X5 | AR83: ='Map and Ab list'!Z755 -> X6 | AS83: =(AQ83+AR83)/2 -> #VALUE! | AU83: ='Map and Ab list'!Z827 -> X5 | AV83: ='Map and Ab list'!Z829 -> X6 | AW83: =(AU83+AV83)/2 -> #VALUE!
A84: 80 | B84: GLOD4 | C84: ='Map and Ab list'!AA13 -> Y5 | D84: ='Map and Ab list'!AA15 -> Y6 | E84: =(C84+D84)/2 -> #VALUE! | G84: ='Map and Ab list'!AA87 -> Y5 | H84: ='Map and Ab list'!AA89 -> Y6 | I84: =(G84+H84)/2 -> #VALUE! | K84: ='Map and Ab list'!AA161 -> Y5 | L84: ='Map and Ab list'!AA163 -> Y6 | M84: =(K84+L84)/2 -> #VALUE! | O84: ='Map and Ab list'!AA235 -> Y5 | P84: ='Map and Ab list'!AA237 -> Y6 | Q84: =(O84+P84)/2 -> #VALUE! | S84: ='Map and Ab list'!AA309 -> Y5 | T84: ='Map and Ab list'!AA311 -> Y6 | U84: =(S84+T84)/2 -> #VALUE! | W84: ='Map and Ab list'!AA383 -> Y5 | X84: ='Map and Ab list'!AA385 -> Y6 | Y84: =(W84+X84)/2 -> #VALUE! | AA84: ='Map and Ab list'!AA457 -> Y5 | AB84: ='Map and Ab list'!AA459 -> Y6 | AC84: =(AA84+AB84)/2 -> #VALUE! | AE84: ='Map and Ab list'!AA531 -> Y5 | AF84: ='Map and Ab list'!AA533 -> Y6 | AG84: =(AE84+AF84)/2 -> #VALUE! | AI84: ='Map and Ab list'!AA605 -> Y5 | AJ84: ='Map and Ab list'!AA607 -> Y6 | AK84: =(AI84+AJ84)/2 -> #VALUE! | AM84: ='Map and Ab list'!AA679 -> Y5 | AN84: ='Map and Ab list'!AA681 -> Y6 | AO84: =(AM84+AN84)/2 -> #VALUE! | AQ84: ='Map and Ab list'!AA753 -> Y5 | AR84: ='Map and Ab list'!AA755 -> Y6 | AS84: =(AQ84+AR84)/2 -> #VALUE! | AU84: ='Map and Ab list'!AA827 -> Y5 | AV84: ='Map and Ab list'!AA829 -> Y6 | AW84: =(AU84+AV84)/2 -> #VALUE!
A85: 81 | B85: GLUL | C85: ='Map and Ab list'!AB13 -> Z5 | D85: ='Map and Ab list'!AB15 -> Z6 | E85: =(C85+D85)/2 -> #VALUE! | G85: ='Map and Ab list'!AB87 -> Z5 | H85: ='Map and Ab list'!AB89 -> Z6 | I85: =(G85+H85)/2 -> #VALUE! | K85: ='Map and Ab list'!AB161 -> Z5 | L85: ='Map and Ab list'!AB163 -> Z6 | M85: =(K85+L85)/2 -> #VALUE! | O85: ='Map and Ab list'!AB235 -> Z5 | P85: ='Map and Ab list'!AB237 -> Z6 | Q85: =(O85+P85)/2 -> #VALUE! | S85: ='Map and Ab list'!AB309 -> Z5 | T85: ='Map and Ab list'!AB311 -> Z6 | U85: =(S85+T85)/2 -> #VALUE! | W85: ='Map and Ab list'!AB383 -> Z5 | X85: ='Map and Ab list'!AB385 -> Z6 | Y85: =(W85+X85)/2 -> #VALUE! | AA85: ='Map and Ab list'!AB457 -> Z5 | AB85: ='Map and Ab list'!AB459 -> Z6 | AC85: =(AA85+AB85)/2 -> #VALUE! | AE85: ='Map and Ab list'!AB531 -> Z5 | AF85: ='Map and Ab list'!AB533 -> Z6 | AG85: =(AE85+AF85)/2 -> #VALUE! | AI85: ='Map and Ab list'!AB605 -> Z5 | AJ85: ='Map and Ab list'!AB607 -> Z6 | AK85: =(AI85+AJ85)/2 -> #VALUE! | AM85: ='Map and Ab list'!AB679 -> Z5 | AN85: ='Map and Ab list'!AB681 -> Z6 | AO85: =(AM85+AN85)/2 -> #VALUE! | AQ85: ='Map and Ab list'!AB753 -> Z5 | AR85: ='Map and Ab list'!AB755 -> Z6 | AS85: =(AQ85+AR85)/2 -> #VALUE! | AU85: ='Map and Ab list'!AB827 -> Z5 | AV85: ='Map and Ab list'!AB829 -> Z6 | AW85: =(AU85+AV85)/2 -> #VALUE!
A86: 82 | B86: GMPR1 | C86: ='Map and Ab list'!AC13 -> AA5 | D86: ='Map and Ab list'!AC15 -> AA6 | E86: =(C86+D86)/2 -> #VALUE! | G86: ='Map and Ab list'!AC87 -> AA5 | H86: ='Map and Ab list'!AC89 -> AA6 | I86: =(G86+H86)/2 -> #VALUE! | K86: ='Map and Ab list'!AC161 -> AA5 | L86: ='Map and Ab list'!AC163 -> AA6 | M86: =(K86+L86)/2 -> #VALUE! | O86: ='Map and Ab list'!AC235 -> AA5 | P86: ='Map and Ab list'!AC237 -> AA6 | Q86: =(O86+P86)/2 -> #VALUE! | S86: ='Map and Ab list'!AC309 -> AA5 | T86: ='Map and Ab list'!AC311 -> AA6 | U86: =(S86+T86)/2 -> #VALUE! | W86: ='Map and Ab list'!AC383 -> AA5 | X86: ='Map and Ab list'!AC385 -> AA6 | Y86: =(W86+X86)/2 -> #VALUE! | AA86: ='Map and Ab list'!AC457 -> AA5 | AB86: ='Map and Ab list'!AC459 -> AA6 | AC86: =(AA86+AB86)/2 -> #VALUE! | AE86: ='Map and Ab list'!AC531 -> AA5 | AF86: ='Map and Ab list'!AC533 -> AA6 | AG86: =(AE86+AF86)/2 -> #VALUE! | AI86: ='Map and Ab list'!AC605 -> AA5 | AJ86: ='Map and Ab list'!AC607 -> AA6 | AK86: =(AI86+AJ86)/2 -> #VALUE! | AM86: ='Map and Ab list'!AC679 -> AA5 | AN86: ='Map and Ab list'!AC681 -> AA6 | AO86: =(AM86+AN86)/2 -> #VALUE! | AQ86: ='Map and Ab list'!AC753 -> AA5 | AR86: ='Map and Ab list'!AC755 -> AA6 | AS86: =(AQ86+AR86)/2 -> #VALUE! | AU86: ='Map and Ab list'!AC827 -> AA5 | AV86: ='Map and Ab list'!AC829 -> AA6 | AW86: =(AU86+AV86)/2 -> #VALUE!
A87: 83 | B87: GOLGA3 | C87: ='Map and Ab list'!AD13 -> AB5 | D87: ='Map and Ab list'!AD15 -> AB6 | E87: =(C87+D87)/2 -> #VALUE! | G87: ='Map and Ab list'!AD87 -> AB5 | H87: ='Map and Ab list'!AD89 -> AB6 | I87: =(G87+H87)/2 -> #VALUE! | K87: ='Map and Ab list'!AD161 -> AB5 | L87: ='Map and Ab list'!AD163 -> AB6 | M87: =(K87+L87)/2 -> #VALUE! | O87: ='Map and Ab list'!AD235 -> AB5 | P87: ='Map and Ab list'!AD237 -> AB6 | Q87: =(O87+P87)/2 -> #VALUE! | S87: ='Map and Ab list'!AD309 -> AB5 | T87: ='Map and Ab list'!AD311 -> AB6 | U87: =(S87+T87)/2 -> #VALUE! | W87: ='Map and Ab list'!AD383 -> AB5 | X87: ='Map and Ab list'!AD385 -> AB6 | Y87: =(W87+X87)/2 -> #VALUE! | AA87: ='Map and Ab list'!AD457 -> AB5 | AB87: ='Map and Ab list'!AD459 -> AB6 | AC87: =(AA87+AB87)/2 -> #VALUE! | AE87: ='Map and Ab list'!AD531 -> AB5 | AF87: ='Map and Ab list'!AD533 -> AB6 | AG87: =(AE87+AF87)/2 -> #VALUE! | AI87: ='Map and Ab list'!AD605 -> AB5 | AJ87: ='Map and Ab list'!AD607 -> AB6 | AK87: =(AI87+AJ87)/2 -> #VALUE! | AM87: ='Map and Ab list'!AD679 -> AB5 | AN87: ='Map and Ab list'!AD681 -> AB6 | AO87: =(AM87+AN87)/2 -> #VALUE! | AQ87: ='Map and Ab list'!AD753 -> AB5 | AR87: ='Map and Ab list'!AD755 -> AB6 | AS87: =(AQ87+AR87)/2 -> #VALUE! | AU87: ='Map and Ab list'!AD827 -> AB5 | AV87: ='Map and Ab list'!AD829 -> AB6 | AW87: =(AU87+AV87)/2 -> #VALUE!
A88: 84 | B88: GP2 | C88: ='Map and Ab list'!AE13 -> AC5 | D88: ='Map and Ab list'!AE15 -> AC6 | E88: =(C88+D88)/2 -> #VALUE! | G88: ='Map and Ab list'!AE87 -> AC5 | H88: ='Map and Ab list'!AE89 -> AC6 | I88: =(G88+H88)/2 -> #VALUE! | K88: ='Map and Ab list'!AE161 -> AC5 | L88: ='Map and Ab list'!AE163 -> AC6 | M88: =(K88+L88)/2 -> #VALUE! | O88: ='Map and Ab list'!AE235 -> AC5 | P88: ='Map and Ab list'!AE237 -> AC6 | Q88: =(O88+P88)/2 -> #VALUE! | S88: ='Map and Ab list'!AE309 -> AC5 | T88: ='Map and Ab list'!AE311 -> AC6 | U88: =(S88+T88)/2 -> #VALUE! | W88: ='Map and Ab list'!AE383 -> AC5 | X88: ='Map and Ab list'!AE385 -> AC6 | Y88: =(W88+X88)/2 -> #VALUE! | AA88: ='Map and Ab list'!AE457 -> AC5 | AB88: ='Map and Ab list'!AE459 -> AC6 | AC88: =(AA88+AB88)/2 -> #VALUE! | AE88: ='Map and Ab list'!AE531 -> AC5 | AF88: ='Map and Ab list'!AE533 -> AC6 | AG88: =(AE88+AF88)/2 -> #VALUE! | AI88: ='Map and Ab list'!AE605 -> AC5 | AJ88: ='Map and Ab list'!AE607 -> AC6 | AK88: =(AI88+AJ88)/2 -> #VALUE! | AM88: ='Map and Ab list'!AE679 -> AC5 | AN88: ='Map and Ab list'!AE681 -> AC6 | AO88: =(AM88+AN88)/2 -> #VALUE! | AQ88: ='Map and Ab list'!AE753 -> AC5 | AR88: ='Map and Ab list'!AE755 -> AC6 | AS88: =(AQ88+AR88)/2 -> #VALUE! | AU88: ='Map and Ab list'!AE827 -> AC5 | AV88: ='Map and Ab list'!AE829 -> AC6 | AW88: =(AU88+AV88)/2 -> #VALUE!
A89: 85 | B89: gp340 | C89: ='Map and Ab list'!AF13 -> AD5 | D89: ='Map and Ab list'!AF15 -> AD6 | E89: =(C89+D89)/2 -> #VALUE! | G89: ='Map and Ab list'!AF87 -> AD5 | H89: ='Map and Ab list'!AF89 -> AD6 | I89: =(G89+H89)/2 -> #VALUE! | K89: ='Map and Ab list'!AF161 -> AD5 | L89: ='Map and Ab list'!AF163 -> AD6 | M89: =(K89+L89)/2 -> #VALUE! | O89: ='Map and Ab list'!AF235 -> AD5 | P89: ='Map and Ab list'!AF237 -> AD6 | Q89: =(O89+P89)/2 -> #VALUE! | S89: ='Map and Ab list'!AF309 -> AD5 | T89: ='Map and Ab list'!AF311 -> AD6 | U89: =(S89+T89)/2 -> #VALUE! | W89: ='Map and Ab list'!AF383 -> AD5 | X89: ='Map and Ab list'!AF385 -> AD6 | Y89: =(W89+X89)/2 -> #VALUE! | AA89: ='Map and Ab list'!AF457 -> AD5 | AB89: ='Map and Ab list'!AF459 -> AD6 | AC89: =(AA89+AB89)/2 -> #VALUE! | AE89: ='Map and Ab list'!AF531 -> AD5 | AF89: ='Map and Ab list'!AF533 -> AD6 | AG89: =(AE89+AF89)/2 -> #VALUE! | AI89: ='Map and Ab list'!AF605 -> AD5 | AJ89: ='Map and Ab list'!AF607 -> AD6 | AK89: =(AI89+AJ89)/2 -> #VALUE! | AM89: ='Map and Ab list'!AF679 -> AD5 | AN89: ='Map and Ab list'!AF681 -> AD6 | AO89: =(AM89+AN89)/2 -> #VALUE! | AQ89: ='Map and Ab list'!AF753 -> AD5 | AR89: ='Map and Ab list'!AF755 -> AD6 | AS89: =(AQ89+AR89)/2 -> #VALUE! | AU89: ='Map and Ab list'!AF827 -> AD5 | AV89: ='Map and Ab list'!AF829 -> AD6 | AW89: =(AU89+AV89)/2 -> #VALUE!
A90: 86 | B90: GTF2F1 | C90: ='Map and Ab list'!C17 -> A7 | D90: ='Map and Ab list'!C19 -> A8 | E90: =(C90+D90)/2 -> #VALUE! | G90: ='Map and Ab list'!C91 -> A7 | H90: ='Map and Ab list'!C93 -> A8 | I90: =(G90+H90)/2 -> #VALUE! | K90: ='Map and Ab list'!C165 -> A7 | L90: ='Map and Ab list'!C167 -> A8 | M90: =(K90+L90)/2 -> #VALUE! | O90: ='Map and Ab list'!C239 -> A7 | P90: ='Map and Ab list'!C241 -> A8 | Q90: =(O90+P90)/2 -> #VALUE! | S90: ='Map and Ab list'!C313 -> A7 | T90: ='Map and Ab list'!C315 -> A8 | U90: =(S90+T90)/2 -> #VALUE! | W90: ='Map and Ab list'!C387 -> A7 | X90: ='Map and Ab list'!C389 -> A8 | Y90: =(W90+X90)/2 -> #VALUE! | AA90: ='Map and Ab list'!C461 -> A7 | AB90: ='Map and Ab list'!C463 -> A8 | AC90: =(AA90+AB90)/2 -> #VALUE! | AE90: ='Map and Ab list'!C535 -> A7 | AF90: ='Map and Ab list'!C537 -> A8 | AG90: =(AE90+AF90)/2 -> #VALUE! | AI90: ='Map and Ab list'!C609 -> A7 | AJ90: ='Map and Ab list'!C611 -> A8 | AK90: =(AI90+AJ90)/2 -> #VALUE! | AM90: ='Map and Ab list'!C683 -> A7 | AN90: ='Map and Ab list'!C685 -> A8 | AO90: =(AM90+AN90)/2 -> #VALUE! | AQ90: ='Map and Ab list'!C757 -> A7 | AR90: ='Map and Ab list'!C759 -> A8 | AS90: =(AQ90+AR90)/2 -> #VALUE! | AU90: ='Map and Ab list'!C831 -> A7 | AV90: ='Map and Ab list'!C833 -> A8 | AW90: =(AU90+AV90)/2 -> #VALUE!
A91: 87 | B91: HA1 | C91: ='Map and Ab list'!D17 -> B7 | D91: ='Map and Ab list'!D19 -> B8 | E91: =(C91+D91)/2 -> #VALUE! | G91: ='Map and Ab list'!D91 -> B7 | H91: ='Map and Ab list'!D93 -> B8 | I91: =(G91+H91)/2 -> #VALUE! | K91: ='Map and Ab list'!D165 -> B7 | L91: ='Map and Ab list'!D167 -> B8 | M91: =(K91+L91)/2 -> #VALUE! | O91: ='Map and Ab list'!D239 -> B7 | P91: ='Map and Ab list'!D241 -> B8 | Q91: =(O91+P91)/2 -> #VALUE! | S91: ='Map and Ab list'!D313 -> B7 | T91: ='Map and Ab list'!D315 -> B8 | U91: =(S91+T91)/2 -> #VALUE! | W91: ='Map and Ab list'!D387 -> B7 | X91: ='Map and Ab list'!D389 -> B8 | Y91: =(W91+X91)/2 -> #VALUE! | AA91: ='Map and Ab list'!D461 -> B7 | AB91: ='Map and Ab list'!D463 -> B8 | AC91: =(AA91+AB91)/2 -> #VALUE! | AE91: ='Map and Ab list'!D535 -> B7 | AF91: ='Map and Ab list'!D537 -> B8 | AG91: =(AE91+AF91)/2 -> #VALUE! | AI91: ='Map and Ab list'!D609 -> B7 | AJ91: ='Map and Ab list'!D611 -> B8 | AK91: =(AI91+AJ91)/2 -> #VALUE! | AM91: ='Map and Ab list'!D683 -> B7 | AN91: ='Map and Ab list'!D685 -> B8 | AO91: =(AM91+AN91)/2 -> #VALUE! | AQ91: ='Map and Ab list'!D757 -> B7 | AR91: ='Map and Ab list'!D759 -> B8 | AS91: =(AQ91+AR91)/2 -> #VALUE! | AU91: ='Map and Ab list'!D831 -> B7 | AV91: ='Map and Ab list'!D833 -> B8 | AW91: =(AU91+AV91)/2 -> #VALUE!
A92: 88 | B92: HARS | C92: ='Map and Ab list'!E17 -> C7 | D92: ='Map and Ab list'!E19 -> C8 | E92: =(C92+D92)/2 -> #VALUE! | G92: ='Map and Ab list'!E91 -> C7 | H92: ='Map and Ab list'!E93 -> C8 | I92: =(G92+H92)/2 -> #VALUE! | K92: ='Map and Ab list'!E165 -> C7 | L92: ='Map and Ab list'!E167 -> C8 | M92: =(K92+L92)/2 -> #VALUE! | O92: ='Map and Ab list'!E239 -> C7 | P92: ='Map and Ab list'!E241 -> C8 | Q92: =(O92+P92)/2 -> #VALUE! | S92: ='Map and Ab list'!E313 -> C7 | T92: ='Map and Ab list'!E315 -> C8 | U92: =(S92+T92)/2 -> #VALUE! | W92: ='Map and Ab list'!E387 -> C7 | X92: ='Map and Ab list'!E389 -> C8 | Y92: =(W92+X92)/2 -> #VALUE! | AA92: ='Map and Ab list'!E461 -> C7 | AB92: ='Map and Ab list'!E463 -> C8 | AC92: =(AA92+AB92)/2 -> #VALUE! | AE92: ='Map and Ab list'!E535 -> C7 | AF92: ='Map and Ab list'!E537 -> C8 | AG92: =(AE92+AF92)/2 -> #VALUE! | AI92: ='Map and Ab list'!E609 -> C7 | AJ92: ='Map and Ab list'!E611 -> C8 | AK92: =(AI92+AJ92)/2 -> #VALUE! | AM92: ='Map and Ab list'!E683 -> C7 | AN92: ='Map and Ab list'!E685 -> C8 | AO92: =(AM92+AN92)/2 -> #VALUE! | AQ92: ='Map and Ab list'!E757 -> C7 | AR92: ='Map and Ab list'!E759 -> C8 | AS92: =(AQ92+AR92)/2 -> #VALUE! | AU92: ='Map and Ab list'!E831 -> C7 | AV92: ='Map and Ab list'!E833 -> C8 | AW92: =(AU92+AV92)/2 -> #VALUE!
A93: 89 | B93: HIC1 | C93: ='Map and Ab list'!F17 -> D7 | D93: ='Map and Ab list'!F19 -> D8 | E93: =(C93+D93)/2 -> #VALUE! | G93: ='Map and Ab list'!F91 -> D7 | H93: ='Map and Ab list'!F93 -> D8 | I93: =(G93+H93)/2 -> #VALUE! | K93: ='Map and Ab list'!F165 -> D7 | L93: ='Map and Ab list'!F167 -> D8 | M93: =(K93+L93)/2 -> #VALUE! | O93: ='Map and Ab list'!F239 -> D7 | P93: ='Map and Ab list'!F241 -> D8 | Q93: =(O93+P93)/2 -> #VALUE! | S93: ='Map and Ab list'!F313 -> D7 | T93: ='Map and Ab list'!F315 -> D8 | U93: =(S93+T93)/2 -> #VALUE! | W93: ='Map and Ab list'!F387 -> D7 | X93: ='Map and Ab list'!F389 -> D8 | Y93: =(W93+X93)/2 -> #VALUE! | AA93: ='Map and Ab list'!F461 -> D7 | AB93: ='Map and Ab list'!F463 -> D8 | AC93: =(AA93+AB93)/2 -> #VALUE! | AE93: ='Map and Ab list'!F535 -> D7 | AF93: ='Map and Ab list'!F537 -> D8 | AG93: =(AE93+AF93)/2 -> #VALUE! | AI93: ='Map and Ab list'!F609 -> D7 | AJ93: ='Map and Ab list'!F611 -> D8 | AK93: =(AI93+AJ93)/2 -> #VALUE! | AM93: ='Map and Ab list'!F683 -> D7 | AN93: ='Map and Ab list'!F685 -> D8 | AO93: =(AM93+AN93)/2 -> #VALUE! | AQ93: ='Map and Ab list'!F757 -> D7 | AR93: ='Map and Ab list'!F759 -> D8 | AS93: =(AQ93+AR93)/2 -> #VALUE! | AU93: ='Map and Ab list'!F831 -> D7 | AV93: ='Map and Ab list'!F833 -> D8 | AW93: =(AU93+AV93)/2 -> #VALUE!
A94: 90 | B94: HIP55 | C94: ='Map and Ab list'!G17 -> E7 | D94: ='Map and Ab list'!G19 -> E8 | E94: =(C94+D94)/2 -> #VALUE! | G94: ='Map and Ab list'!G91 -> E7 | H94: ='Map and Ab list'!G93 -> E8 | I94: =(G94+H94)/2 -> #VALUE! | K94: ='Map and Ab list'!G165 -> E7 | L94: ='Map and Ab list'!G167 -> E8 | M94: =(K94+L94)/2 -> #VALUE! | O94: ='Map and Ab list'!G239 -> E7 | P94: ='Map and Ab list'!G241 -> E8 | Q94: =(O94+P94)/2 -> #VALUE! | S94: ='Map and Ab list'!G313 -> E7 | T94: ='Map and Ab list'!G315 -> E8 | U94: =(S94+T94)/2 -> #VALUE! | W94: ='Map and Ab list'!G387 -> E7 | X94: ='Map and Ab list'!G389 -> E8 | Y94: =(W94+X94)/2 -> #VALUE! | AA94: ='Map and Ab list'!G461 -> E7 | AB94: ='Map and Ab list'!G463 -> E8 | AC94: =(AA94+AB94)/2 -> #VALUE! | AE94: ='Map and Ab list'!G535 -> E7 | AF94: ='Map and Ab list'!G537 -> E8 | AG94: =(AE94+AF94)/2 -> #VALUE! | AI94: ='Map and Ab list'!G609 -> E7 | AJ94: ='Map and Ab list'!G611 -> E8 | AK94: =(AI94+AJ94)/2 -> #VALUE! | AM94: ='Map and Ab list'!G683 -> E7 | AN94: ='Map and Ab list'!G685 -> E8 | AO94: =(AM94+AN94)/2 -> #VALUE! | AQ94: ='Map and Ab list'!G757 -> E7 | AR94: ='Map and Ab list'!G759 -> E8 | AS94: =(AQ94+AR94)/2 -> #VALUE! | AU94: ='Map and Ab list'!G831 -> E7 | AV94: ='Map and Ab list'!G833 -> E8 | AW94: =(AU94+AV94)/2 -> #VALUE!
A95: 91 | B95: H1F0 | C95: ='Map and Ab list'!H17 -> F7 | D95: ='Map and Ab list'!H19 -> F8 | E95: =(C95+D95)/2 -> #VALUE! | G95: ='Map and Ab list'!H91 -> F7 | H95: ='Map and Ab list'!H93 -> F8 | I95: =(G95+H95)/2 -> #VALUE! | K95: ='Map and Ab list'!H165 -> F7 | L95: ='Map and Ab list'!H167 -> F8 | M95: =(K95+L95)/2 -> #VALUE! | O95: ='Map and Ab list'!H239 -> F7 | P95: ='Map and Ab list'!H241 -> F8 | Q95: =(O95+P95)/2 -> #VALUE! | S95: ='Map and Ab list'!H313 -> F7 | T95: ='Map and Ab list'!H315 -> F8 | U95: =(S95+T95)/2 -> #VALUE! | W95: ='Map and Ab list'!H387 -> F7 | X95: ='Map and Ab list'!H389 -> F8 | Y95: =(W95+X95)/2 -> #VALUE! | AA95: ='Map and Ab list'!H461 -> F7 | AB95: ='Map and Ab list'!H463 -> F8 | AC95: =(AA95+AB95)/2 -> #VALUE! | AE95: ='Map and Ab list'!H535 -> F7 | AF95: ='Map and Ab list'!H537 -> F8 | AG95: =(AE95+AF95)/2 -> #VALUE! | AI95: ='Map and Ab list'!H609 -> F7 | AJ95: ='Map and Ab list'!H611 -> F8 | AK95: =(AI95+AJ95)/2 -> #VALUE! | AM95: ='Map and Ab list'!H683 -> F7 | AN95: ='Map and Ab list'!H685 -> F8 | AO95: =(AM95+AN95)/2 -> #VALUE! | AQ95: ='Map and Ab list'!H757 -> F7 | AR95: ='Map and Ab list'!H759 -> F8 | AS95: =(AQ95+AR95)/2 -> #VALUE! | AU95: ='Map and Ab list'!H831 -> F7 | AV95: ='Map and Ab list'!H833 -> F8 | AW95: =(AU95+AV95)/2 -> #VALUE!
A96: 92 | B96: HIST1H1B | C96: ='Map and Ab list'!I17 -> G7 | D96: ='Map and Ab list'!I19 -> G8 | E96: =(C96+D96)/2 -> #VALUE! | G96: ='Map and Ab list'!I91 -> G7 | H96: ='Map and Ab list'!I93 -> G8 | I96: =(G96+H96)/2 -> #VALUE! | K96: ='Map and Ab list'!I165 -> G7 | L96: ='Map and Ab list'!I167 -> G8 | M96: =(K96+L96)/2 -> #VALUE! | O96: ='Map and Ab list'!I239 -> G7 | P96: ='Map and Ab list'!I241 -> G8 | Q96: =(O96+P96)/2 -> #VALUE! | S96: ='Map and Ab list'!I313 -> G7 | T96: ='Map and Ab list'!I315 -> G8 | U96: =(S96+T96)/2 -> #VALUE! | W96: ='Map and Ab list'!I387 -> G7 | X96: ='Map and Ab list'!I389 -> G8 | Y96: =(W96+X96)/2 -> #VALUE! | AA96: ='Map and Ab list'!I461 -> G7 | AB96: ='Map and Ab list'!I463 -> G8 | AC96: =(AA96+AB96)/2 -> #VALUE! | AE96: ='Map and Ab list'!I535 -> G7 | AF96: ='Map and Ab list'!I537 -> G8 | AG96: =(AE96+AF96)/2 -> #VALUE! | AI96: ='Map and Ab list'!I609 -> G7 | AJ96: ='Map and Ab list'!I611 -> G8 | AK96: =(AI96+AJ96)/2 -> #VALUE! | AM96: ='Map and Ab list'!I683 -> G7 | AN96: ='Map and Ab list'!I685 -> G8 | AO96: =(AM96+AN96)/2 -> #VALUE! | AQ96: ='Map and Ab list'!I757 -> G7 | AR96: ='Map and Ab list'!I759 -> G8 | AS96: =(AQ96+AR96)/2 -> #VALUE! | AU96: ='Map and Ab list'!I831 -> G7 | AV96: ='Map and Ab list'!I833 -> G8 | AW96: =(AU96+AV96)/2 -> #VALUE!
A97: 93 | B97: HIVEP2 | C97: ='Map and Ab list'!J17 -> H7 | D97: ='Map and Ab list'!J19 -> H8 | E97: =(C97+D97)/2 -> #VALUE! | G97: ='Map and Ab list'!J91 -> H7 | H97: ='Map and Ab list'!J93 -> H8 | I97: =(G97+H97)/2 -> #VALUE! | K97: ='Map and Ab list'!J165 -> H7 | L97: ='Map and Ab list'!J167 -> H8 | M97: =(K97+L97)/2 -> #VALUE! | O97: ='Map and Ab list'!J239 -> H7 | P97: ='Map and Ab list'!J241 -> H8 | Q97: =(O97+P97)/2 -> #VALUE! | S97: ='Map and Ab list'!J313 -> H7 | T97: ='Map and Ab list'!J315 -> H8 | U97: =(S97+T97)/2 -> #VALUE! | W97: ='Map and Ab list'!J387 -> H7 | X97: ='Map and Ab list'!J389 -> H8 | Y97: =(W97+X97)/2 -> #VALUE! | AA97: ='Map and Ab list'!J461 -> H7 | AB97: ='Map and Ab list'!J463 -> H8 | AC97: =(AA97+AB97)/2 -> #VALUE! | AE97: ='Map and Ab list'!J535 -> H7 | AF97: ='Map and Ab list'!J537 -> H8 | AG97: =(AE97+AF97)/2 -> #VALUE! | AI97: ='Map and Ab list'!J609 -> H7 | AJ97: ='Map and Ab list'!J611 -> H8 | AK97: =(AI97+AJ97)/2 -> #VALUE! | AM97: ='Map and Ab list'!J683 -> H7 | AN97: ='Map and Ab list'!J685 -> H8 | AO97: =(AM97+AN97)/2 -> #VALUE! | AQ97: ='Map and Ab list'!J757 -> H7 | AR97: ='Map and Ab list'!J759 -> H8 | AS97: =(AQ97+AR97)/2 -> #VALUE! | AU97: ='Map and Ab list'!J831 -> H7 | AV97: ='Map and Ab list'!J833 -> H8 | AW97: =(AU97+AV97)/2 -> #VALUE!
A98: 94 | B98: hnRNP K | C98: ='Map and Ab list'!K17 -> I7 | D98: ='Map and Ab list'!K19 -> I8 | E98: =(C98+D98)/2 -> #VALUE! | G98: ='Map and Ab list'!K91 -> I7 | H98: ='Map and Ab list'!K93 -> I8 | I98: =(G98+H98)/2 -> #VALUE! | K98: ='Map and Ab list'!K165 -> I7 | L98: ='Map and Ab list'!K167 -> I8 | M98: =(K98+L98)/2 -> #VALUE! | O98: ='Map and Ab list'!K239 -> I7 | P98: ='Map and Ab list'!K241 -> I8 | Q98: =(O98+P98)/2 -> #VALUE! | S98: ='Map and Ab list'!K313 -> I7 | T98: ='Map and Ab list'!K315 -> I8 | U98: =(S98+T98)/2 -> #VALUE! | W98: ='Map and Ab list'!K387 -> I7 | X98: ='Map and Ab list'!K389 -> I8 | Y98: =(W98+X98)/2 -> #VALUE! | AA98: ='Map and Ab list'!K461 -> I7 | AB98: ='Map and Ab list'!K463 -> I8 | AC98: =(AA98+AB98)/2 -> #VALUE! | AE98: ='Map and Ab list'!K535 -> I7 | AF98: ='Map and Ab list'!K537 -> I8 | AG98: =(AE98+AF98)/2 -> #VALUE! | AI98: ='Map and Ab list'!K609 -> I7 | AJ98: ='Map and Ab list'!K611 -> I8 | AK98: =(AI98+AJ98)/2 -> #VALUE! | AM98: ='Map and Ab list'!K683 -> I7 | AN98: ='Map and Ab list'!K685 -> I8 | AO98: =(AM98+AN98)/2 -> #VALUE! | AQ98: ='Map and Ab list'!K757 -> I7 | AR98: ='Map and Ab list'!K759 -> I8 | AS98: =(AQ98+AR98)/2 -> #VALUE! | AU98: ='Map and Ab list'!K831 -> I7 | AV98: ='Map and Ab list'!K833 -> I8 | AW98: =(AU98+AV98)/2 -> #VALUE!
A99: 95 | B99: hnRNP R | C99: ='Map and Ab list'!L17 -> J7 | D99: ='Map and Ab list'!L19 -> J8 | E99: =(C99+D99)/2 -> #VALUE! | G99: ='Map and Ab list'!L91 -> J7 | H99: ='Map and Ab list'!L93 -> J8 | I99: =(G99+H99)/2 -> #VALUE! | K99: ='Map and Ab list'!L165 -> J7 | L99: ='Map and Ab list'!L167 -> J8 | M99: =(K99+L99)/2 -> #VALUE! | O99: ='Map and Ab list'!L239 -> J7 | P99: ='Map and Ab list'!L241 -> J8 | Q99: =(O99+P99)/2 -> #VALUE! | S99: ='Map and Ab list'!L313 -> J7 | T99: ='Map and Ab list'!L315 -> J8 | U99: =(S99+T99)/2 -> #VALUE! | W99: ='Map and Ab list'!L387 -> J7 | X99: ='Map and Ab list'!L389 -> J8 | Y99: =(W99+X99)/2 -> #VALUE! | AA99: ='Map and Ab list'!L461 -> J7 | AB99: ='Map and Ab list'!L463 -> J8 | AC99: =(AA99+AB99)/2 -> #VALUE! | AE99: ='Map and Ab list'!L535 -> J7 | AF99: ='Map and Ab list'!L537 -> J8 | AG99: =(AE99+AF99)/2 -> #VALUE! | AI99: ='Map and Ab list'!L609 -> J7 | AJ99: ='Map and Ab list'!L611 -> J8 | AK99: =(AI99+AJ99)/2 -> #VALUE! | AM99: ='Map and Ab list'!L683 -> J7 | AN99: ='Map and Ab list'!L685 -> J8 | AO99: =(AM99+AN99)/2 -> #VALUE! | AQ99: ='Map and Ab list'!L757 -> J7 | AR99: ='Map and Ab list'!L759 -> J8 | AS99: =(AQ99+AR99)/2 -> #VALUE! | AU99: ='Map and Ab list'!L831 -> J7 | AV99: ='Map and Ab list'!L833 -> J8 | AW99: =(AU99+AV99)/2 -> #VALUE!
A100: 96 | B100: HNRNPUL2 | C100: ='Map and Ab list'!M17 -> K7 | D100: ='Map and Ab list'!M19 -> K8 | E100: =(C100+D100)/2 -> #VALUE! | G100: ='Map and Ab list'!M91 -> K7 | H100: ='Map and Ab list'!M93 -> K8 | I100: =(G100+H100)/2 -> #VALUE! | K100: ='Map and Ab list'!M165 -> K7 | L100: ='Map and Ab list'!M167 -> K8 | M100: =(K100+L100)/2 -> #VALUE! | O100: ='Map and Ab list'!M239 -> K7 | P100: ='Map and Ab list'!M241 -> K8 | Q100: =(O100+P100)/2 -> #VALUE! | S100: ='Map and Ab list'!M313 -> K7 | T100: ='Map and Ab list'!M315 -> K8 | U100: =(S100+T100)/2 -> #VALUE! | W100: ='Map and Ab list'!M387 -> K7 | X100: ='Map and Ab list'!M389 -> K8 | Y100: =(W100+X100)/2 -> #VALUE! | AA100: ='Map and Ab list'!M461 -> K7 | AB100: ='Map and Ab list'!M463 -> K8 | AC100: =(AA100+AB100)/2 -> #VALUE! | AE100: ='Map and Ab list'!M535 -> K7 | AF100: ='Map and Ab list'!M537 -> K8 | AG100: =(AE100+AF100)/2 -> #VALUE! | AI100: ='Map and Ab list'!M609 -> K7 | AJ100: ='Map and Ab list'!M611 -> K8 | AK100: =(AI100+AJ100)/2 -> #VALUE! | AM100: ='Map and Ab list'!M683 -> K7 | AN100: ='Map and Ab list'!M685 -> K8 | AO100: =(AM100+AN100)/2 -> #VALUE! | AQ100: ='Map and Ab list'!M757 -> K7 | AR100: ='Map and Ab list'!M759 -> K8 | AS100: =(AQ100+AR100)/2 -> #VALUE! | AU100: ='Map and Ab list'!M831 -> K7 | AV100: ='Map and Ab list'!M833 -> K8 | AW100: =(AU100+AV100)/2 -> #VALUE!
A101: 97 | B101: HNRPA3 | C101: ='Map and Ab list'!N17 -> L7 | D101: ='Map and Ab list'!N19 -> L8 | E101: =(C101+D101)/2 -> #VALUE! | G101: ='Map and Ab list'!N91 -> L7 | H101: ='Map and Ab list'!N93 -> L8 | I101: =(G101+H101)/2 -> #VALUE! | K101: ='Map and Ab list'!N165 -> L7 | L101: ='Map and Ab list'!N167 -> L8 | M101: =(K101+L101)/2 -> #VALUE! | O101: ='Map and Ab list'!N239 -> L7 | P101: ='Map and Ab list'!N241 -> L8 | Q101: =(O101+P101)/2 -> #VALUE! | S101: ='Map and Ab list'!N313 -> L7 | T101: ='Map and Ab list'!N315 -> L8 | U101: =(S101+T101)/2 -> #VALUE! | W101: ='Map and Ab list'!N387 -> L7 | X101: ='Map and Ab list'!N389 -> L8 | Y101: =(W101+X101)/2 -> #VALUE! | AA101: ='Map and Ab list'!N461 -> L7 | AB101: ='Map and Ab list'!N463 -> L8 | AC101: =(AA101+AB101)/2 -> #VALUE! | AE101: ='Map and Ab list'!N535 -> L7 | AF101: ='Map and Ab list'!N537 -> L8 | AG101: =(AE101+AF101)/2 -> #VALUE! | AI101: ='Map and Ab list'!N609 -> L7 | AJ101: ='Map and Ab list'!N611 -> L8 | AK101: =(AI101+AJ101)/2 -> #VALUE! | AM101: ='Map and Ab list'!N683 -> L7 | AN101: ='Map and Ab list'!N685 -> L8 | AO101: =(AM101+AN101)/2 -> #VALUE! | AQ101: ='Map and Ab list'!N757 -> L7 | AR101: ='Map and Ab list'!N759 -> L8 | AS101: =(AQ101+AR101)/2 -> #VALUE! | AU101: ='Map and Ab list'!N831 -> L7 | AV101: ='Map and Ab list'!N833 -> L8 | AW101: =(AU101+AV101)/2 -> #VALUE!
...

Sheet Average
B2: ='Map and Ab list'!B1 -> RayBio® Mouse Biotin Label Based Antibody Arrays -- L-2 Array, Membrane
C5: =Sorting!C4 -> Sample 1 | D5: =Sorting!G4 -> Sample 2 | E5: =Sorting!K4 -> Sample 3 | F5: =Sorting!O4 -> Sample 4 | G5: =Sorting!S4 -> Sample 5 | H5: =Sorting!W4 -> Sample 6 | I5: =Sorting!AA4 -> Sample 7 | J5: =Sorting!AE4 -> Sample 8 | K5: =Sorting!AI4 -> Sample 9 | L5: =Sorting!AM4 -> Sample 10 | M5: =Sorting!AQ4 -> Sample 11 | N5: =Sorting!AU4 -> Sample 12
A7: 1 | B7: =Sorting!B5 -> Positive Control | C7: =Sorting!E5 -> 0 | D7: =Sorting!I5 -> 0 | E7: =Sorting!M5 -> 0 | F7: =Sorting!Q5 -> 0 | G7: =Sorting!U5 -> 0 | H7: =Sorting!Y5 -> 0 | I7: =Sorting!AC5 -> 0 | J7: =Sorting!AG5 -> 0 | K7: =Sorting!AK5 -> 0 | L7: =Sorting!AO5 -> 0 | M7: =Sorting!AS5 -> 0 | N7: =Sorting!AW5 -> 0
A8: 2 | B8: =Sorting!B6 -> Neg | C8: =Sorting!E6 -> #VALUE! | D8: =Sorting!I6 -> #VALUE! | E8: =Sorting!M6 -> #VALUE! | F8: =Sorting!Q6 -> #VALUE! | G8: =Sorting!U6 -> #VALUE! | H8: =Sorting!Y6 -> #VALUE! | I8: =Sorting!AC6 -> #VALUE! | J8: =Sorting!AG6 -> #VALUE! | K8: =Sorting!AK6 -> #VALUE! | L8: =Sorting!AO6 -> #VALUE! | M8: =Sorting!AS6 -> #VALUE! | N8: =Sorting!AW6 -> #VALUE!
A9: 3 | B9: =Sorting!B7 -> AARE | C9: =Sorting!E7 -> #VALUE! | D9: =Sorting!I7 -> #VALUE! | E9: =Sorting!M7 -> #VALUE! | F9: =Sorting!Q7 -> #VALUE! | G9: =Sorting!U7 -> #VALUE! | H9: =Sorting!Y7 -> #VALUE! | I9: =Sorting!AC7 -> #VALUE! | J9: =Sorting!AG7 -> #VALUE! | K9: =Sorting!AK7 -> #VALUE! | L9: =Sorting!AO7 -> #VALUE! | M9: =Sorting!AS7 -> #VALUE! | N9: =Sorting!AW7 -> #VALUE!
A10: 4 | B10: =Sorting!B8 -> ACAT1 | C10: =Sorting!E8 -> #VALUE! | D10: =Sorting!I8 -> #VALUE! | E10: =Sorting!M8 -> #VALUE! | F10: =Sorting!Q8 -> #VALUE! | G10: =Sorting!U8 -> #VALUE! | H10: =Sorting!Y8 -> #VALUE! | I10: =Sorting!AC8 -> #VALUE! | J10: =Sorting!AG8 -> #VALUE! | K10: =Sorting!AK8 -> #VALUE! | L10: =Sorting!AO8 -> #VALUE! | M10: =Sorting!AS8 -> #VALUE! | N10: =Sorting!AW8 -> #VALUE!
A11: 5 | B11: =Sorting!B9 -> ACOT2 | C11: =Sorting!E9 -> #VALUE! | D11: =Sorting!I9 -> #VALUE! | E11: =Sorting!M9 -> #VALUE! | F11: =Sorting!Q9 -> #VALUE! | G11: =Sorting!U9 -> #VALUE! | H11: =Sorting!Y9 -> #VALUE! | I11: =Sorting!AC9 -> #VALUE! | J11: =Sorting!AG9 -> #VALUE! | K11: =Sorting!AK9 -> #VALUE! | L11: =Sorting!AO9 -> #VALUE! | M11: =Sorting!AS9 -> #VALUE! | N11: =Sorting!AW9 -> #VALUE!
A12: 6 | B12: =Sorting!B10 -> ADAM28 | C12: =Sorting!E10 -> #VALUE! | D12: =Sorting!I10 -> #VALUE! | E12: =Sorting!M10 -> #VALUE! | F12: =Sorting!Q10 -> #VALUE! | G12: =Sorting!U10 -> #VALUE! | H12: =Sorting!Y10 -> #VALUE! | I12: =Sorting!AC10 -> #VALUE! | J12: =Sorting!AG10 -> #VALUE! | K12: =Sorting!AK10 -> #VALUE! | L12: =Sorting!AO10 -> #VALUE! | M12: =Sorting!AS10 -> #VALUE! | N12: =Sorting!AW10 -> #VALUE!
A13: 7 | B13: =Sorting!B11 -> AHCY | C13: =Sorting!E11 -> #VALUE! | D13: =Sorting!I11 -> #VALUE! | E13: =Sorting!M11 -> #VALUE! | F13: =Sorting!Q11 -> #VALUE! | G13: =Sorting!U11 -> #VALUE! | H13: =Sorting!Y11 -> #VALUE! | I13: =Sorting!AC11 -> #VALUE! | J13: =Sorting!AG11 -> #VALUE! | K13: =Sorting!AK11 -> #VALUE! | L13: =Sorting!AO11 -> #VALUE! | M13: =Sorting!AS11 -> #VALUE! | N13: =Sorting!AW11 -> #VALUE!
A14: 8 | B14: =Sorting!B12 -> AK1 | C14: =Sorting!E12 -> #VALUE! | D14: =Sorting!I12 -> #VALUE! | E14: =Sorting!M12 -> #VALUE! | F14: =Sorting!Q12 -> #VALUE! | G14: =Sorting!U12 -> #VALUE! | H14: =Sorting!Y12 -> #VALUE! | I14: =Sorting!AC12 -> #VALUE! | J14: =Sorting!AG12 -> #VALUE! | K14: =Sorting!AK12 -> #VALUE! | L14: =Sorting!AO12 -> #VALUE! | M14: =Sorting!AS12 -> #VALUE! | N14: =Sorting!AW12 -> #VALUE!
A15: 9 | B15: =Sorting!B13 -> AKR1A1 | C15: =Sorting!E13 -> #VALUE! | D15: =Sorting!I13 -> #VALUE! | E15: =Sorting!M13 -> #VALUE! | F15: =Sorting!Q13 -> #VALUE! | G15: =Sorting!U13 -> #VALUE! | H15: =Sorting!Y13 -> #VALUE! | I15: =Sorting!AC13 -> #VALUE! | J15: =Sorting!AG13 -> #VALUE! | K15: =Sorting!AK13 -> #VALUE! | L15: =Sorting!AO13 -> #VALUE! | M15: =Sorting!AS13 -> #VALUE! | N15: =Sorting!AW13 -> #VALUE!
A16: 10 | B16: =Sorting!B14 -> ALDH2 | C16: =Sorting!E14 -> #VALUE! | D16: =Sorting!I14 -> #VALUE! | E16: =Sorting!M14 -> #VALUE! | F16: =Sorting!Q14 -> #VALUE! | G16: =Sorting!U14 -> #VALUE! | H16: =Sorting!Y14 -> #VALUE! | I16: =Sorting!AC14 -> #VALUE! | J16: =Sorting!AG14 -> #VALUE! | K16: =Sorting!AK14 -> #VALUE! | L16: =Sorting!AO14 -> #VALUE! | M16: =Sorting!AS14 -> #VALUE! | N16: =Sorting!AW14 -> #VALUE!
A17: 11 | B17: =Sorting!B15 -> alpha 5 D | C17: =Sorting!E15 -> #VALUE! | D17: =Sorting!I15 -> #VALUE! | E17: =Sorting!M15 -> #VALUE! | F17: =Sorting!Q15 -> #VALUE! | G17: =Sorting!U15 -> #VALUE! | H17: =Sorting!Y15 -> #VALUE! | I17: =Sorting!AC15 -> #VALUE! | J17: =Sorting!AG15 -> #VALUE! | K17: =Sorting!AK15 -> #VALUE! | L17: =Sorting!AO15 -> #VALUE! | M17: =Sorting!AS15 -> #VALUE! | N17: =Sorting!AW15 -> #VALUE!
A18: 12 | B18: =Sorting!B16 -> ANKRD9 | C18: =Sorting!E16 -> #VALUE! | D18: =Sorting!I16 -> #VALUE! | E18: =Sorting!M16 -> #VALUE! | F18: =Sorting!Q16 -> #VALUE! | G18: =Sorting!U16 -> #VALUE! | H18: =Sorting!Y16 -> #VALUE! | I18: =Sorting!AC16 -> #VALUE! | J18: =Sorting!AG16 -> #VALUE! | K18: =Sorting!AK16 -> #VALUE! | L18: =Sorting!AO16 -> #VALUE! | M18: =Sorting!AS16 -> #VALUE! | N18: =Sorting!AW16 -> #VALUE!
... A271: 265 | B271: =Sorting!B269 -> Quiescin Q6 | C271: =Sorting!E269 -> #VALUE! | D271: =Sorting!I269 -> #VALUE! | E271: =Sorting!M269 -> #VALUE! | F271: =Sorting!Q269 -> #VALUE! | G271: =Sorting!U269 -> #VALUE! | H271: =Sorting!Y269 -> #VALUE! | I271: =Sorting!AC269 -> #VALUE! | J271: =Sorting!AG269 -> #VALUE! | K271: =Sorting!AK269 -> #VALUE! | L271: =Sorting!AO269 -> #VALUE! | M271: =Sorting!AS269 -> #VALUE! | N271: =Sorting!AW269 -> #VALUE!
