Workbook
Name __A1: '[3]aligning data'!#REF!
Name _A1: '[1]Aligning Data'!#REF!

Sheet Cover page
B7: Customer Contact Name:
B8: Customer Institution:
B9: Contact Phone Number:
B10: Customer Email Address:
B11: Purchase Order Number
B12: Sales Order Number
B13: Protocol Number
B14: Study Director assigned:
B16: Service Provided
B18: Type of Service Provided: | C18: Full testing
B19: Sample Type and Preparation: | C19: Human serum
B20: Test procedure:
B21: Stability of sample and Standards or Positive Controls | C21: Stable to conditions of test
B22: Protocol sign off Date:
B23: Final Report completed date:
B24: Storage of Records and samples | C24: According to in house procedures
B28: Sign off:
B31: Study Director: | C31: Date:
B32: Laboratory Manager: | C32: Date:

Sheet Guide
B8: Analysis Tool Software for RayBio® Lectin 95 Array, Glass Slide
H10: Analysis Tool Guide

Sheet Importing data
A1: RayBio® Lectin 95

Sheet Map
A1: RayBio® Lectin 95
B2: A | C2: B | D2: C | E2: D | F2: E | G2: F | H2: G | I2: H | J2: I | K2: J | L2: K | M2: L | N2: M
A3: 1 | B3: POS1 | C3: POS2 | D3: POS3 | E3: NEG | F3: AAA | G3: AAL | H3: ABA | I3: ABL | J3: ACG | K3: ACL | L3: AMA | M3: ASA | N3: BANLEC
A4: 2 | B4: POS1 | C4: POS2 | D4: POS3 | E4: NEG | F4: AAA | G4: AAL | H4: ABA | I4: ABL | J4: ACG | K4: ACL | L4: AMA | M4: ASA | N4: BANLEC
A5: 3 | B5: BC2L-A | C5: BC2LCN | D5: BPA | E5: CA | F5: CAA | G5: CALSEPA | H5: CGL2 | I5: CNL | J5: Con A | K5: CPA | L5: CSA | M5: DBA | N5: DISCOIDIN I
A6: 4 | B6: BC2L-A | C6: BC2LCN | D6: BPA | E6: CA | F6: CAA | G6: CALSEPA | H6: CGL2 | I6: CNL | J6: Con A | K6: CPA | L6: CSA | M6: DBA | N6: DISCOIDIN I
A7: 5 | B7: DISCOIDIN II | C7: DSA | D7: ECA | E7: EEL | F7: F17AG | G7: GAL1 | H7: GAL1-S | I7: GAL2 | J7: GAL3 | K7: GAL3C-S | L7: GAL7-S | M7: GAL9 | N7: GHA
A8: 6 | B8: DISCOIDIN II | C8: DSA | D8: ECA | E8: EEL | F8: F17AG | G8: GAL1 | H8: GAL1-S | I8: GAL2 | J8: GAL3 | K8: GAL3C-S | L8: GAL7-S | M8: GAL9 | N8: GHA
A9: 7 | B9: GNA | C9: GRFT | D9: GS-I | E9: GS-II | F9: HAA | G9: HHA | H9: HMA | I9: IRA | J9: Jacalin | K9: LAL | L9: LBA | M9: LcH A | N9: LEA
A10: 8 | B10: GNA | C10: GRFT | D10: GS-I | E10: GS-II | F10: HAA | G10: HHA | H10: HMA | I10: IRA | J10: Jacalin | K10: LAL | L10: LBA | M10: LcH A | N10: LEA
A11: 9 | B11: LENTIL | C11: Lotus | D11: LPA | E11: LSL-N | F11: MAA | G11: MALECTIN | H11: MNA-G | I11: MNA-M | J11: MOA | K11: MPL | L11: NPA | M11: ORYSATA | N11: PA-IIL
A12: 10 | B12: LENTIL | C12: Lotus | D12: LPA | E12: LSL-N | F12: MAA | G12: MALECTIN | H12: MNA-G | I12: MNA-M | J12: MOA | K12: MPL | L12: NPA | M12: ORYSATA | N12: PA-IIL
A13: 11 | B13: PA-IL | C13: PALa | D13: PHA-E | E13: PHA-L | F13: PHA-P | G13: PNA | H13: PPL | I13: PSA | J13: PSL1A | K13: PTL-1 | L13: PTL-2 | M13: PWA | N13: RCA 120
A14: 12 | B14: PA-IL | C14: PALa | D14: PHA-E | E14: PHA-L | F14: PHA-P | G14: PNA | H14: PPL | I14: PSA | J14: PSL1A | K14: PTL-1 | L14: PTL-2 | M14: PWA | N14: RCA 120
... A18: 16 | B18: UEA I | C18: UEA-II | D18: VFA | E18: VRA | F18: VVA | G18: VVA-M | H18: WFA | I18: WGA | J18: NEG | K18: NEG | L18: POS3 | M18: POS2 | N18: POS1

Sheet Aligning data
A1: RayBio® Lectin 95
B2: Sample1 | D2: Sample2 | F2: Sample3 | H2: Sample4 | J2: Sample5 | L2: Sample6 | N2: Sample7 | P2: Sample8 | R2: Sample9 | T2: Sample10 | V2: Sample11 | X2: Sample12 | Z2: Sample13 | AB2: Sample14 | AD2: Sample15 | AF2: Sample16 | AH2: Sample17 | AJ2: Sample18 | AL2: Sample19 | AN2: Sample20 | AP2: Sample21 | AR2: Sample22 | AT2: Sample23 | AV2: Sample24
B3: With Background | C3: Without Background | D3: With Background | E3: Without Background | F3: With Background | G3: Without Background | H3: With Background | I3: Without Background | J3: With Background | K3: Without Background | L3: With Background | M3: Without Background | N3: With Background | O3: Without Background | P3: With Background | Q3: Without Background | R3: With Background | S3: Without Background | T3: With Background | U3: Without Background | V3: With Background | W3: Without Background | X3: With Background | Y3: Without Background | Z3: With Background | AA3: Without Background | AB3: With Background | AC3: Without Background | AD3: With Background | AE3: Without Background | AF3: With Background | AG3: Without Background | AH3: With Background | AI3: Without Background | AJ3: With Background | AK3: Without Background | AL3: With Background | AM3: Without Background | AN3: With Background | AO3: Without Background | AP3: With Background | AQ3: Without Background | AR3: With Background | AS3: Without Background | AT3: With Background | AU3: Without Background | AV3: With Background | AW3: Without Background
A4: POS1 | B4: A1 | C4: A1 | D4: A1 | E4: A1 | F4: A1 | G4: A1 | H4: A1 | I4: A1 | J4: A1 | K4: A1 | L4: A1 | M4: A1 | N4: A1 | O4: A1 | P4: A1 | Q4: A1 | R4: A1 | S4: A1 | T4: A1 | U4: A1 | V4: A1 | W4: A1 | X4: A1 | Y4: A1 | Z4: A1 | AA4: A1 | AB4: A1 | AC4: A1 | AD4: A1 | AE4: A1 | AF4: A1 | AG4: A1 | AH4: A1 | AI4: A1 | AJ4: A1 | AK4: A1 | AL4: A1 | AM4: A1 | AN4: A1 | AO4: A1 | AP4: A1 | AQ4: A1 | AR4: A1 | AS4: A1 | AT4: A1 | AU4: A1 | AV4: A1 | AW4: A1
A5: POS2 | B5: B1 | C5: B1 | D5: B1 | E5: B1 | F5: B1 | G5: B1 | H5: B1 | I5: B1 | J5: B1 | K5: B1 | L5: B1 | M5: B1 | N5: B1 | O5: B1 | P5: B1 | Q5: B1 | R5: B1 | S5: B1 | T5: B1 | U5: B1 | V5: B1 | W5: B1 | X5: B1 | Y5: B1 | Z5: B1 | AA5: B1 | AB5: B1 | AC5: B1 | AD5: B1 | AE5: B1 | AF5: B1 | AG5: B1 | AH5: B1 | AI5: B1 | AJ5: B1 | AK5: B1 | AL5: B1 | AM5: B1 | AN5: B1 | AO5: B1 | AP5: B1 | AQ5: B1 | AR5: B1 | AS5: B1 | AT5: B1 | AU5: B1 | AV5: B1 | AW5: B1
A6: POS3 | B6: C1 | C6: C1 | D6: C1 | E6: C1 | F6: C1 | G6: C1 | H6: C1 | I6: C1 | J6: C1 | K6: C1 | L6: C1 | M6: C1 | N6: C1 | O6: C1 | P6: C1 | Q6: C1 | R6: C1 | S6: C1 | T6: C1 | U6: C1 | V6: C1 | W6: C1 | X6: C1 | Y6: C1 | Z6: C1 | AA6: C1 | AB6: C1 | AC6: C1 | AD6: C1 | AE6: C1 | AF6: C1 | AG6: C1 | AH6: C1 | AI6: C1 | AJ6: C1 | AK6: C1 | AL6: C1 | AM6: C1 | AN6: C1 | AO6: C1 | AP6: C1 | AQ6: C1 | AR6: C1 | AS6: C1 | AT6: C1 | AU6: C1 | AV6: C1 | AW6: C1
A7: NEG | B7: D1 | C7: D1 | D7: D1 | E7: D1 | F7: D1 | G7: D1 | H7: D1 | I7: D1 | J7: D1 | K7: D1 | L7: D1 | M7: D1 | N7: D1 | O7: D1 | P7: D1 | Q7: D1 | R7: D1 | S7: D1 | T7: D1 | U7: D1 | V7: D1 | W7: D1 | X7: D1 | Y7: D1 | Z7: D1 | AA7: D1 | AB7: D1 | AC7: D1 | AD7: D1 | AE7: D1 | AF7: D1 | AG7: D1 | AH7: D1 | AI7: D1 | AJ7: D1 | AK7: D1 | AL7: D1 | AM7: D1 | AN7: D1 | AO7: D1 | AP7: D1 | AQ7: D1 | AR7: D1 | AS7: D1 | AT7: D1 | AU7: D1 | AV7: D1 | AW7: D1
A8: AAA | B8: E1 | C8: E1 | D8: E1 | E8: E1 | F8: E1 | G8: E1 | H8: E1 | I8: E1 | J8: E1 | K8: E1 | L8: E1 | M8: E1 | N8: E1 | O8: E1 | P8: E1 | Q8: E1 | R8: E1 | S8: E1 | T8: E1 | U8: E1 | V8: E1 | W8: E1 | X8: E1 | Y8: E1 | Z8: E1 | AA8: E1 | AB8: E1 | AC8: E1 | AD8: E1 | AE8: E1 | AF8: E1 | AG8: E1 | AH8: E1 | AI8: E1 | AJ8: E1 | AK8: E1 | AL8: E1 | AM8: E1 | AN8: E1 | AO8: E1 | AP8: E1 | AQ8: E1 | AR8: E1 | AS8: E1 | AT8: E1 | AU8: E1 | AV8: E1 | AW8: E1
A9: AAL | B9: F1 | C9: F1 | D9: F1 | E9: F1 | F9: F1 | G9: F1 | H9: F1 | I9: F1 | J9: F1 | K9: F1 | L9: F1 | M9: F1 | N9: F1 | O9: F1 | P9: F1 | Q9: F1 | R9: F1 | S9: F1 | T9: F1 | U9: F1 | V9: F1 | W9: F1 | X9: F1 | Y9: F1 | Z9: F1 | AA9: F1 | AB9: F1 | AC9: F1 | AD9: F1 | AE9: F1 | AF9: F1 | AG9: F1 | AH9: F1 | AI9: F1 | AJ9: F1 | AK9: F1 | AL9: F1 | AM9: F1 | AN9: F1 | AO9: F1 | AP9: F1 | AQ9: F1 | AR9: F1 | AS9: F1 | AT9: F1 | AU9: F1 | AV9: F1 | AW9: F1
A10: ABA | B10: G1 | C10: G1 | D10: G1 | E10: G1 | F10: G1 | G10: G1 | H10: G1 | I10: G1 | J10: G1 | K10: G1 | L10: G1 | M10: G1 | N10: G1 | O10: G1 | P10: G1 | Q10: G1 | R10: G1 | S10: G1 | T10: G1 | U10: G1 | V10: G1 | W10: G1 | X10: G1 | Y10: G1 | Z10: G1 | AA10: G1 | AB10: G1 | AC10: G1 | AD10: G1 | AE10: G1 | AF10: G1 | AG10: G1 | AH10: G1 | AI10: G1 | AJ10: G1 | AK10: G1 | AL10: G1 | AM10: G1 | AN10: G1 | AO10: G1 | AP10: G1 | AQ10: G1 | AR10: G1 | AS10: G1 | AT10: G1 | AU10: G1 | AV10: G1 | AW10: G1
A11: ABL | B11: H1 | C11: H1 | D11: H1 | E11: H1 | F11: H1 | G11: H1 | H11: H1 | I11: H1 | J11: H1 | K11: H1 | L11: H1 | M11: H1 | N11: H1 | O11: H1 | P11: H1 | Q11: H1 | R11: H1 | S11: H1 | T11: H1 | U11: H1 | V11: H1 | W11: H1 | X11: H1 | Y11: H1 | Z11: H1 | AA11: H1 | AB11: H1 | AC11: H1 | AD11: H1 | AE11: H1 | AF11: H1 | AG11: H1 | AH11: H1 | AI11: H1 | AJ11: H1 | AK11: H1 | AL11: H1 | AM11: H1 | AN11: H1 | AO11: H1 | AP11: H1 | AQ11: H1 | AR11: H1 | AS11: H1 | AT11: H1 | AU11: H1 | AV11: H1 | AW11: H1
A12: ACG | B12: I1 | C12: I1 | D12: I1 | E12: I1 | F12: I1 | G12: I1 | H12: I1 | I12: I1 | J12: I1 | K12: I1 | L12: I1 | M12: I1 | N12: I1 | O12: I1 | P12: I1 | Q12: I1 | R12: I1 | S12: I1 | T12: I1 | U12: I1 | V12: I1 | W12: I1 | X12: I1 | Y12: I1 | Z12: I1 | AA12: I1 | AB12: I1 | AC12: I1 | AD12: I1 | AE12: I1 | AF12: I1 | AG12: I1 | AH12: I1 | AI12: I1 | AJ12: I1 | AK12: I1 | AL12: I1 | AM12: I1 | AN12: I1 | AO12: I1 | AP12: I1 | AQ12: I1 | AR12: I1 | AS12: I1 | AT12: I1 | AU12: I1 | AV12: I1 | AW12: I1
A13: ACL | B13: J1 | C13: J1 | D13: J1 | E13: J1 | F13: J1 | G13: J1 | H13: J1 | I13: J1 | J13: J1 | K13: J1 | L13: J1 | M13: J1 | N13: J1 | O13: J1 | P13: J1 | Q13: J1 | R13: J1 | S13: J1 | T13: J1 | U13: J1 | V13: J1 | W13: J1 | X13: J1 | Y13: J1 | Z13: J1 | AA13: J1 | AB13: J1 | AC13: J1 | AD13: J1 | AE13: J1 | AF13: J1 | AG13: J1 | AH13: J1 | AI13: J1 | AJ13: J1 | AK13: J1 | AL13: J1 | AM13: J1 | AN13: J1 | AO13: J1 | AP13: J1 | AQ13: J1 | AR13: J1 | AS13: J1 | AT13: J1 | AU13: J1 | AV13: J1 | AW13: J1
A14: AMA | B14: K1 | C14: K1 | D14: K1 | E14: K1 | F14: K1 | G14: K1 | H14: K1 | I14: K1 | J14: K1 | K14: K1 | L14: K1 | M14: K1 | N14: K1 | O14: K1 | P14: K1 | Q14: K1 | R14: K1 | S14: K1 | T14: K1 | U14: K1 | V14: K1 | W14: K1 | X14: K1 | Y14: K1 | Z14: K1 | AA14: K1 | AB14: K1 | AC14: K1 | AD14: K1 | AE14: K1 | AF14: K1 | AG14: K1 | AH14: K1 | AI14: K1 | AJ14: K1 | AK14: K1 | AL14: K1 | AM14: K1 | AN14: K1 | AO14: K1 | AP14: K1 | AQ14: K1 | AR14: K1 | AS14: K1 | AT14: K1 | AU14: K1 | AV14: K1 | AW14: K1
A15: ASA | B15: L1 | C15: L1 | D15: L1 | E15: L1 | F15: L1 | G15: L1 | H15: L1 | I15: L1 | J15: L1 | K15: L1 | L15: L1 | M15: L1 | N15: L1 | O15: L1 | P15: L1 | Q15: L1 | R15: L1 | S15: L1 | T15: L1 | U15: L1 | V15: L1 | W15: L1 | X15: L1 | Y15: L1 | Z15: L1 | AA15: L1 | AB15: L1 | AC15: L1 | AD15: L1 | AE15: L1 | AF15: L1 | AG15: L1 | AH15: L1 | AI15: L1 | AJ15: L1 | AK15: L1 | AL15: L1 | AM15: L1 | AN15: L1 | AO15: L1 | AP15: L1 | AQ15: L1 | AR15: L1 | AS15: L1 | AT15: L1 | AU15: L1 | AV15: L1 | AW15: L1
... A211: POS1 | B211: M16 | C211: M16 | D211: M16 | E211: M16 | F211: M16 | G211: M16 | H211: M16 | I211: M16 | J211: M16 | K211: M16 | L211: M16 | M211: M16 | N211: M16 | O211: M16 | P211: M16 | Q211: M16 | R211: M16 | S211: M16 | T211: M16 | U211: M16 | V211: M16 | W211: M16 | X211: M16 | Y211: M16 | Z211: M16 | AA211: M16 | AB211: M16 | AC211: M16 | AD211: M16 | AE211: M16 | AF211: M16 | AG211: M16 | AH211: M16 | AI211: M16 | AJ211: M16 | AK211: M16 | AL211: M16 | AM211: M16 | AN211: M16 | AO211: M16 | AP211: M16 | AQ211: M16 | AR211: M16 | AS211: M16 | AT211: M16 | AU211: M16 | AV211: M16 | AW211: M16

Sheet Sorting-1
A1: RayBio® Lectin 95
B2: ='Aligning data'!B2 -> Sample1 | E2: ='Aligning data'!D2 -> Sample2 | H2: ='Aligning data'!F2 -> Sample3 | K2: ='Aligning data'!H2 -> Sample4 | N2: ='Aligning data'!J2 -> Sample5 | Q2: ='Aligning data'!L2 -> Sample6 | T2: ='Aligning data'!N2 -> Sample7 | W2: ='Aligning data'!P2 -> Sample8 | Z2: ='Aligning data'!R2 -> Sample9 | AC2: ='Aligning data'!T2 -> Sample10 | AF2: ='Aligning data'!V2 -> Sample11 | AI2: ='Aligning data'!X2 -> Sample12 | AL2: ='Aligning data'!Z2 -> Sample13 | AO2: ='Aligning data'!AB2 -> Sample14 | AR2: ='Aligning data'!AD2 -> Sample15 | AU2: ='Aligning data'!AF2 -> Sample16 | AX2: ='Aligning data'!AH2 -> Sample17 | BA2: ='Aligning data'!AJ2 -> Sample18 | BD2: ='Aligning data'!AL2 -> Sample19 | BG2: ='Aligning data'!AN2 -> Sample20 | BJ2: ='Aligning data'!AP2 -> Sample21 | BM2: ='Aligning data'!AR2 -> Sample22 | BP2: ='Aligning data'!AT2 -> Sample23 | BS2: ='Aligning data'!AV2 -> Sample24
B3: With Background | E3: With Background | H3: With Background | K3: With Background | N3: With Background | Q3: With Background | T3: With Background | W3: With Background | Z3: With Background | AC3: With Background | AF3: With Background | AI3: With Background | AL3: With Background | AO3: With Background | AR3: With Background | AU3: With Background | AX3: With Background | BA3: With Background | BD3: With Background | BG3: With Background | BJ3: With Background | BM3: With Background | BP3: With Background | BS3: With Background
B4: 1 | C4: 2 | D4: Average | E4: 1 | F4: 2 | G4: Average | H4: 1 | I4: 2 | J4: Average | K4: 1 | L4: 2 | M4: Average | N4: 1 | O4: 2 | P4: Average | Q4: 1 | R4: 2 | S4: Average | T4: 1 | U4: 2 | V4: Average | W4: 1 | X4: 2 | Y4: Average | Z4: 1 | AA4: 2 | AB4: Average | AC4: 1 | AD4: 2 | AE4: Average | AF4: 1 | AG4: 2 | AH4: Average | AI4: 1 | AJ4: 2 | AK4: Average | AL4: 1 | AM4: 2 | AN4: Average | AO4: 1 | AP4: 2 | AQ4: Average | AR4: 1 | AS4: 2 | AT4: Average | AU4: 1 | AV4: 2 | AW4: Average | AX4: 1 | AY4: 2 | AZ4: Average | BA4: 1 | BB4: 2 | BC4: Average | BD4: 1 | BE4: 2 | BF4: Average | BG4: 1 | BH4: 2 | BI4: Average | BJ4: 1 | BK4: 2 | BL4: Average | BM4: 1 | BN4: 2 | BO4: Average | BP4: 1 | BQ4: 2 | BR4: Average | BS4: 1 | BT4: 2 | BU4: Average
A5: POS | D5: =(SUM('Aligning data'!B4:B6)+SUM('Aligning data'!B17:B19)+SUM('Aligning data'!B196:B198)+SUM('Aligning data'!B209:B211))/12 -> 0 | G5: =(SUM('Aligning data'!D4:D6)+SUM('Aligning data'!D17:D19)+SUM('Aligning data'!D196:D198)+SUM('Aligning data'!D209:D211))/12 -> 0 | J5: =(SUM('Aligning data'!F4:F6)+SUM('Aligning data'!F17:F19)+SUM('Aligning data'!F196:F198)+SUM('Aligning data'!F209:F211))/12 -> 0 | M5: =(SUM('Aligning data'!H4:H6)+SUM('Aligning data'!H17:H19)+SUM('Aligning data'!H196:H198)+SUM('Aligning data'!H209:H211))/12 -> 0 | P5: =(SUM('Aligning data'!J4:J6)+SUM('Aligning data'!J17:J19)+SUM('Aligning data'!J196:J198)+SUM('Aligning data'!J209:J211))/12 -> 0 | S5: =(SUM('Aligning data'!L4:L6)+SUM('Aligning data'!L17:L19)+SUM('Aligning data'!L196:L198)+SUM('Aligning data'!L209:L211))/12 -> 0 | V5: =(SUM('Aligning data'!N4:N6)+SUM('Aligning data'!N17:N19)+SUM('Aligning data'!N196:N198)+SUM('Aligning data'!N209:N211))/12 -> 0 | Y5: =(SUM('Aligning data'!P4:P6)+SUM('Aligning data'!P17:P19)+SUM('Aligning data'!P196:P198)+SUM('Aligning data'!P209:P211))/12 -> 0 | AB5: =(SUM('Aligning data'!R4:R6)+SUM('Aligning data'!R17:R19)+SUM('Aligning data'!R196:R198)+SUM('Aligning data'!R209:R211))/12 -> 0 | AE5: =(SUM('Aligning data'!T4:T6)+SUM('Aligning data'!T17:T19)+SUM('Aligning data'!T196:T198)+SUM('Aligning data'!T209:T211))/12 -> 0 | AH5: =(SUM('Aligning data'!V4:V6)+SUM('Aligning data'!V17:V19)+SUM('Aligning data'!V196:V198)+SUM('Aligning data'!V209:V211))/12 -> 0 | AK5: =(SUM('Aligning data'!X4:X6)+SUM('Aligning data'!X17:X19)+SUM('Aligning data'!X196:X198)+SUM('Aligning data'!X209:X211))/12 -> 0 | AN5: =(SUM('Aligning data'!Z4:Z6)+SUM('Aligning data'!Z17:Z19)+SUM('Aligning data'!Z196:Z198)+SUM('Aligning data'!Z209:Z211))/12 -> 0 | AQ5: =(SUM('Aligning data'!AB4:AB6)+SUM('Aligning data'!AB17:AB19)+SUM('Aligning data'!AB196:AB198)+SUM('Aligning data'!AB209:AB211))/12 -> 0 | AT5: =(SUM('Aligning data'!AD4:AD6)+SUM('Aligning data'!AD17:AD19)+SUM('Aligning data'!AD196:AD198)+SUM('Aligning data'!AD209:AD211))/12 -> 0 | AW5: =(SUM('Aligning data'!AF4:AF6)+SUM('Aligning data'!AF17:AF19)+SUM('Aligning data'!AF196:AF198)+SUM('Aligning data'!AF209:AF211))/12 -> 0 | AZ5: =(SUM('Aligning data'!AH4:AH6)+SUM('Aligning data'!AH17:AH19)+SUM('Aligning data'!AH196:AH198)+SUM('Aligning data'!AH209:AH211))/12 -> 0 | BC5: =(SUM('Aligning data'!AJ4:AJ6)+SUM('Aligning data'!AJ17:AJ19)+SUM('Aligning data'!AJ196:AJ198)+SUM('Aligning data'!AJ209:AJ211))/12 -> 0 | BF5: =(SUM('Aligning data'!AL4:AL6)+SUM('Aligning data'!AL17:AL19)+SUM('Aligning data'!AL196:AL198)+SUM('Aligning data'!AL209:AL211))/12 -> 0 | BI5: =(SUM('Aligning data'!AN4:AN6)+SUM('Aligning data'!AN17:AN19)+SUM('Aligning data'!AN196:AN198)+SUM('Aligning data'!AN209:AN211))/12 -> 0 | BL5: =(SUM('Aligning data'!AP4:AP6)+SUM('Aligning data'!AP17:AP19)+SUM('Aligning data'!AP196:AP198)+SUM('Aligning data'!AP209:AP211))/12 -> 0 | BO5: =(SUM('Aligning data'!AR4:AR6)+SUM('Aligning data'!AR17:AR19)+SUM('Aligning data'!AR196:AR198)+SUM('Aligning data'!AR209:AR211))/12 -> 0 | BR5: =(SUM('Aligning data'!AT4:AT6)+SUM('Aligning data'!AT17:AT19)+SUM('Aligning data'!AT196:AT198)+SUM('Aligning data'!AT209:AT211))/12 -> 0 | BU5: =(SUM('Aligning data'!AV4:AV6)+SUM('Aligning data'!AV17:AV19)+SUM('Aligning data'!AV196:AV198)+SUM('Aligning data'!AV209:AV211))/12 -> 0
A6: NEG | D6: =SUM('Aligning data'!B7,'Aligning data'!B20,'Aligning data'!B194:B195,'Aligning data'!B207:B208)/6 -> 0 | G6: =SUM('Aligning data'!D7,'Aligning data'!D20,'Aligning data'!D194:D195,'Aligning data'!D207:D208)/6 -> 0 | J6: =SUM('Aligning data'!F7,'Aligning data'!F20,'Aligning data'!F194:F195,'Aligning data'!F207:F208)/6 -> 0 | M6: =SUM('Aligning data'!H7,'Aligning data'!H20,'Aligning data'!H194:H195,'Aligning data'!H207:H208)/6 -> 0 | P6: =SUM('Aligning data'!J7,'Aligning data'!J20,'Aligning data'!J194:J195,'Aligning data'!J207:J208)/6 -> 0 | S6: =SUM('Aligning data'!L7,'Aligning data'!L20,'Aligning data'!L194:L195,'Aligning data'!L207:L208)/6 -> 0 | V6: =SUM('Aligning data'!N7,'Aligning data'!N20,'Aligning data'!N194:N195,'Aligning data'!N207:N208)/6 -> 0 | Y6: =SUM('Aligning data'!P7,'Aligning data'!P20,'Aligning data'!P194:P195,'Aligning data'!P207:P208)/6 -> 0 | AB6: =SUM('Aligning data'!R7,'Aligning data'!R20,'Aligning data'!R194:R195,'Aligning data'!R207:R208)/6 -> 0 | AE6: =SUM('Aligning data'!T7,'Aligning data'!T20,'Aligning data'!T194:T195,'Aligning data'!T207:T208)/6 -> 0 | AH6: =SUM('Aligning data'!V7,'Aligning data'!V20,'Aligning data'!V194:V195,'Aligning data'!V207:V208)/6 -> 0 | AK6: =SUM('Aligning data'!X7,'Aligning data'!X20,'Aligning data'!X194:X195,'Aligning data'!X207:X208)/6 -> 0 | AN6: =SUM('Aligning data'!Z7,'Aligning data'!Z20,'Aligning data'!Z194:Z195,'Aligning data'!Z207:Z208)/6 -> 0 | AQ6: =SUM('Aligning data'!AB7,'Aligning data'!AB20,'Aligning data'!AB194:AB195,'Aligning data'!AB207:AB208)/6 -> 0 | AT6: =SUM('Aligning data'!AD7,'Aligning data'!AD20,'Aligning data'!AD194:AD195,'Aligning data'!AD207:AD208)/6 -> 0 | AW6: =SUM('Aligning data'!AF7,'Aligning data'!AF20,'Aligning data'!AF194:AF195,'Aligning data'!AF207:AF208)/6 -> 0 | AZ6: =SUM('Aligning data'!AH7,'Aligning data'!AH20,'Aligning data'!AH194:AH195,'Aligning data'!AH207:AH208)/6 -> 0 | BC6: =SUM('Aligning data'!AJ7,'Aligning data'!AJ20,'Aligning data'!AJ194:AJ195,'Aligning data'!AJ207:AJ208)/6 -> 0 | BF6: =SUM('Aligning data'!AL7,'Aligning data'!AL20,'Aligning data'!AL194:AL195,'Aligning data'!AL207:AL208)/6 -> 0 | BI6: =SUM('Aligning data'!AN7,'Aligning data'!AN20,'Aligning data'!AN194:AN195,'Aligning data'!AN207:AN208)/6 -> 0 | BL6: =SUM('Aligning data'!AP7,'Aligning data'!AP20,'Aligning data'!AP194:AP195,'Aligning data'!AP207:AP208)/6 -> 0 | BO6: =SUM('Aligning data'!AR7,'Aligning data'!AR20,'Aligning data'!AR194:AR195,'Aligning data'!AR207:AR208)/6 -> 0 | BR6: =SUM('Aligning data'!AT7,'Aligning data'!AT20,'Aligning data'!AT194:AT195,'Aligning data'!AT207:AT208)/6 -> 0 | BU6: =SUM('Aligning data'!AV7,'Aligning data'!AV20,'Aligning data'!AV194:AV195,'Aligning data'!AV207:AV208)/6 -> 0
A7: AAA | B7: ='Aligning data'!B8 -> E1 | C7: ='Aligning data'!B21 -> E2 | D7: =(B7+C7)/2 -> #VALUE! | E7: ='Aligning data'!D8 -> E1 | F7: ='Aligning data'!D21 -> E2 | G7: =(E7+F7)/2 -> #VALUE! | H7: ='Aligning data'!F8 -> E1 | I7: ='Aligning data'!F21 -> E2 | J7: =(H7+I7)/2 -> #VALUE! | K7: ='Aligning data'!H8 -> E1 | L7: ='Aligning data'!H21 -> E2 | M7: =(K7+L7)/2 -> #VALUE! | N7: ='Aligning data'!J8 -> E1 | O7: ='Aligning data'!J21 -> E2 | P7: =(N7+O7)/2 -> #VALUE! | Q7: ='Aligning data'!L8 -> E1 | R7: ='Aligning data'!L21 -> E2 | S7: =(Q7+R7)/2 -> #VALUE! | T7: ='Aligning data'!N8 -> E1 | U7: ='Aligning data'!N21 -> E2 | V7: =(T7+U7)/2 -> #VALUE! | W7: ='Aligning data'!P8 -> E1 | X7: ='Aligning data'!P21 -> E2 | Y7: =(W7+X7)/2 -> #VALUE! | Z7: ='Aligning data'!R8 -> E1 | AA7: ='Aligning data'!R21 -> E2 | AB7: =(Z7+AA7)/2 -> #VALUE! | AC7: ='Aligning data'!T8 -> E1 | AD7: ='Aligning data'!T21 -> E2 | AE7: =(AC7+AD7)/2 -> #VALUE! | AF7: ='Aligning data'!V8 -> E1 | AG7: ='Aligning data'!V21 -> E2 | AH7: =(AF7+AG7)/2 -> #VALUE! | AI7: ='Aligning data'!X8 -> E1 | AJ7: ='Aligning data'!X21 -> E2 | AK7: =(AI7+AJ7)/2 -> #VALUE! | AL7: ='Aligning data'!Z8 -> E1 | AM7: ='Aligning data'!Z21 -> E2 | AN7: =(AL7+AM7)/2 -> #VALUE! | AO7: ='Aligning data'!AB8 -> E1 | AP7: ='Aligning data'!AB21 -> E2 | AQ7: =(AO7+AP7)/2 -> #VALUE! | AR7: ='Aligning data'!AD8 -> E1 | AS7: ='Aligning data'!AD21 -> E2 | AT7: =(AR7+AS7)/2 -> #VALUE! | AU7: ='Aligning data'!AF8 -> E1 | AV7: ='Aligning data'!AF21 -> E2 | AW7: =(AU7+AV7)/2 -> #VALUE! | AX7: ='Aligning data'!AH8 -> E1 | AY7: ='Aligning data'!AH21 -> E2 | AZ7: =(AX7+AY7)/2 -> #VALUE! | BA7: ='Aligning data'!AJ8 -> E1 | BB7: ='Aligning data'!AJ21 -> E2 | BC7: =(BA7+BB7)/2 -> #VALUE! | BD7: ='Aligning data'!AL8 -> E1 | BE7: ='Aligning data'!AL21 -> E2 | BF7: =(BD7+BE7)/2 -> #VALUE! | BG7: ='Aligning data'!AN8 -> E1 | BH7: ='Aligning data'!AN21 -> E2 | BI7: =(BG7+BH7)/2 -> #VALUE! | BJ7: ='Aligning data'!AP8 -> E1 | BK7: ='Aligning data'!AP21 -> E2 | BL7: =(BJ7+BK7)/2 -> #VALUE! | BM7: ='Aligning data'!AR8 -> E1 | BN7: ='Aligning data'!AR21 -> E2 | BO7: =(BM7+BN7)/2 -> #VALUE! | BP7: ='Aligning data'!AT8 -> E1 | BQ7: ='Aligning data'!AT21 -> E2 | BR7: =(BP7+BQ7)/2 -> #VALUE! | BS7: ='Aligning data'!AV8 -> E1 | BT7: ='Aligning data'!AV21 -> E2 | BU7: =(BS7+BT7)/2 -> #VALUE!
A8: AAL | B8: ='Aligning data'!B9 -> F1 | C8: ='Aligning data'!B22 -> F2 | D8: =(B8+C8)/2 -> #VALUE! | E8: ='Aligning data'!D9 -> F1 | F8: ='Aligning data'!D22 -> F2 | G8: =(E8+F8)/2 -> #VALUE! | H8: ='Aligning data'!F9 -> F1 | I8: ='Aligning data'!F22 -> F2 | J8: =(H8+I8)/2 -> #VALUE! | K8: ='Aligning data'!H9 -> F1 | L8: ='Aligning data'!H22 -> F2 | M8: =(K8+L8)/2 -> #VALUE! | N8: ='Aligning data'!J9 -> F1 | O8: ='Aligning data'!J22 -> F2 | P8: =(N8+O8)/2 -> #VALUE! | Q8: ='Aligning data'!L9 -> F1 | R8: ='Aligning data'!L22 -> F2 | S8: =(Q8+R8)/2 -> #VALUE! | T8: ='Aligning data'!N9 -> F1 | U8: ='Aligning data'!N22 -> F2 | V8: =(T8+U8)/2 -> #VALUE! | W8: ='Aligning data'!P9 -> F1 | X8: ='Aligning data'!P22 -> F2 | Y8: =(W8+X8)/2 -> #VALUE! | Z8: ='Aligning data'!R9 -> F1 | AA8: ='Aligning data'!R22 -> F2 | AB8: =(Z8+AA8)/2 -> #VALUE! | AC8: ='Aligning data'!T9 -> F1 | AD8: ='Aligning data'!T22 -> F2 | AE8: =(AC8+AD8)/2 -> #VALUE! | AF8: ='Aligning data'!V9 -> F1 | AG8: ='Aligning data'!V22 -> F2 | AH8: =(AF8+AG8)/2 -> #VALUE! | AI8: ='Aligning data'!X9 -> F1 | AJ8: ='Aligning data'!X22 -> F2 | AK8: =(AI8+AJ8)/2 -> #VALUE! | AL8: ='Aligning data'!Z9 -> F1 | AM8: ='Aligning data'!Z22 -> F2 | AN8: =(AL8+AM8)/2 -> #VALUE! | AO8: ='Aligning data'!AB9 -> F1 | AP8: ='Aligning data'!AB22 -> F2 | AQ8: =(AO8+AP8)/2 -> #VALUE! | AR8: ='Aligning data'!AD9 -> F1 | AS8: ='Aligning data'!AD22 -> F2 | AT8: =(AR8+AS8)/2 -> #VALUE! | AU8: ='Aligning data'!AF9 -> F1 | AV8: ='Aligning data'!AF22 -> F2 | AW8: =(AU8+AV8)/2 -> #VALUE! | AX8: ='Aligning data'!AH9 -> F1 | AY8: ='Aligning data'!AH22 -> F2 | AZ8: =(AX8+AY8)/2 -> #VALUE! | BA8: ='Aligning data'!AJ9 -> F1 | BB8: ='Aligning data'!AJ22 -> F2 | BC8: =(BA8+BB8)/2 -> #VALUE! | BD8: ='Aligning data'!AL9 -> F1 | BE8: ='Aligning data'!AL22 -> F2 | BF8: =(BD8+BE8)/2 -> #VALUE! | BG8: ='Aligning data'!AN9 -> F1 | BH8: ='Aligning data'!AN22 -> F2 | BI8: =(BG8+BH8)/2 -> #VALUE! | BJ8: ='Aligning data'!AP9 -> F1 | BK8: ='Aligning data'!AP22 -> F2 | BL8: =(BJ8+BK8)/2 -> #VALUE! | BM8: ='Aligning data'!AR9 -> F1 | BN8: ='Aligning data'!AR22 -> F2 | BO8: =(BM8+BN8)/2 -> #VALUE! | BP8: ='Aligning data'!AT9 -> F1 | BQ8: ='Aligning data'!AT22 -> F2 | BR8: =(BP8+BQ8)/2 -> #VALUE! | BS8: ='Aligning data'!AV9 -> F1 | BT8: ='Aligning data'!AV22 -> F2 | BU8: =(BS8+BT8)/2 -> #VALUE!
A9: ABA | B9: ='Aligning data'!B10 -> G1 | C9: ='Aligning data'!B23 -> G2 | D9: =(B9+C9)/2 -> #VALUE! | E9: ='Aligning data'!D10 -> G1 | F9: ='Aligning data'!D23 -> G2 | G9: =(E9+F9)/2 -> #VALUE! | H9: ='Aligning data'!F10 -> G1 | I9: ='Aligning data'!F23 -> G2 | J9: =(H9+I9)/2 -> #VALUE! | K9: ='Aligning data'!H10 -> G1 | L9: ='Aligning data'!H23 -> G2 | M9: =(K9+L9)/2 -> #VALUE! | N9: ='Aligning data'!J10 -> G1 | O9: ='Aligning data'!J23 -> G2 | P9: =(N9+O9)/2 -> #VALUE! | Q9: ='Aligning data'!L10 -> G1 | R9: ='Aligning data'!L23 -> G2 | S9: =(Q9+R9)/2 -> #VALUE! | T9: ='Aligning data'!N10 -> G1 | U9: ='Aligning data'!N23 -> G2 | V9: =(T9+U9)/2 -> #VALUE! | W9: ='Aligning data'!P10 -> G1 | X9: ='Aligning data'!P23 -> G2 | Y9: =(W9+X9)/2 -> #VALUE! | Z9: ='Aligning data'!R10 -> G1 | AA9: ='Aligning data'!R23 -> G2 | AB9: =(Z9+AA9)/2 -> #VALUE! | AC9: ='Aligning data'!T10 -> G1 | AD9: ='Aligning data'!T23 -> G2 | AE9: =(AC9+AD9)/2 -> #VALUE! | AF9: ='Aligning data'!V10 -> G1 | AG9: ='Aligning data'!V23 -> G2 | AH9: =(AF9+AG9)/2 -> #VALUE! | AI9: ='Aligning data'!X10 -> G1 | AJ9: ='Aligning data'!X23 -> G2 | AK9: =(AI9+AJ9)/2 -> #VALUE! | AL9: ='Aligning data'!Z10 -> G1 | AM9: ='Aligning data'!Z23 -> G2 | AN9: =(AL9+AM9)/2 -> #VALUE! | AO9: ='Aligning data'!AB10 -> G1 | AP9: ='Aligning data'!AB23 -> G2 | AQ9: =(AO9+AP9)/2 -> #VALUE! | AR9: ='Aligning data'!AD10 -> G1 | AS9: ='Aligning data'!AD23 -> G2 | AT9: =(AR9+AS9)/2 -> #VALUE! | AU9: ='Aligning data'!AF10 -> G1 | AV9: ='Aligning data'!AF23 -> G2 | AW9: =(AU9+AV9)/2 -> #VALUE! | AX9: ='Aligning data'!AH10 -> G1 | AY9: ='Aligning data'!AH23 -> G2 | AZ9: =(AX9+AY9)/2 -> #VALUE! | BA9: ='Aligning data'!AJ10 -> G1 | BB9: ='Aligning data'!AJ23 -> G2 | BC9: =(BA9+BB9)/2 -> #VALUE! | BD9: ='Aligning data'!AL10 -> G1 | BE9: ='Aligning data'!AL23 -> G2 | BF9: =(BD9+BE9)/2 -> #VALUE! | BG9: ='Aligning data'!AN10 -> G1 | BH9: ='Aligning data'!AN23 -> G2 | BI9: =(BG9+BH9)/2 -> #VALUE! | BJ9: ='Aligning data'!AP10 -> G1 | BK9: ='Aligning data'!AP23 -> G2 | BL9: =(BJ9+BK9)/2 -> #VALUE! | BM9: ='Aligning data'!AR10 -> G1 | BN9: ='Aligning data'!AR23 -> G2 | BO9: =(BM9+BN9)/2 -> #VALUE! | BP9: ='Aligning data'!AT10 -> G1 | BQ9: ='Aligning data'!AT23 -> G2 | BR9: =(BP9+BQ9)/2 -> #VALUE! | BS9: ='Aligning data'!AV10 -> G1 | BT9: ='Aligning data'!AV23 -> G2 | BU9: =(BS9+BT9)/2 -> #VALUE!
A10: ABL | B10: ='Aligning data'!B11 -> H1 | C10: ='Aligning data'!B24 -> H2 | D10: =(B10+C10)/2 -> #VALUE! | E10: ='Aligning data'!D11 -> H1 | F10: ='Aligning data'!D24 -> H2 | G10: =(E10+F10)/2 -> #VALUE! | H10: ='Aligning data'!F11 -> H1 | I10: ='Aligning data'!F24 -> H2 | J10: =(H10+I10)/2 -> #VALUE! | K10: ='Aligning data'!H11 -> H1 | L10: ='Aligning data'!H24 -> H2 | M10: =(K10+L10)/2 -> #VALUE! | N10: ='Aligning data'!J11 -> H1 | O10: ='Aligning data'!J24 -> H2 | P10: =(N10+O10)/2 -> #VALUE! | Q10: ='Aligning data'!L11 -> H1 | R10: ='Aligning data'!L24 -> H2 | S10: =(Q10+R10)/2 -> #VALUE! | T10: ='Aligning data'!N11 -> H1 | U10: ='Aligning data'!N24 -> H2 | V10: =(T10+U10)/2 -> #VALUE! | W10: ='Aligning data'!P11 -> H1 | X10: ='Aligning data'!P24 -> H2 | Y10: =(W10+X10)/2 -> #VALUE! | Z10: ='Aligning data'!R11 -> H1 | AA10: ='Aligning data'!R24 -> H2 | AB10: =(Z10+AA10)/2 -> #VALUE! | AC10: ='Aligning data'!T11 -> H1 | AD10: ='Aligning data'!T24 -> H2 | AE10: =(AC10+AD10)/2 -> #VALUE! | AF10: ='Aligning data'!V11 -> H1 | AG10: ='Aligning data'!V24 -> H2 | AH10: =(AF10+AG10)/2 -> #VALUE! | AI10: ='Aligning data'!X11 -> H1 | AJ10: ='Aligning data'!X24 -> H2 | AK10: =(AI10+AJ10)/2 -> #VALUE! | AL10: ='Aligning data'!Z11 -> H1 | AM10: ='Aligning data'!Z24 -> H2 | AN10: =(AL10+AM10)/2 -> #VALUE! | AO10: ='Aligning data'!AB11 -> H1 | AP10: ='Aligning data'!AB24 -> H2 | AQ10: =(AO10+AP10)/2 -> #VALUE! | AR10: ='Aligning data'!AD11 -> H1 | AS10: ='Aligning data'!AD24 -> H2 | AT10: =(AR10+AS10)/2 -> #VALUE! | AU10: ='Aligning data'!AF11 -> H1 | AV10: ='Aligning data'!AF24 -> H2 | AW10: =(AU10+AV10)/2 -> #VALUE! | AX10: ='Aligning data'!AH11 -> H1 | AY10: ='Aligning data'!AH24 -> H2 | AZ10: =(AX10+AY10)/2 -> #VALUE! | BA10: ='Aligning data'!AJ11 -> H1 | BB10: ='Aligning data'!AJ24 -> H2 | BC10: =(BA10+BB10)/2 -> #VALUE! | BD10: ='Aligning data'!AL11 -> H1 | BE10: ='Aligning data'!AL24 -> H2 | BF10: =(BD10+BE10)/2 -> #VALUE! | BG10: ='Aligning data'!AN11 -> H1 | BH10: ='Aligning data'!AN24 -> H2 | BI10: =(BG10+BH10)/2 -> #VALUE! | BJ10: ='Aligning data'!AP11 -> H1 | BK10: ='Aligning data'!AP24 -> H2 | BL10: =(BJ10+BK10)/2 -> #VALUE! | BM10: ='Aligning data'!AR11 -> H1 | BN10: ='Aligning data'!AR24 -> H2 | BO10: =(BM10+BN10)/2 -> #VALUE! | BP10: ='Aligning data'!AT11 -> H1 | BQ10: ='Aligning data'!AT24 -> H2 | BR10: =(BP10+BQ10)/2 -> #VALUE! | BS10: ='Aligning data'!AV11 -> H1 | BT10: ='Aligning data'!AV24 -> H2 | BU10: =(BS10+BT10)/2 -> #VALUE!
A11: ACG | B11: ='Aligning data'!B12 -> I1 | C11: ='Aligning data'!B25 -> I2 | D11: =(B11+C11)/2 -> #VALUE! | E11: ='Aligning data'!D12 -> I1 | F11: ='Aligning data'!D25 -> I2 | G11: =(E11+F11)/2 -> #VALUE! | H11: ='Aligning data'!F12 -> I1 | I11: ='Aligning data'!F25 -> I2 | J11: =(H11+I11)/2 -> #VALUE! | K11: ='Aligning data'!H12 -> I1 | L11: ='Aligning data'!H25 -> I2 | M11: =(K11+L11)/2 -> #VALUE! | N11: ='Aligning data'!J12 -> I1 | O11: ='Aligning data'!J25 -> I2 | P11: =(N11+O11)/2 -> #VALUE! | Q11: ='Aligning data'!L12 -> I1 | R11: ='Aligning data'!L25 -> I2 | S11: =(Q11+R11)/2 -> #VALUE! | T11: ='Aligning data'!N12 -> I1 | U11: ='Aligning data'!N25 -> I2 | V11: =(T11+U11)/2 -> #VALUE! | W11: ='Aligning data'!P12 -> I1 | X11: ='Aligning data'!P25 -> I2 | Y11: =(W11+X11)/2 -> #VALUE! | Z11: ='Aligning data'!R12 -> I1 | AA11: ='Aligning data'!R25 -> I2 | AB11: =(Z11+AA11)/2 -> #VALUE! | AC11: ='Aligning data'!T12 -> I1 | AD11: ='Aligning data'!T25 -> I2 | AE11: =(AC11+AD11)/2 -> #VALUE! | AF11: ='Aligning data'!V12 -> I1 | AG11: ='Aligning data'!V25 -> I2 | AH11: =(AF11+AG11)/2 -> #VALUE! | AI11: ='Aligning data'!X12 -> I1 | AJ11: ='Aligning data'!X25 -> I2 | AK11: =(AI11+AJ11)/2 -> #VALUE! | AL11: ='Aligning data'!Z12 -> I1 | AM11: ='Aligning data'!Z25 -> I2 | AN11: =(AL11+AM11)/2 -> #VALUE! | AO11: ='Aligning data'!AB12 -> I1 | AP11: ='Aligning data'!AB25 -> I2 | AQ11: =(AO11+AP11)/2 -> #VALUE! | AR11: ='Aligning data'!AD12 -> I1 | AS11: ='Aligning data'!AD25 -> I2 | AT11: =(AR11+AS11)/2 -> #VALUE! | AU11: ='Aligning data'!AF12 -> I1 | AV11: ='Aligning data'!AF25 -> I2 | AW11: =(AU11+AV11)/2 -> #VALUE! | AX11: ='Aligning data'!AH12 -> I1 | AY11: ='Aligning data'!AH25 -> I2 | AZ11: =(AX11+AY11)/2 -> #VALUE! | BA11: ='Aligning data'!AJ12 -> I1 | BB11: ='Aligning data'!AJ25 -> I2 | BC11: =(BA11+BB11)/2 -> #VALUE! | BD11: ='Aligning data'!AL12 -> I1 | BE11: ='Aligning data'!AL25 -> I2 | BF11: =(BD11+BE11)/2 -> #VALUE! | BG11: ='Aligning data'!AN12 -> I1 | BH11: ='Aligning data'!AN25 -> I2 | BI11: =(BG11+BH11)/2 -> #VALUE! | BJ11: ='Aligning data'!AP12 -> I1 | BK11: ='Aligning data'!AP25 -> I2 | BL11: =(BJ11+BK11)/2 -> #VALUE! | BM11: ='Aligning data'!AR12 -> I1 | BN11: ='Aligning data'!AR25 -> I2 | BO11: =(BM11+BN11)/2 -> #VALUE! | BP11: ='Aligning data'!AT12 -> I1 | BQ11: ='Aligning data'!AT25 -> I2 | BR11: =(BP11+BQ11)/2 -> #VALUE! | BS11: ='Aligning data'!AV12 -> I1 | BT11: ='Aligning data'!AV25 -> I2 | BU11: =(BS11+BT11)/2 -> #VALUE!
A12: ACL | B12: ='Aligning data'!B13 -> J1 | C12: ='Aligning data'!B26 -> J2 | D12: =(B12+C12)/2 -> #VALUE! | E12: ='Aligning data'!D13 -> J1 | F12: ='Aligning data'!D26 -> J2 | G12: =(E12+F12)/2 -> #VALUE! | H12: ='Aligning data'!F13 -> J1 | I12: ='Aligning data'!F26 -> J2 | J12: =(H12+I12)/2 -> #VALUE! | K12: ='Aligning data'!H13 -> J1 | L12: ='Aligning data'!H26 -> J2 | M12: =(K12+L12)/2 -> #VALUE! | N12: ='Aligning data'!J13 -> J1 | O12: ='Aligning data'!J26 -> J2 | P12: =(N12+O12)/2 -> #VALUE! | Q12: ='Aligning data'!L13 -> J1 | R12: ='Aligning data'!L26 -> J2 | S12: =(Q12+R12)/2 -> #VALUE! | T12: ='Aligning data'!N13 -> J1 | U12: ='Aligning data'!N26 -> J2 | V12: =(T12+U12)/2 -> #VALUE! | W12: ='Aligning data'!P13 -> J1 | X12: ='Aligning data'!P26 -> J2 | Y12: =(W12+X12)/2 -> #VALUE! | Z12: ='Aligning data'!R13 -> J1 | AA12: ='Aligning data'!R26 -> J2 | AB12: =(Z12+AA12)/2 -> #VALUE! | AC12: ='Aligning data'!T13 -> J1 | AD12: ='Aligning data'!T26 -> J2 | AE12: =(AC12+AD12)/2 -> #VALUE! | AF12: ='Aligning data'!V13 -> J1 | AG12: ='Aligning data'!V26 -> J2 | AH12: =(AF12+AG12)/2 -> #VALUE! | AI12: ='Aligning data'!X13 -> J1 | AJ12: ='Aligning data'!X26 -> J2 | AK12: =(AI12+AJ12)/2 -> #VALUE! | AL12: ='Aligning data'!Z13 -> J1 | AM12: ='Aligning data'!Z26 -> J2 | AN12: =(AL12+AM12)/2 -> #VALUE! | AO12: ='Aligning data'!AB13 -> J1 | AP12: ='Aligning data'!AB26 -> J2 | AQ12: =(AO12+AP12)/2 -> #VALUE! | AR12: ='Aligning data'!AD13 -> J1 | AS12: ='Aligning data'!AD26 -> J2 | AT12: =(AR12+AS12)/2 -> #VALUE! | AU12: ='Aligning data'!AF13 -> J1 | AV12: ='Aligning data'!AF26 -> J2 | AW12: =(AU12+AV12)/2 -> #VALUE! | AX12: ='Aligning data'!AH13 -> J1 | AY12: ='Aligning data'!AH26 -> J2 | AZ12: =(AX12+AY12)/2 -> #VALUE! | BA12: ='Aligning data'!AJ13 -> J1 | BB12: ='Aligning data'!AJ26 -> J2 | BC12: =(BA12+BB12)/2 -> #VALUE! | BD12: ='Aligning data'!AL13 -> J1 | BE12: ='Aligning data'!AL26 -> J2 | BF12: =(BD12+BE12)/2 -> #VALUE! | BG12: ='Aligning data'!AN13 -> J1 | BH12: ='Aligning data'!AN26 -> J2 | BI12: =(BG12+BH12)/2 -> #VALUE! | BJ12: ='Aligning data'!AP13 -> J1 | BK12: ='Aligning data'!AP26 -> J2 | BL12: =(BJ12+BK12)/2 -> #VALUE! | BM12: ='Aligning data'!AR13 -> J1 | BN12: ='Aligning data'!AR26 -> J2 | BO12: =(BM12+BN12)/2 -> #VALUE! | BP12: ='Aligning data'!AT13 -> J1 | BQ12: ='Aligning data'!AT26 -> J2 | BR12: =(BP12+BQ12)/2 -> #VALUE! | BS12: ='Aligning data'!AV13 -> J1 | BT12: ='Aligning data'!AV26 -> J2 | BU12: =(BS12+BT12)/2 -> #VALUE!
A13: AMA | B13: ='Aligning data'!B14 -> K1 | C13: ='Aligning data'!B27 -> K2 | D13: =(B13+C13)/2 -> #VALUE! | E13: ='Aligning data'!D14 -> K1 | F13: ='Aligning data'!D27 -> K2 | G13: =(E13+F13)/2 -> #VALUE! | H13: ='Aligning data'!F14 -> K1 | I13: ='Aligning data'!F27 -> K2 | J13: =(H13+I13)/2 -> #VALUE! | K13: ='Aligning data'!H14 -> K1 | L13: ='Aligning data'!H27 -> K2 | M13: =(K13+L13)/2 -> #VALUE! | N13: ='Aligning data'!J14 -> K1 | O13: ='Aligning data'!J27 -> K2 | P13: =(N13+O13)/2 -> #VALUE! | Q13: ='Aligning data'!L14 -> K1 | R13: ='Aligning data'!L27 -> K2 | S13: =(Q13+R13)/2 -> #VALUE! | T13: ='Aligning data'!N14 -> K1 | U13: ='Aligning data'!N27 -> K2 | V13: =(T13+U13)/2 -> #VALUE! | W13: ='Aligning data'!P14 -> K1 | X13: ='Aligning data'!P27 -> K2 | Y13: =(W13+X13)/2 -> #VALUE! | Z13: ='Aligning data'!R14 -> K1 | AA13: ='Aligning data'!R27 -> K2 | AB13: =(Z13+AA13)/2 -> #VALUE! | AC13: ='Aligning data'!T14 -> K1 | AD13: ='Aligning data'!T27 -> K2 | AE13: =(AC13+AD13)/2 -> #VALUE! | AF13: ='Aligning data'!V14 -> K1 | AG13: ='Aligning data'!V27 -> K2 | AH13: =(AF13+AG13)/2 -> #VALUE! | AI13: ='Aligning data'!X14 -> K1 | AJ13: ='Aligning data'!X27 -> K2 | AK13: =(AI13+AJ13)/2 -> #VALUE! | AL13: ='Aligning data'!Z14 -> K1 | AM13: ='Aligning data'!Z27 -> K2 | AN13: =(AL13+AM13)/2 -> #VALUE! | AO13: ='Aligning data'!AB14 -> K1 | AP13: ='Aligning data'!AB27 -> K2 | AQ13: =(AO13+AP13)/2 -> #VALUE! | AR13: ='Aligning data'!AD14 -> K1 | AS13: ='Aligning data'!AD27 -> K2 | AT13: =(AR13+AS13)/2 -> #VALUE! | AU13: ='Aligning data'!AF14 -> K1 | AV13: ='Aligning data'!AF27 -> K2 | AW13: =(AU13+AV13)/2 -> #VALUE! | AX13: ='Aligning data'!AH14 -> K1 | AY13: ='Aligning data'!AH27 -> K2 | AZ13: =(AX13+AY13)/2 -> #VALUE! | BA13: ='Aligning data'!AJ14 -> K1 | BB13: ='Aligning data'!AJ27 -> K2 | BC13: =(BA13+BB13)/2 -> #VALUE! | BD13: ='Aligning data'!AL14 -> K1 | BE13: ='Aligning data'!AL27 -> K2 | BF13: =(BD13+BE13)/2 -> #VALUE! | BG13: ='Aligning data'!AN14 -> K1 | BH13: ='Aligning data'!AN27 -> K2 | BI13: =(BG13+BH13)/2 -> #VALUE! | BJ13: ='Aligning data'!AP14 -> K1 | BK13: ='Aligning data'!AP27 -> K2 | BL13: =(BJ13+BK13)/2 -> #VALUE! | BM13: ='Aligning data'!AR14 -> K1 | BN13: ='Aligning data'!AR27 -> K2 | BO13: =(BM13+BN13)/2 -> #VALUE! | BP13: ='Aligning data'!AT14 -> K1 | BQ13: ='Aligning data'!AT27 -> K2 | BR13: =(BP13+BQ13)/2 -> #VALUE! | BS13: ='Aligning data'!AV14 -> K1 | BT13: ='Aligning data'!AV27 -> K2 | BU13: =(BS13+BT13)/2 -> #VALUE!
A14: ASA | B14: ='Aligning data'!B15 -> L1 | C14: ='Aligning data'!B28 -> L2 | D14: =(B14+C14)/2 -> #VALUE! | E14: ='Aligning data'!D15 -> L1 | F14: ='Aligning data'!D28 -> L2 | G14: =(E14+F14)/2 -> #VALUE! | H14: ='Aligning data'!F15 -> L1 | I14: ='Aligning data'!F28 -> L2 | J14: =(H14+I14)/2 -> #VALUE! | K14: ='Aligning data'!H15 -> L1 | L14: ='Aligning data'!H28 -> L2 | M14: =(K14+L14)/2 -> #VALUE! | N14: ='Aligning data'!J15 -> L1 | O14: ='Aligning data'!J28 -> L2 | P14: =(N14+O14)/2 -> #VALUE! | Q14: ='Aligning data'!L15 -> L1 | R14: ='Aligning data'!L28 -> L2 | S14: =(Q14+R14)/2 -> #VALUE! | T14: ='Aligning data'!N15 -> L1 | U14: ='Aligning data'!N28 -> L2 | V14: =(T14+U14)/2 -> #VALUE! | W14: ='Aligning data'!P15 -> L1 | X14: ='Aligning data'!P28 -> L2 | Y14: =(W14+X14)/2 -> #VALUE! | Z14: ='Aligning data'!R15 -> L1 | AA14: ='Aligning data'!R28 -> L2 | AB14: =(Z14+AA14)/2 -> #VALUE! | AC14: ='Aligning data'!T15 -> L1 | AD14: ='Aligning data'!T28 -> L2 | AE14: =(AC14+AD14)/2 -> #VALUE! | AF14: ='Aligning data'!V15 -> L1 | AG14: ='Aligning data'!V28 -> L2 | AH14: =(AF14+AG14)/2 -> #VALUE! | AI14: ='Aligning data'!X15 -> L1 | AJ14: ='Aligning data'!X28 -> L2 | AK14: =(AI14+AJ14)/2 -> #VALUE! | AL14: ='Aligning data'!Z15 -> L1 | AM14: ='Aligning data'!Z28 -> L2 | AN14: =(AL14+AM14)/2 -> #VALUE! | AO14: ='Aligning data'!AB15 -> L1 | AP14: ='Aligning data'!AB28 -> L2 | AQ14: =(AO14+AP14)/2 -> #VALUE! | AR14: ='Aligning data'!AD15 -> L1 | AS14: ='Aligning data'!AD28 -> L2 | AT14: =(AR14+AS14)/2 -> #VALUE! | AU14: ='Aligning data'!AF15 -> L1 | AV14: ='Aligning data'!AF28 -> L2 | AW14: =(AU14+AV14)/2 -> #VALUE! | AX14: ='Aligning data'!AH15 -> L1 | AY14: ='Aligning data'!AH28 -> L2 | AZ14: =(AX14+AY14)/2 -> #VALUE! | BA14: ='Aligning data'!AJ15 -> L1 | BB14: ='Aligning data'!AJ28 -> L2 | BC14: =(BA14+BB14)/2 -> #VALUE! | BD14: ='Aligning data'!AL15 -> L1 | BE14: ='Aligning data'!AL28 -> L2 | BF14: =(BD14+BE14)/2 -> #VALUE! | BG14: ='Aligning data'!AN15 -> L1 | BH14: ='Aligning data'!AN28 -> L2 | BI14: =(BG14+BH14)/2 -> #VALUE! | BJ14: ='Aligning data'!AP15 -> L1 | BK14: ='Aligning data'!AP28 -> L2 | BL14: =(BJ14+BK14)/2 -> #VALUE! | BM14: ='Aligning data'!AR15 -> L1 | BN14: ='Aligning data'!AR28 -> L2 | BO14: =(BM14+BN14)/2 -> #VALUE! | BP14: ='Aligning data'!AT15 -> L1 | BQ14: ='Aligning data'!AT28 -> L2 | BR14: =(BP14+BQ14)/2 -> #VALUE! | BS14: ='Aligning data'!AV15 -> L1 | BT14: ='Aligning data'!AV28 -> L2 | BU14: =(BS14+BT14)/2 -> #VALUE!
A15: BANLEC | B15: ='Aligning data'!B16 -> M1 | C15: ='Aligning data'!B29 -> M2 | D15: =(B15+C15)/2 -> #VALUE! | E15: ='Aligning data'!D16 -> M1 | F15: ='Aligning data'!D29 -> M2 | G15: =(E15+F15)/2 -> #VALUE! | H15: ='Aligning data'!F16 -> M1 | I15: ='Aligning data'!F29 -> M2 | J15: =(H15+I15)/2 -> #VALUE! | K15: ='Aligning data'!H16 -> M1 | L15: ='Aligning data'!H29 -> M2 | M15: =(K15+L15)/2 -> #VALUE! | N15: ='Aligning data'!J16 -> M1 | O15: ='Aligning data'!J29 -> M2 | P15: =(N15+O15)/2 -> #VALUE! | Q15: ='Aligning data'!L16 -> M1 | R15: ='Aligning data'!L29 -> M2 | S15: =(Q15+R15)/2 -> #VALUE! | T15: ='Aligning data'!N16 -> M1 | U15: ='Aligning data'!N29 -> M2 | V15: =(T15+U15)/2 -> #VALUE! | W15: ='Aligning data'!P16 -> M1 | X15: ='Aligning data'!P29 -> M2 | Y15: =(W15+X15)/2 -> #VALUE! | Z15: ='Aligning data'!R16 -> M1 | AA15: ='Aligning data'!R29 -> M2 | AB15: =(Z15+AA15)/2 -> #VALUE! | AC15: ='Aligning data'!T16 -> M1 | AD15: ='Aligning data'!T29 -> M2 | AE15: =(AC15+AD15)/2 -> #VALUE! | AF15: ='Aligning data'!V16 -> M1 | AG15: ='Aligning data'!V29 -> M2 | AH15: =(AF15+AG15)/2 -> #VALUE! | AI15: ='Aligning data'!X16 -> M1 | AJ15: ='Aligning data'!X29 -> M2 | AK15: =(AI15+AJ15)/2 -> #VALUE! | AL15: ='Aligning data'!Z16 -> M1 | AM15: ='Aligning data'!Z29 -> M2 | AN15: =(AL15+AM15)/2 -> #VALUE! | AO15: ='Aligning data'!AB16 -> M1 | AP15: ='Aligning data'!AB29 -> M2 | AQ15: =(AO15+AP15)/2 -> #VALUE! | AR15: ='Aligning data'!AD16 -> M1 | AS15: ='Aligning data'!AD29 -> M2 | AT15: =(AR15+AS15)/2 -> #VALUE! | AU15: ='Aligning data'!AF16 -> M1 | AV15: ='Aligning data'!AF29 -> M2 | AW15: =(AU15+AV15)/2 -> #VALUE! | AX15: ='Aligning data'!AH16 -> M1 | AY15: ='Aligning data'!AH29 -> M2 | AZ15: =(AX15+AY15)/2 -> #VALUE! | BA15: ='Aligning data'!AJ16 -> M1 | BB15: ='Aligning data'!AJ29 -> M2 | BC15: =(BA15+BB15)/2 -> #VALUE! | BD15: ='Aligning data'!AL16 -> M1 | BE15: ='Aligning data'!AL29 -> M2 | BF15: =(BD15+BE15)/2 -> #VALUE! | BG15: ='Aligning data'!AN16 -> M1 | BH15: ='Aligning data'!AN29 -> M2 | BI15: =(BG15+BH15)/2 -> #VALUE! | BJ15: ='Aligning data'!AP16 -> M1 | BK15: ='Aligning data'!AP29 -> M2 | BL15: =(BJ15+BK15)/2 -> #VALUE! | BM15: ='Aligning data'!AR16 -> M1 | BN15: ='Aligning data'!AR29 -> M2 | BO15: =(BM15+BN15)/2 -> #VALUE! | BP15: ='Aligning data'!AT16 -> M1 | BQ15: ='Aligning data'!AT29 -> M2 | BR15: =(BP15+BQ15)/2 -> #VALUE! | BS15: ='Aligning data'!AV16 -> M1 | BT15: ='Aligning data'!AV29 -> M2 | BU15: =(BS15+BT15)/2 -> #VALUE!
A16: BC2L-A | B16: ='Aligning data'!B30 -> A3 | C16: ='Aligning data'!B43 -> A4 | D16: =(B16+C16)/2 -> #VALUE! | E16: ='Aligning data'!D30 -> A3 | F16: ='Aligning data'!D43 -> A4 | G16: =(E16+F16)/2 -> #VALUE! | H16: ='Aligning data'!F30 -> A3 | I16: ='Aligning data'!F43 -> A4 | J16: =(H16+I16)/2 -> #VALUE! | K16: ='Aligning data'!H30 -> A3 | L16: ='Aligning data'!H43 -> A4 | M16: =(K16+L16)/2 -> #VALUE! | N16: ='Aligning data'!J30 -> A3 | O16: ='Aligning data'!J43 -> A4 | P16: =(N16+O16)/2 -> #VALUE! | Q16: ='Aligning data'!L30 -> A3 | R16: ='Aligning data'!L43 -> A4 | S16: =(Q16+R16)/2 -> #VALUE! | T16: ='Aligning data'!N30 -> A3 | U16: ='Aligning data'!N43 -> A4 | V16: =(T16+U16)/2 -> #VALUE! | W16: ='Aligning data'!P30 -> A3 | X16: ='Aligning data'!P43 -> A4 | Y16: =(W16+X16)/2 -> #VALUE! | Z16: ='Aligning data'!R30 -> A3 | AA16: ='Aligning data'!R43 -> A4 | AB16: =(Z16+AA16)/2 -> #VALUE! | AC16: ='Aligning data'!T30 -> A3 | AD16: ='Aligning data'!T43 -> A4 | AE16: =(AC16+AD16)/2 -> #VALUE! | AF16: ='Aligning data'!V30 -> A3 | AG16: ='Aligning data'!V43 -> A4 | AH16: =(AF16+AG16)/2 -> #VALUE! | AI16: ='Aligning data'!X30 -> A3 | AJ16: ='Aligning data'!X43 -> A4 | AK16: =(AI16+AJ16)/2 -> #VALUE! | AL16: ='Aligning data'!Z30 -> A3 | AM16: ='Aligning data'!Z43 -> A4 | AN16: =(AL16+AM16)/2 -> #VALUE! | AO16: ='Aligning data'!AB30 -> A3 | AP16: ='Aligning data'!AB43 -> A4 | AQ16: =(AO16+AP16)/2 -> #VALUE! | AR16: ='Aligning data'!AD30 -> A3 | AS16: ='Aligning data'!AD43 -> A4 | AT16: =(AR16+AS16)/2 -> #VALUE! | AU16: ='Aligning data'!AF30 -> A3 | AV16: ='Aligning data'!AF43 -> A4 | AW16: =(AU16+AV16)/2 -> #VALUE! | AX16: ='Aligning data'!AH30 -> A3 | AY16: ='Aligning data'!AH43 -> A4 | AZ16: =(AX16+AY16)/2 -> #VALUE! | BA16: ='Aligning data'!AJ30 -> A3 | BB16: ='Aligning data'!AJ43 -> A4 | BC16: =(BA16+BB16)/2 -> #VALUE! | BD16: ='Aligning data'!AL30 -> A3 | BE16: ='Aligning data'!AL43 -> A4 | BF16: =(BD16+BE16)/2 -> #VALUE! | BG16: ='Aligning data'!AN30 -> A3 | BH16: ='Aligning data'!AN43 -> A4 | BI16: =(BG16+BH16)/2 -> #VALUE! | BJ16: ='Aligning data'!AP30 -> A3 | BK16: ='Aligning data'!AP43 -> A4 | BL16: =(BJ16+BK16)/2 -> #VALUE! | BM16: ='Aligning data'!AR30 -> A3 | BN16: ='Aligning data'!AR43 -> A4 | BO16: =(BM16+BN16)/2 -> #VALUE! | BP16: ='Aligning data'!AT30 -> A3 | BQ16: ='Aligning data'!AT43 -> A4 | BR16: =(BP16+BQ16)/2 -> #VALUE! | BS16: ='Aligning data'!AV30 -> A3 | BT16: ='Aligning data'!AV43 -> A4 | BU16: =(BS16+BT16)/2 -> #VALUE!
A17: BC2LCN | B17: ='Aligning data'!B31 -> B3 | C17: ='Aligning data'!B44 -> B4 | D17: =(B17+C17)/2 -> #VALUE! | E17: ='Aligning data'!D31 -> B3 | F17: ='Aligning data'!D44 -> B4 | G17: =(E17+F17)/2 -> #VALUE! | H17: ='Aligning data'!F31 -> B3 | I17: ='Aligning data'!F44 -> B4 | J17: =(H17+I17)/2 -> #VALUE! | K17: ='Aligning data'!H31 -> B3 | L17: ='Aligning data'!H44 -> B4 | M17: =(K17+L17)/2 -> #VALUE! | N17: ='Aligning data'!J31 -> B3 | O17: ='Aligning data'!J44 -> B4 | P17: =(N17+O17)/2 -> #VALUE! | Q17: ='Aligning data'!L31 -> B3 | R17: ='Aligning data'!L44 -> B4 | S17: =(Q17+R17)/2 -> #VALUE! | T17: ='Aligning data'!N31 -> B3 | U17: ='Aligning data'!N44 -> B4 | V17: =(T17+U17)/2 -> #VALUE! | W17: ='Aligning data'!P31 -> B3 | X17: ='Aligning data'!P44 -> B4 | Y17: =(W17+X17)/2 -> #VALUE! | Z17: ='Aligning data'!R31 -> B3 | AA17: ='Aligning data'!R44 -> B4 | AB17: =(Z17+AA17)/2 -> #VALUE! | AC17: ='Aligning data'!T31 -> B3 | AD17: ='Aligning data'!T44 -> B4 | AE17: =(AC17+AD17)/2 -> #VALUE! | AF17: ='Aligning data'!V31 -> B3 | AG17: ='Aligning data'!V44 -> B4 | AH17: =(AF17+AG17)/2 -> #VALUE! | AI17: ='Aligning data'!X31 -> B3 | AJ17: ='Aligning data'!X44 -> B4 | AK17: =(AI17+AJ17)/2 -> #VALUE! | AL17: ='Aligning data'!Z31 -> B3 | AM17: ='Aligning data'!Z44 -> B4 | AN17: =(AL17+AM17)/2 -> #VALUE! | AO17: ='Aligning data'!AB31 -> B3 | AP17: ='Aligning data'!AB44 -> B4 | AQ17: =(AO17+AP17)/2 -> #VALUE! | AR17: ='Aligning data'!AD31 -> B3 | AS17: ='Aligning data'!AD44 -> B4 | AT17: =(AR17+AS17)/2 -> #VALUE! | AU17: ='Aligning data'!AF31 -> B3 | AV17: ='Aligning data'!AF44 -> B4 | AW17: =(AU17+AV17)/2 -> #VALUE! | AX17: ='Aligning data'!AH31 -> B3 | AY17: ='Aligning data'!AH44 -> B4 | AZ17: =(AX17+AY17)/2 -> #VALUE! | BA17: ='Aligning data'!AJ31 -> B3 | BB17: ='Aligning data'!AJ44 -> B4 | BC17: =(BA17+BB17)/2 -> #VALUE! | BD17: ='Aligning data'!AL31 -> B3 | BE17: ='Aligning data'!AL44 -> B4 | BF17: =(BD17+BE17)/2 -> #VALUE! | BG17: ='Aligning data'!AN31 -> B3 | BH17: ='Aligning data'!AN44 -> B4 | BI17: =(BG17+BH17)/2 -> #VALUE! | BJ17: ='Aligning data'!AP31 -> B3 | BK17: ='Aligning data'!AP44 -> B4 | BL17: =(BJ17+BK17)/2 -> #VALUE! | BM17: ='Aligning data'!AR31 -> B3 | BN17: ='Aligning data'!AR44 -> B4 | BO17: =(BM17+BN17)/2 -> #VALUE! | BP17: ='Aligning data'!AT31 -> B3 | BQ17: ='Aligning data'!AT44 -> B4 | BR17: =(BP17+BQ17)/2 -> #VALUE! | BS17: ='Aligning data'!AV31 -> B3 | BT17: ='Aligning data'!AV44 -> B4 | BU17: =(BS17+BT17)/2 -> #VALUE!
A18: BPA | B18: ='Aligning data'!B32 -> C3 | C18: ='Aligning data'!B45 -> C4 | D18: =(B18+C18)/2 -> #VALUE! | E18: ='Aligning data'!D32 -> C3 | F18: ='Aligning data'!D45 -> C4 | G18: =(E18+F18)/2 -> #VALUE! | H18: ='Aligning data'!F32 -> C3 | I18: ='Aligning data'!F45 -> C4 | J18: =(H18+I18)/2 -> #VALUE! | K18: ='Aligning data'!H32 -> C3 | L18: ='Aligning data'!H45 -> C4 | M18: =(K18+L18)/2 -> #VALUE! | N18: ='Aligning data'!J32 -> C3 | O18: ='Aligning data'!J45 -> C4 | P18: =(N18+O18)/2 -> #VALUE! | Q18: ='Aligning data'!L32 -> C3 | R18: ='Aligning data'!L45 -> C4 | S18: =(Q18+R18)/2 -> #VALUE! | T18: ='Aligning data'!N32 -> C3 | U18: ='Aligning data'!N45 -> C4 | V18: =(T18+U18)/2 -> #VALUE! | W18: ='Aligning data'!P32 -> C3 | X18: ='Aligning data'!P45 -> C4 | Y18: =(W18+X18)/2 -> #VALUE! | Z18: ='Aligning data'!R32 -> C3 | AA18: ='Aligning data'!R45 -> C4 | AB18: =(Z18+AA18)/2 -> #VALUE! | AC18: ='Aligning data'!T32 -> C3 | AD18: ='Aligning data'!T45 -> C4 | AE18: =(AC18+AD18)/2 -> #VALUE! | AF18: ='Aligning data'!V32 -> C3 | AG18: ='Aligning data'!V45 -> C4 | AH18: =(AF18+AG18)/2 -> #VALUE! | AI18: ='Aligning data'!X32 -> C3 | AJ18: ='Aligning data'!X45 -> C4 | AK18: =(AI18+AJ18)/2 -> #VALUE! | AL18: ='Aligning data'!Z32 -> C3 | AM18: ='Aligning data'!Z45 -> C4 | AN18: =(AL18+AM18)/2 -> #VALUE! | AO18: ='Aligning data'!AB32 -> C3 | AP18: ='Aligning data'!AB45 -> C4 | AQ18: =(AO18+AP18)/2 -> #VALUE! | AR18: ='Aligning data'!AD32 -> C3 | AS18: ='Aligning data'!AD45 -> C4 | AT18: =(AR18+AS18)/2 -> #VALUE! | AU18: ='Aligning data'!AF32 -> C3 | AV18: ='Aligning data'!AF45 -> C4 | AW18: =(AU18+AV18)/2 -> #VALUE! | AX18: ='Aligning data'!AH32 -> C3 | AY18: ='Aligning data'!AH45 -> C4 | AZ18: =(AX18+AY18)/2 -> #VALUE! | BA18: ='Aligning data'!AJ32 -> C3 | BB18: ='Aligning data'!AJ45 -> C4 | BC18: =(BA18+BB18)/2 -> #VALUE! | BD18: ='Aligning data'!AL32 -> C3 | BE18: ='Aligning data'!AL45 -> C4 | BF18: =(BD18+BE18)/2 -> #VALUE! | BG18: ='Aligning data'!AN32 -> C3 | BH18: ='Aligning data'!AN45 -> C4 | BI18: =(BG18+BH18)/2 -> #VALUE! | BJ18: ='Aligning data'!AP32 -> C3 | BK18: ='Aligning data'!AP45 -> C4 | BL18: =(BJ18+BK18)/2 -> #VALUE! | BM18: ='Aligning data'!AR32 -> C3 | BN18: ='Aligning data'!AR45 -> C4 | BO18: =(BM18+BN18)/2 -> #VALUE! | BP18: ='Aligning data'!AT32 -> C3 | BQ18: ='Aligning data'!AT45 -> C4 | BR18: =(BP18+BQ18)/2 -> #VALUE! | BS18: ='Aligning data'!AV32 -> C3 | BT18: ='Aligning data'!AV45 -> C4 | BU18: =(BS18+BT18)/2 -> #VALUE!
A19: CA | B19: ='Aligning data'!B33 -> D3 | C19: ='Aligning data'!B46 -> D4 | D19: =(B19+C19)/2 -> #VALUE! | E19: ='Aligning data'!D33 -> D3 | F19: ='Aligning data'!D46 -> D4 | G19: =(E19+F19)/2 -> #VALUE! | H19: ='Aligning data'!F33 -> D3 | I19: ='Aligning data'!F46 -> D4 | J19: =(H19+I19)/2 -> #VALUE! | K19: ='Aligning data'!H33 -> D3 | L19: ='Aligning data'!H46 -> D4 | M19: =(K19+L19)/2 -> #VALUE! | N19: ='Aligning data'!J33 -> D3 | O19: ='Aligning data'!J46 -> D4 | P19: =(N19+O19)/2 -> #VALUE! | Q19: ='Aligning data'!L33 -> D3 | R19: ='Aligning data'!L46 -> D4 | S19: =(Q19+R19)/2 -> #VALUE! | T19: ='Aligning data'!N33 -> D3 | U19: ='Aligning data'!N46 -> D4 | V19: =(T19+U19)/2 -> #VALUE! | W19: ='Aligning data'!P33 -> D3 | X19: ='Aligning data'!P46 -> D4 | Y19: =(W19+X19)/2 -> #VALUE! | Z19: ='Aligning data'!R33 -> D3 | AA19: ='Aligning data'!R46 -> D4 | AB19: =(Z19+AA19)/2 -> #VALUE! | AC19: ='Aligning data'!T33 -> D3 | AD19: ='Aligning data'!T46 -> D4 | AE19: =(AC19+AD19)/2 -> #VALUE! | AF19: ='Aligning data'!V33 -> D3 | AG19: ='Aligning data'!V46 -> D4 | AH19: =(AF19+AG19)/2 -> #VALUE! | AI19: ='Aligning data'!X33 -> D3 | AJ19: ='Aligning data'!X46 -> D4 | AK19: =(AI19+AJ19)/2 -> #VALUE! | AL19: ='Aligning data'!Z33 -> D3 | AM19: ='Aligning data'!Z46 -> D4 | AN19: =(AL19+AM19)/2 -> #VALUE! | AO19: ='Aligning data'!AB33 -> D3 | AP19: ='Aligning data'!AB46 -> D4 | AQ19: =(AO19+AP19)/2 -> #VALUE! | AR19: ='Aligning data'!AD33 -> D3 | AS19: ='Aligning data'!AD46 -> D4 | AT19: =(AR19+AS19)/2 -> #VALUE! | AU19: ='Aligning data'!AF33 -> D3 | AV19: ='Aligning data'!AF46 -> D4 | AW19: =(AU19+AV19)/2 -> #VALUE! | AX19: ='Aligning data'!AH33 -> D3 | AY19: ='Aligning data'!AH46 -> D4 | AZ19: =(AX19+AY19)/2 -> #VALUE! | BA19: ='Aligning data'!AJ33 -> D3 | BB19: ='Aligning data'!AJ46 -> D4 | BC19: =(BA19+BB19)/2 -> #VALUE! | BD19: ='Aligning data'!AL33 -> D3 | BE19: ='Aligning data'!AL46 -> D4 | BF19: =(BD19+BE19)/2 -> #VALUE! | BG19: ='Aligning data'!AN33 -> D3 | BH19: ='Aligning data'!AN46 -> D4 | BI19: =(BG19+BH19)/2 -> #VALUE! | BJ19: ='Aligning data'!AP33 -> D3 | BK19: ='Aligning data'!AP46 -> D4 | BL19: =(BJ19+BK19)/2 -> #VALUE! | BM19: ='Aligning data'!AR33 -> D3 | BN19: ='Aligning data'!AR46 -> D4 | BO19: =(BM19+BN19)/2 -> #VALUE! | BP19: ='Aligning data'!AT33 -> D3 | BQ19: ='Aligning data'!AT46 -> D4 | BR19: =(BP19+BQ19)/2 -> #VALUE! | BS19: ='Aligning data'!AV33 -> D3 | BT19: ='Aligning data'!AV46 -> D4 | BU19: =(BS19+BT19)/2 -> #VALUE!
A20: CAA | B20: ='Aligning data'!B34 -> E3 | C20: ='Aligning data'!B47 -> E4 | D20: =(B20+C20)/2 -> #VALUE! | E20: ='Aligning data'!D34 -> E3 | F20: ='Aligning data'!D47 -> E4 | G20: =(E20+F20)/2 -> #VALUE! | H20: ='Aligning data'!F34 -> E3 | I20: ='Aligning data'!F47 -> E4 | J20: =(H20+I20)/2 -> #VALUE! | K20: ='Aligning data'!H34 -> E3 | L20: ='Aligning data'!H47 -> E4 | M20: =(K20+L20)/2 -> #VALUE! | N20: ='Aligning data'!J34 -> E3 | O20: ='Aligning data'!J47 -> E4 | P20: =(N20+O20)/2 -> #VALUE! | Q20: ='Aligning data'!L34 -> E3 | R20: ='Aligning data'!L47 -> E4 | S20: =(Q20+R20)/2 -> #VALUE! | T20: ='Aligning data'!N34 -> E3 | U20: ='Aligning data'!N47 -> E4 | V20: =(T20+U20)/2 -> #VALUE! | W20: ='Aligning data'!P34 -> E3 | X20: ='Aligning data'!P47 -> E4 | Y20: =(W20+X20)/2 -> #VALUE! | Z20: ='Aligning data'!R34 -> E3 | AA20: ='Aligning data'!R47 -> E4 | AB20: =(Z20+AA20)/2 -> #VALUE! | AC20: ='Aligning data'!T34 -> E3 | AD20: ='Aligning data'!T47 -> E4 | AE20: =(AC20+AD20)/2 -> #VALUE! | AF20: ='Aligning data'!V34 -> E3 | AG20: ='Aligning data'!V47 -> E4 | AH20: =(AF20+AG20)/2 -> #VALUE! | AI20: ='Aligning data'!X34 -> E3 | AJ20: ='Aligning data'!X47 -> E4 | AK20: =(AI20+AJ20)/2 -> #VALUE! | AL20: ='Aligning data'!Z34 -> E3 | AM20: ='Aligning data'!Z47 -> E4 | AN20: =(AL20+AM20)/2 -> #VALUE! | AO20: ='Aligning data'!AB34 -> E3 | AP20: ='Aligning data'!AB47 -> E4 | AQ20: =(AO20+AP20)/2 -> #VALUE! | AR20: ='Aligning data'!AD34 -> E3 | AS20: ='Aligning data'!AD47 -> E4 | AT20: =(AR20+AS20)/2 -> #VALUE! | AU20: ='Aligning data'!AF34 -> E3 | AV20: ='Aligning data'!AF47 -> E4 | AW20: =(AU20+AV20)/2 -> #VALUE! | AX20: ='Aligning data'!AH34 -> E3 | AY20: ='Aligning data'!AH47 -> E4 | AZ20: =(AX20+AY20)/2 -> #VALUE! | BA20: ='Aligning data'!AJ34 -> E3 | BB20: ='Aligning data'!AJ47 -> E4 | BC20: =(BA20+BB20)/2 -> #VALUE! | BD20: ='Aligning data'!AL34 -> E3 | BE20: ='Aligning data'!AL47 -> E4 | BF20: =(BD20+BE20)/2 -> #VALUE! | BG20: ='Aligning data'!AN34 -> E3 | BH20: ='Aligning data'!AN47 -> E4 | BI20: =(BG20+BH20)/2 -> #VALUE! | BJ20: ='Aligning data'!AP34 -> E3 | BK20: ='Aligning data'!AP47 -> E4 | BL20: =(BJ20+BK20)/2 -> #VALUE! | BM20: ='Aligning data'!AR34 -> E3 | BN20: ='Aligning data'!AR47 -> E4 | BO20: =(BM20+BN20)/2 -> #VALUE! | BP20: ='Aligning data'!AT34 -> E3 | BQ20: ='Aligning data'!AT47 -> E4 | BR20: =(BP20+BQ20)/2 -> #VALUE! | BS20: ='Aligning data'!AV34 -> E3 | BT20: ='Aligning data'!AV47 -> E4 | BU20: =(BS20+BT20)/2 -> #VALUE!
A21: CALSEPA | B21: ='Aligning data'!B35 -> F3 | C21: ='Aligning data'!B48 -> F4 | D21: =(B21+C21)/2 -> #VALUE! | E21: ='Aligning data'!D35 -> F3 | F21: ='Aligning data'!D48 -> F4 | G21: =(E21+F21)/2 -> #VALUE! | H21: ='Aligning data'!F35 -> F3 | I21: ='Aligning data'!F48 -> F4 | J21: =(H21+I21)/2 -> #VALUE! | K21: ='Aligning data'!H35 -> F3 | L21: ='Aligning data'!H48 -> F4 | M21: =(K21+L21)/2 -> #VALUE! | N21: ='Aligning data'!J35 -> F3 | O21: ='Aligning data'!J48 -> F4 | P21: =(N21+O21)/2 -> #VALUE! | Q21: ='Aligning data'!L35 -> F3 | R21: ='Aligning data'!L48 -> F4 | S21: =(Q21+R21)/2 -> #VALUE! | T21: ='Aligning data'!N35 -> F3 | U21: ='Aligning data'!N48 -> F4 | V21: =(T21+U21)/2 -> #VALUE! | W21: ='Aligning data'!P35 -> F3 | X21: ='Aligning data'!P48 -> F4 | Y21: =(W21+X21)/2 -> #VALUE! | Z21: ='Aligning data'!R35 -> F3 | AA21: ='Aligning data'!R48 -> F4 | AB21: =(Z21+AA21)/2 -> #VALUE! | AC21: ='Aligning data'!T35 -> F3 | AD21: ='Aligning data'!T48 -> F4 | AE21: =(AC21+AD21)/2 -> #VALUE! | AF21: ='Aligning data'!V35 -> F3 | AG21: ='Aligning data'!V48 -> F4 | AH21: =(AF21+AG21)/2 -> #VALUE! | AI21: ='Aligning data'!X35 -> F3 | AJ21: ='Aligning data'!X48 -> F4 | AK21: =(AI21+AJ21)/2 -> #VALUE! | AL21: ='Aligning data'!Z35 -> F3 | AM21: ='Aligning data'!Z48 -> F4 | AN21: =(AL21+AM21)/2 -> #VALUE! | AO21: ='Aligning data'!AB35 -> F3 | AP21: ='Aligning data'!AB48 -> F4 | AQ21: =(AO21+AP21)/2 -> #VALUE! | AR21: ='Aligning data'!AD35 -> F3 | AS21: ='Aligning data'!AD48 -> F4 | AT21: =(AR21+AS21)/2 -> #VALUE! | AU21: ='Aligning data'!AF35 -> F3 | AV21: ='Aligning data'!AF48 -> F4 | AW21: =(AU21+AV21)/2 -> #VALUE! | AX21: ='Aligning data'!AH35 -> F3 | AY21: ='Aligning data'!AH48 -> F4 | AZ21: =(AX21+AY21)/2 -> #VALUE! | BA21: ='Aligning data'!AJ35 -> F3 | BB21: ='Aligning data'!AJ48 -> F4 | BC21: =(BA21+BB21)/2 -> #VALUE! | BD21: ='Aligning data'!AL35 -> F3 | BE21: ='Aligning data'!AL48 -> F4 | BF21: =(BD21+BE21)/2 -> #VALUE! | BG21: ='Aligning data'!AN35 -> F3 | BH21: ='Aligning data'!AN48 -> F4 | BI21: =(BG21+BH21)/2 -> #VALUE! | BJ21: ='Aligning data'!AP35 -> F3 | BK21: ='Aligning data'!AP48 -> F4 | BL21: =(BJ21+BK21)/2 -> #VALUE! | BM21: ='Aligning data'!AR35 -> F3 | BN21: ='Aligning data'!AR48 -> F4 | BO21: =(BM21+BN21)/2 -> #VALUE! | BP21: ='Aligning data'!AT35 -> F3 | BQ21: ='Aligning data'!AT48 -> F4 | BR21: =(BP21+BQ21)/2 -> #VALUE! | BS21: ='Aligning data'!AV35 -> F3 | BT21: ='Aligning data'!AV48 -> F4 | BU21: =(BS21+BT21)/2 -> #VALUE!
A22: CGL2 | B22: ='Aligning data'!B36 -> G3 | C22: ='Aligning data'!B49 -> G4 | D22: =(B22+C22)/2 -> #VALUE! | E22: ='Aligning data'!D36 -> G3 | F22: ='Aligning data'!D49 -> G4 | G22: =(E22+F22)/2 -> #VALUE! | H22: ='Aligning data'!F36 -> G3 | I22: ='Aligning data'!F49 -> G4 | J22: =(H22+I22)/2 -> #VALUE! | K22: ='Aligning data'!H36 -> G3 | L22: ='Aligning data'!H49 -> G4 | M22: =(K22+L22)/2 -> #VALUE! | N22: ='Aligning data'!J36 -> G3 | O22: ='Aligning data'!J49 -> G4 | P22: =(N22+O22)/2 -> #VALUE! | Q22: ='Aligning data'!L36 -> G3 | R22: ='Aligning data'!L49 -> G4 | S22: =(Q22+R22)/2 -> #VALUE! | T22: ='Aligning data'!N36 -> G3 | U22: ='Aligning data'!N49 -> G4 | V22: =(T22+U22)/2 -> #VALUE! | W22: ='Aligning data'!P36 -> G3 | X22: ='Aligning data'!P49 -> G4 | Y22: =(W22+X22)/2 -> #VALUE! | Z22: ='Aligning data'!R36 -> G3 | AA22: ='Aligning data'!R49 -> G4 | AB22: =(Z22+AA22)/2 -> #VALUE! | AC22: ='Aligning data'!T36 -> G3 | AD22: ='Aligning data'!T49 -> G4 | AE22: =(AC22+AD22)/2 -> #VALUE! | AF22: ='Aligning data'!V36 -> G3 | AG22: ='Aligning data'!V49 -> G4 | AH22: =(AF22+AG22)/2 -> #VALUE! | AI22: ='Aligning data'!X36 -> G3 | AJ22: ='Aligning data'!X49 -> G4 | AK22: =(AI22+AJ22)/2 -> #VALUE! | AL22: ='Aligning data'!Z36 -> G3 | AM22: ='Aligning data'!Z49 -> G4 | AN22: =(AL22+AM22)/2 -> #VALUE! | AO22: ='Aligning data'!AB36 -> G3 | AP22: ='Aligning data'!AB49 -> G4 | AQ22: =(AO22+AP22)/2 -> #VALUE! | AR22: ='Aligning data'!AD36 -> G3 | AS22: ='Aligning data'!AD49 -> G4 | AT22: =(AR22+AS22)/2 -> #VALUE! | AU22: ='Aligning data'!AF36 -> G3 | AV22: ='Aligning data'!AF49 -> G4 | AW22: =(AU22+AV22)/2 -> #VALUE! | AX22: ='Aligning data'!AH36 -> G3 | AY22: ='Aligning data'!AH49 -> G4 | AZ22: =(AX22+AY22)/2 -> #VALUE! | BA22: ='Aligning data'!AJ36 -> G3 | BB22: ='Aligning data'!AJ49 -> G4 | BC22: =(BA22+BB22)/2 -> #VALUE! | BD22: ='Aligning data'!AL36 -> G3 | BE22: ='Aligning data'!AL49 -> G4 | BF22: =(BD22+BE22)/2 -> #VALUE! | BG22: ='Aligning data'!AN36 -> G3 | BH22: ='Aligning data'!AN49 -> G4 | BI22: =(BG22+BH22)/2 -> #VALUE! | BJ22: ='Aligning data'!AP36 -> G3 | BK22: ='Aligning data'!AP49 -> G4 | BL22: =(BJ22+BK22)/2 -> #VALUE! | BM22: ='Aligning data'!AR36 -> G3 | BN22: ='Aligning data'!AR49 -> G4 | BO22: =(BM22+BN22)/2 -> #VALUE! | BP22: ='Aligning data'!AT36 -> G3 | BQ22: ='Aligning data'!AT49 -> G4 | BR22: =(BP22+BQ22)/2 -> #VALUE! | BS22: ='Aligning data'!AV36 -> G3 | BT22: ='Aligning data'!AV49 -> G4 | BU22: =(BS22+BT22)/2 -> #VALUE!
