Workbook
Name __A1: '[3]aligning data'!#REF!
Name _A1: '[1]Aligning Data'!#REF!

Sheet Cover page
B7: Customer Contact Name:
B8: Customer Institution:
B9: Contact Phone Number:
B10: Customer Email Address:
B11: Purchase Order Number
B12: Sales Order Number
B13: Protocol Number
B14: Study Director assigned:
B16: Service Provided
B18: Type of Service Provided: | C18: Full testing
B19: Sample Type and Preparation: | C19: Human serum
B20: Test procedure:
B21: Stability of sample and Standards or Positive Controls | C21: Stable to conditions of test
B22: Protocol sign off Date:
B23: Final Report completed date:
B24: Storage of Records and samples | C24: According to in house procedures
B28: Sign off:
B31: Study Director: | C31: Date:
B32: Laboratory Manager: | C32: Date:

Sheet Guide
B8: Analysis Tool Software for RayBio® Lectin 95 Array, Glass Slide
H10: Analysis Tool Guide

Sheet Importing data
A1: RayBio® Lectin 95

Sheet Map
A1: RayBio® Lectin 95
B2: A | C2: B | D2: C | E2: D | F2: E | G2: F | H2: G | I2: H | J2: I | K2: J | L2: K | M2: L | N2: M
A3: 1 | B3: POS1 | C3: POS2 | D3: POS3 | E3: NEG | F3: AAA | G3: AAL | H3: ABA | I3: ABL | J3: ACG | K3: ACL | L3: AMA | M3: ASA | N3: BANLEC
A4: 2 | B4: POS1 | C4: POS2 | D4: POS3 | E4: NEG | F4: AAA | G4: AAL | H4: ABA | I4: ABL | J4: ACG | K4: ACL | L4: AMA | M4: ASA | N4: BANLEC
A5: 3 | B5: BC2L-A | C5: BC2LCN | D5: BPA | E5: CA | F5: CAA | G5: CALSEPA | H5: CGL2 | I5: CNL | J5: Con A | K5: CPA | L5: CSA | M5: DBA | N5: DISCOIDIN I
A6: 4 | B6: BC2L-A | C6: BC2LCN | D6: BPA | E6: CA | F6: CAA | G6: CALSEPA | H6: CGL2 | I6: CNL | J6: Con A | K6: CPA | L6: CSA | M6: DBA | N6: DISCOIDIN I
A7: 5 | B7: DISCOIDIN II | C7: DSA | D7: ECA | E7: EEL | F7: F17AG | G7: GAL1 | H7: GAL1-S | I7: GAL2 | J7: GAL3 | K7: GAL3C-S | L7: GAL7-S | M7: GAL9 | N7: GHA
A8: 6 | B8: DISCOIDIN II | C8: DSA | D8: ECA | E8: EEL | F8: F17AG | G8: GAL1 | H8: GAL1-S | I8: GAL2 | J8: GAL3 | K8: GAL3C-S | L8: GAL7-S | M8: GAL9 | N8: GHA
A9: 7 | B9: GNA | C9: GRFT | D9: GS-I | E9: GS-II | F9: HAA | G9: HHA | H9: HMA | I9: IRA | J9: Jacalin | K9: LAL | L9: LBA | M9: LcH A | N9: LEA
A10: 8 | B10: GNA | C10: GRFT | D10: GS-I | E10: GS-II | F10: HAA | G10: HHA | H10: HMA | I10: IRA | J10: Jacalin | K10: LAL | L10: LBA | M10: LcH A | N10: LEA
A11: 9 | B11: LENTIL | C11: Lotus | D11: LPA | E11: LSL-N | F11: MAA | G11: MALECTIN | H11: MNA-G | I11: MNA-M | J11: MOA | K11: MPL | L11: NPA | M11: ORYSATA | N11: PA-IIL
A12: 10 | B12: LENTIL | C12: Lotus | D12: LPA | E12: LSL-N | F12: MAA | G12: MALECTIN | H12: MNA-G | I12: MNA-M | J12: MOA | K12: MPL | L12: NPA | M12: ORYSATA | N12: PA-IIL
A13: 11 | B13: PA-IL | C13: PALa | D13: PHA-E | E13: PHA-L | F13: PHA-P | G13: PNA | H13: PPL | I13: PSA | J13: PSL1A | K13: PTL-1 | L13: PTL-2 | M13: PWA | N13: RCA 120
A14: 12 | B14: PA-IL | C14: PALa | D14: PHA-E | E14: PHA-L | F14: PHA-P | G14: PNA | H14: PPL | I14: PSA | J14: PSL1A | K14: PTL-1 | L14: PTL-2 | M14: PWA | N14: RCA 120
... A18: 16 | B18: UEA I | C18: UEA-II | D18: VFA | E18: VRA | F18: VVA | G18: VVA-M | H18: WFA | I18: WGA | J18: NEG | K18: NEG | L18: POS3 | M18: POS2 | N18: POS1

Sheet Aligning data
A1: RayBio® Lectin 95
B2: Sample1 | D2: Sample2 | F2: Sample3 | H2: Sample4 | J2: Sample5 | L2: Sample6 | N2: Sample7 | P2: Sample8 | R2: Sample9 | T2: Sample10 | V2: Sample11 | X2: Sample12 | Z2: Sample13 | AB2: Sample14 | AD2: Sample15 | AF2: Sample16 | AH2: Sample17 | AJ2: Sample18 | AL2: Sample19 | AN2: Sample20 | AP2: Sample21 | AR2: Sample22 | AT2: Sample23 | AV2: Sample24
B3: With Background | C3: Without Background | D3: With Background | E3: Without Background | F3: With Background | G3: Without Background | H3: With Background | I3: Without Background | J3: With Background | K3: Without Background | L3: With Background | M3: Without Background | N3: With Background | O3: Without Background | P3: With Background | Q3: Without Background | R3: With Background | S3: Without Background | T3: With Background | U3: Without Background | V3: With Background | W3: Without Background | X3: With Background | Y3: Without Background | Z3: With Background | AA3: Without Background | AB3: With Background | AC3: Without Background | AD3: With Background | AE3: Without Background | AF3: With Background | AG3: Without Background | AH3: With Background | AI3: Without Background | AJ3: With Background | AK3: Without Background | AL3: With Background | AM3: Without Background | AN3: With Background | AO3: Without Background | AP3: With Background | AQ3: Without Background | AR3: With Background | AS3: Without Background | AT3: With Background | AU3: Without Background | AV3: With Background | AW3: Without Background
A4: POS1 | B4: A1 | C4: A1 | D4: A1 | E4: A1 | F4: A1 | G4: A1 | H4: A1 | I4: A1 | J4: A1 | K4: A1 | L4: A1 | M4: A1 | N4: A1 | O4: A1 | P4: A1 | Q4: A1 | R4: A1 | S4: A1 | T4: A1 | U4: A1 | V4: A1 | W4: A1 | X4: A1 | Y4: A1 | Z4: A1 | AA4: A1 | AB4: A1 | AC4: A1 | AD4: A1 | AE4: A1 | AF4: A1 | AG4: A1 | AH4: A1 | AI4: A1 | AJ4: A1 | AK4: A1 | AL4: A1 | AM4: A1 | AN4: A1 | AO4: A1 | AP4: A1 | AQ4: A1 | AR4: A1 | AS4: A1 | AT4: A1 | AU4: A1 | AV4: A1 | AW4: A1
A5: POS2 | B5: B1 | C5: B1 | D5: B1 | E5: B1 | F5: B1 | G5: B1 | H5: B1 | I5: B1 | J5: B1 | K5: B1 | L5: B1 | M5: B1 | N5: B1 | O5: B1 | P5: B1 | Q5: B1 | R5: B1 | S5: B1 | T5: B1 | U5: B1 | V5: B1 | W5: B1 | X5: B1 | Y5: B1 | Z5: B1 | AA5: B1 | AB5: B1 | AC5: B1 | AD5: B1 | AE5: B1 | AF5: B1 | AG5: B1 | AH5: B1 | AI5: B1 | AJ5: B1 | AK5: B1 | AL5: B1 | AM5: B1 | AN5: B1 | AO5: B1 | AP5: B1 | AQ5: B1 | AR5: B1 | AS5: B1 | AT5: B1 | AU5: B1 | AV5: B1 | AW5: B1
A6: POS3 | B6: C1 | C6: C1 | D6: C1 | E6: C1 | F6: C1 | G6: C1 | H6: C1 | I6: C1 | J6: C1 | K6: C1 | L6: C1 | M6: C1 | N6: C1 | O6: C1 | P6: C1 | Q6: C1 | R6: C1 | S6: C1 | T6: C1 | U6: C1 | V6: C1 | W6: C1 | X6: C1 | Y6: C1 | Z6: C1 | AA6: C1 | AB6: C1 | AC6: C1 | AD6: C1 | AE6: C1 | AF6: C1 | AG6: C1 | AH6: C1 | AI6: C1 | AJ6: C1 | AK6: C1 | AL6: C1 | AM6: C1 | AN6: C1 | AO6: C1 | AP6: C1 | AQ6: C1 | AR6: C1 | AS6: C1 | AT6: C1 | AU6: C1 | AV6: C1 | AW6: C1
A7: NEG | B7: D1 | C7: D1 | D7: D1 | E7: D1 | F7: D1 | G7: D1 | H7: D1 | I7: D1 | J7: D1 | K7: D1 | L7: D1 | M7: D1 | N7: D1 | O7: D1 | P7: D1 | Q7: D1 | R7: D1 | S7: D1 | T7: D1 | U7: D1 | V7: D1 | W7: D1 | X7: D1 | Y7: D1 | Z7: D1 | AA7: D1 | AB7: D1 | AC7: D1 | AD7: D1 | AE7: D1 | AF7: D1 | AG7: D1 | AH7: D1 | AI7: D1 | AJ7: D1 | AK7: D1 | AL7: D1 | AM7: D1 | AN7: D1 | AO7: D1 | AP7: D1 | AQ7: D1 | AR7: D1 | AS7: D1 | AT7: D1 | AU7: D1 | AV7: D1 | AW7: D1
A8: AAA | B8: E1 | C8: E1 | D8: E1 | E8: E1 | F8: E1 | G8: E1 | H8: E1 | I8: E1 | J8: E1 | K8: E1 | L8: E1 | M8: E1 | N8: E1 | O8: E1 | P8: E1 | Q8: E1 | R8: E1 | S8: E1 | T8: E1 | U8: E1 | V8: E1 | W8: E1 | X8: E1 | Y8: E1 | Z8: E1 | AA8: E1 | AB8: E1 | AC8: E1 | AD8: E1 | AE8: E1 | AF8: E1 | AG8: E1 | AH8: E1 | AI8: E1 | AJ8: E1 | AK8: E1 | AL8: E1 | AM8: E1 | AN8: E1 | AO8: E1 | AP8: E1 | AQ8: E1 | AR8: E1 | AS8: E1 | AT8: E1 | AU8: E1 | AV8: E1 | AW8: E1
A9: AAL | B9: F1 | C9: F1 | D9: F1 | E9: F1 | F9: F1 | G9: F1 | H9: F1 | I9: F1 | J9: F1 | K9: F1 | L9: F1 | M9: F1 | N9: F1 | O9: F1 | P9: F1 | Q9: F1 | R9: F1 | S9: F1 | T9: F1 | U9: F1 | V9: F1 | W9: F1 | X9: F1 | Y9: F1 | Z9: F1 | AA9: F1 | AB9: F1 | AC9: F1 | AD9: F1 | AE9: F1 | AF9: F1 | AG9: F1 | AH9: F1 | AI9: F1 | AJ9: F1 | AK9: F1 | AL9: F1 | AM9: F1 | AN9: F1 | AO9: F1 | AP9: F1 | AQ9: F1 | AR9: F1 | AS9: F1 | AT9: F1 | AU9: F1 | AV9: F1 | AW9: F1
A10: ABA | B10: G1 | C10: G1 | D10: G1 | E10: G1 | F10: G1 | G10: G1 | H10: G1 | I10: G1 | J10: G1 | K10: G1 | L10: G1 | M10: G1 | N10: G1 | O10: G1 | P10: G1 | Q10: G1 | R10: G1 | S10: G1 | T10: G1 | U10: G1 | V10: G1 | W10: G1 | X10: G1 | Y10: G1 | Z10: G1 | AA10: G1 | AB10: G1 | AC10: G1 | AD10: G1 | AE10: G1 | AF10: G1 | AG10: G1 | AH10: G1 | AI10: G1 | AJ10: G1 | AK10: G1 | AL10: G1 | AM10: G1 | AN10: G1 | AO10: G1 | AP10: G1 | AQ10: G1 | AR10: G1 | AS10: G1 | AT10: G1 | AU10: G1 | AV10: G1 | AW10: G1
A11: ABL | B11: H1 | C11: H1 | D11: H1 | E11: H1 | F11: H1 | G11: H1 | H11: H1 | I11: H1 | J11: H1 | K11: H1 | L11: H1 | M11: H1 | N11: H1 | O11: H1 | P11: H1 | Q11: H1 | R11: H1 | S11: H1 | T11: H1 | U11: H1 | V11: H1 | W11: H1 | X11: H1 | Y11: H1 | Z11: H1 | AA11: H1 | AB11: H1 | AC11: H1 | AD11: H1 | AE11: H1 | AF11: H1 | AG11: H1 | AH11: H1 | AI11: H1 | AJ11: H1 | AK11: H1 | AL11: H1 | AM11: H1 | AN11: H1 | AO11: H1 | AP11: H1 | AQ11: H1 | AR11: H1 | AS11: H1 | AT11: H1 | AU11: H1 | AV11: H1 | AW11: H1
A12: ACG | B12: I1 | C12: I1 | D12: I1 | E12: I1 | F12: I1 | G12: I1 | H12: I1 | I12: I1 | J12: I1 | K12: I1 | L12: I1 | M12: I1 | N12: I1 | O12: I1 | P12: I1 | Q12: I1 | R12: I1 | S12: I1 | T12: I1 | U12: I1 | V12: I1 | W12: I1 | X12: I1 | Y12: I1 | Z12: I1 | AA12: I1 | AB12: I1 | AC12: I1 | AD12: I1 | AE12: I1 | AF12: I1 | AG12: I1 | AH12: I1 | AI12: I1 | AJ12: I1 | AK12: I1 | AL12: I1 | AM12: I1 | AN12: I1 | AO12: I1 | AP12: I1 | AQ12: I1 | AR12: I1 | AS12: I1 | AT12: I1 | AU12: I1 | AV12: I1 | AW12: I1
A13: ACL | B13: J1 | C13: J1 | D13: J1 | E13: J1 | F13: J1 | G13: J1 | H13: J1 | I13: J1 | J13: J1 | K13: J1 | L13: J1 | M13: J1 | N13: J1 | O13: J1 | P13: J1 | Q13: J1 | R13: J1 | S13: J1 | T13: J1 | U13: J1 | V13: J1 | W13: J1 | X13: J1 | Y13: J1 | Z13: J1 | AA13: J1 | AB13: J1 | AC13: J1 | AD13: J1 | AE13: J1 | AF13: J1 | AG13: J1 | AH13: J1 | AI13: J1 | AJ13: J1 | AK13: J1 | AL13: J1 | AM13: J1 | AN13: J1 | AO13: J1 | AP13: J1 | AQ13: J1 | AR13: J1 | AS13: J1 | AT13: J1 | AU13: J1 | AV13: J1 | AW13: J1
A14: AMA | B14: K1 | C14: K1 | D14: K1 | E14: K1 | F14: K1 | G14: K1 | H14: K1 | I14: K1 | J14: K1 | K14: K1 | L14: K1 | M14: K1 | N14: K1 | O14: K1 | P14: K1 | Q14: K1 | R14: K1 | S14: K1 | T14: K1 | U14: K1 | V14: K1 | W14: K1 | X14: K1 | Y14: K1 | Z14: K1 | AA14: K1 | AB14: K1 | AC14: K1 | AD14: K1 | AE14: K1 | AF14: K1 | AG14: K1 | AH14: K1 | AI14: K1 | AJ14: K1 | AK14: K1 | AL14: K1 | AM14: K1 | AN14: K1 | AO14: K1 | AP14: K1 | AQ14: K1 | AR14: K1 | AS14: K1 | AT14: K1 | AU14: K1 | AV14: K1 | AW14: K1
A15: ASA | B15: L1 | C15: L1 | D15: L1 | E15: L1 | F15: L1 | G15: L1 | H15: L1 | I15: L1 | J15: L1 | K15: L1 | L15: L1 | M15: L1 | N15: L1 | O15: L1 | P15: L1 | Q15: L1 | R15: L1 | S15: L1 | T15: L1 | U15: L1 | V15: L1 | W15: L1 | X15: L1 | Y15: L1 | Z15: L1 | AA15: L1 | AB15: L1 | AC15: L1 | AD15: L1 | AE15: L1 | AF15: L1 | AG15: L1 | AH15: L1 | AI15: L1 | AJ15: L1 | AK15: L1 | AL15: L1 | AM15: L1 | AN15: L1 | AO15: L1 | AP15: L1 | AQ15: L1 | AR15: L1 | AS15: L1 | AT15: L1 | AU15: L1 | AV15: L1 | AW15: L1
... A211: POS1 | B211: M16 | C211: M16 | D211: M16 | E211: M16 | F211: M16 | G211: M16 | H211: M16 | I211: M16 | J211: M16 | K211: M16 | L211: M16 | M211: M16 | N211: M16 | O211: M16 | P211: M16 | Q211: M16 | R211: M16 | S211: M16 | T211: M16 | U211: M16 | V211: M16 | W211: M16 | X211: M16 | Y211: M16 | Z211: M16 | AA211: M16 | AB211: M16 | AC211: M16 | AD211: M16 | AE211: M16 | AF211: M16 | AG211: M16 | AH211: M16 | AI211: M16 | AJ211: M16 | AK211: M16 | AL211: M16 | AM211: M16 | AN211: M16 | AO211: M16 | AP211: M16 | AQ211: M16 | AR211: M16 | AS211: M16 | AT211: M16 | AU211: M16 | AV211: M16 | AW211: M16

Sheet Sorting-1
A1: RayBio® Lectin 95
B2: ='Aligning data'!B2 -> Sample1 | E2: ='Aligning data'!D2 -> Sample2 | H2: ='Aligning data'!F2 -> Sample3 | K2: ='Aligning data'!H2 -> Sample4 | N2: ='Aligning data'!J2 -> Sample5 | Q2: ='Aligning data'!L2 -> Sample6 | T2: ='Aligning data'!N2 -> Sample7 | W2: ='Aligning data'!P2 -> Sample8 | Z2: ='Aligning data'!R2 -> Sample9 | AC2: ='Aligning data'!T2 -> Sample10 | AF2: ='Aligning data'!V2 -> Sample11 | AI2: ='Aligning data'!X2 -> Sample12 | AL2: ='Aligning data'!Z2 -> Sample13 | AO2: ='Aligning data'!AB2 -> Sample14 | AR2: ='Aligning data'!AD2 -> Sample15 | AU2: ='Aligning data'!AF2 -> Sample16 | AX2: ='Aligning data'!AH2 -> Sample17 | BA2: ='Aligning data'!AJ2 -> Sample18 | BD2: ='Aligning data'!AL2 -> Sample19 | BG2: ='Aligning data'!AN2 -> Sample20 | BJ2: ='Aligning data'!AP2 -> Sample21 | BM2: ='Aligning data'!AR2 -> Sample22 | BP2: ='Aligning data'!AT2 -> Sample23 | BS2: ='Aligning data'!AV2 -> Sample24
B3: With Background | E3: With Background | H3: With Background | K3: With Background | N3: With Background | Q3: With Background | T3: With Background | W3: With Background | Z3: With Background | AC3: With Background | AF3: With Background | AI3: With Background | AL3: With Background | AO3: With Background | AR3: With Background | AU3: With Background | AX3: With Background | BA3: With Background | BD3: With Background | BG3: With Background | BJ3: With Background | BM3: With Background | BP3: With Background | BS3: With Background
B4: 1 | C4: 2 | D4: Average | E4: 1 | F4: 2 | G4: Average | H4: 1 | I4: 2 | J4: Average | K4: 1 | L4: 2 | M4: Average | N4: 1 | O4: 2 | P4: Average | Q4: 1 | R4: 2 | S4: Average | T4: 1 | U4: 2 | V4: Average | W4: 1 | X4: 2 | Y4: Average | Z4: 1 | AA4: 2 | AB4: Average | AC4: 1 | AD4: 2 | AE4: Average | AF4: 1 | AG4: 2 | AH4: Average | AI4: 1 | AJ4: 2 | AK4: Average | AL4: 1 | AM4: 2 | AN4: Average | AO4: 1 | AP4: 2 | AQ4: Average | AR4: 1 | AS4: 2 | AT4: Average | AU4: 1 | AV4: 2 | AW4: Average | AX4: 1 | AY4: 2 | AZ4: Average | BA4: 1 | BB4: 2 | BC4: Average | BD4: 1 | BE4: 2 | BF4: Average | BG4: 1 | BH4: 2 | BI4: Average | BJ4: 1 | BK4: 2 | BL4: Average | BM4: 1 | BN4: 2 | BO4: Average | BP4: 1 | BQ4: 2 | BR4: Average | BS4: 1 | BT4: 2 | BU4: Average
A5: POS | D5: =(SUM('Aligning data'!B4:B6)+SUM('Aligning data'!B17:B19)+SUM('Aligning data'!B196:B198)+SUM('Aligning data'!B209:B211))/12 -> 0 | G5: =(SUM('Aligning data'!D4:D6)+SUM('Aligning data'!D17:D19)+SUM('Aligning data'!D196:D198)+SUM('Aligning data'!D209:D211))/12 -> 0 | J5: =(SUM('Aligning data'!F4:F6)+SUM('Aligning data'!F17:F19)+SUM('Aligning data'!F196:F198)+SUM('Aligning data'!F209:F211))/12 -> 0 | M5: =(SUM('Aligning data'!H4:H6)+SUM('Aligning data'!H17:H19)+SUM('Aligning data'!H196:H198)+SUM('Aligning data'!H209:H211))/12 -> 0 | P5: =(SUM('Aligning data'!J4:J6)+SUM('Aligning data'!J17:J19)+SUM('Aligning data'!J196:J198)+SUM('Aligning data'!J209:J211))/12 -> 0 | S5: =(SUM('Aligning data'!L4:L6)+SUM('Aligning data'!L17:L19)+SUM('Aligning data'!L196:L198)+SUM('Aligning data'!L209:L211))/12 -> 0 | V5: =(SUM('Aligning data'!N4:N6)+SUM('Aligning data'!N17:N19)+SUM('Aligning data'!N196:N198)+SUM('Aligning data'!N209:N211))/12 -> 0 | Y5: =(SUM('Aligning data'!P4:P6)+SUM('Aligning data'!P17:P19)+SUM('Aligning data'!P196:P198)+SUM('Aligning data'!P209:P211))/12 -> 0 | AB5: =(SUM('Aligning data'!R4:R6)+SUM('Aligning data'!R17:R19)+SUM('Aligning data'!R196:R198)+SUM('Aligning data'!R209:R211))/12 -> 0 | AE5: =(SUM('Aligning data'!T4:T6)+SUM('Aligning data'!T17:T19)+SUM('Aligning data'!T196:T198)+SUM('Aligning data'!T209:T211))/12 -> 0 | AH5: =(SUM('Aligning data'!V4:V6)+SUM('Aligning data'!V17:V19)+SUM('Aligning data'!V196:V198)+SUM('Aligning data'!V209:V211))/12 -> 0 | AK5: =(SUM('Aligning data'!X4:X6)+SUM('Aligning data'!X17:X19)+SUM('Aligning data'!X196:X198)+SUM('Aligning data'!X209:X211))/12 -> 0 | AN5: =(SUM('Aligning data'!Z4:Z6)+SUM('Aligning data'!Z17:Z19)+SUM('Aligning data'!Z196:Z198)+SUM('Aligning data'!Z209:Z211))/12 -> 0 | AQ5: =(SUM('Aligning data'!AB4:AB6)+SUM('Aligning data'!AB17:AB19)+SUM('Aligning data'!AB196:AB198)+SUM('Aligning data'!AB209:AB211))/12 -> 0 | AT5: =(SUM('Aligning data'!AD4:AD6)+SUM('Aligning data'!AD17:AD19)+SUM('Aligning data'!AD196:AD198)+SUM('Aligning data'!AD209:AD211))/12 -> 0 | AW5: =(SUM('Aligning data'!AF4:AF6)+SUM('Aligning data'!AF17:AF19)+SUM('Aligning data'!AF196:AF198)+SUM('Aligning data'!AF209:AF211))/12 -> 0 | AZ5: =(SUM('Aligning data'!AH4:AH6)+SUM('Aligning data'!AH17:AH19)+SUM('Aligning data'!AH196:AH198)+SUM('Aligning data'!AH209:AH211))/12 -> 0 | BC5: =(SUM('Aligning data'!AJ4:AJ6)+SUM('Aligning data'!AJ17:AJ19)+SUM('Aligning data'!AJ196:AJ198)+SUM('Aligning data'!AJ209:AJ211))/12 -> 0 | BF5: =(SUM('Aligning data'!AL4:AL6)+SUM('Aligning data'!AL17:AL19)+SUM('Aligning data'!AL196:AL198)+SUM('Aligning data'!AL209:AL211))/12 -> 0 | BI5: =(SUM('Aligning data'!AN4:AN6)+SUM('Aligning data'!AN17:AN19)+SUM('Aligning data'!AN196:AN198)+SUM('Aligning data'!AN209:AN211))/12 -> 0 | BL5: =(SUM('Aligning data'!AP4:AP6)+SUM('Aligning data'!AP17:AP19)+SUM('Aligning data'!AP196:AP198)+SUM('Aligning data'!AP209:AP211))/12 -> 0 | BO5: =(SUM('Aligning data'!AR4:AR6)+SUM('Aligning data'!AR17:AR19)+SUM('Aligning data'!AR196:AR198)+SUM('Aligning data'!AR209:AR211))/12 -> 0 | BR5: =(SUM('Aligning data'!AT4:AT6)+SUM('Aligning data'!AT17:AT19)+SUM('Aligning data'!AT196:AT198)+SUM('Aligning data'!AT209:AT211))/12 -> 0 | BU5: =(SUM('Aligning data'!AV4:AV6)+SUM('Aligning data'!AV17:AV19)+SUM('Aligning data'!AV196:AV198)+SUM('Aligning data'!AV209:AV211))/12 -> 0
A6: NEG | D6: =SUM('Aligning data'!B7,'Aligning data'!B20,'Aligning data'!B194:B195,'Aligning data'!B207:B208)/6 -> 0 | G6: =SUM('Aligning data'!D7,'Aligning data'!D20,'Aligning data'!D194:D195,'Aligning data'!D207:D208)/6 -> 0 | J6: =SUM('Aligning data'!F7,'Aligning data'!F20,'Aligning data'!F194:F195,'Aligning data'!F207:F208)/6 -> 0 | M6: =SUM('Aligning data'!H7,'Aligning data'!H20,'Aligning data'!H194:H195,'Aligning data'!H207:H208)/6 -> 0 | P6: =SUM('Aligning data'!J7,'Aligning data'!J20,'Aligning data'!J194:J195,'Aligning data'!J207:J208)/6 -> 0 | S6: =SUM('Aligning data'!L7,'Aligning data'!L20,'Aligning data'!L194:L195,'Aligning data'!L207:L208)/6 -> 0 | V6: =SUM('Aligning data'!N7,'Aligning data'!N20,'Aligning data'!N194:N195,'Aligning data'!N207:N208)/6 -> 0 | Y6: =SUM('Aligning data'!P7,'Aligning data'!P20,'Aligning data'!P194:P195,'Aligning data'!P207:P208)/6 -> 0 | AB6: =SUM('Aligning data'!R7,'Aligning data'!R20,'Aligning data'!R194:R195,'Aligning data'!R207:R208)/6 -> 0 | AE6: =SUM('Aligning data'!T7,'Aligning data'!T20,'Aligning data'!T194:T195,'Aligning data'!T207:T208)/6 -> 0 | AH6: =SUM('Aligning data'!V7,'Aligning data'!V20,'Aligning data'!V194:V195,'Aligning data'!V207:V208)/6 -> 0 | AK6: =SUM('Aligning data'!X7,'Aligning data'!X20,'Aligning data'!X194:X195,'Aligning data'!X207:X208)/6 -> 0 | AN6: =SUM('Aligning data'!Z7,'Aligning data'!Z20,'Aligning data'!Z194:Z195,'Aligning data'!Z207:Z208)/6 -> 0 | AQ6: =SUM('Aligning data'!AB7,'Aligning data'!AB20,'Aligning data'!AB194:AB195,'Aligning data'!AB207:AB208)/6 -> 0 | AT6: =SUM('Aligning data'!AD7,'Aligning data'!AD20,'Aligning data'!AD194:AD195,'Aligning data'!AD207:AD208)/6 -> 0 | AW6: =SUM('Aligning data'!AF7,'Aligning data'!AF20,'Aligning data'!AF194:AF195,'Aligning data'!AF207:AF208)/6 -> 0 | AZ6: =SUM('Aligning data'!AH7,'Aligning data'!AH20,'Aligning data'!AH194:AH195,'Aligning data'!AH207:AH208)/6 -> 0 | BC6: =SUM('Aligning data'!AJ7,'Aligning data'!AJ20,'Aligning data'!AJ194:AJ195,'Aligning data'!AJ207:AJ208)/6 -> 0 | BF6: =SUM('Aligning data'!AL7,'Aligning data'!AL20,'Aligning data'!AL194:AL195,'Aligning data'!AL207:AL208)/6 -> 0 | BI6: =SUM('Aligning data'!AN7,'Aligning data'!AN20,'Aligning data'!AN194:AN195,'Aligning data'!AN207:AN208)/6 -> 0 | BL6: =SUM('Aligning data'!AP7,'Aligning data'!AP20,'Aligning data'!AP194:AP195,'Aligning data'!AP207:AP208)/6 -> 0 | BO6: =SUM('Aligning data'!AR7,'Aligning data'!AR20,'Aligning data'!AR194:AR195,'Aligning data'!AR207:AR208)/6 -> 0 | BR6: =SUM('Aligning data'!AT7,'Aligning data'!AT20,'Aligning data'!AT194:AT195,'Aligning data'!AT207:AT208)/6 -> 0 | BU6: =SUM('Aligning data'!AV7,'Aligning data'!AV20,'Aligning data'!AV194:AV195,'Aligning data'!AV207:AV208)/6 -> 0
A7: AAA | B7: ='Aligning data'!B8 -> E1 | C7: ='Aligning data'!B21 -> E2 | D7: =(B7+C7)/2 -> #VALUE! | E7: ='Aligning data'!D8 -> E1 | F7: ='Aligning data'!D21 -> E2 | G7: =(E7+F7)/2 -> #VALUE! | H7: ='Aligning data'!F8 -> E1 | I7: ='Aligning data'!F21 -> E2 | J7: =(H7+I7)/2 -> #VALUE! | K7: ='Aligning data'!H8 -> E1 | L7: ='Aligning data'!H21 -> E2 | M7: =(K7+L7)/2 -> #VALUE! | N7: ='Aligning data'!J8 -> E1 | O7: ='Aligning data'!J21 -> E2 | P7: =(N7+O7)/2 -> #VALUE! | Q7: ='Aligning data'!L8 -> E1 | R7: ='Aligning data'!L21 -> E2 | S7: =(Q7+R7)/2 -> #VALUE! | T7: ='Aligning data'!N8 -> E1 | U7: ='Aligning data'!N21 -> E2 | V7: =(T7+U7)/2 -> #VALUE! | W7: ='Aligning data'!P8 -> E1 | X7: ='Aligning data'!P21 -> E2 | Y7: =(W7+X7)/2 -> #VALUE! | Z7: ='Aligning data'!R8 -> E1 | AA7: ='Aligning data'!R21 -> E2 | AB7: =(Z7+AA7)/2 -> #VALUE! | AC7: ='Aligning data'!T8 -> E1 | AD7: ='Aligning data'!T21 -> E2 | AE7: =(AC7+AD7)/2 -> #VALUE! | AF7: ='Aligning data'!V8 -> E1 | AG7: ='Aligning data'!V21 -> E2 | AH7: =(AF7+AG7)/2 -> #VALUE! | AI7: ='Aligning data'!X8 -> E1 | AJ7: ='Aligning data'!X21 -> E2 | AK7: =(AI7+AJ7)/2 -> #VALUE! | AL7: ='Aligning data'!Z8 -> E1 | AM7: ='Aligning data'!Z21 -> E2 | AN7: =(AL7+AM7)/2 -> #VALUE! | AO7: ='Aligning data'!AB8 -> E1 | AP7: ='Aligning data'!AB21 -> E2 | AQ7: =(AO7+AP7)/2 -> #VALUE! | AR7: ='Aligning data'!AD8 -> E1 | AS7: ='Aligning data'!AD21 -> E2 | AT7: =(AR7+AS7)/2 -> #VALUE! | AU7: ='Aligning data'!AF8 -> E1 | AV7: ='Aligning data'!AF21 -> E2 | AW7: =(AU7+AV7)/2 -> #VALUE! | AX7: ='Aligning data'!AH8 -> E1 | AY7: ='Aligning data'!AH21 -> E2 | AZ7: =(AX7+AY7)/2 -> #VALUE! | BA7: ='Aligning data'!AJ8 -> E1 | BB7: ='Aligning data'!AJ21 -> E2 | BC7: =(BA7+BB7)/2 -> #VALUE! | BD7: ='Aligning data'!AL8 -> E1 | BE7: ='Aligning data'!AL21 -> E2 | BF7: =(BD7+BE7)/2 -> #VALUE! | BG7: ='Aligning data'!AN8 -> E1 | BH7: ='Aligning data'!AN21 -> E2 | BI7: =(BG7+BH7)/2 -> #VALUE! | BJ7: ='Aligning data'!AP8 -> E1 | BK7: ='Aligning data'!AP21 -> E2 | BL7: =(BJ7+BK7)/2 -> #VALUE! | BM7: ='Aligning data'!AR8 -> E1 | BN7: ='Aligning data'!AR21 -> E2 | BO7: =(BM7+BN7)/2 -> #VALUE! | BP7: ='Aligning data'!AT8 -> E1 | BQ7: ='Aligning data'!AT21 -> E2 | BR7: =(BP7+BQ7)/2 -> #VALUE! | BS7: ='Aligning data'!AV8 -> E1 | BT7: ='Aligning data'!AV21 -> E2 | BU7: =(BS7+BT7)/2 -> #VALUE!
A8: AAL | B8: ='Aligning data'!B9 -> F1 | C8: ='Aligning data'!B22 -> F2 | D8: =(B8+C8)/2 -> #VALUE! | E8: ='Aligning data'!D9 -> F1 | F8: ='Aligning data'!D22 -> F2 | G8: =(E8+F8)/2 -> #VALUE! | H8: ='Aligning data'!F9 -> F1 | I8: ='Aligning data'!F22 -> F2 | J8: =(H8+I8)/2 -> #VALUE! | K8: ='Aligning data'!H9 -> F1 | L8: ='Aligning data'!H22 -> F2 | M8: =(K8+L8)/2 -> #VALUE! | N8: ='Aligning data'!J9 -> F1 | O8: ='Aligning data'!J22 -> F2 | P8: =(N8+O8)/2 -> #VALUE! | Q8: ='Aligning data'!L9 -> F1 | R8: ='Aligning data'!L22 -> F2 | S8: =(Q8+R8)/2 -> #VALUE! | T8: ='Aligning data'!N9 -> F1 | U8: ='Aligning data'!N22 -> F2 | V8: =(T8+U8)/2 -> #VALUE! | W8: ='Aligning data'!P9 -> F1 | X8: ='Aligning data'!P22 -> F2 | Y8: =(W8+X8)/2 -> #VALUE! | Z8: ='Aligning data'!R9 -> F1 | AA8: ='Aligning data'!R22 -> F2 | AB8: =(Z8+AA8)/2 -> #VALUE! | AC8: ='Aligning data'!T9 -> F1 | AD8: ='Aligning data'!T22 -> F2 | AE8: =(AC8+AD8)/2 -> #VALUE! | AF8: ='Aligning data'!V9 -> F1 | AG8: ='Aligning data'!V22 -> F2 | AH8: =(AF8+AG8)/2 -> #VALUE! | AI8: ='Aligning data'!X9 -> F1 | AJ8: ='Aligning data'!X22 -> F2 | AK8: =(AI8+AJ8)/2 -> #VALUE! | AL8: ='Aligning data'!Z9 -> F1 | AM8: ='Aligning data'!Z22 -> F2 | AN8: =(AL8+AM8)/2 -> #VALUE! | AO8: ='Aligning data'!AB9 -> F1 | AP8: ='Aligning data'!AB22 -> F2 | AQ8: =(AO8+AP8)/2 -> #VALUE! | AR8: ='Aligning data'!AD9 -> F1 | AS8: ='Aligning data'!AD22 -> F2 | AT8: =(AR8+AS8)/2 -> #VALUE! | AU8: ='Aligning data'!AF9 -> F1 | AV8: ='Aligning data'!AF22 -> F2 | AW8: =(AU8+AV8)/2 -> #VALUE! | AX8: ='Aligning data'!AH9 -> F1 | AY8: ='Aligning data'!AH22 -> F2 | AZ8: =(AX8+AY8)/2 -> #VALUE! | BA8: ='Aligning data'!AJ9 -> F1 | BB8: ='Aligning data'!AJ22 -> F2 | BC8: =(BA8+BB8)/2 -> #VALUE! | BD8: ='Aligning data'!AL9 -> F1 | BE8: ='Aligning data'!AL22 -> F2 | BF8: =(BD8+BE8)/2 -> #VALUE! | BG8: ='Aligning data'!AN9 -> F1 | BH8: ='Aligning data'!AN22 -> F2 | BI8: =(BG8+BH8)/2 -> #VALUE! | BJ8: ='Aligning data'!AP9 -> F1 | BK8: ='Aligning data'!AP22 -> F2 | BL8: =(BJ8+BK8)/2 -> #VALUE! | BM8: ='Aligning data'!AR9 -> F1 | BN8: ='Aligning data'!AR22 -> F2 | BO8: =(BM8+BN8)/2 -> #VALUE! | BP8: ='Aligning data'!AT9 -> F1 | BQ8: ='Aligning data'!AT22 -> F2 | BR8: =(BP8+BQ8)/2 -> #VALUE! | BS8: ='Aligning data'!AV9 -> F1 | BT8: ='Aligning data'!AV22 -> F2 | BU8: =(BS8+BT8)/2 -> #VALUE!
A9: ABA | B9: ='Aligning data'!B10 -> G1 | C9: ='Aligning data'!B23 -> G2 | D9: =(B9+C9)/2 -> #VALUE! | E9: ='Aligning data'!D10 -> G1 | F9: ='Aligning data'!D23 -> G2 | G9: =(E9+F9)/2 -> #VALUE! | H9: ='Aligning data'!F10 -> G1 | I9: ='Aligning data'!F23 -> G2 | J9: =(H9+I9)/2 -> #VALUE! | K9: ='Aligning data'!H10 -> G1 | L9: ='Aligning data'!H23 -> G2 | M9: =(K9+L9)/2 -> #VALUE! | N9: ='Aligning data'!J10 -> G1 | O9: ='Aligning data'!J23 -> G2 | P9: =(N9+O9)/2 -> #VALUE! | Q9: ='Aligning data'!L10 -> G1 | R9: ='Aligning data'!L23 -> G2 | S9: =(Q9+R9)/2 -> #VALUE! | T9: ='Aligning data'!N10 -> G1 | U9: ='Aligning data'!N23 -> G2 | V9: =(T9+U9)/2 -> #VALUE! | W9: ='Aligning data'!P10 -> G1 | X9: ='Aligning data'!P23 -> G2 | Y9: =(W9+X9)/2 -> #VALUE! | Z9: ='Aligning data'!R10 -> G1 | AA9: ='Aligning data'!R23 -> G2 | AB9: =(Z9+AA9)/2 -> #VALUE! | AC9: ='Aligning data'!T10 -> G1 | AD9: ='Aligning data'!T23 -> G2 | AE9: =(AC9+AD9)/2 -> #VALUE! | AF9: ='Aligning data'!V10 -> G1 | AG9: ='Aligning data'!V23 -> G2 | AH9: =(AF9+AG9)/2 -> #VALUE! | AI9: ='Aligning data'!X10 -> G1 | AJ9: ='Aligning data'!X23 -> G2 | AK9: =(AI9+AJ9)/2 -> #VALUE! | AL9: ='Aligning data'!Z10 -> G1 | AM9: ='Aligning data'!Z23 -> G2 | AN9: =(AL9+AM9)/2 -> #VALUE! | AO9: ='Aligning data'!AB10 -> G1 | AP9: ='Aligning data'!AB23 -> G2 | AQ9: =(AO9+AP9)/2 -> #VALUE! | AR9: ='Aligning data'!AD10 -> G1 | AS9: ='Aligning data'!AD23 -> G2 | AT9: =(AR9+AS9)/2 -> #VALUE! | AU9: ='Aligning data'!AF10 -> G1 | AV9: ='Aligning data'!AF23 -> G2 | AW9: =(AU9+AV9)/2 -> #VALUE! | AX9: ='Aligning data'!AH10 -> G1 | AY9: ='Aligning data'!AH23 -> G2 | AZ9: =(AX9+AY9)/2 -> #VALUE! | BA9: ='Aligning data'!AJ10 -> G1 | BB9: ='Aligning data'!AJ23 -> G2 | BC9: =(BA9+BB9)/2 -> #VALUE! | BD9: ='Aligning data'!AL10 -> G1 | BE9: ='Aligning data'!AL23 -> G2 | BF9: =(BD9+BE9)/2 -> #VALUE! | BG9: ='Aligning data'!AN10 -> G1 | BH9: ='Aligning data'!AN23 -> G2 | BI9: =(BG9+BH9)/2 -> #VALUE! | BJ9: ='Aligning data'!AP10 -> G1 | BK9: ='Aligning data'!AP23 -> G2 | BL9: =(BJ9+BK9)/2 -> #VALUE! | BM9: ='Aligning data'!AR10 -> G1 | BN9: ='Aligning data'!AR23 -> G2 | BO9: =(BM9+BN9)/2 -> #VALUE! | BP9: ='Aligning data'!AT10 -> G1 | BQ9: ='Aligning data'!AT23 -> G2 | BR9: =(BP9+BQ9)/2 -> #VALUE! | BS9: ='Aligning data'!AV10 -> G1 | BT9: ='Aligning data'!AV23 -> G2 | BU9: =(BS9+BT9)/2 -> #VALUE!
A10: ABL | B10: ='Aligning data'!B11 -> H1 | C10: ='Aligning data'!B24 -> H2 | D10: =(B10+C10)/2 -> #VALUE! | E10: ='Aligning data'!D11 -> H1 | F10: ='Aligning data'!D24 -> H2 | G10: =(E10+F10)/2 -> #VALUE! | H10: ='Aligning data'!F11 -> H1 | I10: ='Aligning data'!F24 -> H2 | J10: =(H10+I10)/2 -> #VALUE! | K10: ='Aligning data'!H11 -> H1 | L10: ='Aligning data'!H24 -> H2 | M10: =(K10+L10)/2 -> #VALUE! | N10: ='Aligning data'!J11 -> H1 | O10: ='Aligning data'!J24 -> H2 | P10: =(N10+O10)/2 -> #VALUE! | Q10: ='Aligning data'!L11 -> H1 | R10: ='Aligning data'!L24 -> H2 | S10: =(Q10+R10)/2 -> #VALUE! | T10: ='Aligning data'!N11 -> H1 | U10: ='Aligning data'!N24 -> H2 | V10: =(T10+U10)/2 -> #VALUE! | W10: ='Aligning data'!P11 -> H1 | X10: ='Aligning data'!P24 -> H2 | Y10: =(W10+X10)/2 -> #VALUE! | Z10: ='Aligning data'!R11 -> H1 | AA10: ='Aligning data'!R24 -> H2 | AB10: =(Z10+AA10)/2 -> #VALUE! | AC10: ='Aligning data'!T11 -> H1 | AD10: ='Aligning data'!T24 -> H2 | AE10: =(AC10+AD10)/2 -> #VALUE! | AF10: ='Aligning data'!V11 -> H1 | AG10: ='Aligning data'!V24 -> H2 | AH10: =(AF10+AG10)/2 -> #VALUE! | AI10: ='Aligning data'!X11 -> H1 | AJ10: ='Aligning data'!X24 -> H2 | AK10: =(AI10+AJ10)/2 -> #VALUE! | AL10: ='Aligning data'!Z11 -> H1 | AM10: ='Aligning data'!Z24 -> H2 | AN10: =(AL10+AM10)/2 -> #VALUE! | AO10: ='Aligning data'!AB11 -> H1 | AP10: ='Aligning data'!AB24 -> H2 | AQ10: =(AO10+AP10)/2 -> #VALUE! | AR10: ='Aligning data'!AD11 -> H1 | AS10: ='Aligning data'!AD24 -> H2 | AT10: =(AR10+AS10)/2 -> #VALUE! | AU10: ='Aligning data'!AF11 -> H1 | AV10: ='Aligning data'!AF24 -> H2 | AW10: =(AU10+AV10)/2 -> #VALUE! | AX10: ='Aligning data'!AH11 -> H1 | AY10: ='Aligning data'!AH24 -> H2 | AZ10: =(AX10+AY10)/2 -> #VALUE! | BA10: ='Aligning data'!AJ11 -> H1 | BB10: ='Aligning data'!AJ24 -> H2 | BC10: =(BA10+BB10)/2 -> #VALUE! | BD10: ='Aligning data'!AL11 -> H1 | BE10: ='Aligning data'!AL24 -> H2 | BF10: =(BD10+BE10)/2 -> #VALUE! | BG10: ='Aligning data'!AN11 -> H1 | BH10: ='Aligning data'!AN24 -> H2 | BI10: =(BG10+BH10)/2 -> #VALUE! | BJ10: ='Aligning data'!AP11 -> H1 | BK10: ='Aligning data'!AP24 -> H2 | BL10: =(BJ10+BK10)/2 -> #VALUE! | BM10: ='Aligning data'!AR11 -> H1 | BN10: ='Aligning data'!AR24 -> H2 | BO10: =(BM10+BN10)/2 -> #VALUE! | BP10: ='Aligning data'!AT11 -> H1 | BQ10: ='Aligning data'!AT24 -> H2 | BR10: =(BP10+BQ10)/2 -> #VALUE! | BS10: ='Aligning data'!AV11 -> H1 | BT10: ='Aligning data'!AV24 -> H2 | BU10: =(BS10+BT10)/2 -> #VALUE!
A11: ACG | B11: ='Aligning data'!B12 -> I1 | C11: ='Aligning data'!B25 -> I2 | D11: =(B11+C11)/2 -> #VALUE! | E11: ='Aligning data'!D12 -> I1 | F11: ='Aligning data'!D25 -> I2 | G11: =(E11+F11)/2 -> #VALUE! | H11: ='Aligning data'!F12 -> I1 | I11: ='Aligning data'!F25 -> I2 | J11: =(H11+I11)/2 -> #VALUE! | K11: ='Aligning data'!H12 -> I1 | L11: ='Aligning data'!H25 -> I2 | M11: =(K11+L11)/2 -> #VALUE! | N11: ='Aligning data'!J12 -> I1 | O11: ='Aligning data'!J25 -> I2 | P11: =(N11+O11)/2 -> #VALUE! | Q11: ='Aligning data'!L12 -> I1 | R11: ='Aligning data'!L25 -> I2 | S11: =(Q11+R11)/2 -> #VALUE! | T11: ='Aligning data'!N12 -> I1 | U11: ='Aligning data'!N25 -> I2 | V11: =(T11+U11)/2 -> #VALUE! | W11: ='Aligning data'!P12 -> I1 | X11: ='Aligning data'!P25 -> I2 | Y11: =(W11+X11)/2 -> #VALUE! | Z11: ='Aligning data'!R12 -> I1 | AA11: ='Aligning data'!R25 -> I2 | AB11: =(Z11+AA11)/2 -> #VALUE! | AC11: ='Aligning data'!T12 -> I1 | AD11: ='Aligning data'!T25 -> I2 | AE11: =(AC11+AD11)/2 -> #VALUE! | AF11: ='Aligning data'!V12 -> I1 | AG11: ='Aligning data'!V25 -> I2 | AH11: =(AF11+AG11)/2 -> #VALUE! | AI11: ='Aligning data'!X12 -> I1 | AJ11: ='Aligning data'!X25 -> I2 | AK11: =(AI11+AJ11)/2 -> #VALUE! | AL11: ='Aligning data'!Z12 -> I1 | AM11: ='Aligning data'!Z25 -> I2 | AN11: =(AL11+AM11)/2 -> #VALUE! | AO11: ='Aligning data'!AB12 -> I1 | AP11: ='Aligning data'!AB25 -> I2 | AQ11: =(AO11+AP11)/2 -> #VALUE! | AR11: ='Aligning data'!AD12 -> I1 | AS11: ='Aligning data'!AD25 -> I2 | AT11: =(AR11+AS11)/2 -> #VALUE! | AU11: ='Aligning data'!AF12 -> I1 | AV11: ='Aligning data'!AF25 -> I2 | AW11: =(AU11+AV11)/2 -> #VALUE! | AX11: ='Aligning data'!AH12 -> I1 | AY11: ='Aligning data'!AH25 -> I2 | AZ11: =(AX11+AY11)/2 -> #VALUE! | BA11: ='Aligning data'!AJ12 -> I1 | BB11: ='Aligning data'!AJ25 -> I2 | BC11: =(BA11+BB11)/2 -> #VALUE! | BD11: ='Aligning data'!AL12 -> I1 | BE11: ='Aligning data'!AL25 -> I2 | BF11: =(BD11+BE11)/2 -> #VALUE! | BG11: ='Aligning data'!AN12 -> I1 | BH11: ='Aligning data'!AN25 -> I2 | BI11: =(BG11+BH11)/2 -> #VALUE! | BJ11: ='Aligning data'!AP12 -> I1 | BK11: ='Aligning data'!AP25 -> I2 | BL11: =(BJ11+BK11)/2 -> #VALUE! | BM11: ='Aligning data'!AR12 -> I1 | BN11: ='Aligning data'!AR25 -> I2 | BO11: =(BM11+BN11)/2 -> #VALUE! | BP11: ='Aligning data'!AT12 -> I1 | BQ11: ='Aligning data'!AT25 -> I2 | BR11: =(BP11+BQ11)/2 -> #VALUE! | BS11: ='Aligning data'!AV12 -> I1 | BT11: ='Aligning data'!AV25 -> I2 | BU11: =(BS11+BT11)/2 -> #VALUE!
A12: ACL | B12: ='Aligning data'!B13 -> J1 | C12: ='Aligning data'!B26 -> J2 | D12: =(B12+C12)/2 -> #VALUE! | E12: ='Aligning data'!D13 -> J1 | F12: ='Aligning data'!D26 -> J2 | G12: =(E12+F12)/2 -> #VALUE! | H12: ='Aligning data'!F13 -> J1 | I12: ='Aligning data'!F26 -> J2 | J12: =(H12+I12)/2 -> #VALUE! | K12: ='Aligning data'!H13 -> J1 | L12: ='Aligning data'!H26 -> J2 | M12: =(K12+L12)/2 -> #VALUE! | N12: ='Aligning data'!J13 -> J1 | O12: ='Aligning data'!J26 -> J2 | P12: =(N12+O12)/2 -> #VALUE! | Q12: ='Aligning data'!L13 -> J1 | R12: ='Aligning data'!L26 -> J2 | S12: =(Q12+R12)/2 -> #VALUE! | T12: ='Aligning data'!N13 -> J1 | U12: ='Aligning data'!N26 -> J2 | V12: =(T12+U12)/2 -> #VALUE! | W12: ='Aligning data'!P13 -> J1 | X12: ='Aligning data'!P26 -> J2 | Y12: =(W12+X12)/2 -> #VALUE! | Z12: ='Aligning data'!R13 -> J1 | AA12: ='Aligning data'!R26 -> J2 | AB12: =(Z12+AA12)/2 -> #VALUE! | AC12: ='Aligning data'!T13 -> J1 | AD12: ='Aligning data'!T26 -> J2 | AE12: =(AC12+AD12)/2 -> #VALUE! | AF12: ='Aligning data'!V13 -> J1 | AG12: ='Aligning data'!V26 -> J2 | AH12: =(AF12+AG12)/2 -> #VALUE! | AI12: ='Aligning data'!X13 -> J1 | AJ12: ='Aligning data'!X26 -> J2 | AK12: =(AI12+AJ12)/2 -> #VALUE! | AL12: ='Aligning data'!Z13 -> J1 | AM12: ='Aligning data'!Z26 -> J2 | AN12: =(AL12+AM12)/2 -> #VALUE! | AO12: ='Aligning data'!AB13 -> J1 | AP12: ='Aligning data'!AB26 -> J2 | AQ12: =(AO12+AP12)/2 -> #VALUE! | AR12: ='Aligning data'!AD13 -> J1 | AS12: ='Aligning data'!AD26 -> J2 | AT12: =(AR12+AS12)/2 -> #VALUE! | AU12: ='Aligning data'!AF13 -> J1 | AV12: ='Aligning data'!AF26 -> J2 | AW12: =(AU12+AV12)/2 -> #VALUE! | AX12: ='Aligning data'!AH13 -> J1 | AY12: ='Aligning data'!AH26 -> J2 | AZ12: =(AX12+AY12)/2 -> #VALUE! | BA12: ='Aligning data'!AJ13 -> J1 | BB12: ='Aligning data'!AJ26 -> J2 | BC12: =(BA12+BB12)/2 -> #VALUE! | BD12: ='Aligning data'!AL13 -> J1 | BE12: ='Aligning data'!AL26 -> J2 | BF12: =(BD12+BE12)/2 -> #VALUE! | BG12: ='Aligning data'!AN13 -> J1 | BH12: ='Aligning data'!AN26 -> J2 | BI12: =(BG12+BH12)/2 -> #VALUE! | BJ12: ='Aligning data'!AP13 -> J1 | BK12: ='Aligning data'!AP26 -> J2 | BL12: =(BJ12+BK12)/2 -> #VALUE! | BM12: ='Aligning data'!AR13 -> J1 | BN12: ='Aligning data'!AR26 -> J2 | BO12: =(BM12+BN12)/2 -> #VALUE! | BP12: ='Aligning data'!AT13 -> J1 | BQ12: ='Aligning data'!AT26 -> J2 | BR12: =(BP12+BQ12)/2 -> #VALUE! | BS12: ='Aligning data'!AV13 -> J1 | BT12: ='Aligning data'!AV26 -> J2 | BU12: =(BS12+BT12)/2 -> #VALUE!
A13: AMA | B13: ='Aligning data'!B14 -> K1 | C13: ='Aligning data'!B27 -> K2 | D13: =(B13+C13)/2 -> #VALUE! | E13: ='Aligning data'!D14 -> K1 | F13: ='Aligning data'!D27 -> K2 | G13: =(E13+F13)/2 -> #VALUE! | H13: ='Aligning data'!F14 -> K1 | I13: ='Aligning data'!F27 -> K2 | J13: =(H13+I13)/2 -> #VALUE! | K13: ='Aligning data'!H14 -> K1 | L13: ='Aligning data'!H27 -> K2 | M13: =(K13+L13)/2 -> #VALUE! | N13: ='Aligning data'!J14 -> K1 | O13: ='Aligning data'!J27 -> K2 | P13: =(N13+O13)/2 -> #VALUE! | Q13: ='Aligning data'!L14 -> K1 | R13: ='Aligning data'!L27 -> K2 | S13: =(Q13+R13)/2 -> #VALUE! | T13: ='Aligning data'!N14 -> K1 | U13: ='Aligning data'!N27 -> K2 | V13: =(T13+U13)/2 -> #VALUE! | W13: ='Aligning data'!P14 -> K1 | X13: ='Aligning data'!P27 -> K2 | Y13: =(W13+X13)/2 -> #VALUE! | Z13: ='Aligning data'!R14 -> K1 | AA13: ='Aligning data'!R27 -> K2 | AB13: =(Z13+AA13)/2 -> #VALUE! | AC13: ='Aligning data'!T14 -> K1 | AD13: ='Aligning data'!T27 -> K2 | AE13: =(AC13+AD13)/2 -> #VALUE! | AF13: ='Aligning data'!V14 -> K1 | AG13: ='Aligning data'!V27 -> K2 | AH13: =(AF13+AG13)/2 -> #VALUE! | AI13: ='Aligning data'!X14 -> K1 | AJ13: ='Aligning data'!X27 -> K2 | AK13: =(AI13+AJ13)/2 -> #VALUE! | AL13: ='Aligning data'!Z14 -> K1 | AM13: ='Aligning data'!Z27 -> K2 | AN13: =(AL13+AM13)/2 -> #VALUE! | AO13: ='Aligning data'!AB14 -> K1 | AP13: ='Aligning data'!AB27 -> K2 | AQ13: =(AO13+AP13)/2 -> #VALUE! | AR13: ='Aligning data'!AD14 -> K1 | AS13: ='Aligning data'!AD27 -> K2 | AT13: =(AR13+AS13)/2 -> #VALUE! | AU13: ='Aligning data'!AF14 -> K1 | AV13: ='Aligning data'!AF27 -> K2 | AW13: =(AU13+AV13)/2 -> #VALUE! | AX13: ='Aligning data'!AH14 -> K1 | AY13: ='Aligning data'!AH27 -> K2 | AZ13: =(AX13+AY13)/2 -> #VALUE! | BA13: ='Aligning data'!AJ14 -> K1 | BB13: ='Aligning data'!AJ27 -> K2 | BC13: =(BA13+BB13)/2 -> #VALUE! | BD13: ='Aligning data'!AL14 -> K1 | BE13: ='Aligning data'!AL27 -> K2 | BF13: =(BD13+BE13)/2 -> #VALUE! | BG13: ='Aligning data'!AN14 -> K1 | BH13: ='Aligning data'!AN27 -> K2 | BI13: =(BG13+BH13)/2 -> #VALUE! | BJ13: ='Aligning data'!AP14 -> K1 | BK13: ='Aligning data'!AP27 -> K2 | BL13: =(BJ13+BK13)/2 -> #VALUE! | BM13: ='Aligning data'!AR14 -> K1 | BN13: ='Aligning data'!AR27 -> K2 | BO13: =(BM13+BN13)/2 -> #VALUE! | BP13: ='Aligning data'!AT14 -> K1 | BQ13: ='Aligning data'!AT27 -> K2 | BR13: =(BP13+BQ13)/2 -> #VALUE! | BS13: ='Aligning data'!AV14 -> K1 | BT13: ='Aligning data'!AV27 -> K2 | BU13: =(BS13+BT13)/2 -> #VALUE!
A14: ASA | B14: ='Aligning data'!B15 -> L1 | C14: ='Aligning data'!B28 -> L2 | D14: =(B14+C14)/2 -> #VALUE! | E14: ='Aligning data'!D15 -> L1 | F14: ='Aligning data'!D28 -> L2 | G14: =(E14+F14)/2 -> #VALUE! | H14: ='Aligning data'!F15 -> L1 | I14: ='Aligning data'!F28 -> L2 | J14: =(H14+I14)/2 -> #VALUE! | K14: ='Aligning data'!H15 -> L1 | L14: ='Aligning data'!H28 -> L2 | M14: =(K14+L14)/2 -> #VALUE! | N14: ='Aligning data'!J15 -> L1 | O14: ='Aligning data'!J28 -> L2 | P14: =(N14+O14)/2 -> #VALUE! | Q14: ='Aligning data'!L15 -> L1 | R14: ='Aligning data'!L28 -> L2 | S14: =(Q14+R14)/2 -> #VALUE! | T14: ='Aligning data'!N15 -> L1 | U14: ='Aligning data'!N28 -> L2 | V14: =(T14+U14)/2 -> #VALUE! | W14: ='Aligning data'!P15 -> L1 | X14: ='Aligning data'!P28 -> L2 | Y14: =(W14+X14)/2 -> #VALUE! | Z14: ='Aligning data'!R15 -> L1 | AA14: ='Aligning data'!R28 -> L2 | AB14: =(Z14+AA14)/2 -> #VALUE! | AC14: ='Aligning data'!T15 -> L1 | AD14: ='Aligning data'!T28 -> L2 | AE14: =(AC14+AD14)/2 -> #VALUE! | AF14: ='Aligning data'!V15 -> L1 | AG14: ='Aligning data'!V28 -> L2 | AH14: =(AF14+AG14)/2 -> #VALUE! | AI14: ='Aligning data'!X15 -> L1 | AJ14: ='Aligning data'!X28 -> L2 | AK14: =(AI14+AJ14)/2 -> #VALUE! | AL14: ='Aligning data'!Z15 -> L1 | AM14: ='Aligning data'!Z28 -> L2 | AN14: =(AL14+AM14)/2 -> #VALUE! | AO14: ='Aligning data'!AB15 -> L1 | AP14: ='Aligning data'!AB28 -> L2 | AQ14: =(AO14+AP14)/2 -> #VALUE! | AR14: ='Aligning data'!AD15 -> L1 | AS14: ='Aligning data'!AD28 -> L2 | AT14: =(AR14+AS14)/2 -> #VALUE! | AU14: ='Aligning data'!AF15 -> L1 | AV14: ='Aligning data'!AF28 -> L2 | AW14: =(AU14+AV14)/2 -> #VALUE! | AX14: ='Aligning data'!AH15 -> L1 | AY14: ='Aligning data'!AH28 -> L2 | AZ14: =(AX14+AY14)/2 -> #VALUE! | BA14: ='Aligning data'!AJ15 -> L1 | BB14: ='Aligning data'!AJ28 -> L2 | BC14: =(BA14+BB14)/2 -> #VALUE! | BD14: ='Aligning data'!AL15 -> L1 | BE14: ='Aligning data'!AL28 -> L2 | BF14: =(BD14+BE14)/2 -> #VALUE! | BG14: ='Aligning data'!AN15 -> L1 | BH14: ='Aligning data'!AN28 -> L2 | BI14: =(BG14+BH14)/2 -> #VALUE! | BJ14: ='Aligning data'!AP15 -> L1 | BK14: ='Aligning data'!AP28 -> L2 | BL14: =(BJ14+BK14)/2 -> #VALUE! | BM14: ='Aligning data'!AR15 -> L1 | BN14: ='Aligning data'!AR28 -> L2 | BO14: =(BM14+BN14)/2 -> #VALUE! | BP14: ='Aligning data'!AT15 -> L1 | BQ14: ='Aligning data'!AT28 -> L2 | BR14: =(BP14+BQ14)/2 -> #VALUE! | BS14: ='Aligning data'!AV15 -> L1 | BT14: ='Aligning data'!AV28 -> L2 | BU14: =(BS14+BT14)/2 -> #VALUE!
A15: BANLEC | B15: ='Aligning data'!B16 -> M1 | C15: ='Aligning data'!B29 -> M2 | D15: =(B15+C15)/2 -> #VALUE! | E15: ='Aligning data'!D16 -> M1 | F15: ='Aligning data'!D29 -> M2 | G15: =(E15+F15)/2 -> #VALUE! | H15: ='Aligning data'!F16 -> M1 | I15: ='Aligning data'!F29 -> M2 | J15: =(H15+I15)/2 -> #VALUE! | K15: ='Aligning data'!H16 -> M1 | L15: ='Aligning data'!H29 -> M2 | M15: =(K15+L15)/2 -> #VALUE! | N15: ='Aligning data'!J16 -> M1 | O15: ='Aligning data'!J29 -> M2 | P15: =(N15+O15)/2 -> #VALUE! | Q15: ='Aligning data'!L16 -> M1 | R15: ='Aligning data'!L29 -> M2 | S15: =(Q15+R15)/2 -> #VALUE! | T15: ='Aligning data'!N16 -> M1 | U15: ='Aligning data'!N29 -> M2 | V15: =(T15+U15)/2 -> #VALUE! | W15: ='Aligning data'!P16 -> M1 | X15: ='Aligning data'!P29 -> M2 | Y15: =(W15+X15)/2 -> #VALUE! | Z15: ='Aligning data'!R16 -> M1 | AA15: ='Aligning data'!R29 -> M2 | AB15: =(Z15+AA15)/2 -> #VALUE! | AC15: ='Aligning data'!T16 -> M1 | AD15: ='Aligning data'!T29 -> M2 | AE15: =(AC15+AD15)/2 -> #VALUE! | AF15: ='Aligning data'!V16 -> M1 | AG15: ='Aligning data'!V29 -> M2 | AH15: =(AF15+AG15)/2 -> #VALUE! | AI15: ='Aligning data'!X16 -> M1 | AJ15: ='Aligning data'!X29 -> M2 | AK15: =(AI15+AJ15)/2 -> #VALUE! | AL15: ='Aligning data'!Z16 -> M1 | AM15: ='Aligning data'!Z29 -> M2 | AN15: =(AL15+AM15)/2 -> #VALUE! | AO15: ='Aligning data'!AB16 -> M1 | AP15: ='Aligning data'!AB29 -> M2 | AQ15: =(AO15+AP15)/2 -> #VALUE! | AR15: ='Aligning data'!AD16 -> M1 | AS15: ='Aligning data'!AD29 -> M2 | AT15: =(AR15+AS15)/2 -> #VALUE! | AU15: ='Aligning data'!AF16 -> M1 | AV15: ='Aligning data'!AF29 -> M2 | AW15: =(AU15+AV15)/2 -> #VALUE! | AX15: ='Aligning data'!AH16 -> M1 | AY15: ='Aligning data'!AH29 -> M2 | AZ15: =(AX15+AY15)/2 -> #VALUE! | BA15: ='Aligning data'!AJ16 -> M1 | BB15: ='Aligning data'!AJ29 -> M2 | BC15: =(BA15+BB15)/2 -> #VALUE! | BD15: ='Aligning data'!AL16 -> M1 | BE15: ='Aligning data'!AL29 -> M2 | BF15: =(BD15+BE15)/2 -> #VALUE! | BG15: ='Aligning data'!AN16 -> M1 | BH15: ='Aligning data'!AN29 -> M2 | BI15: =(BG15+BH15)/2 -> #VALUE! | BJ15: ='Aligning data'!AP16 -> M1 | BK15: ='Aligning data'!AP29 -> M2 | BL15: =(BJ15+BK15)/2 -> #VALUE! | BM15: ='Aligning data'!AR16 -> M1 | BN15: ='Aligning data'!AR29 -> M2 | BO15: =(BM15+BN15)/2 -> #VALUE! | BP15: ='Aligning data'!AT16 -> M1 | BQ15: ='Aligning data'!AT29 -> M2 | BR15: =(BP15+BQ15)/2 -> #VALUE! | BS15: ='Aligning data'!AV16 -> M1 | BT15: ='Aligning data'!AV29 -> M2 | BU15: =(BS15+BT15)/2 -> #VALUE!
A16: BC2L-A | B16: ='Aligning data'!B30 -> A3 | C16: ='Aligning data'!B43 -> A4 | D16: =(B16+C16)/2 -> #VALUE! | E16: ='Aligning data'!D30 -> A3 | F16: ='Aligning data'!D43 -> A4 | G16: =(E16+F16)/2 -> #VALUE! | H16: ='Aligning data'!F30 -> A3 | I16: ='Aligning data'!F43 -> A4 | J16: =(H16+I16)/2 -> #VALUE! | K16: ='Aligning data'!H30 -> A3 | L16: ='Aligning data'!H43 -> A4 | M16: =(K16+L16)/2 -> #VALUE! | N16: ='Aligning data'!J30 -> A3 | O16: ='Aligning data'!J43 -> A4 | P16: =(N16+O16)/2 -> #VALUE! | Q16: ='Aligning data'!L30 -> A3 | R16: ='Aligning data'!L43 -> A4 | S16: =(Q16+R16)/2 -> #VALUE! | T16: ='Aligning data'!N30 -> A3 | U16: ='Aligning data'!N43 -> A4 | V16: =(T16+U16)/2 -> #VALUE! | W16: ='Aligning data'!P30 -> A3 | X16: ='Aligning data'!P43 -> A4 | Y16: =(W16+X16)/2 -> #VALUE! | Z16: ='Aligning data'!R30 -> A3 | AA16: ='Aligning data'!R43 -> A4 | AB16: =(Z16+AA16)/2 -> #VALUE! | AC16: ='Aligning data'!T30 -> A3 | AD16: ='Aligning data'!T43 -> A4 | AE16: =(AC16+AD16)/2 -> #VALUE! | AF16: ='Aligning data'!V30 -> A3 | AG16: ='Aligning data'!V43 -> A4 | AH16: =(AF16+AG16)/2 -> #VALUE! | AI16: ='Aligning data'!X30 -> A3 | AJ16: ='Aligning data'!X43 -> A4 | AK16: =(AI16+AJ16)/2 -> #VALUE! | AL16: ='Aligning data'!Z30 -> A3 | AM16: ='Aligning data'!Z43 -> A4 | AN16: =(AL16+AM16)/2 -> #VALUE! | AO16: ='Aligning data'!AB30 -> A3 | AP16: ='Aligning data'!AB43 -> A4 | AQ16: =(AO16+AP16)/2 -> #VALUE! | AR16: ='Aligning data'!AD30 -> A3 | AS16: ='Aligning data'!AD43 -> A4 | AT16: =(AR16+AS16)/2 -> #VALUE! | AU16: ='Aligning data'!AF30 -> A3 | AV16: ='Aligning data'!AF43 -> A4 | AW16: =(AU16+AV16)/2 -> #VALUE! | AX16: ='Aligning data'!AH30 -> A3 | AY16: ='Aligning data'!AH43 -> A4 | AZ16: =(AX16+AY16)/2 -> #VALUE! | BA16: ='Aligning data'!AJ30 -> A3 | BB16: ='Aligning data'!AJ43 -> A4 | BC16: =(BA16+BB16)/2 -> #VALUE! | BD16: ='Aligning data'!AL30 -> A3 | BE16: ='Aligning data'!AL43 -> A4 | BF16: =(BD16+BE16)/2 -> #VALUE! | BG16: ='Aligning data'!AN30 -> A3 | BH16: ='Aligning data'!AN43 -> A4 | BI16: =(BG16+BH16)/2 -> #VALUE! | BJ16: ='Aligning data'!AP30 -> A3 | BK16: ='Aligning data'!AP43 -> A4 | BL16: =(BJ16+BK16)/2 -> #VALUE! | BM16: ='Aligning data'!AR30 -> A3 | BN16: ='Aligning data'!AR43 -> A4 | BO16: =(BM16+BN16)/2 -> #VALUE! | BP16: ='Aligning data'!AT30 -> A3 | BQ16: ='Aligning data'!AT43 -> A4 | BR16: =(BP16+BQ16)/2 -> #VALUE! | BS16: ='Aligning data'!AV30 -> A3 | BT16: ='Aligning data'!AV43 -> A4 | BU16: =(BS16+BT16)/2 -> #VALUE!
A17: BC2LCN | B17: ='Aligning data'!B31 -> B3 | C17: ='Aligning data'!B44 -> B4 | D17: =(B17+C17)/2 -> #VALUE! | E17: ='Aligning data'!D31 -> B3 | F17: ='Aligning data'!D44 -> B4 | G17: =(E17+F17)/2 -> #VALUE! | H17: ='Aligning data'!F31 -> B3 | I17: ='Aligning data'!F44 -> B4 | J17: =(H17+I17)/2 -> #VALUE! | K17: ='Aligning data'!H31 -> B3 | L17: ='Aligning data'!H44 -> B4 | M17: =(K17+L17)/2 -> #VALUE! | N17: ='Aligning data'!J31 -> B3 | O17: ='Aligning data'!J44 -> B4 | P17: =(N17+O17)/2 -> #VALUE! | Q17: ='Aligning data'!L31 -> B3 | R17: ='Aligning data'!L44 -> B4 | S17: =(Q17+R17)/2 -> #VALUE! | T17: ='Aligning data'!N31 -> B3 | U17: ='Aligning data'!N44 -> B4 | V17: =(T17+U17)/2 -> #VALUE! | W17: ='Aligning data'!P31 -> B3 | X17: ='Aligning data'!P44 -> B4 | Y17: =(W17+X17)/2 -> #VALUE! | Z17: ='Aligning data'!R31 -> B3 | AA17: ='Aligning data'!R44 -> B4 | AB17: =(Z17+AA17)/2 -> #VALUE! | AC17: ='Aligning data'!T31 -> B3 | AD17: ='Aligning data'!T44 -> B4 | AE17: =(AC17+AD17)/2 -> #VALUE! | AF17: ='Aligning data'!V31 -> B3 | AG17: ='Aligning data'!V44 -> B4 | AH17: =(AF17+AG17)/2 -> #VALUE! | AI17: ='Aligning data'!X31 -> B3 | AJ17: ='Aligning data'!X44 -> B4 | AK17: =(AI17+AJ17)/2 -> #VALUE! | AL17: ='Aligning data'!Z31 -> B3 | AM17: ='Aligning data'!Z44 -> B4 | AN17: =(AL17+AM17)/2 -> #VALUE! | AO17: ='Aligning data'!AB31 -> B3 | AP17: ='Aligning data'!AB44 -> B4 | AQ17: =(AO17+AP17)/2 -> #VALUE! | AR17: ='Aligning data'!AD31 -> B3 | AS17: ='Aligning data'!AD44 -> B4 | AT17: =(AR17+AS17)/2 -> #VALUE! | AU17: ='Aligning data'!AF31 -> B3 | AV17: ='Aligning data'!AF44 -> B4 | AW17: =(AU17+AV17)/2 -> #VALUE! | AX17: ='Aligning data'!AH31 -> B3 | AY17: ='Aligning data'!AH44 -> B4 | AZ17: =(AX17+AY17)/2 -> #VALUE! | BA17: ='Aligning data'!AJ31 -> B3 | BB17: ='Aligning data'!AJ44 -> B4 | BC17: =(BA17+BB17)/2 -> #VALUE! | BD17: ='Aligning data'!AL31 -> B3 | BE17: ='Aligning data'!AL44 -> B4 | BF17: =(BD17+BE17)/2 -> #VALUE! | BG17: ='Aligning data'!AN31 -> B3 | BH17: ='Aligning data'!AN44 -> B4 | BI17: =(BG17+BH17)/2 -> #VALUE! | BJ17: ='Aligning data'!AP31 -> B3 | BK17: ='Aligning data'!AP44 -> B4 | BL17: =(BJ17+BK17)/2 -> #VALUE! | BM17: ='Aligning data'!AR31 -> B3 | BN17: ='Aligning data'!AR44 -> B4 | BO17: =(BM17+BN17)/2 -> #VALUE! | BP17: ='Aligning data'!AT31 -> B3 | BQ17: ='Aligning data'!AT44 -> B4 | BR17: =(BP17+BQ17)/2 -> #VALUE! | BS17: ='Aligning data'!AV31 -> B3 | BT17: ='Aligning data'!AV44 -> B4 | BU17: =(BS17+BT17)/2 -> #VALUE!
A18: BPA | B18: ='Aligning data'!B32 -> C3 | C18: ='Aligning data'!B45 -> C4 | D18: =(B18+C18)/2 -> #VALUE! | E18: ='Aligning data'!D32 -> C3 | F18: ='Aligning data'!D45 -> C4 | G18: =(E18+F18)/2 -> #VALUE! | H18: ='Aligning data'!F32 -> C3 | I18: ='Aligning data'!F45 -> C4 | J18: =(H18+I18)/2 -> #VALUE! | K18: ='Aligning data'!H32 -> C3 | L18: ='Aligning data'!H45 -> C4 | M18: =(K18+L18)/2 -> #VALUE! | N18: ='Aligning data'!J32 -> C3 | O18: ='Aligning data'!J45 -> C4 | P18: =(N18+O18)/2 -> #VALUE! | Q18: ='Aligning data'!L32 -> C3 | R18: ='Aligning data'!L45 -> C4 | S18: =(Q18+R18)/2 -> #VALUE! | T18: ='Aligning data'!N32 -> C3 | U18: ='Aligning data'!N45 -> C4 | V18: =(T18+U18)/2 -> #VALUE! | W18: ='Aligning data'!P32 -> C3 | X18: ='Aligning data'!P45 -> C4 | Y18: =(W18+X18)/2 -> #VALUE! | Z18: ='Aligning data'!R32 -> C3 | AA18: ='Aligning data'!R45 -> C4 | AB18: =(Z18+AA18)/2 -> #VALUE! | AC18: ='Aligning data'!T32 -> C3 | AD18: ='Aligning data'!T45 -> C4 | AE18: =(AC18+AD18)/2 -> #VALUE! | AF18: ='Aligning data'!V32 -> C3 | AG18: ='Aligning data'!V45 -> C4 | AH18: =(AF18+AG18)/2 -> #VALUE! | AI18: ='Aligning data'!X32 -> C3 | AJ18: ='Aligning data'!X45 -> C4 | AK18: =(AI18+AJ18)/2 -> #VALUE! | AL18: ='Aligning data'!Z32 -> C3 | AM18: ='Aligning data'!Z45 -> C4 | AN18: =(AL18+AM18)/2 -> #VALUE! | AO18: ='Aligning data'!AB32 -> C3 | AP18: ='Aligning data'!AB45 -> C4 | AQ18: =(AO18+AP18)/2 -> #VALUE! | AR18: ='Aligning data'!AD32 -> C3 | AS18: ='Aligning data'!AD45 -> C4 | AT18: =(AR18+AS18)/2 -> #VALUE! | AU18: ='Aligning data'!AF32 -> C3 | AV18: ='Aligning data'!AF45 -> C4 | AW18: =(AU18+AV18)/2 -> #VALUE! | AX18: ='Aligning data'!AH32 -> C3 | AY18: ='Aligning data'!AH45 -> C4 | AZ18: =(AX18+AY18)/2 -> #VALUE! | BA18: ='Aligning data'!AJ32 -> C3 | BB18: ='Aligning data'!AJ45 -> C4 | BC18: =(BA18+BB18)/2 -> #VALUE! | BD18: ='Aligning data'!AL32 -> C3 | BE18: ='Aligning data'!AL45 -> C4 | BF18: =(BD18+BE18)/2 -> #VALUE! | BG18: ='Aligning data'!AN32 -> C3 | BH18: ='Aligning data'!AN45 -> C4 | BI18: =(BG18+BH18)/2 -> #VALUE! | BJ18: ='Aligning data'!AP32 -> C3 | BK18: ='Aligning data'!AP45 -> C4 | BL18: =(BJ18+BK18)/2 -> #VALUE! | BM18: ='Aligning data'!AR32 -> C3 | BN18: ='Aligning data'!AR45 -> C4 | BO18: =(BM18+BN18)/2 -> #VALUE! | BP18: ='Aligning data'!AT32 -> C3 | BQ18: ='Aligning data'!AT45 -> C4 | BR18: =(BP18+BQ18)/2 -> #VALUE! | BS18: ='Aligning data'!AV32 -> C3 | BT18: ='Aligning data'!AV45 -> C4 | BU18: =(BS18+BT18)/2 -> #VALUE!
A19: CA | B19: ='Aligning data'!B33 -> D3 | C19: ='Aligning data'!B46 -> D4 | D19: =(B19+C19)/2 -> #VALUE! | E19: ='Aligning data'!D33 -> D3 | F19: ='Aligning data'!D46 -> D4 | G19: =(E19+F19)/2 -> #VALUE! | H19: ='Aligning data'!F33 -> D3 | I19: ='Aligning data'!F46 -> D4 | J19: =(H19+I19)/2 -> #VALUE! | K19: ='Aligning data'!H33 -> D3 | L19: ='Aligning data'!H46 -> D4 | M19: =(K19+L19)/2 -> #VALUE! | N19: ='Aligning data'!J33 -> D3 | O19: ='Aligning data'!J46 -> D4 | P19: =(N19+O19)/2 -> #VALUE! | Q19: ='Aligning data'!L33 -> D3 | R19: ='Aligning data'!L46 -> D4 | S19: =(Q19+R19)/2 -> #VALUE! | T19: ='Aligning data'!N33 -> D3 | U19: ='Aligning data'!N46 -> D4 | V19: =(T19+U19)/2 -> #VALUE! | W19: ='Aligning data'!P33 -> D3 | X19: ='Aligning data'!P46 -> D4 | Y19: =(W19+X19)/2 -> #VALUE! | Z19: ='Aligning data'!R33 -> D3 | AA19: ='Aligning data'!R46 -> D4 | AB19: =(Z19+AA19)/2 -> #VALUE! | AC19: ='Aligning data'!T33 -> D3 | AD19: ='Aligning data'!T46 -> D4 | AE19: =(AC19+AD19)/2 -> #VALUE! | AF19: ='Aligning data'!V33 -> D3 | AG19: ='Aligning data'!V46 -> D4 | AH19: =(AF19+AG19)/2 -> #VALUE! | AI19: ='Aligning data'!X33 -> D3 | AJ19: ='Aligning data'!X46 -> D4 | AK19: =(AI19+AJ19)/2 -> #VALUE! | AL19: ='Aligning data'!Z33 -> D3 | AM19: ='Aligning data'!Z46 -> D4 | AN19: =(AL19+AM19)/2 -> #VALUE! | AO19: ='Aligning data'!AB33 -> D3 | AP19: ='Aligning data'!AB46 -> D4 | AQ19: =(AO19+AP19)/2 -> #VALUE! | AR19: ='Aligning data'!AD33 -> D3 | AS19: ='Aligning data'!AD46 -> D4 | AT19: =(AR19+AS19)/2 -> #VALUE! | AU19: ='Aligning data'!AF33 -> D3 | AV19: ='Aligning data'!AF46 -> D4 | AW19: =(AU19+AV19)/2 -> #VALUE! | AX19: ='Aligning data'!AH33 -> D3 | AY19: ='Aligning data'!AH46 -> D4 | AZ19: =(AX19+AY19)/2 -> #VALUE! | BA19: ='Aligning data'!AJ33 -> D3 | BB19: ='Aligning data'!AJ46 -> D4 | BC19: =(BA19+BB19)/2 -> #VALUE! | BD19: ='Aligning data'!AL33 -> D3 | BE19: ='Aligning data'!AL46 -> D4 | BF19: =(BD19+BE19)/2 -> #VALUE! | BG19: ='Aligning data'!AN33 -> D3 | BH19: ='Aligning data'!AN46 -> D4 | BI19: =(BG19+BH19)/2 -> #VALUE! | BJ19: ='Aligning data'!AP33 -> D3 | BK19: ='Aligning data'!AP46 -> D4 | BL19: =(BJ19+BK19)/2 -> #VALUE! | BM19: ='Aligning data'!AR33 -> D3 | BN19: ='Aligning data'!AR46 -> D4 | BO19: =(BM19+BN19)/2 -> #VALUE! | BP19: ='Aligning data'!AT33 -> D3 | BQ19: ='Aligning data'!AT46 -> D4 | BR19: =(BP19+BQ19)/2 -> #VALUE! | BS19: ='Aligning data'!AV33 -> D3 | BT19: ='Aligning data'!AV46 -> D4 | BU19: =(BS19+BT19)/2 -> #VALUE!
A20: CAA | B20: ='Aligning data'!B34 -> E3 | C20: ='Aligning data'!B47 -> E4 | D20: =(B20+C20)/2 -> #VALUE! | E20: ='Aligning data'!D34 -> E3 | F20: ='Aligning data'!D47 -> E4 | G20: =(E20+F20)/2 -> #VALUE! | H20: ='Aligning data'!F34 -> E3 | I20: ='Aligning data'!F47 -> E4 | J20: =(H20+I20)/2 -> #VALUE! | K20: ='Aligning data'!H34 -> E3 | L20: ='Aligning data'!H47 -> E4 | M20: =(K20+L20)/2 -> #VALUE! | N20: ='Aligning data'!J34 -> E3 | O20: ='Aligning data'!J47 -> E4 | P20: =(N20+O20)/2 -> #VALUE! | Q20: ='Aligning data'!L34 -> E3 | R20: ='Aligning data'!L47 -> E4 | S20: =(Q20+R20)/2 -> #VALUE! | T20: ='Aligning data'!N34 -> E3 | U20: ='Aligning data'!N47 -> E4 | V20: =(T20+U20)/2 -> #VALUE! | W20: ='Aligning data'!P34 -> E3 | X20: ='Aligning data'!P47 -> E4 | Y20: =(W20+X20)/2 -> #VALUE! | Z20: ='Aligning data'!R34 -> E3 | AA20: ='Aligning data'!R47 -> E4 | AB20: =(Z20+AA20)/2 -> #VALUE! | AC20: ='Aligning data'!T34 -> E3 | AD20: ='Aligning data'!T47 -> E4 | AE20: =(AC20+AD20)/2 -> #VALUE! | AF20: ='Aligning data'!V34 -> E3 | AG20: ='Aligning data'!V47 -> E4 | AH20: =(AF20+AG20)/2 -> #VALUE! | AI20: ='Aligning data'!X34 -> E3 | AJ20: ='Aligning data'!X47 -> E4 | AK20: =(AI20+AJ20)/2 -> #VALUE! | AL20: ='Aligning data'!Z34 -> E3 | AM20: ='Aligning data'!Z47 -> E4 | AN20: =(AL20+AM20)/2 -> #VALUE! | AO20: ='Aligning data'!AB34 -> E3 | AP20: ='Aligning data'!AB47 -> E4 | AQ20: =(AO20+AP20)/2 -> #VALUE! | AR20: ='Aligning data'!AD34 -> E3 | AS20: ='Aligning data'!AD47 -> E4 | AT20: =(AR20+AS20)/2 -> #VALUE! | AU20: ='Aligning data'!AF34 -> E3 | AV20: ='Aligning data'!AF47 -> E4 | AW20: =(AU20+AV20)/2 -> #VALUE! | AX20: ='Aligning data'!AH34 -> E3 | AY20: ='Aligning data'!AH47 -> E4 | AZ20: =(AX20+AY20)/2 -> #VALUE! | BA20: ='Aligning data'!AJ34 -> E3 | BB20: ='Aligning data'!AJ47 -> E4 | BC20: =(BA20+BB20)/2 -> #VALUE! | BD20: ='Aligning data'!AL34 -> E3 | BE20: ='Aligning data'!AL47 -> E4 | BF20: =(BD20+BE20)/2 -> #VALUE! | BG20: ='Aligning data'!AN34 -> E3 | BH20: ='Aligning data'!AN47 -> E4 | BI20: =(BG20+BH20)/2 -> #VALUE! | BJ20: ='Aligning data'!AP34 -> E3 | BK20: ='Aligning data'!AP47 -> E4 | BL20: =(BJ20+BK20)/2 -> #VALUE! | BM20: ='Aligning data'!AR34 -> E3 | BN20: ='Aligning data'!AR47 -> E4 | BO20: =(BM20+BN20)/2 -> #VALUE! | BP20: ='Aligning data'!AT34 -> E3 | BQ20: ='Aligning data'!AT47 -> E4 | BR20: =(BP20+BQ20)/2 -> #VALUE! | BS20: ='Aligning data'!AV34 -> E3 | BT20: ='Aligning data'!AV47 -> E4 | BU20: =(BS20+BT20)/2 -> #VALUE!
A21: CALSEPA | B21: ='Aligning data'!B35 -> F3 | C21: ='Aligning data'!B48 -> F4 | D21: =(B21+C21)/2 -> #VALUE! | E21: ='Aligning data'!D35 -> F3 | F21: ='Aligning data'!D48 -> F4 | G21: =(E21+F21)/2 -> #VALUE! | H21: ='Aligning data'!F35 -> F3 | I21: ='Aligning data'!F48 -> F4 | J21: =(H21+I21)/2 -> #VALUE! | K21: ='Aligning data'!H35 -> F3 | L21: ='Aligning data'!H48 -> F4 | M21: =(K21+L21)/2 -> #VALUE! | N21: ='Aligning data'!J35 -> F3 | O21: ='Aligning data'!J48 -> F4 | P21: =(N21+O21)/2 -> #VALUE! | Q21: ='Aligning data'!L35 -> F3 | R21: ='Aligning data'!L48 -> F4 | S21: =(Q21+R21)/2 -> #VALUE! | T21: ='Aligning data'!N35 -> F3 | U21: ='Aligning data'!N48 -> F4 | V21: =(T21+U21)/2 -> #VALUE! | W21: ='Aligning data'!P35 -> F3 | X21: ='Aligning data'!P48 -> F4 | Y21: =(W21+X21)/2 -> #VALUE! | Z21: ='Aligning data'!R35 -> F3 | AA21: ='Aligning data'!R48 -> F4 | AB21: =(Z21+AA21)/2 -> #VALUE! | AC21: ='Aligning data'!T35 -> F3 | AD21: ='Aligning data'!T48 -> F4 | AE21: =(AC21+AD21)/2 -> #VALUE! | AF21: ='Aligning data'!V35 -> F3 | AG21: ='Aligning data'!V48 -> F4 | AH21: =(AF21+AG21)/2 -> #VALUE! | AI21: ='Aligning data'!X35 -> F3 | AJ21: ='Aligning data'!X48 -> F4 | AK21: =(AI21+AJ21)/2 -> #VALUE! | AL21: ='Aligning data'!Z35 -> F3 | AM21: ='Aligning data'!Z48 -> F4 | AN21: =(AL21+AM21)/2 -> #VALUE! | AO21: ='Aligning data'!AB35 -> F3 | AP21: ='Aligning data'!AB48 -> F4 | AQ21: =(AO21+AP21)/2 -> #VALUE! | AR21: ='Aligning data'!AD35 -> F3 | AS21: ='Aligning data'!AD48 -> F4 | AT21: =(AR21+AS21)/2 -> #VALUE! | AU21: ='Aligning data'!AF35 -> F3 | AV21: ='Aligning data'!AF48 -> F4 | AW21: =(AU21+AV21)/2 -> #VALUE! | AX21: ='Aligning data'!AH35 -> F3 | AY21: ='Aligning data'!AH48 -> F4 | AZ21: =(AX21+AY21)/2 -> #VALUE! | BA21: ='Aligning data'!AJ35 -> F3 | BB21: ='Aligning data'!AJ48 -> F4 | BC21: =(BA21+BB21)/2 -> #VALUE! | BD21: ='Aligning data'!AL35 -> F3 | BE21: ='Aligning data'!AL48 -> F4 | BF21: =(BD21+BE21)/2 -> #VALUE! | BG21: ='Aligning data'!AN35 -> F3 | BH21: ='Aligning data'!AN48 -> F4 | BI21: =(BG21+BH21)/2 -> #VALUE! | BJ21: ='Aligning data'!AP35 -> F3 | BK21: ='Aligning data'!AP48 -> F4 | BL21: =(BJ21+BK21)/2 -> #VALUE! | BM21: ='Aligning data'!AR35 -> F3 | BN21: ='Aligning data'!AR48 -> F4 | BO21: =(BM21+BN21)/2 -> #VALUE! | BP21: ='Aligning data'!AT35 -> F3 | BQ21: ='Aligning data'!AT48 -> F4 | BR21: =(BP21+BQ21)/2 -> #VALUE! | BS21: ='Aligning data'!AV35 -> F3 | BT21: ='Aligning data'!AV48 -> F4 | BU21: =(BS21+BT21)/2 -> #VALUE!
A22: CGL2 | B22: ='Aligning data'!B36 -> G3 | C22: ='Aligning data'!B49 -> G4 | D22: =(B22+C22)/2 -> #VALUE! | E22: ='Aligning data'!D36 -> G3 | F22: ='Aligning data'!D49 -> G4 | G22: =(E22+F22)/2 -> #VALUE! | H22: ='Aligning data'!F36 -> G3 | I22: ='Aligning data'!F49 -> G4 | J22: =(H22+I22)/2 -> #VALUE! | K22: ='Aligning data'!H36 -> G3 | L22: ='Aligning data'!H49 -> G4 | M22: =(K22+L22)/2 -> #VALUE! | N22: ='Aligning data'!J36 -> G3 | O22: ='Aligning data'!J49 -> G4 | P22: =(N22+O22)/2 -> #VALUE! | Q22: ='Aligning data'!L36 -> G3 | R22: ='Aligning data'!L49 -> G4 | S22: =(Q22+R22)/2 -> #VALUE! | T22: ='Aligning data'!N36 -> G3 | U22: ='Aligning data'!N49 -> G4 | V22: =(T22+U22)/2 -> #VALUE! | W22: ='Aligning data'!P36 -> G3 | X22: ='Aligning data'!P49 -> G4 | Y22: =(W22+X22)/2 -> #VALUE! | Z22: ='Aligning data'!R36 -> G3 | AA22: ='Aligning data'!R49 -> G4 | AB22: =(Z22+AA22)/2 -> #VALUE! | AC22: ='Aligning data'!T36 -> G3 | AD22: ='Aligning data'!T49 -> G4 | AE22: =(AC22+AD22)/2 -> #VALUE! | AF22: ='Aligning data'!V36 -> G3 | AG22: ='Aligning data'!V49 -> G4 | AH22: =(AF22+AG22)/2 -> #VALUE! | AI22: ='Aligning data'!X36 -> G3 | AJ22: ='Aligning data'!X49 -> G4 | AK22: =(AI22+AJ22)/2 -> #VALUE! | AL22: ='Aligning data'!Z36 -> G3 | AM22: ='Aligning data'!Z49 -> G4 | AN22: =(AL22+AM22)/2 -> #VALUE! | AO22: ='Aligning data'!AB36 -> G3 | AP22: ='Aligning data'!AB49 -> G4 | AQ22: =(AO22+AP22)/2 -> #VALUE! | AR22: ='Aligning data'!AD36 -> G3 | AS22: ='Aligning data'!AD49 -> G4 | AT22: =(AR22+AS22)/2 -> #VALUE! | AU22: ='Aligning data'!AF36 -> G3 | AV22: ='Aligning data'!AF49 -> G4 | AW22: =(AU22+AV22)/2 -> #VALUE! | AX22: ='Aligning data'!AH36 -> G3 | AY22: ='Aligning data'!AH49 -> G4 | AZ22: =(AX22+AY22)/2 -> #VALUE! | BA22: ='Aligning data'!AJ36 -> G3 | BB22: ='Aligning data'!AJ49 -> G4 | BC22: =(BA22+BB22)/2 -> #VALUE! | BD22: ='Aligning data'!AL36 -> G3 | BE22: ='Aligning data'!AL49 -> G4 | BF22: =(BD22+BE22)/2 -> #VALUE! | BG22: ='Aligning data'!AN36 -> G3 | BH22: ='Aligning data'!AN49 -> G4 | BI22: =(BG22+BH22)/2 -> #VALUE! | BJ22: ='Aligning data'!AP36 -> G3 | BK22: ='Aligning data'!AP49 -> G4 | BL22: =(BJ22+BK22)/2 -> #VALUE! | BM22: ='Aligning data'!AR36 -> G3 | BN22: ='Aligning data'!AR49 -> G4 | BO22: =(BM22+BN22)/2 -> #VALUE! | BP22: ='Aligning data'!AT36 -> G3 | BQ22: ='Aligning data'!AT49 -> G4 | BR22: =(BP22+BQ22)/2 -> #VALUE! | BS22: ='Aligning data'!AV36 -> G3 | BT22: ='Aligning data'!AV49 -> G4 | BU22: =(BS22+BT22)/2 -> #VALUE!
A23: CNL | B23: ='Aligning data'!B37 -> H3 | C23: ='Aligning data'!B50 -> H4 | D23: =(B23+C23)/2 -> #VALUE! | E23: ='Aligning data'!D37 -> H3 | F23: ='Aligning data'!D50 -> H4 | G23: =(E23+F23)/2 -> #VALUE! | H23: ='Aligning data'!F37 -> H3 | I23: ='Aligning data'!F50 -> H4 | J23: =(H23+I23)/2 -> #VALUE! | K23: ='Aligning data'!H37 -> H3 | L23: ='Aligning data'!H50 -> H4 | M23: =(K23+L23)/2 -> #VALUE! | N23: ='Aligning data'!J37 -> H3 | O23: ='Aligning data'!J50 -> H4 | P23: =(N23+O23)/2 -> #VALUE! | Q23: ='Aligning data'!L37 -> H3 | R23: ='Aligning data'!L50 -> H4 | S23: =(Q23+R23)/2 -> #VALUE! | T23: ='Aligning data'!N37 -> H3 | U23: ='Aligning data'!N50 -> H4 | V23: =(T23+U23)/2 -> #VALUE! | W23: ='Aligning data'!P37 -> H3 | X23: ='Aligning data'!P50 -> H4 | Y23: =(W23+X23)/2 -> #VALUE! | Z23: ='Aligning data'!R37 -> H3 | AA23: ='Aligning data'!R50 -> H4 | AB23: =(Z23+AA23)/2 -> #VALUE! | AC23: ='Aligning data'!T37 -> H3 | AD23: ='Aligning data'!T50 -> H4 | AE23: =(AC23+AD23)/2 -> #VALUE! | AF23: ='Aligning data'!V37 -> H3 | AG23: ='Aligning data'!V50 -> H4 | AH23: =(AF23+AG23)/2 -> #VALUE! | AI23: ='Aligning data'!X37 -> H3 | AJ23: ='Aligning data'!X50 -> H4 | AK23: =(AI23+AJ23)/2 -> #VALUE! | AL23: ='Aligning data'!Z37 -> H3 | AM23: ='Aligning data'!Z50 -> H4 | AN23: =(AL23+AM23)/2 -> #VALUE! | AO23: ='Aligning data'!AB37 -> H3 | AP23: ='Aligning data'!AB50 -> H4 | AQ23: =(AO23+AP23)/2 -> #VALUE! | AR23: ='Aligning data'!AD37 -> H3 | AS23: ='Aligning data'!AD50 -> H4 | AT23: =(AR23+AS23)/2 -> #VALUE! | AU23: ='Aligning data'!AF37 -> H3 | AV23: ='Aligning data'!AF50 -> H4 | AW23: =(AU23+AV23)/2 -> #VALUE! | AX23: ='Aligning data'!AH37 -> H3 | AY23: ='Aligning data'!AH50 -> H4 | AZ23: =(AX23+AY23)/2 -> #VALUE! | BA23: ='Aligning data'!AJ37 -> H3 | BB23: ='Aligning data'!AJ50 -> H4 | BC23: =(BA23+BB23)/2 -> #VALUE! | BD23: ='Aligning data'!AL37 -> H3 | BE23: ='Aligning data'!AL50 -> H4 | BF23: =(BD23+BE23)/2 -> #VALUE! | BG23: ='Aligning data'!AN37 -> H3 | BH23: ='Aligning data'!AN50 -> H4 | BI23: =(BG23+BH23)/2 -> #VALUE! | BJ23: ='Aligning data'!AP37 -> H3 | BK23: ='Aligning data'!AP50 -> H4 | BL23: =(BJ23+BK23)/2 -> #VALUE! | BM23: ='Aligning data'!AR37 -> H3 | BN23: ='Aligning data'!AR50 -> H4 | BO23: =(BM23+BN23)/2 -> #VALUE! | BP23: ='Aligning data'!AT37 -> H3 | BQ23: ='Aligning data'!AT50 -> H4 | BR23: =(BP23+BQ23)/2 -> #VALUE! | BS23: ='Aligning data'!AV37 -> H3 | BT23: ='Aligning data'!AV50 -> H4 | BU23: =(BS23+BT23)/2 -> #VALUE!
A24: Con A | B24: ='Aligning data'!B38 -> I3 | C24: ='Aligning data'!B51 -> I4 | D24: =(B24+C24)/2 -> #VALUE! | E24: ='Aligning data'!D38 -> I3 | F24: ='Aligning data'!D51 -> I4 | G24: =(E24+F24)/2 -> #VALUE! | H24: ='Aligning data'!F38 -> I3 | I24: ='Aligning data'!F51 -> I4 | J24: =(H24+I24)/2 -> #VALUE! | K24: ='Aligning data'!H38 -> I3 | L24: ='Aligning data'!H51 -> I4 | M24: =(K24+L24)/2 -> #VALUE! | N24: ='Aligning data'!J38 -> I3 | O24: ='Aligning data'!J51 -> I4 | P24: =(N24+O24)/2 -> #VALUE! | Q24: ='Aligning data'!L38 -> I3 | R24: ='Aligning data'!L51 -> I4 | S24: =(Q24+R24)/2 -> #VALUE! | T24: ='Aligning data'!N38 -> I3 | U24: ='Aligning data'!N51 -> I4 | V24: =(T24+U24)/2 -> #VALUE! | W24: ='Aligning data'!P38 -> I3 | X24: ='Aligning data'!P51 -> I4 | Y24: =(W24+X24)/2 -> #VALUE! | Z24: ='Aligning data'!R38 -> I3 | AA24: ='Aligning data'!R51 -> I4 | AB24: =(Z24+AA24)/2 -> #VALUE! | AC24: ='Aligning data'!T38 -> I3 | AD24: ='Aligning data'!T51 -> I4 | AE24: =(AC24+AD24)/2 -> #VALUE! | AF24: ='Aligning data'!V38 -> I3 | AG24: ='Aligning data'!V51 -> I4 | AH24: =(AF24+AG24)/2 -> #VALUE! | AI24: ='Aligning data'!X38 -> I3 | AJ24: ='Aligning data'!X51 -> I4 | AK24: =(AI24+AJ24)/2 -> #VALUE! | AL24: ='Aligning data'!Z38 -> I3 | AM24: ='Aligning data'!Z51 -> I4 | AN24: =(AL24+AM24)/2 -> #VALUE! | AO24: ='Aligning data'!AB38 -> I3 | AP24: ='Aligning data'!AB51 -> I4 | AQ24: =(AO24+AP24)/2 -> #VALUE! | AR24: ='Aligning data'!AD38 -> I3 | AS24: ='Aligning data'!AD51 -> I4 | AT24: =(AR24+AS24)/2 -> #VALUE! | AU24: ='Aligning data'!AF38 -> I3 | AV24: ='Aligning data'!AF51 -> I4 | AW24: =(AU24+AV24)/2 -> #VALUE! | AX24: ='Aligning data'!AH38 -> I3 | AY24: ='Aligning data'!AH51 -> I4 | AZ24: =(AX24+AY24)/2 -> #VALUE! | BA24: ='Aligning data'!AJ38 -> I3 | BB24: ='Aligning data'!AJ51 -> I4 | BC24: =(BA24+BB24)/2 -> #VALUE! | BD24: ='Aligning data'!AL38 -> I3 | BE24: ='Aligning data'!AL51 -> I4 | BF24: =(BD24+BE24)/2 -> #VALUE! | BG24: ='Aligning data'!AN38 -> I3 | BH24: ='Aligning data'!AN51 -> I4 | BI24: =(BG24+BH24)/2 -> #VALUE! | BJ24: ='Aligning data'!AP38 -> I3 | BK24: ='Aligning data'!AP51 -> I4 | BL24: =(BJ24+BK24)/2 -> #VALUE! | BM24: ='Aligning data'!AR38 -> I3 | BN24: ='Aligning data'!AR51 -> I4 | BO24: =(BM24+BN24)/2 -> #VALUE! | BP24: ='Aligning data'!AT38 -> I3 | BQ24: ='Aligning data'!AT51 -> I4 | BR24: =(BP24+BQ24)/2 -> #VALUE! | BS24: ='Aligning data'!AV38 -> I3 | BT24: ='Aligning data'!AV51 -> I4 | BU24: =(BS24+BT24)/2 -> #VALUE!
A25: CPA | B25: ='Aligning data'!B39 -> J3 | C25: ='Aligning data'!B52 -> J4 | D25: =(B25+C25)/2 -> #VALUE! | E25: ='Aligning data'!D39 -> J3 | F25: ='Aligning data'!D52 -> J4 | G25: =(E25+F25)/2 -> #VALUE! | H25: ='Aligning data'!F39 -> J3 | I25: ='Aligning data'!F52 -> J4 | J25: =(H25+I25)/2 -> #VALUE! | K25: ='Aligning data'!H39 -> J3 | L25: ='Aligning data'!H52 -> J4 | M25: =(K25+L25)/2 -> #VALUE! | N25: ='Aligning data'!J39 -> J3 | O25: ='Aligning data'!J52 -> J4 | P25: =(N25+O25)/2 -> #VALUE! | Q25: ='Aligning data'!L39 -> J3 | R25: ='Aligning data'!L52 -> J4 | S25: =(Q25+R25)/2 -> #VALUE! | T25: ='Aligning data'!N39 -> J3 | U25: ='Aligning data'!N52 -> J4 | V25: =(T25+U25)/2 -> #VALUE! | W25: ='Aligning data'!P39 -> J3 | X25: ='Aligning data'!P52 -> J4 | Y25: =(W25+X25)/2 -> #VALUE! | Z25: ='Aligning data'!R39 -> J3 | AA25: ='Aligning data'!R52 -> J4 | AB25: =(Z25+AA25)/2 -> #VALUE! | AC25: ='Aligning data'!T39 -> J3 | AD25: ='Aligning data'!T52 -> J4 | AE25: =(AC25+AD25)/2 -> #VALUE! | AF25: ='Aligning data'!V39 -> J3 | AG25: ='Aligning data'!V52 -> J4 | AH25: =(AF25+AG25)/2 -> #VALUE! | AI25: ='Aligning data'!X39 -> J3 | AJ25: ='Aligning data'!X52 -> J4 | AK25: =(AI25+AJ25)/2 -> #VALUE! | AL25: ='Aligning data'!Z39 -> J3 | AM25: ='Aligning data'!Z52 -> J4 | AN25: =(AL25+AM25)/2 -> #VALUE! | AO25: ='Aligning data'!AB39 -> J3 | AP25: ='Aligning data'!AB52 -> J4 | AQ25: =(AO25+AP25)/2 -> #VALUE! | AR25: ='Aligning data'!AD39 -> J3 | AS25: ='Aligning data'!AD52 -> J4 | AT25: =(AR25+AS25)/2 -> #VALUE! | AU25: ='Aligning data'!AF39 -> J3 | AV25: ='Aligning data'!AF52 -> J4 | AW25: =(AU25+AV25)/2 -> #VALUE! | AX25: ='Aligning data'!AH39 -> J3 | AY25: ='Aligning data'!AH52 -> J4 | AZ25: =(AX25+AY25)/2 -> #VALUE! | BA25: ='Aligning data'!AJ39 -> J3 | BB25: ='Aligning data'!AJ52 -> J4 | BC25: =(BA25+BB25)/2 -> #VALUE! | BD25: ='Aligning data'!AL39 -> J3 | BE25: ='Aligning data'!AL52 -> J4 | BF25: =(BD25+BE25)/2 -> #VALUE! | BG25: ='Aligning data'!AN39 -> J3 | BH25: ='Aligning data'!AN52 -> J4 | BI25: =(BG25+BH25)/2 -> #VALUE! | BJ25: ='Aligning data'!AP39 -> J3 | BK25: ='Aligning data'!AP52 -> J4 | BL25: =(BJ25+BK25)/2 -> #VALUE! | BM25: ='Aligning data'!AR39 -> J3 | BN25: ='Aligning data'!AR52 -> J4 | BO25: =(BM25+BN25)/2 -> #VALUE! | BP25: ='Aligning data'!AT39 -> J3 | BQ25: ='Aligning data'!AT52 -> J4 | BR25: =(BP25+BQ25)/2 -> #VALUE! | BS25: ='Aligning data'!AV39 -> J3 | BT25: ='Aligning data'!AV52 -> J4 | BU25: =(BS25+BT25)/2 -> #VALUE!
A26: CSA | B26: ='Aligning data'!B40 -> K3 | C26: ='Aligning data'!B53 -> K4 | D26: =(B26+C26)/2 -> #VALUE! | E26: ='Aligning data'!D40 -> K3 | F26: ='Aligning data'!D53 -> K4 | G26: =(E26+F26)/2 -> #VALUE! | H26: ='Aligning data'!F40 -> K3 | I26: ='Aligning data'!F53 -> K4 | J26: =(H26+I26)/2 -> #VALUE! | K26: ='Aligning data'!H40 -> K3 | L26: ='Aligning data'!H53 -> K4 | M26: =(K26+L26)/2 -> #VALUE! | N26: ='Aligning data'!J40 -> K3 | O26: ='Aligning data'!J53 -> K4 | P26: =(N26+O26)/2 -> #VALUE! | Q26: ='Aligning data'!L40 -> K3 | R26: ='Aligning data'!L53 -> K4 | S26: =(Q26+R26)/2 -> #VALUE! | T26: ='Aligning data'!N40 -> K3 | U26: ='Aligning data'!N53 -> K4 | V26: =(T26+U26)/2 -> #VALUE! | W26: ='Aligning data'!P40 -> K3 | X26: ='Aligning data'!P53 -> K4 | Y26: =(W26+X26)/2 -> #VALUE! | Z26: ='Aligning data'!R40 -> K3 | AA26: ='Aligning data'!R53 -> K4 | AB26: =(Z26+AA26)/2 -> #VALUE! | AC26: ='Aligning data'!T40 -> K3 | AD26: ='Aligning data'!T53 -> K4 | AE26: =(AC26+AD26)/2 -> #VALUE! | AF26: ='Aligning data'!V40 -> K3 | AG26: ='Aligning data'!V53 -> K4 | AH26: =(AF26+AG26)/2 -> #VALUE! | AI26: ='Aligning data'!X40 -> K3 | AJ26: ='Aligning data'!X53 -> K4 | AK26: =(AI26+AJ26)/2 -> #VALUE! | AL26: ='Aligning data'!Z40 -> K3 | AM26: ='Aligning data'!Z53 -> K4 | AN26: =(AL26+AM26)/2 -> #VALUE! | AO26: ='Aligning data'!AB40 -> K3 | AP26: ='Aligning data'!AB53 -> K4 | AQ26: =(AO26+AP26)/2 -> #VALUE! | AR26: ='Aligning data'!AD40 -> K3 | AS26: ='Aligning data'!AD53 -> K4 | AT26: =(AR26+AS26)/2 -> #VALUE! | AU26: ='Aligning data'!AF40 -> K3 | AV26: ='Aligning data'!AF53 -> K4 | AW26: =(AU26+AV26)/2 -> #VALUE! | AX26: ='Aligning data'!AH40 -> K3 | AY26: ='Aligning data'!AH53 -> K4 | AZ26: =(AX26+AY26)/2 -> #VALUE! | BA26: ='Aligning data'!AJ40 -> K3 | BB26: ='Aligning data'!AJ53 -> K4 | BC26: =(BA26+BB26)/2 -> #VALUE! | BD26: ='Aligning data'!AL40 -> K3 | BE26: ='Aligning data'!AL53 -> K4 | BF26: =(BD26+BE26)/2 -> #VALUE! | BG26: ='Aligning data'!AN40 -> K3 | BH26: ='Aligning data'!AN53 -> K4 | BI26: =(BG26+BH26)/2 -> #VALUE! | BJ26: ='Aligning data'!AP40 -> K3 | BK26: ='Aligning data'!AP53 -> K4 | BL26: =(BJ26+BK26)/2 -> #VALUE! | BM26: ='Aligning data'!AR40 -> K3 | BN26: ='Aligning data'!AR53 -> K4 | BO26: =(BM26+BN26)/2 -> #VALUE! | BP26: ='Aligning data'!AT40 -> K3 | BQ26: ='Aligning data'!AT53 -> K4 | BR26: =(BP26+BQ26)/2 -> #VALUE! | BS26: ='Aligning data'!AV40 -> K3 | BT26: ='Aligning data'!AV53 -> K4 | BU26: =(BS26+BT26)/2 -> #VALUE!
A27: DBA | B27: ='Aligning data'!B41 -> L3 | C27: ='Aligning data'!B54 -> L4 | D27: =(B27+C27)/2 -> #VALUE! | E27: ='Aligning data'!D41 -> L3 | F27: ='Aligning data'!D54 -> L4 | G27: =(E27+F27)/2 -> #VALUE! | H27: ='Aligning data'!F41 -> L3 | I27: ='Aligning data'!F54 -> L4 | J27: =(H27+I27)/2 -> #VALUE! | K27: ='Aligning data'!H41 -> L3 | L27: ='Aligning data'!H54 -> L4 | M27: =(K27+L27)/2 -> #VALUE! | N27: ='Aligning data'!J41 -> L3 | O27: ='Aligning data'!J54 -> L4 | P27: =(N27+O27)/2 -> #VALUE! | Q27: ='Aligning data'!L41 -> L3 | R27: ='Aligning data'!L54 -> L4 | S27: =(Q27+R27)/2 -> #VALUE! | T27: ='Aligning data'!N41 -> L3 | U27: ='Aligning data'!N54 -> L4 | V27: =(T27+U27)/2 -> #VALUE! | W27: ='Aligning data'!P41 -> L3 | X27: ='Aligning data'!P54 -> L4 | Y27: =(W27+X27)/2 -> #VALUE! | Z27: ='Aligning data'!R41 -> L3 | AA27: ='Aligning data'!R54 -> L4 | AB27: =(Z27+AA27)/2 -> #VALUE! | AC27: ='Aligning data'!T41 -> L3 | AD27: ='Aligning data'!T54 -> L4 | AE27: =(AC27+AD27)/2 -> #VALUE! | AF27: ='Aligning data'!V41 -> L3 | AG27: ='Aligning data'!V54 -> L4 | AH27: =(AF27+AG27)/2 -> #VALUE! | AI27: ='Aligning data'!X41 -> L3 | AJ27: ='Aligning data'!X54 -> L4 | AK27: =(AI27+AJ27)/2 -> #VALUE! | AL27: ='Aligning data'!Z41 -> L3 | AM27: ='Aligning data'!Z54 -> L4 | AN27: =(AL27+AM27)/2 -> #VALUE! | AO27: ='Aligning data'!AB41 -> L3 | AP27: ='Aligning data'!AB54 -> L4 | AQ27: =(AO27+AP27)/2 -> #VALUE! | AR27: ='Aligning data'!AD41 -> L3 | AS27: ='Aligning data'!AD54 -> L4 | AT27: =(AR27+AS27)/2 -> #VALUE! | AU27: ='Aligning data'!AF41 -> L3 | AV27: ='Aligning data'!AF54 -> L4 | AW27: =(AU27+AV27)/2 -> #VALUE! | AX27: ='Aligning data'!AH41 -> L3 | AY27: ='Aligning data'!AH54 -> L4 | AZ27: =(AX27+AY27)/2 -> #VALUE! | BA27: ='Aligning data'!AJ41 -> L3 | BB27: ='Aligning data'!AJ54 -> L4 | BC27: =(BA27+BB27)/2 -> #VALUE! | BD27: ='Aligning data'!AL41 -> L3 | BE27: ='Aligning data'!AL54 -> L4 | BF27: =(BD27+BE27)/2 -> #VALUE! | BG27: ='Aligning data'!AN41 -> L3 | BH27: ='Aligning data'!AN54 -> L4 | BI27: =(BG27+BH27)/2 -> #VALUE! | BJ27: ='Aligning data'!AP41 -> L3 | BK27: ='Aligning data'!AP54 -> L4 | BL27: =(BJ27+BK27)/2 -> #VALUE! | BM27: ='Aligning data'!AR41 -> L3 | BN27: ='Aligning data'!AR54 -> L4 | BO27: =(BM27+BN27)/2 -> #VALUE! | BP27: ='Aligning data'!AT41 -> L3 | BQ27: ='Aligning data'!AT54 -> L4 | BR27: =(BP27+BQ27)/2 -> #VALUE! | BS27: ='Aligning data'!AV41 -> L3 | BT27: ='Aligning data'!AV54 -> L4 | BU27: =(BS27+BT27)/2 -> #VALUE!
A28: DISCOIDIN I | B28: ='Aligning data'!B42 -> M3 | C28: ='Aligning data'!B55 -> M4 | D28: =(B28+C28)/2 -> #VALUE! | E28: ='Aligning data'!D42 -> M3 | F28: ='Aligning data'!D55 -> M4 | G28: =(E28+F28)/2 -> #VALUE! | H28: ='Aligning data'!F42 -> M3 | I28: ='Aligning data'!F55 -> M4 | J28: =(H28+I28)/2 -> #VALUE! | K28: ='Aligning data'!H42 -> M3 | L28: ='Aligning data'!H55 -> M4 | M28: =(K28+L28)/2 -> #VALUE! | N28: ='Aligning data'!J42 -> M3 | O28: ='Aligning data'!J55 -> M4 | P28: =(N28+O28)/2 -> #VALUE! | Q28: ='Aligning data'!L42 -> M3 | R28: ='Aligning data'!L55 -> M4 | S28: =(Q28+R28)/2 -> #VALUE! | T28: ='Aligning data'!N42 -> M3 | U28: ='Aligning data'!N55 -> M4 | V28: =(T28+U28)/2 -> #VALUE! | W28: ='Aligning data'!P42 -> M3 | X28: ='Aligning data'!P55 -> M4 | Y28: =(W28+X28)/2 -> #VALUE! | Z28: ='Aligning data'!R42 -> M3 | AA28: ='Aligning data'!R55 -> M4 | AB28: =(Z28+AA28)/2 -> #VALUE! | AC28: ='Aligning data'!T42 -> M3 | AD28: ='Aligning data'!T55 -> M4 | AE28: =(AC28+AD28)/2 -> #VALUE! | AF28: ='Aligning data'!V42 -> M3 | AG28: ='Aligning data'!V55 -> M4 | AH28: =(AF28+AG28)/2 -> #VALUE! | AI28: ='Aligning data'!X42 -> M3 | AJ28: ='Aligning data'!X55 -> M4 | AK28: =(AI28+AJ28)/2 -> #VALUE! | AL28: ='Aligning data'!Z42 -> M3 | AM28: ='Aligning data'!Z55 -> M4 | AN28: =(AL28+AM28)/2 -> #VALUE! | AO28: ='Aligning data'!AB42 -> M3 | AP28: ='Aligning data'!AB55 -> M4 | AQ28: =(AO28+AP28)/2 -> #VALUE! | AR28: ='Aligning data'!AD42 -> M3 | AS28: ='Aligning data'!AD55 -> M4 | AT28: =(AR28+AS28)/2 -> #VALUE! | AU28: ='Aligning data'!AF42 -> M3 | AV28: ='Aligning data'!AF55 -> M4 | AW28: =(AU28+AV28)/2 -> #VALUE! | AX28: ='Aligning data'!AH42 -> M3 | AY28: ='Aligning data'!AH55 -> M4 | AZ28: =(AX28+AY28)/2 -> #VALUE! | BA28: ='Aligning data'!AJ42 -> M3 | BB28: ='Aligning data'!AJ55 -> M4 | BC28: =(BA28+BB28)/2 -> #VALUE! | BD28: ='Aligning data'!AL42 -> M3 | BE28: ='Aligning data'!AL55 -> M4 | BF28: =(BD28+BE28)/2 -> #VALUE! | BG28: ='Aligning data'!AN42 -> M3 | BH28: ='Aligning data'!AN55 -> M4 | BI28: =(BG28+BH28)/2 -> #VALUE! | BJ28: ='Aligning data'!AP42 -> M3 | BK28: ='Aligning data'!AP55 -> M4 | BL28: =(BJ28+BK28)/2 -> #VALUE! | BM28: ='Aligning data'!AR42 -> M3 | BN28: ='Aligning data'!AR55 -> M4 | BO28: =(BM28+BN28)/2 -> #VALUE! | BP28: ='Aligning data'!AT42 -> M3 | BQ28: ='Aligning data'!AT55 -> M4 | BR28: =(BP28+BQ28)/2 -> #VALUE! | BS28: ='Aligning data'!AV42 -> M3 | BT28: ='Aligning data'!AV55 -> M4 | BU28: =(BS28+BT28)/2 -> #VALUE!
A29: DISCOIDIN II | B29: ='Aligning data'!B56 -> A5 | C29: ='Aligning data'!B69 -> A6 | D29: =(B29+C29)/2 -> #VALUE! | E29: ='Aligning data'!D56 -> A5 | F29: ='Aligning data'!D69 -> A6 | G29: =(E29+F29)/2 -> #VALUE! | H29: ='Aligning data'!F56 -> A5 | I29: ='Aligning data'!F69 -> A6 | J29: =(H29+I29)/2 -> #VALUE! | K29: ='Aligning data'!H56 -> A5 | L29: ='Aligning data'!H69 -> A6 | M29: =(K29+L29)/2 -> #VALUE! | N29: ='Aligning data'!J56 -> A5 | O29: ='Aligning data'!J69 -> A6 | P29: =(N29+O29)/2 -> #VALUE! | Q29: ='Aligning data'!L56 -> A5 | R29: ='Aligning data'!L69 -> A6 | S29: =(Q29+R29)/2 -> #VALUE! | T29: ='Aligning data'!N56 -> A5 | U29: ='Aligning data'!N69 -> A6 | V29: =(T29+U29)/2 -> #VALUE! | W29: ='Aligning data'!P56 -> A5 | X29: ='Aligning data'!P69 -> A6 | Y29: =(W29+X29)/2 -> #VALUE! | Z29: ='Aligning data'!R56 -> A5 | AA29: ='Aligning data'!R69 -> A6 | AB29: =(Z29+AA29)/2 -> #VALUE! | AC29: ='Aligning data'!T56 -> A5 | AD29: ='Aligning data'!T69 -> A6 | AE29: =(AC29+AD29)/2 -> #VALUE! | AF29: ='Aligning data'!V56 -> A5 | AG29: ='Aligning data'!V69 -> A6 | AH29: =(AF29+AG29)/2 -> #VALUE! | AI29: ='Aligning data'!X56 -> A5 | AJ29: ='Aligning data'!X69 -> A6 | AK29: =(AI29+AJ29)/2 -> #VALUE! | AL29: ='Aligning data'!Z56 -> A5 | AM29: ='Aligning data'!Z69 -> A6 | AN29: =(AL29+AM29)/2 -> #VALUE! | AO29: ='Aligning data'!AB56 -> A5 | AP29: ='Aligning data'!AB69 -> A6 | AQ29: =(AO29+AP29)/2 -> #VALUE! | AR29: ='Aligning data'!AD56 -> A5 | AS29: ='Aligning data'!AD69 -> A6 | AT29: =(AR29+AS29)/2 -> #VALUE! | AU29: ='Aligning data'!AF56 -> A5 | AV29: ='Aligning data'!AF69 -> A6 | AW29: =(AU29+AV29)/2 -> #VALUE! | AX29: ='Aligning data'!AH56 -> A5 | AY29: ='Aligning data'!AH69 -> A6 | AZ29: =(AX29+AY29)/2 -> #VALUE! | BA29: ='Aligning data'!AJ56 -> A5 | BB29: ='Aligning data'!AJ69 -> A6 | BC29: =(BA29+BB29)/2 -> #VALUE! | BD29: ='Aligning data'!AL56 -> A5 | BE29: ='Aligning data'!AL69 -> A6 | BF29: =(BD29+BE29)/2 -> #VALUE! | BG29: ='Aligning data'!AN56 -> A5 | BH29: ='Aligning data'!AN69 -> A6 | BI29: =(BG29+BH29)/2 -> #VALUE! | BJ29: ='Aligning data'!AP56 -> A5 | BK29: ='Aligning data'!AP69 -> A6 | BL29: =(BJ29+BK29)/2 -> #VALUE! | BM29: ='Aligning data'!AR56 -> A5 | BN29: ='Aligning data'!AR69 -> A6 | BO29: =(BM29+BN29)/2 -> #VALUE! | BP29: ='Aligning data'!AT56 -> A5 | BQ29: ='Aligning data'!AT69 -> A6 | BR29: =(BP29+BQ29)/2 -> #VALUE! | BS29: ='Aligning data'!AV56 -> A5 | BT29: ='Aligning data'!AV69 -> A6 | BU29: =(BS29+BT29)/2 -> #VALUE!
A30: DSA | B30: ='Aligning data'!B57 -> B5 | C30: ='Aligning data'!B70 -> B6 | D30: =(B30+C30)/2 -> #VALUE! | E30: ='Aligning data'!D57 -> B5 | F30: ='Aligning data'!D70 -> B6 | G30: =(E30+F30)/2 -> #VALUE! | H30: ='Aligning data'!F57 -> B5 | I30: ='Aligning data'!F70 -> B6 | J30: =(H30+I30)/2 -> #VALUE! | K30: ='Aligning data'!H57 -> B5 | L30: ='Aligning data'!H70 -> B6 | M30: =(K30+L30)/2 -> #VALUE! | N30: ='Aligning data'!J57 -> B5 | O30: ='Aligning data'!J70 -> B6 | P30: =(N30+O30)/2 -> #VALUE! | Q30: ='Aligning data'!L57 -> B5 | R30: ='Aligning data'!L70 -> B6 | S30: =(Q30+R30)/2 -> #VALUE! | T30: ='Aligning data'!N57 -> B5 | U30: ='Aligning data'!N70 -> B6 | V30: =(T30+U30)/2 -> #VALUE! | W30: ='Aligning data'!P57 -> B5 | X30: ='Aligning data'!P70 -> B6 | Y30: =(W30+X30)/2 -> #VALUE! | Z30: ='Aligning data'!R57 -> B5 | AA30: ='Aligning data'!R70 -> B6 | AB30: =(Z30+AA30)/2 -> #VALUE! | AC30: ='Aligning data'!T57 -> B5 | AD30: ='Aligning data'!T70 -> B6 | AE30: =(AC30+AD30)/2 -> #VALUE! | AF30: ='Aligning data'!V57 -> B5 | AG30: ='Aligning data'!V70 -> B6 | AH30: =(AF30+AG30)/2 -> #VALUE! | AI30: ='Aligning data'!X57 -> B5 | AJ30: ='Aligning data'!X70 -> B6 | AK30: =(AI30+AJ30)/2 -> #VALUE! | AL30: ='Aligning data'!Z57 -> B5 | AM30: ='Aligning data'!Z70 -> B6 | AN30: =(AL30+AM30)/2 -> #VALUE! | AO30: ='Aligning data'!AB57 -> B5 | AP30: ='Aligning data'!AB70 -> B6 | AQ30: =(AO30+AP30)/2 -> #VALUE! | AR30: ='Aligning data'!AD57 -> B5 | AS30: ='Aligning data'!AD70 -> B6 | AT30: =(AR30+AS30)/2 -> #VALUE! | AU30: ='Aligning data'!AF57 -> B5 | AV30: ='Aligning data'!AF70 -> B6 | AW30: =(AU30+AV30)/2 -> #VALUE! | AX30: ='Aligning data'!AH57 -> B5 | AY30: ='Aligning data'!AH70 -> B6 | AZ30: =(AX30+AY30)/2 -> #VALUE! | BA30: ='Aligning data'!AJ57 -> B5 | BB30: ='Aligning data'!AJ70 -> B6 | BC30: =(BA30+BB30)/2 -> #VALUE! | BD30: ='Aligning data'!AL57 -> B5 | BE30: ='Aligning data'!AL70 -> B6 | BF30: =(BD30+BE30)/2 -> #VALUE! | BG30: ='Aligning data'!AN57 -> B5 | BH30: ='Aligning data'!AN70 -> B6 | BI30: =(BG30+BH30)/2 -> #VALUE! | BJ30: ='Aligning data'!AP57 -> B5 | BK30: ='Aligning data'!AP70 -> B6 | BL30: =(BJ30+BK30)/2 -> #VALUE! | BM30: ='Aligning data'!AR57 -> B5 | BN30: ='Aligning data'!AR70 -> B6 | BO30: =(BM30+BN30)/2 -> #VALUE! | BP30: ='Aligning data'!AT57 -> B5 | BQ30: ='Aligning data'!AT70 -> B6 | BR30: =(BP30+BQ30)/2 -> #VALUE! | BS30: ='Aligning data'!AV57 -> B5 | BT30: ='Aligning data'!AV70 -> B6 | BU30: =(BS30+BT30)/2 -> #VALUE!
A31: ECA | B31: ='Aligning data'!B58 -> C5 | C31: ='Aligning data'!B71 -> C6 | D31: =(B31+C31)/2 -> #VALUE! | E31: ='Aligning data'!D58 -> C5 | F31: ='Aligning data'!D71 -> C6 | G31: =(E31+F31)/2 -> #VALUE! | H31: ='Aligning data'!F58 -> C5 | I31: ='Aligning data'!F71 -> C6 | J31: =(H31+I31)/2 -> #VALUE! | K31: ='Aligning data'!H58 -> C5 | L31: ='Aligning data'!H71 -> C6 | M31: =(K31+L31)/2 -> #VALUE! | N31: ='Aligning data'!J58 -> C5 | O31: ='Aligning data'!J71 -> C6 | P31: =(N31+O31)/2 -> #VALUE! | Q31: ='Aligning data'!L58 -> C5 | R31: ='Aligning data'!L71 -> C6 | S31: =(Q31+R31)/2 -> #VALUE! | T31: ='Aligning data'!N58 -> C5 | U31: ='Aligning data'!N71 -> C6 | V31: =(T31+U31)/2 -> #VALUE! | W31: ='Aligning data'!P58 -> C5 | X31: ='Aligning data'!P71 -> C6 | Y31: =(W31+X31)/2 -> #VALUE! | Z31: ='Aligning data'!R58 -> C5 | AA31: ='Aligning data'!R71 -> C6 | AB31: =(Z31+AA31)/2 -> #VALUE! | AC31: ='Aligning data'!T58 -> C5 | AD31: ='Aligning data'!T71 -> C6 | AE31: =(AC31+AD31)/2 -> #VALUE! | AF31: ='Aligning data'!V58 -> C5 | AG31: ='Aligning data'!V71 -> C6 | AH31: =(AF31+AG31)/2 -> #VALUE! | AI31: ='Aligning data'!X58 -> C5 | AJ31: ='Aligning data'!X71 -> C6 | AK31: =(AI31+AJ31)/2 -> #VALUE! | AL31: ='Aligning data'!Z58 -> C5 | AM31: ='Aligning data'!Z71 -> C6 | AN31: =(AL31+AM31)/2 -> #VALUE! | AO31: ='Aligning data'!AB58 -> C5 | AP31: ='Aligning data'!AB71 -> C6 | AQ31: =(AO31+AP31)/2 -> #VALUE! | AR31: ='Aligning data'!AD58 -> C5 | AS31: ='Aligning data'!AD71 -> C6 | AT31: =(AR31+AS31)/2 -> #VALUE! | AU31: ='Aligning data'!AF58 -> C5 | AV31: ='Aligning data'!AF71 -> C6 | AW31: =(AU31+AV31)/2 -> #VALUE! | AX31: ='Aligning data'!AH58 -> C5 | AY31: ='Aligning data'!AH71 -> C6 | AZ31: =(AX31+AY31)/2 -> #VALUE! | BA31: ='Aligning data'!AJ58 -> C5 | BB31: ='Aligning data'!AJ71 -> C6 | BC31: =(BA31+BB31)/2 -> #VALUE! | BD31: ='Aligning data'!AL58 -> C5 | BE31: ='Aligning data'!AL71 -> C6 | BF31: =(BD31+BE31)/2 -> #VALUE! | BG31: ='Aligning data'!AN58 -> C5 | BH31: ='Aligning data'!AN71 -> C6 | BI31: =(BG31+BH31)/2 -> #VALUE! | BJ31: ='Aligning data'!AP58 -> C5 | BK31: ='Aligning data'!AP71 -> C6 | BL31: =(BJ31+BK31)/2 -> #VALUE! | BM31: ='Aligning data'!AR58 -> C5 | BN31: ='Aligning data'!AR71 -> C6 | BO31: =(BM31+BN31)/2 -> #VALUE! | BP31: ='Aligning data'!AT58 -> C5 | BQ31: ='Aligning data'!AT71 -> C6 | BR31: =(BP31+BQ31)/2 -> #VALUE! | BS31: ='Aligning data'!AV58 -> C5 | BT31: ='Aligning data'!AV71 -> C6 | BU31: =(BS31+BT31)/2 -> #VALUE!
A32: EEL | B32: ='Aligning data'!B59 -> D5 | C32: ='Aligning data'!B72 -> D6 | D32: =(B32+C32)/2 -> #VALUE! | E32: ='Aligning data'!D59 -> D5 | F32: ='Aligning data'!D72 -> D6 | G32: =(E32+F32)/2 -> #VALUE! | H32: ='Aligning data'!F59 -> D5 | I32: ='Aligning data'!F72 -> D6 | J32: =(H32+I32)/2 -> #VALUE! | K32: ='Aligning data'!H59 -> D5 | L32: ='Aligning data'!H72 -> D6 | M32: =(K32+L32)/2 -> #VALUE! | N32: ='Aligning data'!J59 -> D5 | O32: ='Aligning data'!J72 -> D6 | P32: =(N32+O32)/2 -> #VALUE! | Q32: ='Aligning data'!L59 -> D5 | R32: ='Aligning data'!L72 -> D6 | S32: =(Q32+R32)/2 -> #VALUE! | T32: ='Aligning data'!N59 -> D5 | U32: ='Aligning data'!N72 -> D6 | V32: =(T32+U32)/2 -> #VALUE! | W32: ='Aligning data'!P59 -> D5 | X32: ='Aligning data'!P72 -> D6 | Y32: =(W32+X32)/2 -> #VALUE! | Z32: ='Aligning data'!R59 -> D5 | AA32: ='Aligning data'!R72 -> D6 | AB32: =(Z32+AA32)/2 -> #VALUE! | AC32: ='Aligning data'!T59 -> D5 | AD32: ='Aligning data'!T72 -> D6 | AE32: =(AC32+AD32)/2 -> #VALUE! | AF32: ='Aligning data'!V59 -> D5 | AG32: ='Aligning data'!V72 -> D6 | AH32: =(AF32+AG32)/2 -> #VALUE! | AI32: ='Aligning data'!X59 -> D5 | AJ32: ='Aligning data'!X72 -> D6 | AK32: =(AI32+AJ32)/2 -> #VALUE! | AL32: ='Aligning data'!Z59 -> D5 | AM32: ='Aligning data'!Z72 -> D6 | AN32: =(AL32+AM32)/2 -> #VALUE! | AO32: ='Aligning data'!AB59 -> D5 | AP32: ='Aligning data'!AB72 -> D6 | AQ32: =(AO32+AP32)/2 -> #VALUE! | AR32: ='Aligning data'!AD59 -> D5 | AS32: ='Aligning data'!AD72 -> D6 | AT32: =(AR32+AS32)/2 -> #VALUE! | AU32: ='Aligning data'!AF59 -> D5 | AV32: ='Aligning data'!AF72 -> D6 | AW32: =(AU32+AV32)/2 -> #VALUE! | AX32: ='Aligning data'!AH59 -> D5 | AY32: ='Aligning data'!AH72 -> D6 | AZ32: =(AX32+AY32)/2 -> #VALUE! | BA32: ='Aligning data'!AJ59 -> D5 | BB32: ='Aligning data'!AJ72 -> D6 | BC32: =(BA32+BB32)/2 -> #VALUE! | BD32: ='Aligning data'!AL59 -> D5 | BE32: ='Aligning data'!AL72 -> D6 | BF32: =(BD32+BE32)/2 -> #VALUE! | BG32: ='Aligning data'!AN59 -> D5 | BH32: ='Aligning data'!AN72 -> D6 | BI32: =(BG32+BH32)/2 -> #VALUE! | BJ32: ='Aligning data'!AP59 -> D5 | BK32: ='Aligning data'!AP72 -> D6 | BL32: =(BJ32+BK32)/2 -> #VALUE! | BM32: ='Aligning data'!AR59 -> D5 | BN32: ='Aligning data'!AR72 -> D6 | BO32: =(BM32+BN32)/2 -> #VALUE! | BP32: ='Aligning data'!AT59 -> D5 | BQ32: ='Aligning data'!AT72 -> D6 | BR32: =(BP32+BQ32)/2 -> #VALUE! | BS32: ='Aligning data'!AV59 -> D5 | BT32: ='Aligning data'!AV72 -> D6 | BU32: =(BS32+BT32)/2 -> #VALUE!
A33: F17AG | B33: ='Aligning data'!B60 -> E5 | C33: ='Aligning data'!B73 -> E6 | D33: =(B33+C33)/2 -> #VALUE! | E33: ='Aligning data'!D60 -> E5 | F33: ='Aligning data'!D73 -> E6 | G33: =(E33+F33)/2 -> #VALUE! | H33: ='Aligning data'!F60 -> E5 | I33: ='Aligning data'!F73 -> E6 | J33: =(H33+I33)/2 -> #VALUE! | K33: ='Aligning data'!H60 -> E5 | L33: ='Aligning data'!H73 -> E6 | M33: =(K33+L33)/2 -> #VALUE! | N33: ='Aligning data'!J60 -> E5 | O33: ='Aligning data'!J73 -> E6 | P33: =(N33+O33)/2 -> #VALUE! | Q33: ='Aligning data'!L60 -> E5 | R33: ='Aligning data'!L73 -> E6 | S33: =(Q33+R33)/2 -> #VALUE! | T33: ='Aligning data'!N60 -> E5 | U33: ='Aligning data'!N73 -> E6 | V33: =(T33+U33)/2 -> #VALUE! | W33: ='Aligning data'!P60 -> E5 | X33: ='Aligning data'!P73 -> E6 | Y33: =(W33+X33)/2 -> #VALUE! | Z33: ='Aligning data'!R60 -> E5 | AA33: ='Aligning data'!R73 -> E6 | AB33: =(Z33+AA33)/2 -> #VALUE! | AC33: ='Aligning data'!T60 -> E5 | AD33: ='Aligning data'!T73 -> E6 | AE33: =(AC33+AD33)/2 -> #VALUE! | AF33: ='Aligning data'!V60 -> E5 | AG33: ='Aligning data'!V73 -> E6 | AH33: =(AF33+AG33)/2 -> #VALUE! | AI33: ='Aligning data'!X60 -> E5 | AJ33: ='Aligning data'!X73 -> E6 | AK33: =(AI33+AJ33)/2 -> #VALUE! | AL33: ='Aligning data'!Z60 -> E5 | AM33: ='Aligning data'!Z73 -> E6 | AN33: =(AL33+AM33)/2 -> #VALUE! | AO33: ='Aligning data'!AB60 -> E5 | AP33: ='Aligning data'!AB73 -> E6 | AQ33: =(AO33+AP33)/2 -> #VALUE! | AR33: ='Aligning data'!AD60 -> E5 | AS33: ='Aligning data'!AD73 -> E6 | AT33: =(AR33+AS33)/2 -> #VALUE! | AU33: ='Aligning data'!AF60 -> E5 | AV33: ='Aligning data'!AF73 -> E6 | AW33: =(AU33+AV33)/2 -> #VALUE! | AX33: ='Aligning data'!AH60 -> E5 | AY33: ='Aligning data'!AH73 -> E6 | AZ33: =(AX33+AY33)/2 -> #VALUE! | BA33: ='Aligning data'!AJ60 -> E5 | BB33: ='Aligning data'!AJ73 -> E6 | BC33: =(BA33+BB33)/2 -> #VALUE! | BD33: ='Aligning data'!AL60 -> E5 | BE33: ='Aligning data'!AL73 -> E6 | BF33: =(BD33+BE33)/2 -> #VALUE! | BG33: ='Aligning data'!AN60 -> E5 | BH33: ='Aligning data'!AN73 -> E6 | BI33: =(BG33+BH33)/2 -> #VALUE! | BJ33: ='Aligning data'!AP60 -> E5 | BK33: ='Aligning data'!AP73 -> E6 | BL33: =(BJ33+BK33)/2 -> #VALUE! | BM33: ='Aligning data'!AR60 -> E5 | BN33: ='Aligning data'!AR73 -> E6 | BO33: =(BM33+BN33)/2 -> #VALUE! | BP33: ='Aligning data'!AT60 -> E5 | BQ33: ='Aligning data'!AT73 -> E6 | BR33: =(BP33+BQ33)/2 -> #VALUE! | BS33: ='Aligning data'!AV60 -> E5 | BT33: ='Aligning data'!AV73 -> E6 | BU33: =(BS33+BT33)/2 -> #VALUE!
A34: GAL1 | B34: ='Aligning data'!B61 -> F5 | C34: ='Aligning data'!B74 -> F6 | D34: =(B34+C34)/2 -> #VALUE! | E34: ='Aligning data'!D61 -> F5 | F34: ='Aligning data'!D74 -> F6 | G34: =(E34+F34)/2 -> #VALUE! | H34: ='Aligning data'!F61 -> F5 | I34: ='Aligning data'!F74 -> F6 | J34: =(H34+I34)/2 -> #VALUE! | K34: ='Aligning data'!H61 -> F5 | L34: ='Aligning data'!H74 -> F6 | M34: =(K34+L34)/2 -> #VALUE! | N34: ='Aligning data'!J61 -> F5 | O34: ='Aligning data'!J74 -> F6 | P34: =(N34+O34)/2 -> #VALUE! | Q34: ='Aligning data'!L61 -> F5 | R34: ='Aligning data'!L74 -> F6 | S34: =(Q34+R34)/2 -> #VALUE! | T34: ='Aligning data'!N61 -> F5 | U34: ='Aligning data'!N74 -> F6 | V34: =(T34+U34)/2 -> #VALUE! | W34: ='Aligning data'!P61 -> F5 | X34: ='Aligning data'!P74 -> F6 | Y34: =(W34+X34)/2 -> #VALUE! | Z34: ='Aligning data'!R61 -> F5 | AA34: ='Aligning data'!R74 -> F6 | AB34: =(Z34+AA34)/2 -> #VALUE! | AC34: ='Aligning data'!T61 -> F5 | AD34: ='Aligning data'!T74 -> F6 | AE34: =(AC34+AD34)/2 -> #VALUE! | AF34: ='Aligning data'!V61 -> F5 | AG34: ='Aligning data'!V74 -> F6 | AH34: =(AF34+AG34)/2 -> #VALUE! | AI34: ='Aligning data'!X61 -> F5 | AJ34: ='Aligning data'!X74 -> F6 | AK34: =(AI34+AJ34)/2 -> #VALUE! | AL34: ='Aligning data'!Z61 -> F5 | AM34: ='Aligning data'!Z74 -> F6 | AN34: =(AL34+AM34)/2 -> #VALUE! | AO34: ='Aligning data'!AB61 -> F5 | AP34: ='Aligning data'!AB74 -> F6 | AQ34: =(AO34+AP34)/2 -> #VALUE! | AR34: ='Aligning data'!AD61 -> F5 | AS34: ='Aligning data'!AD74 -> F6 | AT34: =(AR34+AS34)/2 -> #VALUE! | AU34: ='Aligning data'!AF61 -> F5 | AV34: ='Aligning data'!AF74 -> F6 | AW34: =(AU34+AV34)/2 -> #VALUE! | AX34: ='Aligning data'!AH61 -> F5 | AY34: ='Aligning data'!AH74 -> F6 | AZ34: =(AX34+AY34)/2 -> #VALUE! | BA34: ='Aligning data'!AJ61 -> F5 | BB34: ='Aligning data'!AJ74 -> F6 | BC34: =(BA34+BB34)/2 -> #VALUE! | BD34: ='Aligning data'!AL61 -> F5 | BE34: ='Aligning data'!AL74 -> F6 | BF34: =(BD34+BE34)/2 -> #VALUE! | BG34: ='Aligning data'!AN61 -> F5 | BH34: ='Aligning data'!AN74 -> F6 | BI34: =(BG34+BH34)/2 -> #VALUE! | BJ34: ='Aligning data'!AP61 -> F5 | BK34: ='Aligning data'!AP74 -> F6 | BL34: =(BJ34+BK34)/2 -> #VALUE! | BM34: ='Aligning data'!AR61 -> F5 | BN34: ='Aligning data'!AR74 -> F6 | BO34: =(BM34+BN34)/2 -> #VALUE! | BP34: ='Aligning data'!AT61 -> F5 | BQ34: ='Aligning data'!AT74 -> F6 | BR34: =(BP34+BQ34)/2 -> #VALUE! | BS34: ='Aligning data'!AV61 -> F5 | BT34: ='Aligning data'!AV74 -> F6 | BU34: =(BS34+BT34)/2 -> #VALUE!
A35: GAL1-S | B35: ='Aligning data'!B62 -> G5 | C35: ='Aligning data'!B75 -> G6 | D35: =(B35+C35)/2 -> #VALUE! | E35: ='Aligning data'!D62 -> G5 | F35: ='Aligning data'!D75 -> G6 | G35: =(E35+F35)/2 -> #VALUE! | H35: ='Aligning data'!F62 -> G5 | I35: ='Aligning data'!F75 -> G6 | J35: =(H35+I35)/2 -> #VALUE! | K35: ='Aligning data'!H62 -> G5 | L35: ='Aligning data'!H75 -> G6 | M35: =(K35+L35)/2 -> #VALUE! | N35: ='Aligning data'!J62 -> G5 | O35: ='Aligning data'!J75 -> G6 | P35: =(N35+O35)/2 -> #VALUE! | Q35: ='Aligning data'!L62 -> G5 | R35: ='Aligning data'!L75 -> G6 | S35: =(Q35+R35)/2 -> #VALUE! | T35: ='Aligning data'!N62 -> G5 | U35: ='Aligning data'!N75 -> G6 | V35: =(T35+U35)/2 -> #VALUE! | W35: ='Aligning data'!P62 -> G5 | X35: ='Aligning data'!P75 -> G6 | Y35: =(W35+X35)/2 -> #VALUE! | Z35: ='Aligning data'!R62 -> G5 | AA35: ='Aligning data'!R75 -> G6 | AB35: =(Z35+AA35)/2 -> #VALUE! | AC35: ='Aligning data'!T62 -> G5 | AD35: ='Aligning data'!T75 -> G6 | AE35: =(AC35+AD35)/2 -> #VALUE! | AF35: ='Aligning data'!V62 -> G5 | AG35: ='Aligning data'!V75 -> G6 | AH35: =(AF35+AG35)/2 -> #VALUE! | AI35: ='Aligning data'!X62 -> G5 | AJ35: ='Aligning data'!X75 -> G6 | AK35: =(AI35+AJ35)/2 -> #VALUE! | AL35: ='Aligning data'!Z62 -> G5 | AM35: ='Aligning data'!Z75 -> G6 | AN35: =(AL35+AM35)/2 -> #VALUE! | AO35: ='Aligning data'!AB62 -> G5 | AP35: ='Aligning data'!AB75 -> G6 | AQ35: =(AO35+AP35)/2 -> #VALUE! | AR35: ='Aligning data'!AD62 -> G5 | AS35: ='Aligning data'!AD75 -> G6 | AT35: =(AR35+AS35)/2 -> #VALUE! | AU35: ='Aligning data'!AF62 -> G5 | AV35: ='Aligning data'!AF75 -> G6 | AW35: =(AU35+AV35)/2 -> #VALUE! | AX35: ='Aligning data'!AH62 -> G5 | AY35: ='Aligning data'!AH75 -> G6 | AZ35: =(AX35+AY35)/2 -> #VALUE! | BA35: ='Aligning data'!AJ62 -> G5 | BB35: ='Aligning data'!AJ75 -> G6 | BC35: =(BA35+BB35)/2 -> #VALUE! | BD35: ='Aligning data'!AL62 -> G5 | BE35: ='Aligning data'!AL75 -> G6 | BF35: =(BD35+BE35)/2 -> #VALUE! | BG35: ='Aligning data'!AN62 -> G5 | BH35: ='Aligning data'!AN75 -> G6 | BI35: =(BG35+BH35)/2 -> #VALUE! | BJ35: ='Aligning data'!AP62 -> G5 | BK35: ='Aligning data'!AP75 -> G6 | BL35: =(BJ35+BK35)/2 -> #VALUE! | BM35: ='Aligning data'!AR62 -> G5 | BN35: ='Aligning data'!AR75 -> G6 | BO35: =(BM35+BN35)/2 -> #VALUE! | BP35: ='Aligning data'!AT62 -> G5 | BQ35: ='Aligning data'!AT75 -> G6 | BR35: =(BP35+BQ35)/2 -> #VALUE! | BS35: ='Aligning data'!AV62 -> G5 | BT35: ='Aligning data'!AV75 -> G6 | BU35: =(BS35+BT35)/2 -> #VALUE!
A36: GAL2 | B36: ='Aligning data'!B63 -> H5 | C36: ='Aligning data'!B76 -> H6 | D36: =(B36+C36)/2 -> #VALUE! | E36: ='Aligning data'!D63 -> H5 | F36: ='Aligning data'!D76 -> H6 | G36: =(E36+F36)/2 -> #VALUE! | H36: ='Aligning data'!F63 -> H5 | I36: ='Aligning data'!F76 -> H6 | J36: =(H36+I36)/2 -> #VALUE! | K36: ='Aligning data'!H63 -> H5 | L36: ='Aligning data'!H76 -> H6 | M36: =(K36+L36)/2 -> #VALUE! | N36: ='Aligning data'!J63 -> H5 | O36: ='Aligning data'!J76 -> H6 | P36: =(N36+O36)/2 -> #VALUE! | Q36: ='Aligning data'!L63 -> H5 | R36: ='Aligning data'!L76 -> H6 | S36: =(Q36+R36)/2 -> #VALUE! | T36: ='Aligning data'!N63 -> H5 | U36: ='Aligning data'!N76 -> H6 | V36: =(T36+U36)/2 -> #VALUE! | W36: ='Aligning data'!P63 -> H5 | X36: ='Aligning data'!P76 -> H6 | Y36: =(W36+X36)/2 -> #VALUE! | Z36: ='Aligning data'!R63 -> H5 | AA36: ='Aligning data'!R76 -> H6 | AB36: =(Z36+AA36)/2 -> #VALUE! | AC36: ='Aligning data'!T63 -> H5 | AD36: ='Aligning data'!T76 -> H6 | AE36: =(AC36+AD36)/2 -> #VALUE! | AF36: ='Aligning data'!V63 -> H5 | AG36: ='Aligning data'!V76 -> H6 | AH36: =(AF36+AG36)/2 -> #VALUE! | AI36: ='Aligning data'!X63 -> H5 | AJ36: ='Aligning data'!X76 -> H6 | AK36: =(AI36+AJ36)/2 -> #VALUE! | AL36: ='Aligning data'!Z63 -> H5 | AM36: ='Aligning data'!Z76 -> H6 | AN36: =(AL36+AM36)/2 -> #VALUE! | AO36: ='Aligning data'!AB63 -> H5 | AP36: ='Aligning data'!AB76 -> H6 | AQ36: =(AO36+AP36)/2 -> #VALUE! | AR36: ='Aligning data'!AD63 -> H5 | AS36: ='Aligning data'!AD76 -> H6 | AT36: =(AR36+AS36)/2 -> #VALUE! | AU36: ='Aligning data'!AF63 -> H5 | AV36: ='Aligning data'!AF76 -> H6 | AW36: =(AU36+AV36)/2 -> #VALUE! | AX36: ='Aligning data'!AH63 -> H5 | AY36: ='Aligning data'!AH76 -> H6 | AZ36: =(AX36+AY36)/2 -> #VALUE! | BA36: ='Aligning data'!AJ63 -> H5 | BB36: ='Aligning data'!AJ76 -> H6 | BC36: =(BA36+BB36)/2 -> #VALUE! | BD36: ='Aligning data'!AL63 -> H5 | BE36: ='Aligning data'!AL76 -> H6 | BF36: =(BD36+BE36)/2 -> #VALUE! | BG36: ='Aligning data'!AN63 -> H5 | BH36: ='Aligning data'!AN76 -> H6 | BI36: =(BG36+BH36)/2 -> #VALUE! | BJ36: ='Aligning data'!AP63 -> H5 | BK36: ='Aligning data'!AP76 -> H6 | BL36: =(BJ36+BK36)/2 -> #VALUE! | BM36: ='Aligning data'!AR63 -> H5 | BN36: ='Aligning data'!AR76 -> H6 | BO36: =(BM36+BN36)/2 -> #VALUE! | BP36: ='Aligning data'!AT63 -> H5 | BQ36: ='Aligning data'!AT76 -> H6 | BR36: =(BP36+BQ36)/2 -> #VALUE! | BS36: ='Aligning data'!AV63 -> H5 | BT36: ='Aligning data'!AV76 -> H6 | BU36: =(BS36+BT36)/2 -> #VALUE!
A37: GAL3 | B37: ='Aligning data'!B64 -> I5 | C37: ='Aligning data'!B77 -> I6 | D37: =(B37+C37)/2 -> #VALUE! | E37: ='Aligning data'!D64 -> I5 | F37: ='Aligning data'!D77 -> I6 | G37: =(E37+F37)/2 -> #VALUE! | H37: ='Aligning data'!F64 -> I5 | I37: ='Aligning data'!F77 -> I6 | J37: =(H37+I37)/2 -> #VALUE! | K37: ='Aligning data'!H64 -> I5 | L37: ='Aligning data'!H77 -> I6 | M37: =(K37+L37)/2 -> #VALUE! | N37: ='Aligning data'!J64 -> I5 | O37: ='Aligning data'!J77 -> I6 | P37: =(N37+O37)/2 -> #VALUE! | Q37: ='Aligning data'!L64 -> I5 | R37: ='Aligning data'!L77 -> I6 | S37: =(Q37+R37)/2 -> #VALUE! | T37: ='Aligning data'!N64 -> I5 | U37: ='Aligning data'!N77 -> I6 | V37: =(T37+U37)/2 -> #VALUE! | W37: ='Aligning data'!P64 -> I5 | X37: ='Aligning data'!P77 -> I6 | Y37: =(W37+X37)/2 -> #VALUE! | Z37: ='Aligning data'!R64 -> I5 | AA37: ='Aligning data'!R77 -> I6 | AB37: =(Z37+AA37)/2 -> #VALUE! | AC37: ='Aligning data'!T64 -> I5 | AD37: ='Aligning data'!T77 -> I6 | AE37: =(AC37+AD37)/2 -> #VALUE! | AF37: ='Aligning data'!V64 -> I5 | AG37: ='Aligning data'!V77 -> I6 | AH37: =(AF37+AG37)/2 -> #VALUE! | AI37: ='Aligning data'!X64 -> I5 | AJ37: ='Aligning data'!X77 -> I6 | AK37: =(AI37+AJ37)/2 -> #VALUE! | AL37: ='Aligning data'!Z64 -> I5 | AM37: ='Aligning data'!Z77 -> I6 | AN37: =(AL37+AM37)/2 -> #VALUE! | AO37: ='Aligning data'!AB64 -> I5 | AP37: ='Aligning data'!AB77 -> I6 | AQ37: =(AO37+AP37)/2 -> #VALUE! | AR37: ='Aligning data'!AD64 -> I5 | AS37: ='Aligning data'!AD77 -> I6 | AT37: =(AR37+AS37)/2 -> #VALUE! | AU37: ='Aligning data'!AF64 -> I5 | AV37: ='Aligning data'!AF77 -> I6 | AW37: =(AU37+AV37)/2 -> #VALUE! | AX37: ='Aligning data'!AH64 -> I5 | AY37: ='Aligning data'!AH77 -> I6 | AZ37: =(AX37+AY37)/2 -> #VALUE! | BA37: ='Aligning data'!AJ64 -> I5 | BB37: ='Aligning data'!AJ77 -> I6 | BC37: =(BA37+BB37)/2 -> #VALUE! | BD37: ='Aligning data'!AL64 -> I5 | BE37: ='Aligning data'!AL77 -> I6 | BF37: =(BD37+BE37)/2 -> #VALUE! | BG37: ='Aligning data'!AN64 -> I5 | BH37: ='Aligning data'!AN77 -> I6 | BI37: =(BG37+BH37)/2 -> #VALUE! | BJ37: ='Aligning data'!AP64 -> I5 | BK37: ='Aligning data'!AP77 -> I6 | BL37: =(BJ37+BK37)/2 -> #VALUE! | BM37: ='Aligning data'!AR64 -> I5 | BN37: ='Aligning data'!AR77 -> I6 | BO37: =(BM37+BN37)/2 -> #VALUE! | BP37: ='Aligning data'!AT64 -> I5 | BQ37: ='Aligning data'!AT77 -> I6 | BR37: =(BP37+BQ37)/2 -> #VALUE! | BS37: ='Aligning data'!AV64 -> I5 | BT37: ='Aligning data'!AV77 -> I6 | BU37: =(BS37+BT37)/2 -> #VALUE!
A38: GAL3C-S | B38: ='Aligning data'!B65 -> J5 | C38: ='Aligning data'!B78 -> J6 | D38: =(B38+C38)/2 -> #VALUE! | E38: ='Aligning data'!D65 -> J5 | F38: ='Aligning data'!D78 -> J6 | G38: =(E38+F38)/2 -> #VALUE! | H38: ='Aligning data'!F65 -> J5 | I38: ='Aligning data'!F78 -> J6 | J38: =(H38+I38)/2 -> #VALUE! | K38: ='Aligning data'!H65 -> J5 | L38: ='Aligning data'!H78 -> J6 | M38: =(K38+L38)/2 -> #VALUE! | N38: ='Aligning data'!J65 -> J5 | O38: ='Aligning data'!J78 -> J6 | P38: =(N38+O38)/2 -> #VALUE! | Q38: ='Aligning data'!L65 -> J5 | R38: ='Aligning data'!L78 -> J6 | S38: =(Q38+R38)/2 -> #VALUE! | T38: ='Aligning data'!N65 -> J5 | U38: ='Aligning data'!N78 -> J6 | V38: =(T38+U38)/2 -> #VALUE! | W38: ='Aligning data'!P65 -> J5 | X38: ='Aligning data'!P78 -> J6 | Y38: =(W38+X38)/2 -> #VALUE! | Z38: ='Aligning data'!R65 -> J5 | AA38: ='Aligning data'!R78 -> J6 | AB38: =(Z38+AA38)/2 -> #VALUE! | AC38: ='Aligning data'!T65 -> J5 | AD38: ='Aligning data'!T78 -> J6 | AE38: =(AC38+AD38)/2 -> #VALUE! | AF38: ='Aligning data'!V65 -> J5 | AG38: ='Aligning data'!V78 -> J6 | AH38: =(AF38+AG38)/2 -> #VALUE! | AI38: ='Aligning data'!X65 -> J5 | AJ38: ='Aligning data'!X78 -> J6 | AK38: =(AI38+AJ38)/2 -> #VALUE! | AL38: ='Aligning data'!Z65 -> J5 | AM38: ='Aligning data'!Z78 -> J6 | AN38: =(AL38+AM38)/2 -> #VALUE! | AO38: ='Aligning data'!AB65 -> J5 | AP38: ='Aligning data'!AB78 -> J6 | AQ38: =(AO38+AP38)/2 -> #VALUE! | AR38: ='Aligning data'!AD65 -> J5 | AS38: ='Aligning data'!AD78 -> J6 | AT38: =(AR38+AS38)/2 -> #VALUE! | AU38: ='Aligning data'!AF65 -> J5 | AV38: ='Aligning data'!AF78 -> J6 | AW38: =(AU38+AV38)/2 -> #VALUE! | AX38: ='Aligning data'!AH65 -> J5 | AY38: ='Aligning data'!AH78 -> J6 | AZ38: =(AX38+AY38)/2 -> #VALUE! | BA38: ='Aligning data'!AJ65 -> J5 | BB38: ='Aligning data'!AJ78 -> J6 | BC38: =(BA38+BB38)/2 -> #VALUE! | BD38: ='Aligning data'!AL65 -> J5 | BE38: ='Aligning data'!AL78 -> J6 | BF38: =(BD38+BE38)/2 -> #VALUE! | BG38: ='Aligning data'!AN65 -> J5 | BH38: ='Aligning data'!AN78 -> J6 | BI38: =(BG38+BH38)/2 -> #VALUE! | BJ38: ='Aligning data'!AP65 -> J5 | BK38: ='Aligning data'!AP78 -> J6 | BL38: =(BJ38+BK38)/2 -> #VALUE! | BM38: ='Aligning data'!AR65 -> J5 | BN38: ='Aligning data'!AR78 -> J6 | BO38: =(BM38+BN38)/2 -> #VALUE! | BP38: ='Aligning data'!AT65 -> J5 | BQ38: ='Aligning data'!AT78 -> J6 | BR38: =(BP38+BQ38)/2 -> #VALUE! | BS38: ='Aligning data'!AV65 -> J5 | BT38: ='Aligning data'!AV78 -> J6 | BU38: =(BS38+BT38)/2 -> #VALUE!
A39: GAL7-S | B39: ='Aligning data'!B66 -> K5 | C39: ='Aligning data'!B79 -> K6 | D39: =(B39+C39)/2 -> #VALUE! | E39: ='Aligning data'!D66 -> K5 | F39: ='Aligning data'!D79 -> K6 | G39: =(E39+F39)/2 -> #VALUE! | H39: ='Aligning data'!F66 -> K5 | I39: ='Aligning data'!F79 -> K6 | J39: =(H39+I39)/2 -> #VALUE! | K39: ='Aligning data'!H66 -> K5 | L39: ='Aligning data'!H79 -> K6 | M39: =(K39+L39)/2 -> #VALUE! | N39: ='Aligning data'!J66 -> K5 | O39: ='Aligning data'!J79 -> K6 | P39: =(N39+O39)/2 -> #VALUE! | Q39: ='Aligning data'!L66 -> K5 | R39: ='Aligning data'!L79 -> K6 | S39: =(Q39+R39)/2 -> #VALUE! | T39: ='Aligning data'!N66 -> K5 | U39: ='Aligning data'!N79 -> K6 | V39: =(T39+U39)/2 -> #VALUE! | W39: ='Aligning data'!P66 -> K5 | X39: ='Aligning data'!P79 -> K6 | Y39: =(W39+X39)/2 -> #VALUE! | Z39: ='Aligning data'!R66 -> K5 | AA39: ='Aligning data'!R79 -> K6 | AB39: =(Z39+AA39)/2 -> #VALUE! | AC39: ='Aligning data'!T66 -> K5 | AD39: ='Aligning data'!T79 -> K6 | AE39: =(AC39+AD39)/2 -> #VALUE! | AF39: ='Aligning data'!V66 -> K5 | AG39: ='Aligning data'!V79 -> K6 | AH39: =(AF39+AG39)/2 -> #VALUE! | AI39: ='Aligning data'!X66 -> K5 | AJ39: ='Aligning data'!X79 -> K6 | AK39: =(AI39+AJ39)/2 -> #VALUE! | AL39: ='Aligning data'!Z66 -> K5 | AM39: ='Aligning data'!Z79 -> K6 | AN39: =(AL39+AM39)/2 -> #VALUE! | AO39: ='Aligning data'!AB66 -> K5 | AP39: ='Aligning data'!AB79 -> K6 | AQ39: =(AO39+AP39)/2 -> #VALUE! | AR39: ='Aligning data'!AD66 -> K5 | AS39: ='Aligning data'!AD79 -> K6 | AT39: =(AR39+AS39)/2 -> #VALUE! | AU39: ='Aligning data'!AF66 -> K5 | AV39: ='Aligning data'!AF79 -> K6 | AW39: =(AU39+AV39)/2 -> #VALUE! | AX39: ='Aligning data'!AH66 -> K5 | AY39: ='Aligning data'!AH79 -> K6 | AZ39: =(AX39+AY39)/2 -> #VALUE! | BA39: ='Aligning data'!AJ66 -> K5 | BB39: ='Aligning data'!AJ79 -> K6 | BC39: =(BA39+BB39)/2 -> #VALUE! | BD39: ='Aligning data'!AL66 -> K5 | BE39: ='Aligning data'!AL79 -> K6 | BF39: =(BD39+BE39)/2 -> #VALUE! | BG39: ='Aligning data'!AN66 -> K5 | BH39: ='Aligning data'!AN79 -> K6 | BI39: =(BG39+BH39)/2 -> #VALUE! | BJ39: ='Aligning data'!AP66 -> K5 | BK39: ='Aligning data'!AP79 -> K6 | BL39: =(BJ39+BK39)/2 -> #VALUE! | BM39: ='Aligning data'!AR66 -> K5 | BN39: ='Aligning data'!AR79 -> K6 | BO39: =(BM39+BN39)/2 -> #VALUE! | BP39: ='Aligning data'!AT66 -> K5 | BQ39: ='Aligning data'!AT79 -> K6 | BR39: =(BP39+BQ39)/2 -> #VALUE! | BS39: ='Aligning data'!AV66 -> K5 | BT39: ='Aligning data'!AV79 -> K6 | BU39: =(BS39+BT39)/2 -> #VALUE!
A40: GAL9 | B40: ='Aligning data'!B67 -> L5 | C40: ='Aligning data'!B80 -> L6 | D40: =(B40+C40)/2 -> #VALUE! | E40: ='Aligning data'!D67 -> L5 | F40: ='Aligning data'!D80 -> L6 | G40: =(E40+F40)/2 -> #VALUE! | H40: ='Aligning data'!F67 -> L5 | I40: ='Aligning data'!F80 -> L6 | J40: =(H40+I40)/2 -> #VALUE! | K40: ='Aligning data'!H67 -> L5 | L40: ='Aligning data'!H80 -> L6 | M40: =(K40+L40)/2 -> #VALUE! | N40: ='Aligning data'!J67 -> L5 | O40: ='Aligning data'!J80 -> L6 | P40: =(N40+O40)/2 -> #VALUE! | Q40: ='Aligning data'!L67 -> L5 | R40: ='Aligning data'!L80 -> L6 | S40: =(Q40+R40)/2 -> #VALUE! | T40: ='Aligning data'!N67 -> L5 | U40: ='Aligning data'!N80 -> L6 | V40: =(T40+U40)/2 -> #VALUE! | W40: ='Aligning data'!P67 -> L5 | X40: ='Aligning data'!P80 -> L6 | Y40: =(W40+X40)/2 -> #VALUE! | Z40: ='Aligning data'!R67 -> L5 | AA40: ='Aligning data'!R80 -> L6 | AB40: =(Z40+AA40)/2 -> #VALUE! | AC40: ='Aligning data'!T67 -> L5 | AD40: ='Aligning data'!T80 -> L6 | AE40: =(AC40+AD40)/2 -> #VALUE! | AF40: ='Aligning data'!V67 -> L5 | AG40: ='Aligning data'!V80 -> L6 | AH40: =(AF40+AG40)/2 -> #VALUE! | AI40: ='Aligning data'!X67 -> L5 | AJ40: ='Aligning data'!X80 -> L6 | AK40: =(AI40+AJ40)/2 -> #VALUE! | AL40: ='Aligning data'!Z67 -> L5 | AM40: ='Aligning data'!Z80 -> L6 | AN40: =(AL40+AM40)/2 -> #VALUE! | AO40: ='Aligning data'!AB67 -> L5 | AP40: ='Aligning data'!AB80 -> L6 | AQ40: =(AO40+AP40)/2 -> #VALUE! | AR40: ='Aligning data'!AD67 -> L5 | AS40: ='Aligning data'!AD80 -> L6 | AT40: =(AR40+AS40)/2 -> #VALUE! | AU40: ='Aligning data'!AF67 -> L5 | AV40: ='Aligning data'!AF80 -> L6 | AW40: =(AU40+AV40)/2 -> #VALUE! | AX40: ='Aligning data'!AH67 -> L5 | AY40: ='Aligning data'!AH80 -> L6 | AZ40: =(AX40+AY40)/2 -> #VALUE! | BA40: ='Aligning data'!AJ67 -> L5 | BB40: ='Aligning data'!AJ80 -> L6 | BC40: =(BA40+BB40)/2 -> #VALUE! | BD40: ='Aligning data'!AL67 -> L5 | BE40: ='Aligning data'!AL80 -> L6 | BF40: =(BD40+BE40)/2 -> #VALUE! | BG40: ='Aligning data'!AN67 -> L5 | BH40: ='Aligning data'!AN80 -> L6 | BI40: =(BG40+BH40)/2 -> #VALUE! | BJ40: ='Aligning data'!AP67 -> L5 | BK40: ='Aligning data'!AP80 -> L6 | BL40: =(BJ40+BK40)/2 -> #VALUE! | BM40: ='Aligning data'!AR67 -> L5 | BN40: ='Aligning data'!AR80 -> L6 | BO40: =(BM40+BN40)/2 -> #VALUE! | BP40: ='Aligning data'!AT67 -> L5 | BQ40: ='Aligning data'!AT80 -> L6 | BR40: =(BP40+BQ40)/2 -> #VALUE! | BS40: ='Aligning data'!AV67 -> L5 | BT40: ='Aligning data'!AV80 -> L6 | BU40: =(BS40+BT40)/2 -> #VALUE!
A41: GHA | B41: ='Aligning data'!B68 -> M5 | C41: ='Aligning data'!B81 -> M6 | D41: =(B41+C41)/2 -> #VALUE! | E41: ='Aligning data'!D68 -> M5 | F41: ='Aligning data'!D81 -> M6 | G41: =(E41+F41)/2 -> #VALUE! | H41: ='Aligning data'!F68 -> M5 | I41: ='Aligning data'!F81 -> M6 | J41: =(H41+I41)/2 -> #VALUE! | K41: ='Aligning data'!H68 -> M5 | L41: ='Aligning data'!H81 -> M6 | M41: =(K41+L41)/2 -> #VALUE! | N41: ='Aligning data'!J68 -> M5 | O41: ='Aligning data'!J81 -> M6 | P41: =(N41+O41)/2 -> #VALUE! | Q41: ='Aligning data'!L68 -> M5 | R41: ='Aligning data'!L81 -> M6 | S41: =(Q41+R41)/2 -> #VALUE! | T41: ='Aligning data'!N68 -> M5 | U41: ='Aligning data'!N81 -> M6 | V41: =(T41+U41)/2 -> #VALUE! | W41: ='Aligning data'!P68 -> M5 | X41: ='Aligning data'!P81 -> M6 | Y41: =(W41+X41)/2 -> #VALUE! | Z41: ='Aligning data'!R68 -> M5 | AA41: ='Aligning data'!R81 -> M6 | AB41: =(Z41+AA41)/2 -> #VALUE! | AC41: ='Aligning data'!T68 -> M5 | AD41: ='Aligning data'!T81 -> M6 | AE41: =(AC41+AD41)/2 -> #VALUE! | AF41: ='Aligning data'!V68 -> M5 | AG41: ='Aligning data'!V81 -> M6 | AH41: =(AF41+AG41)/2 -> #VALUE! | AI41: ='Aligning data'!X68 -> M5 | AJ41: ='Aligning data'!X81 -> M6 | AK41: =(AI41+AJ41)/2 -> #VALUE! | AL41: ='Aligning data'!Z68 -> M5 | AM41: ='Aligning data'!Z81 -> M6 | AN41: =(AL41+AM41)/2 -> #VALUE! | AO41: ='Aligning data'!AB68 -> M5 | AP41: ='Aligning data'!AB81 -> M6 | AQ41: =(AO41+AP41)/2 -> #VALUE! | AR41: ='Aligning data'!AD68 -> M5 | AS41: ='Aligning data'!AD81 -> M6 | AT41: =(AR41+AS41)/2 -> #VALUE! | AU41: ='Aligning data'!AF68 -> M5 | AV41: ='Aligning data'!AF81 -> M6 | AW41: =(AU41+AV41)/2 -> #VALUE! | AX41: ='Aligning data'!AH68 -> M5 | AY41: ='Aligning data'!AH81 -> M6 | AZ41: =(AX41+AY41)/2 -> #VALUE! | BA41: ='Aligning data'!AJ68 -> M5 | BB41: ='Aligning data'!AJ81 -> M6 | BC41: =(BA41+BB41)/2 -> #VALUE! | BD41: ='Aligning data'!AL68 -> M5 | BE41: ='Aligning data'!AL81 -> M6 | BF41: =(BD41+BE41)/2 -> #VALUE! | BG41: ='Aligning data'!AN68 -> M5 | BH41: ='Aligning data'!AN81 -> M6 | BI41: =(BG41+BH41)/2 -> #VALUE! | BJ41: ='Aligning data'!AP68 -> M5 | BK41: ='Aligning data'!AP81 -> M6 | BL41: =(BJ41+BK41)/2 -> #VALUE! | BM41: ='Aligning data'!AR68 -> M5 | BN41: ='Aligning data'!AR81 -> M6 | BO41: =(BM41+BN41)/2 -> #VALUE! | BP41: ='Aligning data'!AT68 -> M5 | BQ41: ='Aligning data'!AT81 -> M6 | BR41: =(BP41+BQ41)/2 -> #VALUE! | BS41: ='Aligning data'!AV68 -> M5 | BT41: ='Aligning data'!AV81 -> M6 | BU41: =(BS41+BT41)/2 -> #VALUE!
A42: GNA | B42: ='Aligning data'!B82 -> A7 | C42: ='Aligning data'!B95 -> A8 | D42: =(B42+C42)/2 -> #VALUE! | E42: ='Aligning data'!D82 -> A7 | F42: ='Aligning data'!D95 -> A8 | G42: =(E42+F42)/2 -> #VALUE! | H42: ='Aligning data'!F82 -> A7 | I42: ='Aligning data'!F95 -> A8 | J42: =(H42+I42)/2 -> #VALUE! | K42: ='Aligning data'!H82 -> A7 | L42: ='Aligning data'!H95 -> A8 | M42: =(K42+L42)/2 -> #VALUE! | N42: ='Aligning data'!J82 -> A7 | O42: ='Aligning data'!J95 -> A8 | P42: =(N42+O42)/2 -> #VALUE! | Q42: ='Aligning data'!L82 -> A7 | R42: ='Aligning data'!L95 -> A8 | S42: =(Q42+R42)/2 -> #VALUE! | T42: ='Aligning data'!N82 -> A7 | U42: ='Aligning data'!N95 -> A8 | V42: =(T42+U42)/2 -> #VALUE! | W42: ='Aligning data'!P82 -> A7 | X42: ='Aligning data'!P95 -> A8 | Y42: =(W42+X42)/2 -> #VALUE! | Z42: ='Aligning data'!R82 -> A7 | AA42: ='Aligning data'!R95 -> A8 | AB42: =(Z42+AA42)/2 -> #VALUE! | AC42: ='Aligning data'!T82 -> A7 | AD42: ='Aligning data'!T95 -> A8 | AE42: =(AC42+AD42)/2 -> #VALUE! | AF42: ='Aligning data'!V82 -> A7 | AG42: ='Aligning data'!V95 -> A8 | AH42: =(AF42+AG42)/2 -> #VALUE! | AI42: ='Aligning data'!X82 -> A7 | AJ42: ='Aligning data'!X95 -> A8 | AK42: =(AI42+AJ42)/2 -> #VALUE! | AL42: ='Aligning data'!Z82 -> A7 | AM42: ='Aligning data'!Z95 -> A8 | AN42: =(AL42+AM42)/2 -> #VALUE! | AO42: ='Aligning data'!AB82 -> A7 | AP42: ='Aligning data'!AB95 -> A8 | AQ42: =(AO42+AP42)/2 -> #VALUE! | AR42: ='Aligning data'!AD82 -> A7 | AS42: ='Aligning data'!AD95 -> A8 | AT42: =(AR42+AS42)/2 -> #VALUE! | AU42: ='Aligning data'!AF82 -> A7 | AV42: ='Aligning data'!AF95 -> A8 | AW42: =(AU42+AV42)/2 -> #VALUE! | AX42: ='Aligning data'!AH82 -> A7 | AY42: ='Aligning data'!AH95 -> A8 | AZ42: =(AX42+AY42)/2 -> #VALUE! | BA42: ='Aligning data'!AJ82 -> A7 | BB42: ='Aligning data'!AJ95 -> A8 | BC42: =(BA42+BB42)/2 -> #VALUE! | BD42: ='Aligning data'!AL82 -> A7 | BE42: ='Aligning data'!AL95 -> A8 | BF42: =(BD42+BE42)/2 -> #VALUE! | BG42: ='Aligning data'!AN82 -> A7 | BH42: ='Aligning data'!AN95 -> A8 | BI42: =(BG42+BH42)/2 -> #VALUE! | BJ42: ='Aligning data'!AP82 -> A7 | BK42: ='Aligning data'!AP95 -> A8 | BL42: =(BJ42+BK42)/2 -> #VALUE! | BM42: ='Aligning data'!AR82 -> A7 | BN42: ='Aligning data'!AR95 -> A8 | BO42: =(BM42+BN42)/2 -> #VALUE! | BP42: ='Aligning data'!AT82 -> A7 | BQ42: ='Aligning data'!AT95 -> A8 | BR42: =(BP42+BQ42)/2 -> #VALUE! | BS42: ='Aligning data'!AV82 -> A7 | BT42: ='Aligning data'!AV95 -> A8 | BU42: =(BS42+BT42)/2 -> #VALUE!
A43: GRFT | B43: ='Aligning data'!B83 -> B7 | C43: ='Aligning data'!B96 -> B8 | D43: =(B43+C43)/2 -> #VALUE! | E43: ='Aligning data'!D83 -> B7 | F43: ='Aligning data'!D96 -> B8 | G43: =(E43+F43)/2 -> #VALUE! | H43: ='Aligning data'!F83 -> B7 | I43: ='Aligning data'!F96 -> B8 | J43: =(H43+I43)/2 -> #VALUE! | K43: ='Aligning data'!H83 -> B7 | L43: ='Aligning data'!H96 -> B8 | M43: =(K43+L43)/2 -> #VALUE! | N43: ='Aligning data'!J83 -> B7 | O43: ='Aligning data'!J96 -> B8 | P43: =(N43+O43)/2 -> #VALUE! | Q43: ='Aligning data'!L83 -> B7 | R43: ='Aligning data'!L96 -> B8 | S43: =(Q43+R43)/2 -> #VALUE! | T43: ='Aligning data'!N83 -> B7 | U43: ='Aligning data'!N96 -> B8 | V43: =(T43+U43)/2 -> #VALUE! | W43: ='Aligning data'!P83 -> B7 | X43: ='Aligning data'!P96 -> B8 | Y43: =(W43+X43)/2 -> #VALUE! | Z43: ='Aligning data'!R83 -> B7 | AA43: ='Aligning data'!R96 -> B8 | AB43: =(Z43+AA43)/2 -> #VALUE! | AC43: ='Aligning data'!T83 -> B7 | AD43: ='Aligning data'!T96 -> B8 | AE43: =(AC43+AD43)/2 -> #VALUE! | AF43: ='Aligning data'!V83 -> B7 | AG43: ='Aligning data'!V96 -> B8 | AH43: =(AF43+AG43)/2 -> #VALUE! | AI43: ='Aligning data'!X83 -> B7 | AJ43: ='Aligning data'!X96 -> B8 | AK43: =(AI43+AJ43)/2 -> #VALUE! | AL43: ='Aligning data'!Z83 -> B7 | AM43: ='Aligning data'!Z96 -> B8 | AN43: =(AL43+AM43)/2 -> #VALUE! | AO43: ='Aligning data'!AB83 -> B7 | AP43: ='Aligning data'!AB96 -> B8 | AQ43: =(AO43+AP43)/2 -> #VALUE! | AR43: ='Aligning data'!AD83 -> B7 | AS43: ='Aligning data'!AD96 -> B8 | AT43: =(AR43+AS43)/2 -> #VALUE! | AU43: ='Aligning data'!AF83 -> B7 | AV43: ='Aligning data'!AF96 -> B8 | AW43: =(AU43+AV43)/2 -> #VALUE! | AX43: ='Aligning data'!AH83 -> B7 | AY43: ='Aligning data'!AH96 -> B8 | AZ43: =(AX43+AY43)/2 -> #VALUE! | BA43: ='Aligning data'!AJ83 -> B7 | BB43: ='Aligning data'!AJ96 -> B8 | BC43: =(BA43+BB43)/2 -> #VALUE! | BD43: ='Aligning data'!AL83 -> B7 | BE43: ='Aligning data'!AL96 -> B8 | BF43: =(BD43+BE43)/2 -> #VALUE! | BG43: ='Aligning data'!AN83 -> B7 | BH43: ='Aligning data'!AN96 -> B8 | BI43: =(BG43+BH43)/2 -> #VALUE! | BJ43: ='Aligning data'!AP83 -> B7 | BK43: ='Aligning data'!AP96 -> B8 | BL43: =(BJ43+BK43)/2 -> #VALUE! | BM43: ='Aligning data'!AR83 -> B7 | BN43: ='Aligning data'!AR96 -> B8 | BO43: =(BM43+BN43)/2 -> #VALUE! | BP43: ='Aligning data'!AT83 -> B7 | BQ43: ='Aligning data'!AT96 -> B8 | BR43: =(BP43+BQ43)/2 -> #VALUE! | BS43: ='Aligning data'!AV83 -> B7 | BT43: ='Aligning data'!AV96 -> B8 | BU43: =(BS43+BT43)/2 -> #VALUE!
A44: GS-I | B44: ='Aligning data'!B84 -> C7 | C44: ='Aligning data'!B97 -> C8 | D44: =(B44+C44)/2 -> #VALUE! | E44: ='Aligning data'!D84 -> C7 | F44: ='Aligning data'!D97 -> C8 | G44: =(E44+F44)/2 -> #VALUE! | H44: ='Aligning data'!F84 -> C7 | I44: ='Aligning data'!F97 -> C8 | J44: =(H44+I44)/2 -> #VALUE! | K44: ='Aligning data'!H84 -> C7 | L44: ='Aligning data'!H97 -> C8 | M44: =(K44+L44)/2 -> #VALUE! | N44: ='Aligning data'!J84 -> C7 | O44: ='Aligning data'!J97 -> C8 | P44: =(N44+O44)/2 -> #VALUE! | Q44: ='Aligning data'!L84 -> C7 | R44: ='Aligning data'!L97 -> C8 | S44: =(Q44+R44)/2 -> #VALUE! | T44: ='Aligning data'!N84 -> C7 | U44: ='Aligning data'!N97 -> C8 | V44: =(T44+U44)/2 -> #VALUE! | W44: ='Aligning data'!P84 -> C7 | X44: ='Aligning data'!P97 -> C8 | Y44: =(W44+X44)/2 -> #VALUE! | Z44: ='Aligning data'!R84 -> C7 | AA44: ='Aligning data'!R97 -> C8 | AB44: =(Z44+AA44)/2 -> #VALUE! | AC44: ='Aligning data'!T84 -> C7 | AD44: ='Aligning data'!T97 -> C8 | AE44: =(AC44+AD44)/2 -> #VALUE! | AF44: ='Aligning data'!V84 -> C7 | AG44: ='Aligning data'!V97 -> C8 | AH44: =(AF44+AG44)/2 -> #VALUE! | AI44: ='Aligning data'!X84 -> C7 | AJ44: ='Aligning data'!X97 -> C8 | AK44: =(AI44+AJ44)/2 -> #VALUE! | AL44: ='Aligning data'!Z84 -> C7 | AM44: ='Aligning data'!Z97 -> C8 | AN44: =(AL44+AM44)/2 -> #VALUE! | AO44: ='Aligning data'!AB84 -> C7 | AP44: ='Aligning data'!AB97 -> C8 | AQ44: =(AO44+AP44)/2 -> #VALUE! | AR44: ='Aligning data'!AD84 -> C7 | AS44: ='Aligning data'!AD97 -> C8 | AT44: =(AR44+AS44)/2 -> #VALUE! | AU44: ='Aligning data'!AF84 -> C7 | AV44: ='Aligning data'!AF97 -> C8 | AW44: =(AU44+AV44)/2 -> #VALUE! | AX44: ='Aligning data'!AH84 -> C7 | AY44: ='Aligning data'!AH97 -> C8 | AZ44: =(AX44+AY44)/2 -> #VALUE! | BA44: ='Aligning data'!AJ84 -> C7 | BB44: ='Aligning data'!AJ97 -> C8 | BC44: =(BA44+BB44)/2 -> #VALUE! | BD44: ='Aligning data'!AL84 -> C7 | BE44: ='Aligning data'!AL97 -> C8 | BF44: =(BD44+BE44)/2 -> #VALUE! | BG44: ='Aligning data'!AN84 -> C7 | BH44: ='Aligning data'!AN97 -> C8 | BI44: =(BG44+BH44)/2 -> #VALUE! | BJ44: ='Aligning data'!AP84 -> C7 | BK44: ='Aligning data'!AP97 -> C8 | BL44: =(BJ44+BK44)/2 -> #VALUE! | BM44: ='Aligning data'!AR84 -> C7 | BN44: ='Aligning data'!AR97 -> C8 | BO44: =(BM44+BN44)/2 -> #VALUE! | BP44: ='Aligning data'!AT84 -> C7 | BQ44: ='Aligning data'!AT97 -> C8 | BR44: =(BP44+BQ44)/2 -> #VALUE! | BS44: ='Aligning data'!AV84 -> C7 | BT44: ='Aligning data'!AV97 -> C8 | BU44: =(BS44+BT44)/2 -> #VALUE!
A45: GS-II | B45: ='Aligning data'!B85 -> D7 | C45: ='Aligning data'!B98 -> D8 | D45: =(B45+C45)/2 -> #VALUE! | E45: ='Aligning data'!D85 -> D7 | F45: ='Aligning data'!D98 -> D8 | G45: =(E45+F45)/2 -> #VALUE! | H45: ='Aligning data'!F85 -> D7 | I45: ='Aligning data'!F98 -> D8 | J45: =(H45+I45)/2 -> #VALUE! | K45: ='Aligning data'!H85 -> D7 | L45: ='Aligning data'!H98 -> D8 | M45: =(K45+L45)/2 -> #VALUE! | N45: ='Aligning data'!J85 -> D7 | O45: ='Aligning data'!J98 -> D8 | P45: =(N45+O45)/2 -> #VALUE! | Q45: ='Aligning data'!L85 -> D7 | R45: ='Aligning data'!L98 -> D8 | S45: =(Q45+R45)/2 -> #VALUE! | T45: ='Aligning data'!N85 -> D7 | U45: ='Aligning data'!N98 -> D8 | V45: =(T45+U45)/2 -> #VALUE! | W45: ='Aligning data'!P85 -> D7 | X45: ='Aligning data'!P98 -> D8 | Y45: =(W45+X45)/2 -> #VALUE! | Z45: ='Aligning data'!R85 -> D7 | AA45: ='Aligning data'!R98 -> D8 | AB45: =(Z45+AA45)/2 -> #VALUE! | AC45: ='Aligning data'!T85 -> D7 | AD45: ='Aligning data'!T98 -> D8 | AE45: =(AC45+AD45)/2 -> #VALUE! | AF45: ='Aligning data'!V85 -> D7 | AG45: ='Aligning data'!V98 -> D8 | AH45: =(AF45+AG45)/2 -> #VALUE! | AI45: ='Aligning data'!X85 -> D7 | AJ45: ='Aligning data'!X98 -> D8 | AK45: =(AI45+AJ45)/2 -> #VALUE! | AL45: ='Aligning data'!Z85 -> D7 | AM45: ='Aligning data'!Z98 -> D8 | AN45: =(AL45+AM45)/2 -> #VALUE! | AO45: ='Aligning data'!AB85 -> D7 | AP45: ='Aligning data'!AB98 -> D8 | AQ45: =(AO45+AP45)/2 -> #VALUE! | AR45: ='Aligning data'!AD85 -> D7 | AS45: ='Aligning data'!AD98 -> D8 | AT45: =(AR45+AS45)/2 -> #VALUE! | AU45: ='Aligning data'!AF85 -> D7 | AV45: ='Aligning data'!AF98 -> D8 | AW45: =(AU45+AV45)/2 -> #VALUE! | AX45: ='Aligning data'!AH85 -> D7 | AY45: ='Aligning data'!AH98 -> D8 | AZ45: =(AX45+AY45)/2 -> #VALUE! | BA45: ='Aligning data'!AJ85 -> D7 | BB45: ='Aligning data'!AJ98 -> D8 | BC45: =(BA45+BB45)/2 -> #VALUE! | BD45: ='Aligning data'!AL85 -> D7 | BE45: ='Aligning data'!AL98 -> D8 | BF45: =(BD45+BE45)/2 -> #VALUE! | BG45: ='Aligning data'!AN85 -> D7 | BH45: ='Aligning data'!AN98 -> D8 | BI45: =(BG45+BH45)/2 -> #VALUE! | BJ45: ='Aligning data'!AP85 -> D7 | BK45: ='Aligning data'!AP98 -> D8 | BL45: =(BJ45+BK45)/2 -> #VALUE! | BM45: ='Aligning data'!AR85 -> D7 | BN45: ='Aligning data'!AR98 -> D8 | BO45: =(BM45+BN45)/2 -> #VALUE! | BP45: ='Aligning data'!AT85 -> D7 | BQ45: ='Aligning data'!AT98 -> D8 | BR45: =(BP45+BQ45)/2 -> #VALUE! | BS45: ='Aligning data'!AV85 -> D7 | BT45: ='Aligning data'!AV98 -> D8 | BU45: =(BS45+BT45)/2 -> #VALUE!
A46: HAA | B46: ='Aligning data'!B86 -> E7 | C46: ='Aligning data'!B99 -> E8 | D46: =(B46+C46)/2 -> #VALUE! | E46: ='Aligning data'!D86 -> E7 | F46: ='Aligning data'!D99 -> E8 | G46: =(E46+F46)/2 -> #VALUE! | H46: ='Aligning data'!F86 -> E7 | I46: ='Aligning data'!F99 -> E8 | J46: =(H46+I46)/2 -> #VALUE! | K46: ='Aligning data'!H86 -> E7 | L46: ='Aligning data'!H99 -> E8 | M46: =(K46+L46)/2 -> #VALUE! | N46: ='Aligning data'!J86 -> E7 | O46: ='Aligning data'!J99 -> E8 | P46: =(N46+O46)/2 -> #VALUE! | Q46: ='Aligning data'!L86 -> E7 | R46: ='Aligning data'!L99 -> E8 | S46: =(Q46+R46)/2 -> #VALUE! | T46: ='Aligning data'!N86 -> E7 | U46: ='Aligning data'!N99 -> E8 | V46: =(T46+U46)/2 -> #VALUE! | W46: ='Aligning data'!P86 -> E7 | X46: ='Aligning data'!P99 -> E8 | Y46: =(W46+X46)/2 -> #VALUE! | Z46: ='Aligning data'!R86 -> E7 | AA46: ='Aligning data'!R99 -> E8 | AB46: =(Z46+AA46)/2 -> #VALUE! | AC46: ='Aligning data'!T86 -> E7 | AD46: ='Aligning data'!T99 -> E8 | AE46: =(AC46+AD46)/2 -> #VALUE! | AF46: ='Aligning data'!V86 -> E7 | AG46: ='Aligning data'!V99 -> E8 | AH46: =(AF46+AG46)/2 -> #VALUE! | AI46: ='Aligning data'!X86 -> E7 | AJ46: ='Aligning data'!X99 -> E8 | AK46: =(AI46+AJ46)/2 -> #VALUE! | AL46: ='Aligning data'!Z86 -> E7 | AM46: ='Aligning data'!Z99 -> E8 | AN46: =(AL46+AM46)/2 -> #VALUE! | AO46: ='Aligning data'!AB86 -> E7 | AP46: ='Aligning data'!AB99 -> E8 | AQ46: =(AO46+AP46)/2 -> #VALUE! | AR46: ='Aligning data'!AD86 -> E7 | AS46: ='Aligning data'!AD99 -> E8 | AT46: =(AR46+AS46)/2 -> #VALUE! | AU46: ='Aligning data'!AF86 -> E7 | AV46: ='Aligning data'!AF99 -> E8 | AW46: =(AU46+AV46)/2 -> #VALUE! | AX46: ='Aligning data'!AH86 -> E7 | AY46: ='Aligning data'!AH99 -> E8 | AZ46: =(AX46+AY46)/2 -> #VALUE! | BA46: ='Aligning data'!AJ86 -> E7 | BB46: ='Aligning data'!AJ99 -> E8 | BC46: =(BA46+BB46)/2 -> #VALUE! | BD46: ='Aligning data'!AL86 -> E7 | BE46: ='Aligning data'!AL99 -> E8 | BF46: =(BD46+BE46)/2 -> #VALUE! | BG46: ='Aligning data'!AN86 -> E7 | BH46: ='Aligning data'!AN99 -> E8 | BI46: =(BG46+BH46)/2 -> #VALUE! | BJ46: ='Aligning data'!AP86 -> E7 | BK46: ='Aligning data'!AP99 -> E8 | BL46: =(BJ46+BK46)/2 -> #VALUE! | BM46: ='Aligning data'!AR86 -> E7 | BN46: ='Aligning data'!AR99 -> E8 | BO46: =(BM46+BN46)/2 -> #VALUE! | BP46: ='Aligning data'!AT86 -> E7 | BQ46: ='Aligning data'!AT99 -> E8 | BR46: =(BP46+BQ46)/2 -> #VALUE! | BS46: ='Aligning data'!AV86 -> E7 | BT46: ='Aligning data'!AV99 -> E8 | BU46: =(BS46+BT46)/2 -> #VALUE!
A47: HHA | B47: ='Aligning data'!B87 -> F7 | C47: ='Aligning data'!B100 -> F8 | D47: =(B47+C47)/2 -> #VALUE! | E47: ='Aligning data'!D87 -> F7 | F47: ='Aligning data'!D100 -> F8 | G47: =(E47+F47)/2 -> #VALUE! | H47: ='Aligning data'!F87 -> F7 | I47: ='Aligning data'!F100 -> F8 | J47: =(H47+I47)/2 -> #VALUE! | K47: ='Aligning data'!H87 -> F7 | L47: ='Aligning data'!H100 -> F8 | M47: =(K47+L47)/2 -> #VALUE! | N47: ='Aligning data'!J87 -> F7 | O47: ='Aligning data'!J100 -> F8 | P47: =(N47+O47)/2 -> #VALUE! | Q47: ='Aligning data'!L87 -> F7 | R47: ='Aligning data'!L100 -> F8 | S47: =(Q47+R47)/2 -> #VALUE! | T47: ='Aligning data'!N87 -> F7 | U47: ='Aligning data'!N100 -> F8 | V47: =(T47+U47)/2 -> #VALUE! | W47: ='Aligning data'!P87 -> F7 | X47: ='Aligning data'!P100 -> F8 | Y47: =(W47+X47)/2 -> #VALUE! | Z47: ='Aligning data'!R87 -> F7 | AA47: ='Aligning data'!R100 -> F8 | AB47: =(Z47+AA47)/2 -> #VALUE! | AC47: ='Aligning data'!T87 -> F7 | AD47: ='Aligning data'!T100 -> F8 | AE47: =(AC47+AD47)/2 -> #VALUE! | AF47: ='Aligning data'!V87 -> F7 | AG47: ='Aligning data'!V100 -> F8 | AH47: =(AF47+AG47)/2 -> #VALUE! | AI47: ='Aligning data'!X87 -> F7 | AJ47: ='Aligning data'!X100 -> F8 | AK47: =(AI47+AJ47)/2 -> #VALUE! | AL47: ='Aligning data'!Z87 -> F7 | AM47: ='Aligning data'!Z100 -> F8 | AN47: =(AL47+AM47)/2 -> #VALUE! | AO47: ='Aligning data'!AB87 -> F7 | AP47: ='Aligning data'!AB100 -> F8 | AQ47: =(AO47+AP47)/2 -> #VALUE! | AR47: ='Aligning data'!AD87 -> F7 | AS47: ='Aligning data'!AD100 -> F8 | AT47: =(AR47+AS47)/2 -> #VALUE! | AU47: ='Aligning data'!AF87 -> F7 | AV47: ='Aligning data'!AF100 -> F8 | AW47: =(AU47+AV47)/2 -> #VALUE! | AX47: ='Aligning data'!AH87 -> F7 | AY47: ='Aligning data'!AH100 -> F8 | AZ47: =(AX47+AY47)/2 -> #VALUE! | BA47: ='Aligning data'!AJ87 -> F7 | BB47: ='Aligning data'!AJ100 -> F8 | BC47: =(BA47+BB47)/2 -> #VALUE! | BD47: ='Aligning data'!AL87 -> F7 | BE47: ='Aligning data'!AL100 -> F8 | BF47: =(BD47+BE47)/2 -> #VALUE! | BG47: ='Aligning data'!AN87 -> F7 | BH47: ='Aligning data'!AN100 -> F8 | BI47: =(BG47+BH47)/2 -> #VALUE! | BJ47: ='Aligning data'!AP87 -> F7 | BK47: ='Aligning data'!AP100 -> F8 | BL47: =(BJ47+BK47)/2 -> #VALUE! | BM47: ='Aligning data'!AR87 -> F7 | BN47: ='Aligning data'!AR100 -> F8 | BO47: =(BM47+BN47)/2 -> #VALUE! | BP47: ='Aligning data'!AT87 -> F7 | BQ47: ='Aligning data'!AT100 -> F8 | BR47: =(BP47+BQ47)/2 -> #VALUE! | BS47: ='Aligning data'!AV87 -> F7 | BT47: ='Aligning data'!AV100 -> F8 | BU47: =(BS47+BT47)/2 -> #VALUE!
A48: HMA | B48: ='Aligning data'!B88 -> G7 | C48: ='Aligning data'!B101 -> G8 | D48: =(B48+C48)/2 -> #VALUE! | E48: ='Aligning data'!D88 -> G7 | F48: ='Aligning data'!D101 -> G8 | G48: =(E48+F48)/2 -> #VALUE! | H48: ='Aligning data'!F88 -> G7 | I48: ='Aligning data'!F101 -> G8 | J48: =(H48+I48)/2 -> #VALUE! | K48: ='Aligning data'!H88 -> G7 | L48: ='Aligning data'!H101 -> G8 | M48: =(K48+L48)/2 -> #VALUE! | N48: ='Aligning data'!J88 -> G7 | O48: ='Aligning data'!J101 -> G8 | P48: =(N48+O48)/2 -> #VALUE! | Q48: ='Aligning data'!L88 -> G7 | R48: ='Aligning data'!L101 -> G8 | S48: =(Q48+R48)/2 -> #VALUE! | T48: ='Aligning data'!N88 -> G7 | U48: ='Aligning data'!N101 -> G8 | V48: =(T48+U48)/2 -> #VALUE! | W48: ='Aligning data'!P88 -> G7 | X48: ='Aligning data'!P101 -> G8 | Y48: =(W48+X48)/2 -> #VALUE! | Z48: ='Aligning data'!R88 -> G7 | AA48: ='Aligning data'!R101 -> G8 | AB48: =(Z48+AA48)/2 -> #VALUE! | AC48: ='Aligning data'!T88 -> G7 | AD48: ='Aligning data'!T101 -> G8 | AE48: =(AC48+AD48)/2 -> #VALUE! | AF48: ='Aligning data'!V88 -> G7 | AG48: ='Aligning data'!V101 -> G8 | AH48: =(AF48+AG48)/2 -> #VALUE! | AI48: ='Aligning data'!X88 -> G7 | AJ48: ='Aligning data'!X101 -> G8 | AK48: =(AI48+AJ48)/2 -> #VALUE! | AL48: ='Aligning data'!Z88 -> G7 | AM48: ='Aligning data'!Z101 -> G8 | AN48: =(AL48+AM48)/2 -> #VALUE! | AO48: ='Aligning data'!AB88 -> G7 | AP48: ='Aligning data'!AB101 -> G8 | AQ48: =(AO48+AP48)/2 -> #VALUE! | AR48: ='Aligning data'!AD88 -> G7 | AS48: ='Aligning data'!AD101 -> G8 | AT48: =(AR48+AS48)/2 -> #VALUE! | AU48: ='Aligning data'!AF88 -> G7 | AV48: ='Aligning data'!AF101 -> G8 | AW48: =(AU48+AV48)/2 -> #VALUE! | AX48: ='Aligning data'!AH88 -> G7 | AY48: ='Aligning data'!AH101 -> G8 | AZ48: =(AX48+AY48)/2 -> #VALUE! | BA48: ='Aligning data'!AJ88 -> G7 | BB48: ='Aligning data'!AJ101 -> G8 | BC48: =(BA48+BB48)/2 -> #VALUE! | BD48: ='Aligning data'!AL88 -> G7 | BE48: ='Aligning data'!AL101 -> G8 | BF48: =(BD48+BE48)/2 -> #VALUE! | BG48: ='Aligning data'!AN88 -> G7 | BH48: ='Aligning data'!AN101 -> G8 | BI48: =(BG48+BH48)/2 -> #VALUE! | BJ48: ='Aligning data'!AP88 -> G7 | BK48: ='Aligning data'!AP101 -> G8 | BL48: =(BJ48+BK48)/2 -> #VALUE! | BM48: ='Aligning data'!AR88 -> G7 | BN48: ='Aligning data'!AR101 -> G8 | BO48: =(BM48+BN48)/2 -> #VALUE! | BP48: ='Aligning data'!AT88 -> G7 | BQ48: ='Aligning data'!AT101 -> G8 | BR48: =(BP48+BQ48)/2 -> #VALUE! | BS48: ='Aligning data'!AV88 -> G7 | BT48: ='Aligning data'!AV101 -> G8 | BU48: =(BS48+BT48)/2 -> #VALUE!
A49: IRA | B49: ='Aligning data'!B89 -> H7 | C49: ='Aligning data'!B102 -> H8 | D49: =(B49+C49)/2 -> #VALUE! | E49: ='Aligning data'!D89 -> H7 | F49: ='Aligning data'!D102 -> H8 | G49: =(E49+F49)/2 -> #VALUE! | H49: ='Aligning data'!F89 -> H7 | I49: ='Aligning data'!F102 -> H8 | J49: =(H49+I49)/2 -> #VALUE! | K49: ='Aligning data'!H89 -> H7 | L49: ='Aligning data'!H102 -> H8 | M49: =(K49+L49)/2 -> #VALUE! | N49: ='Aligning data'!J89 -> H7 | O49: ='Aligning data'!J102 -> H8 | P49: =(N49+O49)/2 -> #VALUE! | Q49: ='Aligning data'!L89 -> H7 | R49: ='Aligning data'!L102 -> H8 | S49: =(Q49+R49)/2 -> #VALUE! | T49: ='Aligning data'!N89 -> H7 | U49: ='Aligning data'!N102 -> H8 | V49: =(T49+U49)/2 -> #VALUE! | W49: ='Aligning data'!P89 -> H7 | X49: ='Aligning data'!P102 -> H8 | Y49: =(W49+X49)/2 -> #VALUE! | Z49: ='Aligning data'!R89 -> H7 | AA49: ='Aligning data'!R102 -> H8 | AB49: =(Z49+AA49)/2 -> #VALUE! | AC49: ='Aligning data'!T89 -> H7 | AD49: ='Aligning data'!T102 -> H8 | AE49: =(AC49+AD49)/2 -> #VALUE! | AF49: ='Aligning data'!V89 -> H7 | AG49: ='Aligning data'!V102 -> H8 | AH49: =(AF49+AG49)/2 -> #VALUE! | AI49: ='Aligning data'!X89 -> H7 | AJ49: ='Aligning data'!X102 -> H8 | AK49: =(AI49+AJ49)/2 -> #VALUE! | AL49: ='Aligning data'!Z89 -> H7 | AM49: ='Aligning data'!Z102 -> H8 | AN49: =(AL49+AM49)/2 -> #VALUE! | AO49: ='Aligning data'!AB89 -> H7 | AP49: ='Aligning data'!AB102 -> H8 | AQ49: =(AO49+AP49)/2 -> #VALUE! | AR49: ='Aligning data'!AD89 -> H7 | AS49: ='Aligning data'!AD102 -> H8 | AT49: =(AR49+AS49)/2 -> #VALUE! | AU49: ='Aligning data'!AF89 -> H7 | AV49: ='Aligning data'!AF102 -> H8 | AW49: =(AU49+AV49)/2 -> #VALUE! | AX49: ='Aligning data'!AH89 -> H7 | AY49: ='Aligning data'!AH102 -> H8 | AZ49: =(AX49+AY49)/2 -> #VALUE! | BA49: ='Aligning data'!AJ89 -> H7 | BB49: ='Aligning data'!AJ102 -> H8 | BC49: =(BA49+BB49)/2 -> #VALUE! | BD49: ='Aligning data'!AL89 -> H7 | BE49: ='Aligning data'!AL102 -> H8 | BF49: =(BD49+BE49)/2 -> #VALUE! | BG49: ='Aligning data'!AN89 -> H7 | BH49: ='Aligning data'!AN102 -> H8 | BI49: =(BG49+BH49)/2 -> #VALUE! | BJ49: ='Aligning data'!AP89 -> H7 | BK49: ='Aligning data'!AP102 -> H8 | BL49: =(BJ49+BK49)/2 -> #VALUE! | BM49: ='Aligning data'!AR89 -> H7 | BN49: ='Aligning data'!AR102 -> H8 | BO49: =(BM49+BN49)/2 -> #VALUE! | BP49: ='Aligning data'!AT89 -> H7 | BQ49: ='Aligning data'!AT102 -> H8 | BR49: =(BP49+BQ49)/2 -> #VALUE! | BS49: ='Aligning data'!AV89 -> H7 | BT49: ='Aligning data'!AV102 -> H8 | BU49: =(BS49+BT49)/2 -> #VALUE!
A50: Jacalin | B50: ='Aligning data'!B90 -> I7 | C50: ='Aligning data'!B103 -> I8 | D50: =(B50+C50)/2 -> #VALUE! | E50: ='Aligning data'!D90 -> I7 | F50: ='Aligning data'!D103 -> I8 | G50: =(E50+F50)/2 -> #VALUE! | H50: ='Aligning data'!F90 -> I7 | I50: ='Aligning data'!F103 -> I8 | J50: =(H50+I50)/2 -> #VALUE! | K50: ='Aligning data'!H90 -> I7 | L50: ='Aligning data'!H103 -> I8 | M50: =(K50+L50)/2 -> #VALUE! | N50: ='Aligning data'!J90 -> I7 | O50: ='Aligning data'!J103 -> I8 | P50: =(N50+O50)/2 -> #VALUE! | Q50: ='Aligning data'!L90 -> I7 | R50: ='Aligning data'!L103 -> I8 | S50: =(Q50+R50)/2 -> #VALUE! | T50: ='Aligning data'!N90 -> I7 | U50: ='Aligning data'!N103 -> I8 | V50: =(T50+U50)/2 -> #VALUE! | W50: ='Aligning data'!P90 -> I7 | X50: ='Aligning data'!P103 -> I8 | Y50: =(W50+X50)/2 -> #VALUE! | Z50: ='Aligning data'!R90 -> I7 | AA50: ='Aligning data'!R103 -> I8 | AB50: =(Z50+AA50)/2 -> #VALUE! | AC50: ='Aligning data'!T90 -> I7 | AD50: ='Aligning data'!T103 -> I8 | AE50: =(AC50+AD50)/2 -> #VALUE! | AF50: ='Aligning data'!V90 -> I7 | AG50: ='Aligning data'!V103 -> I8 | AH50: =(AF50+AG50)/2 -> #VALUE! | AI50: ='Aligning data'!X90 -> I7 | AJ50: ='Aligning data'!X103 -> I8 | AK50: =(AI50+AJ50)/2 -> #VALUE! | AL50: ='Aligning data'!Z90 -> I7 | AM50: ='Aligning data'!Z103 -> I8 | AN50: =(AL50+AM50)/2 -> #VALUE! | AO50: ='Aligning data'!AB90 -> I7 | AP50: ='Aligning data'!AB103 -> I8 | AQ50: =(AO50+AP50)/2 -> #VALUE! | AR50: ='Aligning data'!AD90 -> I7 | AS50: ='Aligning data'!AD103 -> I8 | AT50: =(AR50+AS50)/2 -> #VALUE! | AU50: ='Aligning data'!AF90 -> I7 | AV50: ='Aligning data'!AF103 -> I8 | AW50: =(AU50+AV50)/2 -> #VALUE! | AX50: ='Aligning data'!AH90 -> I7 | AY50: ='Aligning data'!AH103 -> I8 | AZ50: =(AX50+AY50)/2 -> #VALUE! | BA50: ='Aligning data'!AJ90 -> I7 | BB50: ='Aligning data'!AJ103 -> I8 | BC50: =(BA50+BB50)/2 -> #VALUE! | BD50: ='Aligning data'!AL90 -> I7 | BE50: ='Aligning data'!AL103 -> I8 | BF50: =(BD50+BE50)/2 -> #VALUE! | BG50: ='Aligning data'!AN90 -> I7 | BH50: ='Aligning data'!AN103 -> I8 | BI50: =(BG50+BH50)/2 -> #VALUE! | BJ50: ='Aligning data'!AP90 -> I7 | BK50: ='Aligning data'!AP103 -> I8 | BL50: =(BJ50+BK50)/2 -> #VALUE! | BM50: ='Aligning data'!AR90 -> I7 | BN50: ='Aligning data'!AR103 -> I8 | BO50: =(BM50+BN50)/2 -> #VALUE! | BP50: ='Aligning data'!AT90 -> I7 | BQ50: ='Aligning data'!AT103 -> I8 | BR50: =(BP50+BQ50)/2 -> #VALUE! | BS50: ='Aligning data'!AV90 -> I7 | BT50: ='Aligning data'!AV103 -> I8 | BU50: =(BS50+BT50)/2 -> #VALUE!
A51: LAL | B51: ='Aligning data'!B91 -> J7 | C51: ='Aligning data'!B104 -> J8 | D51: =(B51+C51)/2 -> #VALUE! | E51: ='Aligning data'!D91 -> J7 | F51: ='Aligning data'!D104 -> J8 | G51: =(E51+F51)/2 -> #VALUE! | H51: ='Aligning data'!F91 -> J7 | I51: ='Aligning data'!F104 -> J8 | J51: =(H51+I51)/2 -> #VALUE! | K51: ='Aligning data'!H91 -> J7 | L51: ='Aligning data'!H104 -> J8 | M51: =(K51+L51)/2 -> #VALUE! | N51: ='Aligning data'!J91 -> J7 | O51: ='Aligning data'!J104 -> J8 | P51: =(N51+O51)/2 -> #VALUE! | Q51: ='Aligning data'!L91 -> J7 | R51: ='Aligning data'!L104 -> J8 | S51: =(Q51+R51)/2 -> #VALUE! | T51: ='Aligning data'!N91 -> J7 | U51: ='Aligning data'!N104 -> J8 | V51: =(T51+U51)/2 -> #VALUE! | W51: ='Aligning data'!P91 -> J7 | X51: ='Aligning data'!P104 -> J8 | Y51: =(W51+X51)/2 -> #VALUE! | Z51: ='Aligning data'!R91 -> J7 | AA51: ='Aligning data'!R104 -> J8 | AB51: =(Z51+AA51)/2 -> #VALUE! | AC51: ='Aligning data'!T91 -> J7 | AD51: ='Aligning data'!T104 -> J8 | AE51: =(AC51+AD51)/2 -> #VALUE! | AF51: ='Aligning data'!V91 -> J7 | AG51: ='Aligning data'!V104 -> J8 | AH51: =(AF51+AG51)/2 -> #VALUE! | AI51: ='Aligning data'!X91 -> J7 | AJ51: ='Aligning data'!X104 -> J8 | AK51: =(AI51+AJ51)/2 -> #VALUE! | AL51: ='Aligning data'!Z91 -> J7 | AM51: ='Aligning data'!Z104 -> J8 | AN51: =(AL51+AM51)/2 -> #VALUE! | AO51: ='Aligning data'!AB91 -> J7 | AP51: ='Aligning data'!AB104 -> J8 | AQ51: =(AO51+AP51)/2 -> #VALUE! | AR51: ='Aligning data'!AD91 -> J7 | AS51: ='Aligning data'!AD104 -> J8 | AT51: =(AR51+AS51)/2 -> #VALUE! | AU51: ='Aligning data'!AF91 -> J7 | AV51: ='Aligning data'!AF104 -> J8 | AW51: =(AU51+AV51)/2 -> #VALUE! | AX51: ='Aligning data'!AH91 -> J7 | AY51: ='Aligning data'!AH104 -> J8 | AZ51: =(AX51+AY51)/2 -> #VALUE! | BA51: ='Aligning data'!AJ91 -> J7 | BB51: ='Aligning data'!AJ104 -> J8 | BC51: =(BA51+BB51)/2 -> #VALUE! | BD51: ='Aligning data'!AL91 -> J7 | BE51: ='Aligning data'!AL104 -> J8 | BF51: =(BD51+BE51)/2 -> #VALUE! | BG51: ='Aligning data'!AN91 -> J7 | BH51: ='Aligning data'!AN104 -> J8 | BI51: =(BG51+BH51)/2 -> #VALUE! | BJ51: ='Aligning data'!AP91 -> J7 | BK51: ='Aligning data'!AP104 -> J8 | BL51: =(BJ51+BK51)/2 -> #VALUE! | BM51: ='Aligning data'!AR91 -> J7 | BN51: ='Aligning data'!AR104 -> J8 | BO51: =(BM51+BN51)/2 -> #VALUE! | BP51: ='Aligning data'!AT91 -> J7 | BQ51: ='Aligning data'!AT104 -> J8 | BR51: =(BP51+BQ51)/2 -> #VALUE! | BS51: ='Aligning data'!AV91 -> J7 | BT51: ='Aligning data'!AV104 -> J8 | BU51: =(BS51+BT51)/2 -> #VALUE!
A52: LBA | B52: ='Aligning data'!B92 -> K7 | C52: ='Aligning data'!B105 -> K8 | D52: =(B52+C52)/2 -> #VALUE! | E52: ='Aligning data'!D92 -> K7 | F52: ='Aligning data'!D105 -> K8 | G52: =(E52+F52)/2 -> #VALUE! | H52: ='Aligning data'!F92 -> K7 | I52: ='Aligning data'!F105 -> K8 | J52: =(H52+I52)/2 -> #VALUE! | K52: ='Aligning data'!H92 -> K7 | L52: ='Aligning data'!H105 -> K8 | M52: =(K52+L52)/2 -> #VALUE! | N52: ='Aligning data'!J92 -> K7 | O52: ='Aligning data'!J105 -> K8 | P52: =(N52+O52)/2 -> #VALUE! | Q52: ='Aligning data'!L92 -> K7 | R52: ='Aligning data'!L105 -> K8 | S52: =(Q52+R52)/2 -> #VALUE! | T52: ='Aligning data'!N92 -> K7 | U52: ='Aligning data'!N105 -> K8 | V52: =(T52+U52)/2 -> #VALUE! | W52: ='Aligning data'!P92 -> K7 | X52: ='Aligning data'!P105 -> K8 | Y52: =(W52+X52)/2 -> #VALUE! | Z52: ='Aligning data'!R92 -> K7 | AA52: ='Aligning data'!R105 -> K8 | AB52: =(Z52+AA52)/2 -> #VALUE! | AC52: ='Aligning data'!T92 -> K7 | AD52: ='Aligning data'!T105 -> K8 | AE52: =(AC52+AD52)/2 -> #VALUE! | AF52: ='Aligning data'!V92 -> K7 | AG52: ='Aligning data'!V105 -> K8 | AH52: =(AF52+AG52)/2 -> #VALUE! | AI52: ='Aligning data'!X92 -> K7 | AJ52: ='Aligning data'!X105 -> K8 | AK52: =(AI52+AJ52)/2 -> #VALUE! | AL52: ='Aligning data'!Z92 -> K7 | AM52: ='Aligning data'!Z105 -> K8 | AN52: =(AL52+AM52)/2 -> #VALUE! | AO52: ='Aligning data'!AB92 -> K7 | AP52: ='Aligning data'!AB105 -> K8 | AQ52: =(AO52+AP52)/2 -> #VALUE! | AR52: ='Aligning data'!AD92 -> K7 | AS52: ='Aligning data'!AD105 -> K8 | AT52: =(AR52+AS52)/2 -> #VALUE! | AU52: ='Aligning data'!AF92 -> K7 | AV52: ='Aligning data'!AF105 -> K8 | AW52: =(AU52+AV52)/2 -> #VALUE! | AX52: ='Aligning data'!AH92 -> K7 | AY52: ='Aligning data'!AH105 -> K8 | AZ52: =(AX52+AY52)/2 -> #VALUE! | BA52: ='Aligning data'!AJ92 -> K7 | BB52: ='Aligning data'!AJ105 -> K8 | BC52: =(BA52+BB52)/2 -> #VALUE! | BD52: ='Aligning data'!AL92 -> K7 | BE52: ='Aligning data'!AL105 -> K8 | BF52: =(BD52+BE52)/2 -> #VALUE! | BG52: ='Aligning data'!AN92 -> K7 | BH52: ='Aligning data'!AN105 -> K8 | BI52: =(BG52+BH52)/2 -> #VALUE! | BJ52: ='Aligning data'!AP92 -> K7 | BK52: ='Aligning data'!AP105 -> K8 | BL52: =(BJ52+BK52)/2 -> #VALUE! | BM52: ='Aligning data'!AR92 -> K7 | BN52: ='Aligning data'!AR105 -> K8 | BO52: =(BM52+BN52)/2 -> #VALUE! | BP52: ='Aligning data'!AT92 -> K7 | BQ52: ='Aligning data'!AT105 -> K8 | BR52: =(BP52+BQ52)/2 -> #VALUE! | BS52: ='Aligning data'!AV92 -> K7 | BT52: ='Aligning data'!AV105 -> K8 | BU52: =(BS52+BT52)/2 -> #VALUE!
A53: LcH A | B53: ='Aligning data'!B93 -> L7 | C53: ='Aligning data'!B106 -> L8 | D53: =(B53+C53)/2 -> #VALUE! | E53: ='Aligning data'!D93 -> L7 | F53: ='Aligning data'!D106 -> L8 | G53: =(E53+F53)/2 -> #VALUE! | H53: ='Aligning data'!F93 -> L7 | I53: ='Aligning data'!F106 -> L8 | J53: =(H53+I53)/2 -> #VALUE! | K53: ='Aligning data'!H93 -> L7 | L53: ='Aligning data'!H106 -> L8 | M53: =(K53+L53)/2 -> #VALUE! | N53: ='Aligning data'!J93 -> L7 | O53: ='Aligning data'!J106 -> L8 | P53: =(N53+O53)/2 -> #VALUE! | Q53: ='Aligning data'!L93 -> L7 | R53: ='Aligning data'!L106 -> L8 | S53: =(Q53+R53)/2 -> #VALUE! | T53: ='Aligning data'!N93 -> L7 | U53: ='Aligning data'!N106 -> L8 | V53: =(T53+U53)/2 -> #VALUE! | W53: ='Aligning data'!P93 -> L7 | X53: ='Aligning data'!P106 -> L8 | Y53: =(W53+X53)/2 -> #VALUE! | Z53: ='Aligning data'!R93 -> L7 | AA53: ='Aligning data'!R106 -> L8 | AB53: =(Z53+AA53)/2 -> #VALUE! | AC53: ='Aligning data'!T93 -> L7 | AD53: ='Aligning data'!T106 -> L8 | AE53: =(AC53+AD53)/2 -> #VALUE! | AF53: ='Aligning data'!V93 -> L7 | AG53: ='Aligning data'!V106 -> L8 | AH53: =(AF53+AG53)/2 -> #VALUE! | AI53: ='Aligning data'!X93 -> L7 | AJ53: ='Aligning data'!X106 -> L8 | AK53: =(AI53+AJ53)/2 -> #VALUE! | AL53: ='Aligning data'!Z93 -> L7 | AM53: ='Aligning data'!Z106 -> L8 | AN53: =(AL53+AM53)/2 -> #VALUE! | AO53: ='Aligning data'!AB93 -> L7 | AP53: ='Aligning data'!AB106 -> L8 | AQ53: =(AO53+AP53)/2 -> #VALUE! | AR53: ='Aligning data'!AD93 -> L7 | AS53: ='Aligning data'!AD106 -> L8 | AT53: =(AR53+AS53)/2 -> #VALUE! | AU53: ='Aligning data'!AF93 -> L7 | AV53: ='Aligning data'!AF106 -> L8 | AW53: =(AU53+AV53)/2 -> #VALUE! | AX53: ='Aligning data'!AH93 -> L7 | AY53: ='Aligning data'!AH106 -> L8 | AZ53: =(AX53+AY53)/2 -> #VALUE! | BA53: ='Aligning data'!AJ93 -> L7 | BB53: ='Aligning data'!AJ106 -> L8 | BC53: =(BA53+BB53)/2 -> #VALUE! | BD53: ='Aligning data'!AL93 -> L7 | BE53: ='Aligning data'!AL106 -> L8 | BF53: =(BD53+BE53)/2 -> #VALUE! | BG53: ='Aligning data'!AN93 -> L7 | BH53: ='Aligning data'!AN106 -> L8 | BI53: =(BG53+BH53)/2 -> #VALUE! | BJ53: ='Aligning data'!AP93 -> L7 | BK53: ='Aligning data'!AP106 -> L8 | BL53: =(BJ53+BK53)/2 -> #VALUE! | BM53: ='Aligning data'!AR93 -> L7 | BN53: ='Aligning data'!AR106 -> L8 | BO53: =(BM53+BN53)/2 -> #VALUE! | BP53: ='Aligning data'!AT93 -> L7 | BQ53: ='Aligning data'!AT106 -> L8 | BR53: =(BP53+BQ53)/2 -> #VALUE! | BS53: ='Aligning data'!AV93 -> L7 | BT53: ='Aligning data'!AV106 -> L8 | BU53: =(BS53+BT53)/2 -> #VALUE!
A54: LEA | B54: ='Aligning data'!B94 -> M7 | C54: ='Aligning data'!B107 -> M8 | D54: =(B54+C54)/2 -> #VALUE! | E54: ='Aligning data'!D94 -> M7 | F54: ='Aligning data'!D107 -> M8 | G54: =(E54+F54)/2 -> #VALUE! | H54: ='Aligning data'!F94 -> M7 | I54: ='Aligning data'!F107 -> M8 | J54: =(H54+I54)/2 -> #VALUE! | K54: ='Aligning data'!H94 -> M7 | L54: ='Aligning data'!H107 -> M8 | M54: =(K54+L54)/2 -> #VALUE! | N54: ='Aligning data'!J94 -> M7 | O54: ='Aligning data'!J107 -> M8 | P54: =(N54+O54)/2 -> #VALUE! | Q54: ='Aligning data'!L94 -> M7 | R54: ='Aligning data'!L107 -> M8 | S54: =(Q54+R54)/2 -> #VALUE! | T54: ='Aligning data'!N94 -> M7 | U54: ='Aligning data'!N107 -> M8 | V54: =(T54+U54)/2 -> #VALUE! | W54: ='Aligning data'!P94 -> M7 | X54: ='Aligning data'!P107 -> M8 | Y54: =(W54+X54)/2 -> #VALUE! | Z54: ='Aligning data'!R94 -> M7 | AA54: ='Aligning data'!R107 -> M8 | AB54: =(Z54+AA54)/2 -> #VALUE! | AC54: ='Aligning data'!T94 -> M7 | AD54: ='Aligning data'!T107 -> M8 | AE54: =(AC54+AD54)/2 -> #VALUE! | AF54: ='Aligning data'!V94 -> M7 | AG54: ='Aligning data'!V107 -> M8 | AH54: =(AF54+AG54)/2 -> #VALUE! | AI54: ='Aligning data'!X94 -> M7 | AJ54: ='Aligning data'!X107 -> M8 | AK54: =(AI54+AJ54)/2 -> #VALUE! | AL54: ='Aligning data'!Z94 -> M7 | AM54: ='Aligning data'!Z107 -> M8 | AN54: =(AL54+AM54)/2 -> #VALUE! | AO54: ='Aligning data'!AB94 -> M7 | AP54: ='Aligning data'!AB107 -> M8 | AQ54: =(AO54+AP54)/2 -> #VALUE! | AR54: ='Aligning data'!AD94 -> M7 | AS54: ='Aligning data'!AD107 -> M8 | AT54: =(AR54+AS54)/2 -> #VALUE! | AU54: ='Aligning data'!AF94 -> M7 | AV54: ='Aligning data'!AF107 -> M8 | AW54: =(AU54+AV54)/2 -> #VALUE! | AX54: ='Aligning data'!AH94 -> M7 | AY54: ='Aligning data'!AH107 -> M8 | AZ54: =(AX54+AY54)/2 -> #VALUE! | BA54: ='Aligning data'!AJ94 -> M7 | BB54: ='Aligning data'!AJ107 -> M8 | BC54: =(BA54+BB54)/2 -> #VALUE! | BD54: ='Aligning data'!AL94 -> M7 | BE54: ='Aligning data'!AL107 -> M8 | BF54: =(BD54+BE54)/2 -> #VALUE! | BG54: ='Aligning data'!AN94 -> M7 | BH54: ='Aligning data'!AN107 -> M8 | BI54: =(BG54+BH54)/2 -> #VALUE! | BJ54: ='Aligning data'!AP94 -> M7 | BK54: ='Aligning data'!AP107 -> M8 | BL54: =(BJ54+BK54)/2 -> #VALUE! | BM54: ='Aligning data'!AR94 -> M7 | BN54: ='Aligning data'!AR107 -> M8 | BO54: =(BM54+BN54)/2 -> #VALUE! | BP54: ='Aligning data'!AT94 -> M7 | BQ54: ='Aligning data'!AT107 -> M8 | BR54: =(BP54+BQ54)/2 -> #VALUE! | BS54: ='Aligning data'!AV94 -> M7 | BT54: ='Aligning data'!AV107 -> M8 | BU54: =(BS54+BT54)/2 -> #VALUE!
A55: LENTIL | B55: ='Aligning data'!B108 -> A9 | C55: ='Aligning data'!B121 -> A10 | D55: =(B55+C55)/2 -> #VALUE! | E55: ='Aligning data'!D108 -> A9 | F55: ='Aligning data'!D121 -> A10 | G55: =(E55+F55)/2 -> #VALUE! | H55: ='Aligning data'!F108 -> A9 | I55: ='Aligning data'!F121 -> A10 | J55: =(H55+I55)/2 -> #VALUE! | K55: ='Aligning data'!H108 -> A9 | L55: ='Aligning data'!H121 -> A10 | M55: =(K55+L55)/2 -> #VALUE! | N55: ='Aligning data'!J108 -> A9 | O55: ='Aligning data'!J121 -> A10 | P55: =(N55+O55)/2 -> #VALUE! | Q55: ='Aligning data'!L108 -> A9 | R55: ='Aligning data'!L121 -> A10 | S55: =(Q55+R55)/2 -> #VALUE! | T55: ='Aligning data'!N108 -> A9 | U55: ='Aligning data'!N121 -> A10 | V55: =(T55+U55)/2 -> #VALUE! | W55: ='Aligning data'!P108 -> A9 | X55: ='Aligning data'!P121 -> A10 | Y55: =(W55+X55)/2 -> #VALUE! | Z55: ='Aligning data'!R108 -> A9 | AA55: ='Aligning data'!R121 -> A10 | AB55: =(Z55+AA55)/2 -> #VALUE! | AC55: ='Aligning data'!T108 -> A9 | AD55: ='Aligning data'!T121 -> A10 | AE55: =(AC55+AD55)/2 -> #VALUE! | AF55: ='Aligning data'!V108 -> A9 | AG55: ='Aligning data'!V121 -> A10 | AH55: =(AF55+AG55)/2 -> #VALUE! | AI55: ='Aligning data'!X108 -> A9 | AJ55: ='Aligning data'!X121 -> A10 | AK55: =(AI55+AJ55)/2 -> #VALUE! | AL55: ='Aligning data'!Z108 -> A9 | AM55: ='Aligning data'!Z121 -> A10 | AN55: =(AL55+AM55)/2 -> #VALUE! | AO55: ='Aligning data'!AB108 -> A9 | AP55: ='Aligning data'!AB121 -> A10 | AQ55: =(AO55+AP55)/2 -> #VALUE! | AR55: ='Aligning data'!AD108 -> A9 | AS55: ='Aligning data'!AD121 -> A10 | AT55: =(AR55+AS55)/2 -> #VALUE! | AU55: ='Aligning data'!AF108 -> A9 | AV55: ='Aligning data'!AF121 -> A10 | AW55: =(AU55+AV55)/2 -> #VALUE! | AX55: ='Aligning data'!AH108 -> A9 | AY55: ='Aligning data'!AH121 -> A10 | AZ55: =(AX55+AY55)/2 -> #VALUE! | BA55: ='Aligning data'!AJ108 -> A9 | BB55: ='Aligning data'!AJ121 -> A10 | BC55: =(BA55+BB55)/2 -> #VALUE! | BD55: ='Aligning data'!AL108 -> A9 | BE55: ='Aligning data'!AL121 -> A10 | BF55: =(BD55+BE55)/2 -> #VALUE! | BG55: ='Aligning data'!AN108 -> A9 | BH55: ='Aligning data'!AN121 -> A10 | BI55: =(BG55+BH55)/2 -> #VALUE! | BJ55: ='Aligning data'!AP108 -> A9 | BK55: ='Aligning data'!AP121 -> A10 | BL55: =(BJ55+BK55)/2 -> #VALUE! | BM55: ='Aligning data'!AR108 -> A9 | BN55: ='Aligning data'!AR121 -> A10 | BO55: =(BM55+BN55)/2 -> #VALUE! | BP55: ='Aligning data'!AT108 -> A9 | BQ55: ='Aligning data'!AT121 -> A10 | BR55: =(BP55+BQ55)/2 -> #VALUE! | BS55: ='Aligning data'!AV108 -> A9 | BT55: ='Aligning data'!AV121 -> A10 | BU55: =(BS55+BT55)/2 -> #VALUE!
A56: Lotus | B56: ='Aligning data'!B109 -> B9 | C56: ='Aligning data'!B122 -> B10 | D56: =(B56+C56)/2 -> #VALUE! | E56: ='Aligning data'!D109 -> B9 | F56: ='Aligning data'!D122 -> B10 | G56: =(E56+F56)/2 -> #VALUE! | H56: ='Aligning data'!F109 -> B9 | I56: ='Aligning data'!F122 -> B10 | J56: =(H56+I56)/2 -> #VALUE! | K56: ='Aligning data'!H109 -> B9 | L56: ='Aligning data'!H122 -> B10 | M56: =(K56+L56)/2 -> #VALUE! | N56: ='Aligning data'!J109 -> B9 | O56: ='Aligning data'!J122 -> B10 | P56: =(N56+O56)/2 -> #VALUE! | Q56: ='Aligning data'!L109 -> B9 | R56: ='Aligning data'!L122 -> B10 | S56: =(Q56+R56)/2 -> #VALUE! | T56: ='Aligning data'!N109 -> B9 | U56: ='Aligning data'!N122 -> B10 | V56: =(T56+U56)/2 -> #VALUE! | W56: ='Aligning data'!P109 -> B9 | X56: ='Aligning data'!P122 -> B10 | Y56: =(W56+X56)/2 -> #VALUE! | Z56: ='Aligning data'!R109 -> B9 | AA56: ='Aligning data'!R122 -> B10 | AB56: =(Z56+AA56)/2 -> #VALUE! | AC56: ='Aligning data'!T109 -> B9 | AD56: ='Aligning data'!T122 -> B10 | AE56: =(AC56+AD56)/2 -> #VALUE! | AF56: ='Aligning data'!V109 -> B9 | AG56: ='Aligning data'!V122 -> B10 | AH56: =(AF56+AG56)/2 -> #VALUE! | AI56: ='Aligning data'!X109 -> B9 | AJ56: ='Aligning data'!X122 -> B10 | AK56: =(AI56+AJ56)/2 -> #VALUE! | AL56: ='Aligning data'!Z109 -> B9 | AM56: ='Aligning data'!Z122 -> B10 | AN56: =(AL56+AM56)/2 -> #VALUE! | AO56: ='Aligning data'!AB109 -> B9 | AP56: ='Aligning data'!AB122 -> B10 | AQ56: =(AO56+AP56)/2 -> #VALUE! | AR56: ='Aligning data'!AD109 -> B9 | AS56: ='Aligning data'!AD122 -> B10 | AT56: =(AR56+AS56)/2 -> #VALUE! | AU56: ='Aligning data'!AF109 -> B9 | AV56: ='Aligning data'!AF122 -> B10 | AW56: =(AU56+AV56)/2 -> #VALUE! | AX56: ='Aligning data'!AH109 -> B9 | AY56: ='Aligning data'!AH122 -> B10 | AZ56: =(AX56+AY56)/2 -> #VALUE! | BA56: ='Aligning data'!AJ109 -> B9 | BB56: ='Aligning data'!AJ122 -> B10 | BC56: =(BA56+BB56)/2 -> #VALUE! | BD56: ='Aligning data'!AL109 -> B9 | BE56: ='Aligning data'!AL122 -> B10 | BF56: =(BD56+BE56)/2 -> #VALUE! | BG56: ='Aligning data'!AN109 -> B9 | BH56: ='Aligning data'!AN122 -> B10 | BI56: =(BG56+BH56)/2 -> #VALUE! | BJ56: ='Aligning data'!AP109 -> B9 | BK56: ='Aligning data'!AP122 -> B10 | BL56: =(BJ56+BK56)/2 -> #VALUE! | BM56: ='Aligning data'!AR109 -> B9 | BN56: ='Aligning data'!AR122 -> B10 | BO56: =(BM56+BN56)/2 -> #VALUE! | BP56: ='Aligning data'!AT109 -> B9 | BQ56: ='Aligning data'!AT122 -> B10 | BR56: =(BP56+BQ56)/2 -> #VALUE! | BS56: ='Aligning data'!AV109 -> B9 | BT56: ='Aligning data'!AV122 -> B10 | BU56: =(BS56+BT56)/2 -> #VALUE!
A57: LPA | B57: ='Aligning data'!B110 -> C9 | C57: ='Aligning data'!B123 -> C10 | D57: =(B57+C57)/2 -> #VALUE! | E57: ='Aligning data'!D110 -> C9 | F57: ='Aligning data'!D123 -> C10 | G57: =(E57+F57)/2 -> #VALUE! | H57: ='Aligning data'!F110 -> C9 | I57: ='Aligning data'!F123 -> C10 | J57: =(H57+I57)/2 -> #VALUE! | K57: ='Aligning data'!H110 -> C9 | L57: ='Aligning data'!H123 -> C10 | M57: =(K57+L57)/2 -> #VALUE! | N57: ='Aligning data'!J110 -> C9 | O57: ='Aligning data'!J123 -> C10 | P57: =(N57+O57)/2 -> #VALUE! | Q57: ='Aligning data'!L110 -> C9 | R57: ='Aligning data'!L123 -> C10 | S57: =(Q57+R57)/2 -> #VALUE! | T57: ='Aligning data'!N110 -> C9 | U57: ='Aligning data'!N123 -> C10 | V57: =(T57+U57)/2 -> #VALUE! | W57: ='Aligning data'!P110 -> C9 | X57: ='Aligning data'!P123 -> C10 | Y57: =(W57+X57)/2 -> #VALUE! | Z57: ='Aligning data'!R110 -> C9 | AA57: ='Aligning data'!R123 -> C10 | AB57: =(Z57+AA57)/2 -> #VALUE! | AC57: ='Aligning data'!T110 -> C9 | AD57: ='Aligning data'!T123 -> C10 | AE57: =(AC57+AD57)/2 -> #VALUE! | AF57: ='Aligning data'!V110 -> C9 | AG57: ='Aligning data'!V123 -> C10 | AH57: =(AF57+AG57)/2 -> #VALUE! | AI57: ='Aligning data'!X110 -> C9 | AJ57: ='Aligning data'!X123 -> C10 | AK57: =(AI57+AJ57)/2 -> #VALUE! | AL57: ='Aligning data'!Z110 -> C9 | AM57: ='Aligning data'!Z123 -> C10 | AN57: =(AL57+AM57)/2 -> #VALUE! | AO57: ='Aligning data'!AB110 -> C9 | AP57: ='Aligning data'!AB123 -> C10 | AQ57: =(AO57+AP57)/2 -> #VALUE! | AR57: ='Aligning data'!AD110 -> C9 | AS57: ='Aligning data'!AD123 -> C10 | AT57: =(AR57+AS57)/2 -> #VALUE! | AU57: ='Aligning data'!AF110 -> C9 | AV57: ='Aligning data'!AF123 -> C10 | AW57: =(AU57+AV57)/2 -> #VALUE! | AX57: ='Aligning data'!AH110 -> C9 | AY57: ='Aligning data'!AH123 -> C10 | AZ57: =(AX57+AY57)/2 -> #VALUE! | BA57: ='Aligning data'!AJ110 -> C9 | BB57: ='Aligning data'!AJ123 -> C10 | BC57: =(BA57+BB57)/2 -> #VALUE! | BD57: ='Aligning data'!AL110 -> C9 | BE57: ='Aligning data'!AL123 -> C10 | BF57: =(BD57+BE57)/2 -> #VALUE! | BG57: ='Aligning data'!AN110 -> C9 | BH57: ='Aligning data'!AN123 -> C10 | BI57: =(BG57+BH57)/2 -> #VALUE! | BJ57: ='Aligning data'!AP110 -> C9 | BK57: ='Aligning data'!AP123 -> C10 | BL57: =(BJ57+BK57)/2 -> #VALUE! | BM57: ='Aligning data'!AR110 -> C9 | BN57: ='Aligning data'!AR123 -> C10 | BO57: =(BM57+BN57)/2 -> #VALUE! | BP57: ='Aligning data'!AT110 -> C9 | BQ57: ='Aligning data'!AT123 -> C10 | BR57: =(BP57+BQ57)/2 -> #VALUE! | BS57: ='Aligning data'!AV110 -> C9 | BT57: ='Aligning data'!AV123 -> C10 | BU57: =(BS57+BT57)/2 -> #VALUE!
A58: LSL-N | B58: ='Aligning data'!B111 -> D9 | C58: ='Aligning data'!B124 -> D10 | D58: =(B58+C58)/2 -> #VALUE! | E58: ='Aligning data'!D111 -> D9 | F58: ='Aligning data'!D124 -> D10 | G58: =(E58+F58)/2 -> #VALUE! | H58: ='Aligning data'!F111 -> D9 | I58: ='Aligning data'!F124 -> D10 | J58: =(H58+I58)/2 -> #VALUE! | K58: ='Aligning data'!H111 -> D9 | L58: ='Aligning data'!H124 -> D10 | M58: =(K58+L58)/2 -> #VALUE! | N58: ='Aligning data'!J111 -> D9 | O58: ='Aligning data'!J124 -> D10 | P58: =(N58+O58)/2 -> #VALUE! | Q58: ='Aligning data'!L111 -> D9 | R58: ='Aligning data'!L124 -> D10 | S58: =(Q58+R58)/2 -> #VALUE! | T58: ='Aligning data'!N111 -> D9 | U58: ='Aligning data'!N124 -> D10 | V58: =(T58+U58)/2 -> #VALUE! | W58: ='Aligning data'!P111 -> D9 | X58: ='Aligning data'!P124 -> D10 | Y58: =(W58+X58)/2 -> #VALUE! | Z58: ='Aligning data'!R111 -> D9 | AA58: ='Aligning data'!R124 -> D10 | AB58: =(Z58+AA58)/2 -> #VALUE! | AC58: ='Aligning data'!T111 -> D9 | AD58: ='Aligning data'!T124 -> D10 | AE58: =(AC58+AD58)/2 -> #VALUE! | AF58: ='Aligning data'!V111 -> D9 | AG58: ='Aligning data'!V124 -> D10 | AH58: =(AF58+AG58)/2 -> #VALUE! | AI58: ='Aligning data'!X111 -> D9 | AJ58: ='Aligning data'!X124 -> D10 | AK58: =(AI58+AJ58)/2 -> #VALUE! | AL58: ='Aligning data'!Z111 -> D9 | AM58: ='Aligning data'!Z124 -> D10 | AN58: =(AL58+AM58)/2 -> #VALUE! | AO58: ='Aligning data'!AB111 -> D9 | AP58: ='Aligning data'!AB124 -> D10 | AQ58: =(AO58+AP58)/2 -> #VALUE! | AR58: ='Aligning data'!AD111 -> D9 | AS58: ='Aligning data'!AD124 -> D10 | AT58: =(AR58+AS58)/2 -> #VALUE! | AU58: ='Aligning data'!AF111 -> D9 | AV58: ='Aligning data'!AF124 -> D10 | AW58: =(AU58+AV58)/2 -> #VALUE! | AX58: ='Aligning data'!AH111 -> D9 | AY58: ='Aligning data'!AH124 -> D10 | AZ58: =(AX58+AY58)/2 -> #VALUE! | BA58: ='Aligning data'!AJ111 -> D9 | BB58: ='Aligning data'!AJ124 -> D10 | BC58: =(BA58+BB58)/2 -> #VALUE! | BD58: ='Aligning data'!AL111 -> D9 | BE58: ='Aligning data'!AL124 -> D10 | BF58: =(BD58+BE58)/2 -> #VALUE! | BG58: ='Aligning data'!AN111 -> D9 | BH58: ='Aligning data'!AN124 -> D10 | BI58: =(BG58+BH58)/2 -> #VALUE! | BJ58: ='Aligning data'!AP111 -> D9 | BK58: ='Aligning data'!AP124 -> D10 | BL58: =(BJ58+BK58)/2 -> #VALUE! | BM58: ='Aligning data'!AR111 -> D9 | BN58: ='Aligning data'!AR124 -> D10 | BO58: =(BM58+BN58)/2 -> #VALUE! | BP58: ='Aligning data'!AT111 -> D9 | BQ58: ='Aligning data'!AT124 -> D10 | BR58: =(BP58+BQ58)/2 -> #VALUE! | BS58: ='Aligning data'!AV111 -> D9 | BT58: ='Aligning data'!AV124 -> D10 | BU58: =(BS58+BT58)/2 -> #VALUE!
A59: MAA | B59: ='Aligning data'!B112 -> E9 | C59: ='Aligning data'!B125 -> E10 | D59: =(B59+C59)/2 -> #VALUE! | E59: ='Aligning data'!D112 -> E9 | F59: ='Aligning data'!D125 -> E10 | G59: =(E59+F59)/2 -> #VALUE! | H59: ='Aligning data'!F112 -> E9 | I59: ='Aligning data'!F125 -> E10 | J59: =(H59+I59)/2 -> #VALUE! | K59: ='Aligning data'!H112 -> E9 | L59: ='Aligning data'!H125 -> E10 | M59: =(K59+L59)/2 -> #VALUE! | N59: ='Aligning data'!J112 -> E9 | O59: ='Aligning data'!J125 -> E10 | P59: =(N59+O59)/2 -> #VALUE! | Q59: ='Aligning data'!L112 -> E9 | R59: ='Aligning data'!L125 -> E10 | S59: =(Q59+R59)/2 -> #VALUE! | T59: ='Aligning data'!N112 -> E9 | U59: ='Aligning data'!N125 -> E10 | V59: =(T59+U59)/2 -> #VALUE! | W59: ='Aligning data'!P112 -> E9 | X59: ='Aligning data'!P125 -> E10 | Y59: =(W59+X59)/2 -> #VALUE! | Z59: ='Aligning data'!R112 -> E9 | AA59: ='Aligning data'!R125 -> E10 | AB59: =(Z59+AA59)/2 -> #VALUE! | AC59: ='Aligning data'!T112 -> E9 | AD59: ='Aligning data'!T125 -> E10 | AE59: =(AC59+AD59)/2 -> #VALUE! | AF59: ='Aligning data'!V112 -> E9 | AG59: ='Aligning data'!V125 -> E10 | AH59: =(AF59+AG59)/2 -> #VALUE! | AI59: ='Aligning data'!X112 -> E9 | AJ59: ='Aligning data'!X125 -> E10 | AK59: =(AI59+AJ59)/2 -> #VALUE! | AL59: ='Aligning data'!Z112 -> E9 | AM59: ='Aligning data'!Z125 -> E10 | AN59: =(AL59+AM59)/2 -> #VALUE! | AO59: ='Aligning data'!AB112 -> E9 | AP59: ='Aligning data'!AB125 -> E10 | AQ59: =(AO59+AP59)/2 -> #VALUE! | AR59: ='Aligning data'!AD112 -> E9 | AS59: ='Aligning data'!AD125 -> E10 | AT59: =(AR59+AS59)/2 -> #VALUE! | AU59: ='Aligning data'!AF112 -> E9 | AV59: ='Aligning data'!AF125 -> E10 | AW59: =(AU59+AV59)/2 -> #VALUE! | AX59: ='Aligning data'!AH112 -> E9 | AY59: ='Aligning data'!AH125 -> E10 | AZ59: =(AX59+AY59)/2 -> #VALUE! | BA59: ='Aligning data'!AJ112 -> E9 | BB59: ='Aligning data'!AJ125 -> E10 | BC59: =(BA59+BB59)/2 -> #VALUE! | BD59: ='Aligning data'!AL112 -> E9 | BE59: ='Aligning data'!AL125 -> E10 | BF59: =(BD59+BE59)/2 -> #VALUE! | BG59: ='Aligning data'!AN112 -> E9 | BH59: ='Aligning data'!AN125 -> E10 | BI59: =(BG59+BH59)/2 -> #VALUE! | BJ59: ='Aligning data'!AP112 -> E9 | BK59: ='Aligning data'!AP125 -> E10 | BL59: =(BJ59+BK59)/2 -> #VALUE! | BM59: ='Aligning data'!AR112 -> E9 | BN59: ='Aligning data'!AR125 -> E10 | BO59: =(BM59+BN59)/2 -> #VALUE! | BP59: ='Aligning data'!AT112 -> E9 | BQ59: ='Aligning data'!AT125 -> E10 | BR59: =(BP59+BQ59)/2 -> #VALUE! | BS59: ='Aligning data'!AV112 -> E9 | BT59: ='Aligning data'!AV125 -> E10 | BU59: =(BS59+BT59)/2 -> #VALUE!
A60: MALECTIN | B60: ='Aligning data'!B113 -> F9 | C60: ='Aligning data'!B126 -> F10 | D60: =(B60+C60)/2 -> #VALUE! | E60: ='Aligning data'!D113 -> F9 | F60: ='Aligning data'!D126 -> F10 | G60: =(E60+F60)/2 -> #VALUE! | H60: ='Aligning data'!F113 -> F9 | I60: ='Aligning data'!F126 -> F10 | J60: =(H60+I60)/2 -> #VALUE! | K60: ='Aligning data'!H113 -> F9 | L60: ='Aligning data'!H126 -> F10 | M60: =(K60+L60)/2 -> #VALUE! | N60: ='Aligning data'!J113 -> F9 | O60: ='Aligning data'!J126 -> F10 | P60: =(N60+O60)/2 -> #VALUE! | Q60: ='Aligning data'!L113 -> F9 | R60: ='Aligning data'!L126 -> F10 | S60: =(Q60+R60)/2 -> #VALUE! | T60: ='Aligning data'!N113 -> F9 | U60: ='Aligning data'!N126 -> F10 | V60: =(T60+U60)/2 -> #VALUE! | W60: ='Aligning data'!P113 -> F9 | X60: ='Aligning data'!P126 -> F10 | Y60: =(W60+X60)/2 -> #VALUE! | Z60: ='Aligning data'!R113 -> F9 | AA60: ='Aligning data'!R126 -> F10 | AB60: =(Z60+AA60)/2 -> #VALUE! | AC60: ='Aligning data'!T113 -> F9 | AD60: ='Aligning data'!T126 -> F10 | AE60: =(AC60+AD60)/2 -> #VALUE! | AF60: ='Aligning data'!V113 -> F9 | AG60: ='Aligning data'!V126 -> F10 | AH60: =(AF60+AG60)/2 -> #VALUE! | AI60: ='Aligning data'!X113 -> F9 | AJ60: ='Aligning data'!X126 -> F10 | AK60: =(AI60+AJ60)/2 -> #VALUE! | AL60: ='Aligning data'!Z113 -> F9 | AM60: ='Aligning data'!Z126 -> F10 | AN60: =(AL60+AM60)/2 -> #VALUE! | AO60: ='Aligning data'!AB113 -> F9 | AP60: ='Aligning data'!AB126 -> F10 | AQ60: =(AO60+AP60)/2 -> #VALUE! | AR60: ='Aligning data'!AD113 -> F9 | AS60: ='Aligning data'!AD126 -> F10 | AT60: =(AR60+AS60)/2 -> #VALUE! | AU60: ='Aligning data'!AF113 -> F9 | AV60: ='Aligning data'!AF126 -> F10 | AW60: =(AU60+AV60)/2 -> #VALUE! | AX60: ='Aligning data'!AH113 -> F9 | AY60: ='Aligning data'!AH126 -> F10 | AZ60: =(AX60+AY60)/2 -> #VALUE! | BA60: ='Aligning data'!AJ113 -> F9 | BB60: ='Aligning data'!AJ126 -> F10 | BC60: =(BA60+BB60)/2 -> #VALUE! | BD60: ='Aligning data'!AL113 -> F9 | BE60: ='Aligning data'!AL126 -> F10 | BF60: =(BD60+BE60)/2 -> #VALUE! | BG60: ='Aligning data'!AN113 -> F9 | BH60: ='Aligning data'!AN126 -> F10 | BI60: =(BG60+BH60)/2 -> #VALUE! | BJ60: ='Aligning data'!AP113 -> F9 | BK60: ='Aligning data'!AP126 -> F10 | BL60: =(BJ60+BK60)/2 -> #VALUE! | BM60: ='Aligning data'!AR113 -> F9 | BN60: ='Aligning data'!AR126 -> F10 | BO60: =(BM60+BN60)/2 -> #VALUE! | BP60: ='Aligning data'!AT113 -> F9 | BQ60: ='Aligning data'!AT126 -> F10 | BR60: =(BP60+BQ60)/2 -> #VALUE! | BS60: ='Aligning data'!AV113 -> F9 | BT60: ='Aligning data'!AV126 -> F10 | BU60: =(BS60+BT60)/2 -> #VALUE!
A61: MNA-G | B61: ='Aligning data'!B114 -> G9 | C61: ='Aligning data'!B127 -> G10 | D61: =(B61+C61)/2 -> #VALUE! | E61: ='Aligning data'!D114 -> G9 | F61: ='Aligning data'!D127 -> G10 | G61: =(E61+F61)/2 -> #VALUE! | H61: ='Aligning data'!F114 -> G9 | I61: ='Aligning data'!F127 -> G10 | J61: =(H61+I61)/2 -> #VALUE! | K61: ='Aligning data'!H114 -> G9 | L61: ='Aligning data'!H127 -> G10 | M61: =(K61+L61)/2 -> #VALUE! | N61: ='Aligning data'!J114 -> G9 | O61: ='Aligning data'!J127 -> G10 | P61: =(N61+O61)/2 -> #VALUE! | Q61: ='Aligning data'!L114 -> G9 | R61: ='Aligning data'!L127 -> G10 | S61: =(Q61+R61)/2 -> #VALUE! | T61: ='Aligning data'!N114 -> G9 | U61: ='Aligning data'!N127 -> G10 | V61: =(T61+U61)/2 -> #VALUE! | W61: ='Aligning data'!P114 -> G9 | X61: ='Aligning data'!P127 -> G10 | Y61: =(W61+X61)/2 -> #VALUE! | Z61: ='Aligning data'!R114 -> G9 | AA61: ='Aligning data'!R127 -> G10 | AB61: =(Z61+AA61)/2 -> #VALUE! | AC61: ='Aligning data'!T114 -> G9 | AD61: ='Aligning data'!T127 -> G10 | AE61: =(AC61+AD61)/2 -> #VALUE! | AF61: ='Aligning data'!V114 -> G9 | AG61: ='Aligning data'!V127 -> G10 | AH61: =(AF61+AG61)/2 -> #VALUE! | AI61: ='Aligning data'!X114 -> G9 | AJ61: ='Aligning data'!X127 -> G10 | AK61: =(AI61+AJ61)/2 -> #VALUE! | AL61: ='Aligning data'!Z114 -> G9 | AM61: ='Aligning data'!Z127 -> G10 | AN61: =(AL61+AM61)/2 -> #VALUE! | AO61: ='Aligning data'!AB114 -> G9 | AP61: ='Aligning data'!AB127 -> G10 | AQ61: =(AO61+AP61)/2 -> #VALUE! | AR61: ='Aligning data'!AD114 -> G9 | AS61: ='Aligning data'!AD127 -> G10 | AT61: =(AR61+AS61)/2 -> #VALUE! | AU61: ='Aligning data'!AF114 -> G9 | AV61: ='Aligning data'!AF127 -> G10 | AW61: =(AU61+AV61)/2 -> #VALUE! | AX61: ='Aligning data'!AH114 -> G9 | AY61: ='Aligning data'!AH127 -> G10 | AZ61: =(AX61+AY61)/2 -> #VALUE! | BA61: ='Aligning data'!AJ114 -> G9 | BB61: ='Aligning data'!AJ127 -> G10 | BC61: =(BA61+BB61)/2 -> #VALUE! | BD61: ='Aligning data'!AL114 -> G9 | BE61: ='Aligning data'!AL127 -> G10 | BF61: =(BD61+BE61)/2 -> #VALUE! | BG61: ='Aligning data'!AN114 -> G9 | BH61: ='Aligning data'!AN127 -> G10 | BI61: =(BG61+BH61)/2 -> #VALUE! | BJ61: ='Aligning data'!AP114 -> G9 | BK61: ='Aligning data'!AP127 -> G10 | BL61: =(BJ61+BK61)/2 -> #VALUE! | BM61: ='Aligning data'!AR114 -> G9 | BN61: ='Aligning data'!AR127 -> G10 | BO61: =(BM61+BN61)/2 -> #VALUE! | BP61: ='Aligning data'!AT114 -> G9 | BQ61: ='Aligning data'!AT127 -> G10 | BR61: =(BP61+BQ61)/2 -> #VALUE! | BS61: ='Aligning data'!AV114 -> G9 | BT61: ='Aligning data'!AV127 -> G10 | BU61: =(BS61+BT61)/2 -> #VALUE!
A62: MNA-M | B62: ='Aligning data'!B115 -> H9 | C62: ='Aligning data'!B128 -> H10 | D62: =(B62+C62)/2 -> #VALUE! | E62: ='Aligning data'!D115 -> H9 | F62: ='Aligning data'!D128 -> H10 | G62: =(E62+F62)/2 -> #VALUE! | H62: ='Aligning data'!F115 -> H9 | I62: ='Aligning data'!F128 -> H10 | J62: =(H62+I62)/2 -> #VALUE! | K62: ='Aligning data'!H115 -> H9 | L62: ='Aligning data'!H128 -> H10 | M62: =(K62+L62)/2 -> #VALUE! | N62: ='Aligning data'!J115 -> H9 | O62: ='Aligning data'!J128 -> H10 | P62: =(N62+O62)/2 -> #VALUE! | Q62: ='Aligning data'!L115 -> H9 | R62: ='Aligning data'!L128 -> H10 | S62: =(Q62+R62)/2 -> #VALUE! | T62: ='Aligning data'!N115 -> H9 | U62: ='Aligning data'!N128 -> H10 | V62: =(T62+U62)/2 -> #VALUE! | W62: ='Aligning data'!P115 -> H9 | X62: ='Aligning data'!P128 -> H10 | Y62: =(W62+X62)/2 -> #VALUE! | Z62: ='Aligning data'!R115 -> H9 | AA62: ='Aligning data'!R128 -> H10 | AB62: =(Z62+AA62)/2 -> #VALUE! | AC62: ='Aligning data'!T115 -> H9 | AD62: ='Aligning data'!T128 -> H10 | AE62: =(AC62+AD62)/2 -> #VALUE! | AF62: ='Aligning data'!V115 -> H9 | AG62: ='Aligning data'!V128 -> H10 | AH62: =(AF62+AG62)/2 -> #VALUE! | AI62: ='Aligning data'!X115 -> H9 | AJ62: ='Aligning data'!X128 -> H10 | AK62: =(AI62+AJ62)/2 -> #VALUE! | AL62: ='Aligning data'!Z115 -> H9 | AM62: ='Aligning data'!Z128 -> H10 | AN62: =(AL62+AM62)/2 -> #VALUE! | AO62: ='Aligning data'!AB115 -> H9 | AP62: ='Aligning data'!AB128 -> H10 | AQ62: =(AO62+AP62)/2 -> #VALUE! | AR62: ='Aligning data'!AD115 -> H9 | AS62: ='Aligning data'!AD128 -> H10 | AT62: =(AR62+AS62)/2 -> #VALUE! | AU62: ='Aligning data'!AF115 -> H9 | AV62: ='Aligning data'!AF128 -> H10 | AW62: =(AU62+AV62)/2 -> #VALUE! | AX62: ='Aligning data'!AH115 -> H9 | AY62: ='Aligning data'!AH128 -> H10 | AZ62: =(AX62+AY62)/2 -> #VALUE! | BA62: ='Aligning data'!AJ115 -> H9 | BB62: ='Aligning data'!AJ128 -> H10 | BC62: =(BA62+BB62)/2 -> #VALUE! | BD62: ='Aligning data'!AL115 -> H9 | BE62: ='Aligning data'!AL128 -> H10 | BF62: =(BD62+BE62)/2 -> #VALUE! | BG62: ='Aligning data'!AN115 -> H9 | BH62: ='Aligning data'!AN128 -> H10 | BI62: =(BG62+BH62)/2 -> #VALUE! | BJ62: ='Aligning data'!AP115 -> H9 | BK62: ='Aligning data'!AP128 -> H10 | BL62: =(BJ62+BK62)/2 -> #VALUE! | BM62: ='Aligning data'!AR115 -> H9 | BN62: ='Aligning data'!AR128 -> H10 | BO62: =(BM62+BN62)/2 -> #VALUE! | BP62: ='Aligning data'!AT115 -> H9 | BQ62: ='Aligning data'!AT128 -> H10 | BR62: =(BP62+BQ62)/2 -> #VALUE! | BS62: ='Aligning data'!AV115 -> H9 | BT62: ='Aligning data'!AV128 -> H10 | BU62: =(BS62+BT62)/2 -> #VALUE!
A63: MOA | B63: ='Aligning data'!B116 -> I9 | C63: ='Aligning data'!B129 -> I10 | D63: =(B63+C63)/2 -> #VALUE! | E63: ='Aligning data'!D116 -> I9 | F63: ='Aligning data'!D129 -> I10 | G63: =(E63+F63)/2 -> #VALUE! | H63: ='Aligning data'!F116 -> I9 | I63: ='Aligning data'!F129 -> I10 | J63: =(H63+I63)/2 -> #VALUE! | K63: ='Aligning data'!H116 -> I9 | L63: ='Aligning data'!H129 -> I10 | M63: =(K63+L63)/2 -> #VALUE! | N63: ='Aligning data'!J116 -> I9 | O63: ='Aligning data'!J129 -> I10 | P63: =(N63+O63)/2 -> #VALUE! | Q63: ='Aligning data'!L116 -> I9 | R63: ='Aligning data'!L129 -> I10 | S63: =(Q63+R63)/2 -> #VALUE! | T63: ='Aligning data'!N116 -> I9 | U63: ='Aligning data'!N129 -> I10 | V63: =(T63+U63)/2 -> #VALUE! | W63: ='Aligning data'!P116 -> I9 | X63: ='Aligning data'!P129 -> I10 | Y63: =(W63+X63)/2 -> #VALUE! | Z63: ='Aligning data'!R116 -> I9 | AA63: ='Aligning data'!R129 -> I10 | AB63: =(Z63+AA63)/2 -> #VALUE! | AC63: ='Aligning data'!T116 -> I9 | AD63: ='Aligning data'!T129 -> I10 | AE63: =(AC63+AD63)/2 -> #VALUE! | AF63: ='Aligning data'!V116 -> I9 | AG63: ='Aligning data'!V129 -> I10 | AH63: =(AF63+AG63)/2 -> #VALUE! | AI63: ='Aligning data'!X116 -> I9 | AJ63: ='Aligning data'!X129 -> I10 | AK63: =(AI63+AJ63)/2 -> #VALUE! | AL63: ='Aligning data'!Z116 -> I9 | AM63: ='Aligning data'!Z129 -> I10 | AN63: =(AL63+AM63)/2 -> #VALUE! | AO63: ='Aligning data'!AB116 -> I9 | AP63: ='Aligning data'!AB129 -> I10 | AQ63: =(AO63+AP63)/2 -> #VALUE! | AR63: ='Aligning data'!AD116 -> I9 | AS63: ='Aligning data'!AD129 -> I10 | AT63: =(AR63+AS63)/2 -> #VALUE! | AU63: ='Aligning data'!AF116 -> I9 | AV63: ='Aligning data'!AF129 -> I10 | AW63: =(AU63+AV63)/2 -> #VALUE! | AX63: ='Aligning data'!AH116 -> I9 | AY63: ='Aligning data'!AH129 -> I10 | AZ63: =(AX63+AY63)/2 -> #VALUE! | BA63: ='Aligning data'!AJ116 -> I9 | BB63: ='Aligning data'!AJ129 -> I10 | BC63: =(BA63+BB63)/2 -> #VALUE! | BD63: ='Aligning data'!AL116 -> I9 | BE63: ='Aligning data'!AL129 -> I10 | BF63: =(BD63+BE63)/2 -> #VALUE! | BG63: ='Aligning data'!AN116 -> I9 | BH63: ='Aligning data'!AN129 -> I10 | BI63: =(BG63+BH63)/2 -> #VALUE! | BJ63: ='Aligning data'!AP116 -> I9 | BK63: ='Aligning data'!AP129 -> I10 | BL63: =(BJ63+BK63)/2 -> #VALUE! | BM63: ='Aligning data'!AR116 -> I9 | BN63: ='Aligning data'!AR129 -> I10 | BO63: =(BM63+BN63)/2 -> #VALUE! | BP63: ='Aligning data'!AT116 -> I9 | BQ63: ='Aligning data'!AT129 -> I10 | BR63: =(BP63+BQ63)/2 -> #VALUE! | BS63: ='Aligning data'!AV116 -> I9 | BT63: ='Aligning data'!AV129 -> I10 | BU63: =(BS63+BT63)/2 -> #VALUE!
A64: MPL | B64: ='Aligning data'!B117 -> J9 | C64: ='Aligning data'!B130 -> J10 | D64: =(B64+C64)/2 -> #VALUE! | E64: ='Aligning data'!D117 -> J9 | F64: ='Aligning data'!D130 -> J10 | G64: =(E64+F64)/2 -> #VALUE! | H64: ='Aligning data'!F117 -> J9 | I64: ='Aligning data'!F130 -> J10 | J64: =(H64+I64)/2 -> #VALUE! | K64: ='Aligning data'!H117 -> J9 | L64: ='Aligning data'!H130 -> J10 | M64: =(K64+L64)/2 -> #VALUE! | N64: ='Aligning data'!J117 -> J9 | O64: ='Aligning data'!J130 -> J10 | P64: =(N64+O64)/2 -> #VALUE! | Q64: ='Aligning data'!L117 -> J9 | R64: ='Aligning data'!L130 -> J10 | S64: =(Q64+R64)/2 -> #VALUE! | T64: ='Aligning data'!N117 -> J9 | U64: ='Aligning data'!N130 -> J10 | V64: =(T64+U64)/2 -> #VALUE! | W64: ='Aligning data'!P117 -> J9 | X64: ='Aligning data'!P130 -> J10 | Y64: =(W64+X64)/2 -> #VALUE! | Z64: ='Aligning data'!R117 -> J9 | AA64: ='Aligning data'!R130 -> J10 | AB64: =(Z64+AA64)/2 -> #VALUE! | AC64: ='Aligning data'!T117 -> J9 | AD64: ='Aligning data'!T130 -> J10 | AE64: =(AC64+AD64)/2 -> #VALUE! | AF64: ='Aligning data'!V117 -> J9 | AG64: ='Aligning data'!V130 -> J10 | AH64: =(AF64+AG64)/2 -> #VALUE! | AI64: ='Aligning data'!X117 -> J9 | AJ64: ='Aligning data'!X130 -> J10 | AK64: =(AI64+AJ64)/2 -> #VALUE! | AL64: ='Aligning data'!Z117 -> J9 | AM64: ='Aligning data'!Z130 -> J10 | AN64: =(AL64+AM64)/2 -> #VALUE! | AO64: ='Aligning data'!AB117 -> J9 | AP64: ='Aligning data'!AB130 -> J10 | AQ64: =(AO64+AP64)/2 -> #VALUE! | AR64: ='Aligning data'!AD117 -> J9 | AS64: ='Aligning data'!AD130 -> J10 | AT64: =(AR64+AS64)/2 -> #VALUE! | AU64: ='Aligning data'!AF117 -> J9 | AV64: ='Aligning data'!AF130 -> J10 | AW64: =(AU64+AV64)/2 -> #VALUE! | AX64: ='Aligning data'!AH117 -> J9 | AY64: ='Aligning data'!AH130 -> J10 | AZ64: =(AX64+AY64)/2 -> #VALUE! | BA64: ='Aligning data'!AJ117 -> J9 | BB64: ='Aligning data'!AJ130 -> J10 | BC64: =(BA64+BB64)/2 -> #VALUE! | BD64: ='Aligning data'!AL117 -> J9 | BE64: ='Aligning data'!AL130 -> J10 | BF64: =(BD64+BE64)/2 -> #VALUE! | BG64: ='Aligning data'!AN117 -> J9 | BH64: ='Aligning data'!AN130 -> J10 | BI64: =(BG64+BH64)/2 -> #VALUE! | BJ64: ='Aligning data'!AP117 -> J9 | BK64: ='Aligning data'!AP130 -> J10 | BL64: =(BJ64+BK64)/2 -> #VALUE! | BM64: ='Aligning data'!AR117 -> J9 | BN64: ='Aligning data'!AR130 -> J10 | BO64: =(BM64+BN64)/2 -> #VALUE! | BP64: ='Aligning data'!AT117 -> J9 | BQ64: ='Aligning data'!AT130 -> J10 | BR64: =(BP64+BQ64)/2 -> #VALUE! | BS64: ='Aligning data'!AV117 -> J9 | BT64: ='Aligning data'!AV130 -> J10 | BU64: =(BS64+BT64)/2 -> #VALUE!
A65: NPA | B65: ='Aligning data'!B118 -> K9 | C65: ='Aligning data'!B131 -> K10 | D65: =(B65+C65)/2 -> #VALUE! | E65: ='Aligning data'!D118 -> K9 | F65: ='Aligning data'!D131 -> K10 | G65: =(E65+F65)/2 -> #VALUE! | H65: ='Aligning data'!F118 -> K9 | I65: ='Aligning data'!F131 -> K10 | J65: =(H65+I65)/2 -> #VALUE! | K65: ='Aligning data'!H118 -> K9 | L65: ='Aligning data'!H131 -> K10 | M65: =(K65+L65)/2 -> #VALUE! | N65: ='Aligning data'!J118 -> K9 | O65: ='Aligning data'!J131 -> K10 | P65: =(N65+O65)/2 -> #VALUE! | Q65: ='Aligning data'!L118 -> K9 | R65: ='Aligning data'!L131 -> K10 | S65: =(Q65+R65)/2 -> #VALUE! | T65: ='Aligning data'!N118 -> K9 | U65: ='Aligning data'!N131 -> K10 | V65: =(T65+U65)/2 -> #VALUE! | W65: ='Aligning data'!P118 -> K9 | X65: ='Aligning data'!P131 -> K10 | Y65: =(W65+X65)/2 -> #VALUE! | Z65: ='Aligning data'!R118 -> K9 | AA65: ='Aligning data'!R131 -> K10 | AB65: =(Z65+AA65)/2 -> #VALUE! | AC65: ='Aligning data'!T118 -> K9 | AD65: ='Aligning data'!T131 -> K10 | AE65: =(AC65+AD65)/2 -> #VALUE! | AF65: ='Aligning data'!V118 -> K9 | AG65: ='Aligning data'!V131 -> K10 | AH65: =(AF65+AG65)/2 -> #VALUE! | AI65: ='Aligning data'!X118 -> K9 | AJ65: ='Aligning data'!X131 -> K10 | AK65: =(AI65+AJ65)/2 -> #VALUE! | AL65: ='Aligning data'!Z118 -> K9 | AM65: ='Aligning data'!Z131 -> K10 | AN65: =(AL65+AM65)/2 -> #VALUE! | AO65: ='Aligning data'!AB118 -> K9 | AP65: ='Aligning data'!AB131 -> K10 | AQ65: =(AO65+AP65)/2 -> #VALUE! | AR65: ='Aligning data'!AD118 -> K9 | AS65: ='Aligning data'!AD131 -> K10 | AT65: =(AR65+AS65)/2 -> #VALUE! | AU65: ='Aligning data'!AF118 -> K9 | AV65: ='Aligning data'!AF131 -> K10 | AW65: =(AU65+AV65)/2 -> #VALUE! | AX65: ='Aligning data'!AH118 -> K9 | AY65: ='Aligning data'!AH131 -> K10 | AZ65: =(AX65+AY65)/2 -> #VALUE! | BA65: ='Aligning data'!AJ118 -> K9 | BB65: ='Aligning data'!AJ131 -> K10 | BC65: =(BA65+BB65)/2 -> #VALUE! | BD65: ='Aligning data'!AL118 -> K9 | BE65: ='Aligning data'!AL131 -> K10 | BF65: =(BD65+BE65)/2 -> #VALUE! | BG65: ='Aligning data'!AN118 -> K9 | BH65: ='Aligning data'!AN131 -> K10 | BI65: =(BG65+BH65)/2 -> #VALUE! | BJ65: ='Aligning data'!AP118 -> K9 | BK65: ='Aligning data'!AP131 -> K10 | BL65: =(BJ65+BK65)/2 -> #VALUE! | BM65: ='Aligning data'!AR118 -> K9 | BN65: ='Aligning data'!AR131 -> K10 | BO65: =(BM65+BN65)/2 -> #VALUE! | BP65: ='Aligning data'!AT118 -> K9 | BQ65: ='Aligning data'!AT131 -> K10 | BR65: =(BP65+BQ65)/2 -> #VALUE! | BS65: ='Aligning data'!AV118 -> K9 | BT65: ='Aligning data'!AV131 -> K10 | BU65: =(BS65+BT65)/2 -> #VALUE!
A66: ORYSATA | B66: ='Aligning data'!B119 -> L9 | C66: ='Aligning data'!B132 -> L10 | D66: =(B66+C66)/2 -> #VALUE! | E66: ='Aligning data'!D119 -> L9 | F66: ='Aligning data'!D132 -> L10 | G66: =(E66+F66)/2 -> #VALUE! | H66: ='Aligning data'!F119 -> L9 | I66: ='Aligning data'!F132 -> L10 | J66: =(H66+I66)/2 -> #VALUE! | K66: ='Aligning data'!H119 -> L9 | L66: ='Aligning data'!H132 -> L10 | M66: =(K66+L66)/2 -> #VALUE! | N66: ='Aligning data'!J119 -> L9 | O66: ='Aligning data'!J132 -> L10 | P66: =(N66+O66)/2 -> #VALUE! | Q66: ='Aligning data'!L119 -> L9 | R66: ='Aligning data'!L132 -> L10 | S66: =(Q66+R66)/2 -> #VALUE! | T66: ='Aligning data'!N119 -> L9 | U66: ='Aligning data'!N132 -> L10 | V66: =(T66+U66)/2 -> #VALUE! | W66: ='Aligning data'!P119 -> L9 | X66: ='Aligning data'!P132 -> L10 | Y66: =(W66+X66)/2 -> #VALUE! | Z66: ='Aligning data'!R119 -> L9 | AA66: ='Aligning data'!R132 -> L10 | AB66: =(Z66+AA66)/2 -> #VALUE! | AC66: ='Aligning data'!T119 -> L9 | AD66: ='Aligning data'!T132 -> L10 | AE66: =(AC66+AD66)/2 -> #VALUE! | AF66: ='Aligning data'!V119 -> L9 | AG66: ='Aligning data'!V132 -> L10 | AH66: =(AF66+AG66)/2 -> #VALUE! | AI66: ='Aligning data'!X119 -> L9 | AJ66: ='Aligning data'!X132 -> L10 | AK66: =(AI66+AJ66)/2 -> #VALUE! | AL66: ='Aligning data'!Z119 -> L9 | AM66: ='Aligning data'!Z132 -> L10 | AN66: =(AL66+AM66)/2 -> #VALUE! | AO66: ='Aligning data'!AB119 -> L9 | AP66: ='Aligning data'!AB132 -> L10 | AQ66: =(AO66+AP66)/2 -> #VALUE! | AR66: ='Aligning data'!AD119 -> L9 | AS66: ='Aligning data'!AD132 -> L10 | AT66: =(AR66+AS66)/2 -> #VALUE! | AU66: ='Aligning data'!AF119 -> L9 | AV66: ='Aligning data'!AF132 -> L10 | AW66: =(AU66+AV66)/2 -> #VALUE! | AX66: ='Aligning data'!AH119 -> L9 | AY66: ='Aligning data'!AH132 -> L10 | AZ66: =(AX66+AY66)/2 -> #VALUE! | BA66: ='Aligning data'!AJ119 -> L9 | BB66: ='Aligning data'!AJ132 -> L10 | BC66: =(BA66+BB66)/2 -> #VALUE! | BD66: ='Aligning data'!AL119 -> L9 | BE66: ='Aligning data'!AL132 -> L10 | BF66: =(BD66+BE66)/2 -> #VALUE! | BG66: ='Aligning data'!AN119 -> L9 | BH66: ='Aligning data'!AN132 -> L10 | BI66: =(BG66+BH66)/2 -> #VALUE! | BJ66: ='Aligning data'!AP119 -> L9 | BK66: ='Aligning data'!AP132 -> L10 | BL66: =(BJ66+BK66)/2 -> #VALUE! | BM66: ='Aligning data'!AR119 -> L9 | BN66: ='Aligning data'!AR132 -> L10 | BO66: =(BM66+BN66)/2 -> #VALUE! | BP66: ='Aligning data'!AT119 -> L9 | BQ66: ='Aligning data'!AT132 -> L10 | BR66: =(BP66+BQ66)/2 -> #VALUE! | BS66: ='Aligning data'!AV119 -> L9 | BT66: ='Aligning data'!AV132 -> L10 | BU66: =(BS66+BT66)/2 -> #VALUE!
A67: PA-IIL | B67: ='Aligning data'!B120 -> M9 | C67: ='Aligning data'!B133 -> M10 | D67: =(B67+C67)/2 -> #VALUE! | E67: ='Aligning data'!D120 -> M9 | F67: ='Aligning data'!D133 -> M10 | G67: =(E67+F67)/2 -> #VALUE! | H67: ='Aligning data'!F120 -> M9 | I67: ='Aligning data'!F133 -> M10 | J67: =(H67+I67)/2 -> #VALUE! | K67: ='Aligning data'!H120 -> M9 | L67: ='Aligning data'!H133 -> M10 | M67: =(K67+L67)/2 -> #VALUE! | N67: ='Aligning data'!J120 -> M9 | O67: ='Aligning data'!J133 -> M10 | P67: =(N67+O67)/2 -> #VALUE! | Q67: ='Aligning data'!L120 -> M9 | R67: ='Aligning data'!L133 -> M10 | S67: =(Q67+R67)/2 -> #VALUE! | T67: ='Aligning data'!N120 -> M9 | U67: ='Aligning data'!N133 -> M10 | V67: =(T67+U67)/2 -> #VALUE! | W67: ='Aligning data'!P120 -> M9 | X67: ='Aligning data'!P133 -> M10 | Y67: =(W67+X67)/2 -> #VALUE! | Z67: ='Aligning data'!R120 -> M9 | AA67: ='Aligning data'!R133 -> M10 | AB67: =(Z67+AA67)/2 -> #VALUE! | AC67: ='Aligning data'!T120 -> M9 | AD67: ='Aligning data'!T133 -> M10 | AE67: =(AC67+AD67)/2 -> #VALUE! | AF67: ='Aligning data'!V120 -> M9 | AG67: ='Aligning data'!V133 -> M10 | AH67: =(AF67+AG67)/2 -> #VALUE! | AI67: ='Aligning data'!X120 -> M9 | AJ67: ='Aligning data'!X133 -> M10 | AK67: =(AI67+AJ67)/2 -> #VALUE! | AL67: ='Aligning data'!Z120 -> M9 | AM67: ='Aligning data'!Z133 -> M10 | AN67: =(AL67+AM67)/2 -> #VALUE! | AO67: ='Aligning data'!AB120 -> M9 | AP67: ='Aligning data'!AB133 -> M10 | AQ67: =(AO67+AP67)/2 -> #VALUE! | AR67: ='Aligning data'!AD120 -> M9 | AS67: ='Aligning data'!AD133 -> M10 | AT67: =(AR67+AS67)/2 -> #VALUE! | AU67: ='Aligning data'!AF120 -> M9 | AV67: ='Aligning data'!AF133 -> M10 | AW67: =(AU67+AV67)/2 -> #VALUE! | AX67: ='Aligning data'!AH120 -> M9 | AY67: ='Aligning data'!AH133 -> M10 | AZ67: =(AX67+AY67)/2 -> #VALUE! | BA67: ='Aligning data'!AJ120 -> M9 | BB67: ='Aligning data'!AJ133 -> M10 | BC67: =(BA67+BB67)/2 -> #VALUE! | BD67: ='Aligning data'!AL120 -> M9 | BE67: ='Aligning data'!AL133 -> M10 | BF67: =(BD67+BE67)/2 -> #VALUE! | BG67: ='Aligning data'!AN120 -> M9 | BH67: ='Aligning data'!AN133 -> M10 | BI67: =(BG67+BH67)/2 -> #VALUE! | BJ67: ='Aligning data'!AP120 -> M9 | BK67: ='Aligning data'!AP133 -> M10 | BL67: =(BJ67+BK67)/2 -> #VALUE! | BM67: ='Aligning data'!AR120 -> M9 | BN67: ='Aligning data'!AR133 -> M10 | BO67: =(BM67+BN67)/2 -> #VALUE! | BP67: ='Aligning data'!AT120 -> M9 | BQ67: ='Aligning data'!AT133 -> M10 | BR67: =(BP67+BQ67)/2 -> #VALUE! | BS67: ='Aligning data'!AV120 -> M9 | BT67: ='Aligning data'!AV133 -> M10 | BU67: =(BS67+BT67)/2 -> #VALUE!
A68: PA-IL | B68: ='Aligning data'!B134 -> A11 | C68: ='Aligning data'!B147 -> A12 | D68: =(B68+C68)/2 -> #VALUE! | E68: ='Aligning data'!D134 -> A11 | F68: ='Aligning data'!D147 -> A12 | G68: =(E68+F68)/2 -> #VALUE! | H68: ='Aligning data'!F134 -> A11 | I68: ='Aligning data'!F147 -> A12 | J68: =(H68+I68)/2 -> #VALUE! | K68: ='Aligning data'!H134 -> A11 | L68: ='Aligning data'!H147 -> A12 | M68: =(K68+L68)/2 -> #VALUE! | N68: ='Aligning data'!J134 -> A11 | O68: ='Aligning data'!J147 -> A12 | P68: =(N68+O68)/2 -> #VALUE! | Q68: ='Aligning data'!L134 -> A11 | R68: ='Aligning data'!L147 -> A12 | S68: =(Q68+R68)/2 -> #VALUE! | T68: ='Aligning data'!N134 -> A11 | U68: ='Aligning data'!N147 -> A12 | V68: =(T68+U68)/2 -> #VALUE! | W68: ='Aligning data'!P134 -> A11 | X68: ='Aligning data'!P147 -> A12 | Y68: =(W68+X68)/2 -> #VALUE! | Z68: ='Aligning data'!R134 -> A11 | AA68: ='Aligning data'!R147 -> A12 | AB68: =(Z68+AA68)/2 -> #VALUE! | AC68: ='Aligning data'!T134 -> A11 | AD68: ='Aligning data'!T147 -> A12 | AE68: =(AC68+AD68)/2 -> #VALUE! | AF68: ='Aligning data'!V134 -> A11 | AG68: ='Aligning data'!V147 -> A12 | AH68: =(AF68+AG68)/2 -> #VALUE! | AI68: ='Aligning data'!X134 -> A11 | AJ68: ='Aligning data'!X147 -> A12 | AK68: =(AI68+AJ68)/2 -> #VALUE! | AL68: ='Aligning data'!Z134 -> A11 | AM68: ='Aligning data'!Z147 -> A12 | AN68: =(AL68+AM68)/2 -> #VALUE! | AO68: ='Aligning data'!AB134 -> A11 | AP68: ='Aligning data'!AB147 -> A12 | AQ68: =(AO68+AP68)/2 -> #VALUE! | AR68: ='Aligning data'!AD134 -> A11 | AS68: ='Aligning data'!AD147 -> A12 | AT68: =(AR68+AS68)/2 -> #VALUE! | AU68: ='Aligning data'!AF134 -> A11 | AV68: ='Aligning data'!AF147 -> A12 | AW68: =(AU68+AV68)/2 -> #VALUE! | AX68: ='Aligning data'!AH134 -> A11 | AY68: ='Aligning data'!AH147 -> A12 | AZ68: =(AX68+AY68)/2 -> #VALUE! | BA68: ='Aligning data'!AJ134 -> A11 | BB68: ='Aligning data'!AJ147 -> A12 | BC68: =(BA68+BB68)/2 -> #VALUE! | BD68: ='Aligning data'!AL134 -> A11 | BE68: ='Aligning data'!AL147 -> A12 | BF68: =(BD68+BE68)/2 -> #VALUE! | BG68: ='Aligning data'!AN134 -> A11 | BH68: ='Aligning data'!AN147 -> A12 | BI68: =(BG68+BH68)/2 -> #VALUE! | BJ68: ='Aligning data'!AP134 -> A11 | BK68: ='Aligning data'!AP147 -> A12 | BL68: =(BJ68+BK68)/2 -> #VALUE! | BM68: ='Aligning data'!AR134 -> A11 | BN68: ='Aligning data'!AR147 -> A12 | BO68: =(BM68+BN68)/2 -> #VALUE! | BP68: ='Aligning data'!AT134 -> A11 | BQ68: ='Aligning data'!AT147 -> A12 | BR68: =(BP68+BQ68)/2 -> #VALUE! | BS68: ='Aligning data'!AV134 -> A11 | BT68: ='Aligning data'!AV147 -> A12 | BU68: =(BS68+BT68)/2 -> #VALUE!
A69: PALa | B69: ='Aligning data'!B135 -> B11 | C69: ='Aligning data'!B148 -> B12 | D69: =(B69+C69)/2 -> #VALUE! | E69: ='Aligning data'!D135 -> B11 | F69: ='Aligning data'!D148 -> B12 | G69: =(E69+F69)/2 -> #VALUE! | H69: ='Aligning data'!F135 -> B11 | I69: ='Aligning data'!F148 -> B12 | J69: =(H69+I69)/2 -> #VALUE! | K69: ='Aligning data'!H135 -> B11 | L69: ='Aligning data'!H148 -> B12 | M69: =(K69+L69)/2 -> #VALUE! | N69: ='Aligning data'!J135 -> B11 | O69: ='Aligning data'!J148 -> B12 | P69: =(N69+O69)/2 -> #VALUE! | Q69: ='Aligning data'!L135 -> B11 | R69: ='Aligning data'!L148 -> B12 | S69: =(Q69+R69)/2 -> #VALUE! | T69: ='Aligning data'!N135 -> B11 | U69: ='Aligning data'!N148 -> B12 | V69: =(T69+U69)/2 -> #VALUE! | W69: ='Aligning data'!P135 -> B11 | X69: ='Aligning data'!P148 -> B12 | Y69: =(W69+X69)/2 -> #VALUE! | Z69: ='Aligning data'!R135 -> B11 | AA69: ='Aligning data'!R148 -> B12 | AB69: =(Z69+AA69)/2 -> #VALUE! | AC69: ='Aligning data'!T135 -> B11 | AD69: ='Aligning data'!T148 -> B12 | AE69: =(AC69+AD69)/2 -> #VALUE! | AF69: ='Aligning data'!V135 -> B11 | AG69: ='Aligning data'!V148 -> B12 | AH69: =(AF69+AG69)/2 -> #VALUE! | AI69: ='Aligning data'!X135 -> B11 | AJ69: ='Aligning data'!X148 -> B12 | AK69: =(AI69+AJ69)/2 -> #VALUE! | AL69: ='Aligning data'!Z135 -> B11 | AM69: ='Aligning data'!Z148 -> B12 | AN69: =(AL69+AM69)/2 -> #VALUE! | AO69: ='Aligning data'!AB135 -> B11 | AP69: ='Aligning data'!AB148 -> B12 | AQ69: =(AO69+AP69)/2 -> #VALUE! | AR69: ='Aligning data'!AD135 -> B11 | AS69: ='Aligning data'!AD148 -> B12 | AT69: =(AR69+AS69)/2 -> #VALUE! | AU69: ='Aligning data'!AF135 -> B11 | AV69: ='Aligning data'!AF148 -> B12 | AW69: =(AU69+AV69)/2 -> #VALUE! | AX69: ='Aligning data'!AH135 -> B11 | AY69: ='Aligning data'!AH148 -> B12 | AZ69: =(AX69+AY69)/2 -> #VALUE! | BA69: ='Aligning data'!AJ135 -> B11 | BB69: ='Aligning data'!AJ148 -> B12 | BC69: =(BA69+BB69)/2 -> #VALUE! | BD69: ='Aligning data'!AL135 -> B11 | BE69: ='Aligning data'!AL148 -> B12 | BF69: =(BD69+BE69)/2 -> #VALUE! | BG69: ='Aligning data'!AN135 -> B11 | BH69: ='Aligning data'!AN148 -> B12 | BI69: =(BG69+BH69)/2 -> #VALUE! | BJ69: ='Aligning data'!AP135 -> B11 | BK69: ='Aligning data'!AP148 -> B12 | BL69: =(BJ69+BK69)/2 -> #VALUE! | BM69: ='Aligning data'!AR135 -> B11 | BN69: ='Aligning data'!AR148 -> B12 | BO69: =(BM69+BN69)/2 -> #VALUE! | BP69: ='Aligning data'!AT135 -> B11 | BQ69: ='Aligning data'!AT148 -> B12 | BR69: =(BP69+BQ69)/2 -> #VALUE! | BS69: ='Aligning data'!AV135 -> B11 | BT69: ='Aligning data'!AV148 -> B12 | BU69: =(BS69+BT69)/2 -> #VALUE!
A70: PHA-E | B70: ='Aligning data'!B136 -> C11 | C70: ='Aligning data'!B149 -> C12 | D70: =(B70+C70)/2 -> #VALUE! | E70: ='Aligning data'!D136 -> C11 | F70: ='Aligning data'!D149 -> C12 | G70: =(E70+F70)/2 -> #VALUE! | H70: ='Aligning data'!F136 -> C11 | I70: ='Aligning data'!F149 -> C12 | J70: =(H70+I70)/2 -> #VALUE! | K70: ='Aligning data'!H136 -> C11 | L70: ='Aligning data'!H149 -> C12 | M70: =(K70+L70)/2 -> #VALUE! | N70: ='Aligning data'!J136 -> C11 | O70: ='Aligning data'!J149 -> C12 | P70: =(N70+O70)/2 -> #VALUE! | Q70: ='Aligning data'!L136 -> C11 | R70: ='Aligning data'!L149 -> C12 | S70: =(Q70+R70)/2 -> #VALUE! | T70: ='Aligning data'!N136 -> C11 | U70: ='Aligning data'!N149 -> C12 | V70: =(T70+U70)/2 -> #VALUE! | W70: ='Aligning data'!P136 -> C11 | X70: ='Aligning data'!P149 -> C12 | Y70: =(W70+X70)/2 -> #VALUE! | Z70: ='Aligning data'!R136 -> C11 | AA70: ='Aligning data'!R149 -> C12 | AB70: =(Z70+AA70)/2 -> #VALUE! | AC70: ='Aligning data'!T136 -> C11 | AD70: ='Aligning data'!T149 -> C12 | AE70: =(AC70+AD70)/2 -> #VALUE! | AF70: ='Aligning data'!V136 -> C11 | AG70: ='Aligning data'!V149 -> C12 | AH70: =(AF70+AG70)/2 -> #VALUE! | AI70: ='Aligning data'!X136 -> C11 | AJ70: ='Aligning data'!X149 -> C12 | AK70: =(AI70+AJ70)/2 -> #VALUE! | AL70: ='Aligning data'!Z136 -> C11 | AM70: ='Aligning data'!Z149 -> C12 | AN70: =(AL70+AM70)/2 -> #VALUE! | AO70: ='Aligning data'!AB136 -> C11 | AP70: ='Aligning data'!AB149 -> C12 | AQ70: =(AO70+AP70)/2 -> #VALUE! | AR70: ='Aligning data'!AD136 -> C11 | AS70: ='Aligning data'!AD149 -> C12 | AT70: =(AR70+AS70)/2 -> #VALUE! | AU70: ='Aligning data'!AF136 -> C11 | AV70: ='Aligning data'!AF149 -> C12 | AW70: =(AU70+AV70)/2 -> #VALUE! | AX70: ='Aligning data'!AH136 -> C11 | AY70: ='Aligning data'!AH149 -> C12 | AZ70: =(AX70+AY70)/2 -> #VALUE! | BA70: ='Aligning data'!AJ136 -> C11 | BB70: ='Aligning data'!AJ149 -> C12 | BC70: =(BA70+BB70)/2 -> #VALUE! | BD70: ='Aligning data'!AL136 -> C11 | BE70: ='Aligning data'!AL149 -> C12 | BF70: =(BD70+BE70)/2 -> #VALUE! | BG70: ='Aligning data'!AN136 -> C11 | BH70: ='Aligning data'!AN149 -> C12 | BI70: =(BG70+BH70)/2 -> #VALUE! | BJ70: ='Aligning data'!AP136 -> C11 | BK70: ='Aligning data'!AP149 -> C12 | BL70: =(BJ70+BK70)/2 -> #VALUE! | BM70: ='Aligning data'!AR136 -> C11 | BN70: ='Aligning data'!AR149 -> C12 | BO70: =(BM70+BN70)/2 -> #VALUE! | BP70: ='Aligning data'!AT136 -> C11 | BQ70: ='Aligning data'!AT149 -> C12 | BR70: =(BP70+BQ70)/2 -> #VALUE! | BS70: ='Aligning data'!AV136 -> C11 | BT70: ='Aligning data'!AV149 -> C12 | BU70: =(BS70+BT70)/2 -> #VALUE!
A71: PHA-L | B71: ='Aligning data'!B137 -> D11 | C71: ='Aligning data'!B150 -> D12 | D71: =(B71+C71)/2 -> #VALUE! | E71: ='Aligning data'!D137 -> D11 | F71: ='Aligning data'!D150 -> D12 | G71: =(E71+F71)/2 -> #VALUE! | H71: ='Aligning data'!F137 -> D11 | I71: ='Aligning data'!F150 -> D12 | J71: =(H71+I71)/2 -> #VALUE! | K71: ='Aligning data'!H137 -> D11 | L71: ='Aligning data'!H150 -> D12 | M71: =(K71+L71)/2 -> #VALUE! | N71: ='Aligning data'!J137 -> D11 | O71: ='Aligning data'!J150 -> D12 | P71: =(N71+O71)/2 -> #VALUE! | Q71: ='Aligning data'!L137 -> D11 | R71: ='Aligning data'!L150 -> D12 | S71: =(Q71+R71)/2 -> #VALUE! | T71: ='Aligning data'!N137 -> D11 | U71: ='Aligning data'!N150 -> D12 | V71: =(T71+U71)/2 -> #VALUE! | W71: ='Aligning data'!P137 -> D11 | X71: ='Aligning data'!P150 -> D12 | Y71: =(W71+X71)/2 -> #VALUE! | Z71: ='Aligning data'!R137 -> D11 | AA71: ='Aligning data'!R150 -> D12 | AB71: =(Z71+AA71)/2 -> #VALUE! | AC71: ='Aligning data'!T137 -> D11 | AD71: ='Aligning data'!T150 -> D12 | AE71: =(AC71+AD71)/2 -> #VALUE! | AF71: ='Aligning data'!V137 -> D11 | AG71: ='Aligning data'!V150 -> D12 | AH71: =(AF71+AG71)/2 -> #VALUE! | AI71: ='Aligning data'!X137 -> D11 | AJ71: ='Aligning data'!X150 -> D12 | AK71: =(AI71+AJ71)/2 -> #VALUE! | AL71: ='Aligning data'!Z137 -> D11 | AM71: ='Aligning data'!Z150 -> D12 | AN71: =(AL71+AM71)/2 -> #VALUE! | AO71: ='Aligning data'!AB137 -> D11 | AP71: ='Aligning data'!AB150 -> D12 | AQ71: =(AO71+AP71)/2 -> #VALUE! | AR71: ='Aligning data'!AD137 -> D11 | AS71: ='Aligning data'!AD150 -> D12 | AT71: =(AR71+AS71)/2 -> #VALUE! | AU71: ='Aligning data'!AF137 -> D11 | AV71: ='Aligning data'!AF150 -> D12 | AW71: =(AU71+AV71)/2 -> #VALUE! | AX71: ='Aligning data'!AH137 -> D11 | AY71: ='Aligning data'!AH150 -> D12 | AZ71: =(AX71+AY71)/2 -> #VALUE! | BA71: ='Aligning data'!AJ137 -> D11 | BB71: ='Aligning data'!AJ150 -> D12 | BC71: =(BA71+BB71)/2 -> #VALUE! | BD71: ='Aligning data'!AL137 -> D11 | BE71: ='Aligning data'!AL150 -> D12 | BF71: =(BD71+BE71)/2 -> #VALUE! | BG71: ='Aligning data'!AN137 -> D11 | BH71: ='Aligning data'!AN150 -> D12 | BI71: =(BG71+BH71)/2 -> #VALUE! | BJ71: ='Aligning data'!AP137 -> D11 | BK71: ='Aligning data'!AP150 -> D12 | BL71: =(BJ71+BK71)/2 -> #VALUE! | BM71: ='Aligning data'!AR137 -> D11 | BN71: ='Aligning data'!AR150 -> D12 | BO71: =(BM71+BN71)/2 -> #VALUE! | BP71: ='Aligning data'!AT137 -> D11 | BQ71: ='Aligning data'!AT150 -> D12 | BR71: =(BP71+BQ71)/2 -> #VALUE! | BS71: ='Aligning data'!AV137 -> D11 | BT71: ='Aligning data'!AV150 -> D12 | BU71: =(BS71+BT71)/2 -> #VALUE!
A72: PHA-P | B72: ='Aligning data'!B138 -> E11 | C72: ='Aligning data'!B151 -> E12 | D72: =(B72+C72)/2 -> #VALUE! | E72: ='Aligning data'!D138 -> E11 | F72: ='Aligning data'!D151 -> E12 | G72: =(E72+F72)/2 -> #VALUE! | H72: ='Aligning data'!F138 -> E11 | I72: ='Aligning data'!F151 -> E12 | J72: =(H72+I72)/2 -> #VALUE! | K72: ='Aligning data'!H138 -> E11 | L72: ='Aligning data'!H151 -> E12 | M72: =(K72+L72)/2 -> #VALUE! | N72: ='Aligning data'!J138 -> E11 | O72: ='Aligning data'!J151 -> E12 | P72: =(N72+O72)/2 -> #VALUE! | Q72: ='Aligning data'!L138 -> E11 | R72: ='Aligning data'!L151 -> E12 | S72: =(Q72+R72)/2 -> #VALUE! | T72: ='Aligning data'!N138 -> E11 | U72: ='Aligning data'!N151 -> E12 | V72: =(T72+U72)/2 -> #VALUE! | W72: ='Aligning data'!P138 -> E11 | X72: ='Aligning data'!P151 -> E12 | Y72: =(W72+X72)/2 -> #VALUE! | Z72: ='Aligning data'!R138 -> E11 | AA72: ='Aligning data'!R151 -> E12 | AB72: =(Z72+AA72)/2 -> #VALUE! | AC72: ='Aligning data'!T138 -> E11 | AD72: ='Aligning data'!T151 -> E12 | AE72: =(AC72+AD72)/2 -> #VALUE! | AF72: ='Aligning data'!V138 -> E11 | AG72: ='Aligning data'!V151 -> E12 | AH72: =(AF72+AG72)/2 -> #VALUE! | AI72: ='Aligning data'!X138 -> E11 | AJ72: ='Aligning data'!X151 -> E12 | AK72: =(AI72+AJ72)/2 -> #VALUE! | AL72: ='Aligning data'!Z138 -> E11 | AM72: ='Aligning data'!Z151 -> E12 | AN72: =(AL72+AM72)/2 -> #VALUE! | AO72: ='Aligning data'!AB138 -> E11 | AP72: ='Aligning data'!AB151 -> E12 | AQ72: =(AO72+AP72)/2 -> #VALUE! | AR72: ='Aligning data'!AD138 -> E11 | AS72: ='Aligning data'!AD151 -> E12 | AT72: =(AR72+AS72)/2 -> #VALUE! | AU72: ='Aligning data'!AF138 -> E11 | AV72: ='Aligning data'!AF151 -> E12 | AW72: =(AU72+AV72)/2 -> #VALUE! | AX72: ='Aligning data'!AH138 -> E11 | AY72: ='Aligning data'!AH151 -> E12 | AZ72: =(AX72+AY72)/2 -> #VALUE! | BA72: ='Aligning data'!AJ138 -> E11 | BB72: ='Aligning data'!AJ151 -> E12 | BC72: =(BA72+BB72)/2 -> #VALUE! | BD72: ='Aligning data'!AL138 -> E11 | BE72: ='Aligning data'!AL151 -> E12 | BF72: =(BD72+BE72)/2 -> #VALUE! | BG72: ='Aligning data'!AN138 -> E11 | BH72: ='Aligning data'!AN151 -> E12 | BI72: =(BG72+BH72)/2 -> #VALUE! | BJ72: ='Aligning data'!AP138 -> E11 | BK72: ='Aligning data'!AP151 -> E12 | BL72: =(BJ72+BK72)/2 -> #VALUE! | BM72: ='Aligning data'!AR138 -> E11 | BN72: ='Aligning data'!AR151 -> E12 | BO72: =(BM72+BN72)/2 -> #VALUE! | BP72: ='Aligning data'!AT138 -> E11 | BQ72: ='Aligning data'!AT151 -> E12 | BR72: =(BP72+BQ72)/2 -> #VALUE! | BS72: ='Aligning data'!AV138 -> E11 | BT72: ='Aligning data'!AV151 -> E12 | BU72: =(BS72+BT72)/2 -> #VALUE!
A73: PNA | B73: ='Aligning data'!B139 -> F11 | C73: ='Aligning data'!B152 -> F12 | D73: =(B73+C73)/2 -> #VALUE! | E73: ='Aligning data'!D139 -> F11 | F73: ='Aligning data'!D152 -> F12 | G73: =(E73+F73)/2 -> #VALUE! | H73: ='Aligning data'!F139 -> F11 | I73: ='Aligning data'!F152 -> F12 | J73: =(H73+I73)/2 -> #VALUE! | K73: ='Aligning data'!H139 -> F11 | L73: ='Aligning data'!H152 -> F12 | M73: =(K73+L73)/2 -> #VALUE! | N73: ='Aligning data'!J139 -> F11 | O73: ='Aligning data'!J152 -> F12 | P73: =(N73+O73)/2 -> #VALUE! | Q73: ='Aligning data'!L139 -> F11 | R73: ='Aligning data'!L152 -> F12 | S73: =(Q73+R73)/2 -> #VALUE! | T73: ='Aligning data'!N139 -> F11 | U73: ='Aligning data'!N152 -> F12 | V73: =(T73+U73)/2 -> #VALUE! | W73: ='Aligning data'!P139 -> F11 | X73: ='Aligning data'!P152 -> F12 | Y73: =(W73+X73)/2 -> #VALUE! | Z73: ='Aligning data'!R139 -> F11 | AA73: ='Aligning data'!R152 -> F12 | AB73: =(Z73+AA73)/2 -> #VALUE! | AC73: ='Aligning data'!T139 -> F11 | AD73: ='Aligning data'!T152 -> F12 | AE73: =(AC73+AD73)/2 -> #VALUE! | AF73: ='Aligning data'!V139 -> F11 | AG73: ='Aligning data'!V152 -> F12 | AH73: =(AF73+AG73)/2 -> #VALUE! | AI73: ='Aligning data'!X139 -> F11 | AJ73: ='Aligning data'!X152 -> F12 | AK73: =(AI73+AJ73)/2 -> #VALUE! | AL73: ='Aligning data'!Z139 -> F11 | AM73: ='Aligning data'!Z152 -> F12 | AN73: =(AL73+AM73)/2 -> #VALUE! | AO73: ='Aligning data'!AB139 -> F11 | AP73: ='Aligning data'!AB152 -> F12 | AQ73: =(AO73+AP73)/2 -> #VALUE! | AR73: ='Aligning data'!AD139 -> F11 | AS73: ='Aligning data'!AD152 -> F12 | AT73: =(AR73+AS73)/2 -> #VALUE! | AU73: ='Aligning data'!AF139 -> F11 | AV73: ='Aligning data'!AF152 -> F12 | AW73: =(AU73+AV73)/2 -> #VALUE! | AX73: ='Aligning data'!AH139 -> F11 | AY73: ='Aligning data'!AH152 -> F12 | AZ73: =(AX73+AY73)/2 -> #VALUE! | BA73: ='Aligning data'!AJ139 -> F11 | BB73: ='Aligning data'!AJ152 -> F12 | BC73: =(BA73+BB73)/2 -> #VALUE! | BD73: ='Aligning data'!AL139 -> F11 | BE73: ='Aligning data'!AL152 -> F12 | BF73: =(BD73+BE73)/2 -> #VALUE! | BG73: ='Aligning data'!AN139 -> F11 | BH73: ='Aligning data'!AN152 -> F12 | BI73: =(BG73+BH73)/2 -> #VALUE! | BJ73: ='Aligning data'!AP139 -> F11 | BK73: ='Aligning data'!AP152 -> F12 | BL73: =(BJ73+BK73)/2 -> #VALUE! | BM73: ='Aligning data'!AR139 -> F11 | BN73: ='Aligning data'!AR152 -> F12 | BO73: =(BM73+BN73)/2 -> #VALUE! | BP73: ='Aligning data'!AT139 -> F11 | BQ73: ='Aligning data'!AT152 -> F12 | BR73: =(BP73+BQ73)/2 -> #VALUE! | BS73: ='Aligning data'!AV139 -> F11 | BT73: ='Aligning data'!AV152 -> F12 | BU73: =(BS73+BT73)/2 -> #VALUE!
A74: PPL | B74: ='Aligning data'!B140 -> G11 | C74: ='Aligning data'!B153 -> G12 | D74: =(B74+C74)/2 -> #VALUE! | E74: ='Aligning data'!D140 -> G11 | F74: ='Aligning data'!D153 -> G12 | G74: =(E74+F74)/2 -> #VALUE! | H74: ='Aligning data'!F140 -> G11 | I74: ='Aligning data'!F153 -> G12 | J74: =(H74+I74)/2 -> #VALUE! | K74: ='Aligning data'!H140 -> G11 | L74: ='Aligning data'!H153 -> G12 | M74: =(K74+L74)/2 -> #VALUE! | N74: ='Aligning data'!J140 -> G11 | O74: ='Aligning data'!J153 -> G12 | P74: =(N74+O74)/2 -> #VALUE! | Q74: ='Aligning data'!L140 -> G11 | R74: ='Aligning data'!L153 -> G12 | S74: =(Q74+R74)/2 -> #VALUE! | T74: ='Aligning data'!N140 -> G11 | U74: ='Aligning data'!N153 -> G12 | V74: =(T74+U74)/2 -> #VALUE! | W74: ='Aligning data'!P140 -> G11 | X74: ='Aligning data'!P153 -> G12 | Y74: =(W74+X74)/2 -> #VALUE! | Z74: ='Aligning data'!R140 -> G11 | AA74: ='Aligning data'!R153 -> G12 | AB74: =(Z74+AA74)/2 -> #VALUE! | AC74: ='Aligning data'!T140 -> G11 | AD74: ='Aligning data'!T153 -> G12 | AE74: =(AC74+AD74)/2 -> #VALUE! | AF74: ='Aligning data'!V140 -> G11 | AG74: ='Aligning data'!V153 -> G12 | AH74: =(AF74+AG74)/2 -> #VALUE! | AI74: ='Aligning data'!X140 -> G11 | AJ74: ='Aligning data'!X153 -> G12 | AK74: =(AI74+AJ74)/2 -> #VALUE! | AL74: ='Aligning data'!Z140 -> G11 | AM74: ='Aligning data'!Z153 -> G12 | AN74: =(AL74+AM74)/2 -> #VALUE! | AO74: ='Aligning data'!AB140 -> G11 | AP74: ='Aligning data'!AB153 -> G12 | AQ74: =(AO74+AP74)/2 -> #VALUE! | AR74: ='Aligning data'!AD140 -> G11 | AS74: ='Aligning data'!AD153 -> G12 | AT74: =(AR74+AS74)/2 -> #VALUE! | AU74: ='Aligning data'!AF140 -> G11 | AV74: ='Aligning data'!AF153 -> G12 | AW74: =(AU74+AV74)/2 -> #VALUE! | AX74: ='Aligning data'!AH140 -> G11 | AY74: ='Aligning data'!AH153 -> G12 | AZ74: =(AX74+AY74)/2 -> #VALUE! | BA74: ='Aligning data'!AJ140 -> G11 | BB74: ='Aligning data'!AJ153 -> G12 | BC74: =(BA74+BB74)/2 -> #VALUE! | BD74: ='Aligning data'!AL140 -> G11 | BE74: ='Aligning data'!AL153 -> G12 | BF74: =(BD74+BE74)/2 -> #VALUE! | BG74: ='Aligning data'!AN140 -> G11 | BH74: ='Aligning data'!AN153 -> G12 | BI74: =(BG74+BH74)/2 -> #VALUE! | BJ74: ='Aligning data'!AP140 -> G11 | BK74: ='Aligning data'!AP153 -> G12 | BL74: =(BJ74+BK74)/2 -> #VALUE! | BM74: ='Aligning data'!AR140 -> G11 | BN74: ='Aligning data'!AR153 -> G12 | BO74: =(BM74+BN74)/2 -> #VALUE! | BP74: ='Aligning data'!AT140 -> G11 | BQ74: ='Aligning data'!AT153 -> G12 | BR74: =(BP74+BQ74)/2 -> #VALUE! | BS74: ='Aligning data'!AV140 -> G11 | BT74: ='Aligning data'!AV153 -> G12 | BU74: =(BS74+BT74)/2 -> #VALUE!
A75: PSA | B75: ='Aligning data'!B141 -> H11 | C75: ='Aligning data'!B154 -> H12 | D75: =(B75+C75)/2 -> #VALUE! | E75: ='Aligning data'!D141 -> H11 | F75: ='Aligning data'!D154 -> H12 | G75: =(E75+F75)/2 -> #VALUE! | H75: ='Aligning data'!F141 -> H11 | I75: ='Aligning data'!F154 -> H12 | J75: =(H75+I75)/2 -> #VALUE! | K75: ='Aligning data'!H141 -> H11 | L75: ='Aligning data'!H154 -> H12 | M75: =(K75+L75)/2 -> #VALUE! | N75: ='Aligning data'!J141 -> H11 | O75: ='Aligning data'!J154 -> H12 | P75: =(N75+O75)/2 -> #VALUE! | Q75: ='Aligning data'!L141 -> H11 | R75: ='Aligning data'!L154 -> H12 | S75: =(Q75+R75)/2 -> #VALUE! | T75: ='Aligning data'!N141 -> H11 | U75: ='Aligning data'!N154 -> H12 | V75: =(T75+U75)/2 -> #VALUE! | W75: ='Aligning data'!P141 -> H11 | X75: ='Aligning data'!P154 -> H12 | Y75: =(W75+X75)/2 -> #VALUE! | Z75: ='Aligning data'!R141 -> H11 | AA75: ='Aligning data'!R154 -> H12 | AB75: =(Z75+AA75)/2 -> #VALUE! | AC75: ='Aligning data'!T141 -> H11 | AD75: ='Aligning data'!T154 -> H12 | AE75: =(AC75+AD75)/2 -> #VALUE! | AF75: ='Aligning data'!V141 -> H11 | AG75: ='Aligning data'!V154 -> H12 | AH75: =(AF75+AG75)/2 -> #VALUE! | AI75: ='Aligning data'!X141 -> H11 | AJ75: ='Aligning data'!X154 -> H12 | AK75: =(AI75+AJ75)/2 -> #VALUE! | AL75: ='Aligning data'!Z141 -> H11 | AM75: ='Aligning data'!Z154 -> H12 | AN75: =(AL75+AM75)/2 -> #VALUE! | AO75: ='Aligning data'!AB141 -> H11 | AP75: ='Aligning data'!AB154 -> H12 | AQ75: =(AO75+AP75)/2 -> #VALUE! | AR75: ='Aligning data'!AD141 -> H11 | AS75: ='Aligning data'!AD154 -> H12 | AT75: =(AR75+AS75)/2 -> #VALUE! | AU75: ='Aligning data'!AF141 -> H11 | AV75: ='Aligning data'!AF154 -> H12 | AW75: =(AU75+AV75)/2 -> #VALUE! | AX75: ='Aligning data'!AH141 -> H11 | AY75: ='Aligning data'!AH154 -> H12 | AZ75: =(AX75+AY75)/2 -> #VALUE! | BA75: ='Aligning data'!AJ141 -> H11 | BB75: ='Aligning data'!AJ154 -> H12 | BC75: =(BA75+BB75)/2 -> #VALUE! | BD75: ='Aligning data'!AL141 -> H11 | BE75: ='Aligning data'!AL154 -> H12 | BF75: =(BD75+BE75)/2 -> #VALUE! | BG75: ='Aligning data'!AN141 -> H11 | BH75: ='Aligning data'!AN154 -> H12 | BI75: =(BG75+BH75)/2 -> #VALUE! | BJ75: ='Aligning data'!AP141 -> H11 | BK75: ='Aligning data'!AP154 -> H12 | BL75: =(BJ75+BK75)/2 -> #VALUE! | BM75: ='Aligning data'!AR141 -> H11 | BN75: ='Aligning data'!AR154 -> H12 | BO75: =(BM75+BN75)/2 -> #VALUE! | BP75: ='Aligning data'!AT141 -> H11 | BQ75: ='Aligning data'!AT154 -> H12 | BR75: =(BP75+BQ75)/2 -> #VALUE! | BS75: ='Aligning data'!AV141 -> H11 | BT75: ='Aligning data'!AV154 -> H12 | BU75: =(BS75+BT75)/2 -> #VALUE!
A76: PSL1A | B76: ='Aligning data'!B142 -> I11 | C76: ='Aligning data'!B155 -> I12 | D76: =(B76+C76)/2 -> #VALUE! | E76: ='Aligning data'!D142 -> I11 | F76: ='Aligning data'!D155 -> I12 | G76: =(E76+F76)/2 -> #VALUE! | H76: ='Aligning data'!F142 -> I11 | I76: ='Aligning data'!F155 -> I12 | J76: =(H76+I76)/2 -> #VALUE! | K76: ='Aligning data'!H142 -> I11 | L76: ='Aligning data'!H155 -> I12 | M76: =(K76+L76)/2 -> #VALUE! | N76: ='Aligning data'!J142 -> I11 | O76: ='Aligning data'!J155 -> I12 | P76: =(N76+O76)/2 -> #VALUE! | Q76: ='Aligning data'!L142 -> I11 | R76: ='Aligning data'!L155 -> I12 | S76: =(Q76+R76)/2 -> #VALUE! | T76: ='Aligning data'!N142 -> I11 | U76: ='Aligning data'!N155 -> I12 | V76: =(T76+U76)/2 -> #VALUE! | W76: ='Aligning data'!P142 -> I11 | X76: ='Aligning data'!P155 -> I12 | Y76: =(W76+X76)/2 -> #VALUE! | Z76: ='Aligning data'!R142 -> I11 | AA76: ='Aligning data'!R155 -> I12 | AB76: =(Z76+AA76)/2 -> #VALUE! | AC76: ='Aligning data'!T142 -> I11 | AD76: ='Aligning data'!T155 -> I12 | AE76: =(AC76+AD76)/2 -> #VALUE! | AF76: ='Aligning data'!V142 -> I11 | AG76: ='Aligning data'!V155 -> I12 | AH76: =(AF76+AG76)/2 -> #VALUE! | AI76: ='Aligning data'!X142 -> I11 | AJ76: ='Aligning data'!X155 -> I12 | AK76: =(AI76+AJ76)/2 -> #VALUE! | AL76: ='Aligning data'!Z142 -> I11 | AM76: ='Aligning data'!Z155 -> I12 | AN76: =(AL76+AM76)/2 -> #VALUE! | AO76: ='Aligning data'!AB142 -> I11 | AP76: ='Aligning data'!AB155 -> I12 | AQ76: =(AO76+AP76)/2 -> #VALUE! | AR76: ='Aligning data'!AD142 -> I11 | AS76: ='Aligning data'!AD155 -> I12 | AT76: =(AR76+AS76)/2 -> #VALUE! | AU76: ='Aligning data'!AF142 -> I11 | AV76: ='Aligning data'!AF155 -> I12 | AW76: =(AU76+AV76)/2 -> #VALUE! | AX76: ='Aligning data'!AH142 -> I11 | AY76: ='Aligning data'!AH155 -> I12 | AZ76: =(AX76+AY76)/2 -> #VALUE! | BA76: ='Aligning data'!AJ142 -> I11 | BB76: ='Aligning data'!AJ155 -> I12 | BC76: =(BA76+BB76)/2 -> #VALUE! | BD76: ='Aligning data'!AL142 -> I11 | BE76: ='Aligning data'!AL155 -> I12 | BF76: =(BD76+BE76)/2 -> #VALUE! | BG76: ='Aligning data'!AN142 -> I11 | BH76: ='Aligning data'!AN155 -> I12 | BI76: =(BG76+BH76)/2 -> #VALUE! | BJ76: ='Aligning data'!AP142 -> I11 | BK76: ='Aligning data'!AP155 -> I12 | BL76: =(BJ76+BK76)/2 -> #VALUE! | BM76: ='Aligning data'!AR142 -> I11 | BN76: ='Aligning data'!AR155 -> I12 | BO76: =(BM76+BN76)/2 -> #VALUE! | BP76: ='Aligning data'!AT142 -> I11 | BQ76: ='Aligning data'!AT155 -> I12 | BR76: =(BP76+BQ76)/2 -> #VALUE! | BS76: ='Aligning data'!AV142 -> I11 | BT76: ='Aligning data'!AV155 -> I12 | BU76: =(BS76+BT76)/2 -> #VALUE!
A77: PTL-1 | B77: ='Aligning data'!B143 -> J11 | C77: ='Aligning data'!B156 -> J12 | D77: =(B77+C77)/2 -> #VALUE! | E77: ='Aligning data'!D143 -> J11 | F77: ='Aligning data'!D156 -> J12 | G77: =(E77+F77)/2 -> #VALUE! | H77: ='Aligning data'!F143 -> J11 | I77: ='Aligning data'!F156 -> J12 | J77: =(H77+I77)/2 -> #VALUE! | K77: ='Aligning data'!H143 -> J11 | L77: ='Aligning data'!H156 -> J12 | M77: =(K77+L77)/2 -> #VALUE! | N77: ='Aligning data'!J143 -> J11 | O77: ='Aligning data'!J156 -> J12 | P77: =(N77+O77)/2 -> #VALUE! | Q77: ='Aligning data'!L143 -> J11 | R77: ='Aligning data'!L156 -> J12 | S77: =(Q77+R77)/2 -> #VALUE! | T77: ='Aligning data'!N143 -> J11 | U77: ='Aligning data'!N156 -> J12 | V77: =(T77+U77)/2 -> #VALUE! | W77: ='Aligning data'!P143 -> J11 | X77: ='Aligning data'!P156 -> J12 | Y77: =(W77+X77)/2 -> #VALUE! | Z77: ='Aligning data'!R143 -> J11 | AA77: ='Aligning data'!R156 -> J12 | AB77: =(Z77+AA77)/2 -> #VALUE! | AC77: ='Aligning data'!T143 -> J11 | AD77: ='Aligning data'!T156 -> J12 | AE77: =(AC77+AD77)/2 -> #VALUE! | AF77: ='Aligning data'!V143 -> J11 | AG77: ='Aligning data'!V156 -> J12 | AH77: =(AF77+AG77)/2 -> #VALUE! | AI77: ='Aligning data'!X143 -> J11 | AJ77: ='Aligning data'!X156 -> J12 | AK77: =(AI77+AJ77)/2 -> #VALUE! | AL77: ='Aligning data'!Z143 -> J11 | AM77: ='Aligning data'!Z156 -> J12 | AN77: =(AL77+AM77)/2 -> #VALUE! | AO77: ='Aligning data'!AB143 -> J11 | AP77: ='Aligning data'!AB156 -> J12 | AQ77: =(AO77+AP77)/2 -> #VALUE! | AR77: ='Aligning data'!AD143 -> J11 | AS77: ='Aligning data'!AD156 -> J12 | AT77: =(AR77+AS77)/2 -> #VALUE! | AU77: ='Aligning data'!AF143 -> J11 | AV77: ='Aligning data'!AF156 -> J12 | AW77: =(AU77+AV77)/2 -> #VALUE! | AX77: ='Aligning data'!AH143 -> J11 | AY77: ='Aligning data'!AH156 -> J12 | AZ77: =(AX77+AY77)/2 -> #VALUE! | BA77: ='Aligning data'!AJ143 -> J11 | BB77: ='Aligning data'!AJ156 -> J12 | BC77: =(BA77+BB77)/2 -> #VALUE! | BD77: ='Aligning data'!AL143 -> J11 | BE77: ='Aligning data'!AL156 -> J12 | BF77: =(BD77+BE77)/2 -> #VALUE! | BG77: ='Aligning data'!AN143 -> J11 | BH77: ='Aligning data'!AN156 -> J12 | BI77: =(BG77+BH77)/2 -> #VALUE! | BJ77: ='Aligning data'!AP143 -> J11 | BK77: ='Aligning data'!AP156 -> J12 | BL77: =(BJ77+BK77)/2 -> #VALUE! | BM77: ='Aligning data'!AR143 -> J11 | BN77: ='Aligning data'!AR156 -> J12 | BO77: =(BM77+BN77)/2 -> #VALUE! | BP77: ='Aligning data'!AT143 -> J11 | BQ77: ='Aligning data'!AT156 -> J12 | BR77: =(BP77+BQ77)/2 -> #VALUE! | BS77: ='Aligning data'!AV143 -> J11 | BT77: ='Aligning data'!AV156 -> J12 | BU77: =(BS77+BT77)/2 -> #VALUE!
