Workbook
Name _A1: 'Aligning data'!#REF!
Name OLE_LINK1: Guide!$B$3

Sheet Guide

Sheet Importing data
A2: RayBio® Cytokine Antibody Arrays --AAM-TCR-1

Sheet Aligning data
A1: ='Importing data'!A2 -> RayBio® Cytokine Antibody Arrays --AAM-TCR-1
A3: Sample 1
B4: A | C4: B | D4: C | E4: D | F4: E | G4: F | H4: G | I4: H | K4: Background
A5: 1 | B5: A1 | C5: B1 | D5: C1 | E5: D1 | F5: E1 | G5: F1 | H5: G1 | I5: H1
A6: 2 | B6: A2 | C6: B2 | D6: C2 | E6: D2 | F6: E2 | G6: F2 | H6: G2 | I6: H2
A7: 3 | B7: A3 | C7: B3 | D7: C3 | E7: D3 | F7: E3 | G7: F3 | H7: G3 | I7: H3
A8: 4 | B8: A4 | C8: B4 | D8: C4 | E8: D4 | F8: E4 | G8: F4 | H8: G4 | I8: H4
A9: 5 | B9: A5 | C9: B5 | D9: C5 | E9: D5 | F9: E5 | G9: F5 | H9: G5 | I9: H5
A10: 6 | B10: A6 | C10: B6 | D10: C6 | E10: D6 | F10: E6 | G10: F6 | H10: G6 | I10: H6
A12: Sample 2
B13: A | C13: B | D13: C | E13: D | F13: E | G13: F | H13: G | I13: H | K13: Background
A14: 1 | B14: A1 | C14: B1 | D14: C1 | E14: D1 | F14: E1 | G14: F1 | H14: G1 | I14: H1
A15: 2 | B15: A2 | C15: B2 | D15: C2 | E15: D2 | F15: E2 | G15: F2 | H15: G2 | I15: H2
A16: 3 | B16: A3 | C16: B3 | D16: C3 | E16: D3 | F16: E3 | G16: F3 | H16: G3 | I16: H3
A17: 4 | B17: A4 | C17: B4 | D17: C4 | E17: D4 | F17: E4 | G17: F4 | H17: G4 | I17: H4
A18: 5 | B18: A5 | C18: B5 | D18: C5 | E18: D5 | F18: E5 | G18: F5 | H18: G5 | I18: H5
A19: 6 | B19: A6 | C19: B6 | D19: C6 | E19: D6 | F19: E6 | G19: F6 | H19: G6 | I19: H6
A21: Sample 3
B22: A | C22: B | D22: C | E22: D | F22: E | G22: F | H22: G | I22: H | K22: Background
A23: 1 | B23: A1 | C23: B1 | D23: C1 | E23: D1 | F23: E1 | G23: F1 | H23: G1 | I23: H1
A24: 2 | B24: A2 | C24: B2 | D24: C2 | E24: D2 | F24: E2 | G24: F2 | H24: G2 | I24: H2
A25: 3 | B25: A3 | C25: B3 | D25: C3 | E25: D3 | F25: E3 | G25: F3 | H25: G3 | I25: H3
A26: 4 | B26: A4 | C26: B4 | D26: C4 | E26: D4 | F26: E4 | G26: F4 | H26: G4 | I26: H4
A27: 5 | B27: A5 | C27: B5 | D27: C5 | E27: D5 | F27: E5 | G27: F5 | H27: G5 | I27: H5
A28: 6 | B28: A6 | C28: B6 | D28: C6 | E28: D6 | F28: E6 | G28: F6 | H28: G6 | I28: H6
A30: Sample 4
B31: A | C31: B | D31: C | E31: D | F31: E | G31: F | H31: G | I31: H | K31: Background
A32: 1 | B32: A1 | C32: B1 | D32: C1 | E32: D1 | F32: E1 | G32: F1 | H32: G1 | I32: H1
A33: 2 | B33: A2 | C33: B2 | D33: C2 | E33: D2 | F33: E2 | G33: F2 | H33: G2 | I33: H2
A34: 3 | B34: A3 | C34: B3 | D34: C3 | E34: D3 | F34: E3 | G34: F3 | H34: G3 | I34: H3
A35: 4 | B35: A4 | C35: B4 | D35: C4 | E35: D4 | F35: E4 | G35: F4 | H35: G4 | I35: H4
A36: 5 | B36: A5 | C36: B5 | D36: C5 | E36: D5 | F36: E5 | G36: F5 | H36: G5 | I36: H5
A37: 6 | B37: A6 | C37: B6 | D37: C6 | E37: D6 | F37: E6 | G37: F6 | H37: G6 | I37: H6
A39: Sample 5
B40: A | C40: B | D40: C | E40: D | F40: E | G40: F | H40: G | I40: H | K40: Background
A41: 1 | B41: A1 | C41: B1 | D41: C1 | E41: D1 | F41: E1 | G41: F1 | H41: G1 | I41: H1
A42: 2 | B42: A2 | C42: B2 | D42: C2 | E42: D2 | F42: E2 | G42: F2 | H42: G2 | I42: H2
A43: 3 | B43: A3 | C43: B3 | D43: C3 | E43: D3 | F43: E3 | G43: F3 | H43: G3 | I43: H3
A44: 4 | B44: A4 | C44: B4 | D44: C4 | E44: D4 | F44: E4 | G44: F4 | H44: G4 | I44: H4
A45: 5 | B45: A5 | C45: B5 | D45: C5 | E45: D5 | F45: E5 | G45: F5 | H45: G5 | I45: H5
A46: 6 | B46: A6 | C46: B6 | D46: C6 | E46: D6 | F46: E6 | G46: F6 | H46: G6 | I46: H6
A48: Sample 6
B49: A | C49: B | D49: C | E49: D | F49: E | G49: F | H49: G | I49: H | K49: Background
A50: 1 | B50: A1 | C50: B1 | D50: C1 | E50: D1 | F50: E1 | G50: F1 | H50: G1 | I50: H1
A51: 2 | B51: A2 | C51: B2 | D51: C2 | E51: D2 | F51: E2 | G51: F2 | H51: G2 | I51: H2
A52: 3 | B52: A3 | C52: B3 | D52: C3 | E52: D3 | F52: E3 | G52: F3 | H52: G3 | I52: H3
A53: 4 | B53: A4 | C53: B4 | D53: C4 | E53: D4 | F53: E4 | G53: F4 | H53: G4 | I53: H4
A54: 5 | B54: A5 | C54: B5 | D54: C5 | E54: D5 | F54: E5 | G54: F5 | H54: G5 | I54: H5
A55: 6 | B55: A6 | C55: B6 | D55: C6 | E55: D6 | F55: E6 | G55: F6 | H55: G6 | I55: H6
A57: Sample 7
B58: A | C58: B | D58: C | E58: D | F58: E | G58: F | H58: G | I58: H | K58: Background
A59: 1 | B59: A1 | C59: B1 | D59: C1 | E59: D1 | F59: E1 | G59: F1 | H59: G1 | I59: H1
A60: 2 | B60: A2 | C60: B2 | D60: C2 | E60: D2 | F60: E2 | G60: F2 | H60: G2 | I60: H2
A61: 3 | B61: A3 | C61: B3 | D61: C3 | E61: D3 | F61: E3 | G61: F3 | H61: G3 | I61: H3
A62: 4 | B62: A4 | C62: B4 | D62: C4 | E62: D4 | F62: E4 | G62: F4 | H62: G4 | I62: H4
A63: 5 | B63: A5 | C63: B5 | D63: C5 | E63: D5 | F63: E5 | G63: F5 | H63: G5 | I63: H5
A64: 6 | B64: A6 | C64: B6 | D64: C6 | E64: D6 | F64: E6 | G64: F6 | H64: G6 | I64: H6
A66: Sample 8
B67: A | C67: B | D67: C | E67: D | F67: E | G67: F | H67: G | I67: H | K67: Background
A68: 1 | B68: A1 | C68: B1 | D68: C1 | E68: D1 | F68: E1 | G68: F1 | H68: G1 | I68: H1
A69: 2 | B69: A2 | C69: B2 | D69: C2 | E69: D2 | F69: E2 | G69: F2 | H69: G2 | I69: H2
A70: 3 | B70: A3 | C70: B3 | D70: C3 | E70: D3 | F70: E3 | G70: F3 | H70: G3 | I70: H3
A71: 4 | B71: A4 | C71: B4 | D71: C4 | E71: D4 | F71: E4 | G71: F4 | H71: G4 | I71: H4
A72: 5 | B72: A5 | C72: B5 | D72: C5 | E72: D5 | F72: E5 | G72: F5 | H72: G5 | I72: H5
A73: 6 | B73: A6 | C73: B6 | D73: C6 | E73: D6 | F73: E6 | G73: F6 | H73: G6 | I73: H6
A75: Sample 9
B76: A | C76: B | D76: C | E76: D | F76: E | G76: F | H76: G | I76: H | K76: Background
A77: 1 | B77: A1 | C77: B1 | D77: C1 | E77: D1 | F77: E1 | G77: F1 | H77: G1 | I77: H1
A78: 2 | B78: A2 | C78: B2 | D78: C2 | E78: D2 | F78: E2 | G78: F2 | H78: G2 | I78: H2
A79: 3 | B79: A3 | C79: B3 | D79: C3 | E79: D3 | F79: E3 | G79: F3 | H79: G3 | I79: H3
A80: 4 | B80: A4 | C80: B4 | D80: C4 | E80: D4 | F80: E4 | G80: F4 | H80: G4 | I80: H4
A81: 5 | B81: A5 | C81: B5 | D81: C5 | E81: D5 | F81: E5 | G81: F5 | H81: G5 | I81: H5
A82: 6 | B82: A6 | C82: B6 | D82: C6 | E82: D6 | F82: E6 | G82: F6 | H82: G6 | I82: H6
A84: Sample 10
B85: A | C85: B | D85: C | E85: D | F85: E | G85: F | H85: G | I85: H | K85: Background
A86: 1 | B86: A1 | C86: B1 | D86: C1 | E86: D1 | F86: E1 | G86: F1 | H86: G1 | I86: H1
A87: 2 | B87: A2 | C87: B2 | D87: C2 | E87: D2 | F87: E2 | G87: F2 | H87: G2 | I87: H2
A88: 3 | B88: A3 | C88: B3 | D88: C3 | E88: D3 | F88: E3 | G88: F3 | H88: G3 | I88: H3
A89: 4 | B89: A4 | C89: B4 | D89: C4 | E89: D4 | F89: E4 | G89: F4 | H89: G4 | I89: H4
A90: 5 | B90: A5 | C90: B5 | D90: C5 | E90: D5 | F90: E5 | G90: F5 | H90: G5 | I90: H5
A91: 6 | B91: A6 | C91: B6 | D91: C6 | E91: D6 | F91: E6 | G91: F6 | H91: G6 | I91: H6
A93: Sample 11
B94: A | C94: B | D94: C | E94: D | F94: E | G94: F | H94: G | I94: H | K94: Background
A95: 1 | B95: A1 | C95: B1 | D95: C1 | E95: D1 | F95: E1 | G95: F1 | H95: G1 | I95: H1
A96: 2 | B96: A2 | C96: B2 | D96: C2 | E96: D2 | F96: E2 | G96: F2 | H96: G2 | I96: H2
A97: 3 | B97: A3 | C97: B3 | D97: C3 | E97: D3 | F97: E3 | G97: F3 | H97: G3 | I97: H3
A98: 4 | B98: A4 | C98: B4 | D98: C4 | E98: D4 | F98: E4 | G98: F4 | H98: G4 | I98: H4
A99: 5 | B99: A5 | C99: B5 | D99: C5 | E99: D5 | F99: E5 | G99: F5 | H99: G5 | I99: H5
A100: 6 | B100: A6 | C100: B6 | D100: C6 | E100: D6 | F100: E6 | G100: F6 | H100: G6 | I100: H6
A102: Sample 12
B103: A | C103: B | D103: C | E103: D | F103: E | G103: F | H103: G | I103: H | K103: Background
A104: 1 | B104: A1 | C104: B1 | D104: C1 | E104: D1 | F104: E1 | G104: F1 | H104: G1 | I104: H1
A105: 2 | B105: A2 | C105: B2 | D105: C2 | E105: D2 | F105: E2 | G105: F2 | H105: G2 | I105: H2
A106: 3 | B106: A3 | C106: B3 | D106: C3 | E106: D3 | F106: E3 | G106: F3 | H106: G3 | I106: H3
A107: 4 | B107: A4 | C107: B4 | D107: C4 | E107: D4 | F107: E4 | G107: F4 | H107: G4 | I107: H4
A108: 5 | B108: A5 | C108: B5 | D108: C5 | E108: D5 | F108: E5 | G108: F5 | H108: G5 | I108: H5
A109: 6 | B109: A6 | C109: B6 | D109: C6 | E109: D6 | F109: E6 | G109: F6 | H109: G6 | I109: H6
A111: Sample 13
B112: A | C112: B | D112: C | E112: D | F112: E | G112: F | H112: G | I112: H | K112: Background
A113: 1 | B113: A1 | C113: B1 | D113: C1 | E113: D1 | F113: E1 | G113: F1 | H113: G1 | I113: H1
...

Sheet Map and Ab list
A1: ='Aligning data'!A1 -> RayBio® Cytokine Antibody Arrays --AAM-TCR-1
A3: ='Aligning data'!A3:B3 -> Sample 1
B4: A | C4: B | D4: C | E4: D | F4: E | G4: F | H4: G | I4: H | K4: Background
A5: 1 | B5: POS | C5: POS | D5: NEG | E5: NEG | F5: IFNg | G5: IL-10 | H5: IL-12p70 | I5: IL-13
K6: ='Aligning data'!K5 -> 0
A7: 2 | B7: POS | C7: POS | D7: NEG | E7: NEG | F7: IFNg | G7: IL-10 | H7: IL-12p70 | I7: IL-13
K8: ='Aligning data'!K6 -> 0
A9: 3 | B9: IL-17 | C9: IL-17F | D9: IL-18 | E9: IL-2 | F9: IL-4 | G9: IL-5 | H9: IL-6 | I9: IL-7
K10: ='Aligning data'!K7 -> 0
A11: 4 | B11: IL-17 | C11: IL-17F | D11: IL-18 | E11: IL-2 | F11: IL-4 | G11: IL-5 | H11: IL-6 | I11: IL-7
K12: ='Aligning data'!K8 -> 0
A13: 5 | B13: IL-9 | C13: TGFb | D13: TNFa | E13: BLANK | F13: BLANK | G13: BLANK | H13: BLANK | I13: POS
A15: 6 | B15: IL-9 | C15: TGFb | D15: TNFa | E15: BLANK | F15: BLANK | G15: BLANK | H15: BLANK | I15: POS
A18: ='Aligning data'!A12:B12 -> Sample 2
B19: A | C19: B | D19: C | E19: D | F19: E | G19: F | H19: G | I19: H | K19: Background
A20: 1 | B20: =B5 -> POS | C20: =C5 -> POS | D20: =D5 -> NEG | E20: =E5 -> NEG | F20: =F5 -> IFNg | G20: =G5 -> IL-10 | H20: =H5 -> IL-12p70 | I20: =I5 -> IL-13
B21: ='Aligning data'!B14 -> A1 | C21: ='Aligning data'!C14 -> B1 | D21: ='Aligning data'!D14 -> C1 | E21: ='Aligning data'!E14 -> D1 | F21: ='Aligning data'!F14 -> E1 | G21: ='Aligning data'!G14 -> F1 | H21: ='Aligning data'!H14 -> G1 | I21: ='Aligning data'!I14 -> H1 | K21: ='Aligning data'!K14 -> 0
A22: 2 | B22: =B5 -> POS | C22: =C5 -> POS | D22: =D5 -> NEG | E22: =E5 -> NEG | F22: =F5 -> IFNg | G22: =G5 -> IL-10 | H22: =H5 -> IL-12p70 | I22: =I5 -> IL-13
B23: ='Aligning data'!B15 -> A2 | C23: ='Aligning data'!C15 -> B2 | D23: ='Aligning data'!D15 -> C2 | E23: ='Aligning data'!E15 -> D2 | F23: ='Aligning data'!F15 -> E2 | G23: ='Aligning data'!G15 -> F2 | H23: ='Aligning data'!H15 -> G2 | I23: ='Aligning data'!I15 -> H2 | K23: ='Aligning data'!K15 -> 0
A24: 3 | B24: =B9 -> IL-17 | C24: =C9 -> IL-17F | D24: =D9 -> IL-18 | E24: =E9 -> IL-2 | F24: =F9 -> IL-4 | G24: =G9 -> IL-5 | H24: =H9 -> IL-6 | I24: =I9 -> IL-7
B25: ='Aligning data'!B16 -> A3 | C25: ='Aligning data'!C16 -> B3 | D25: ='Aligning data'!D16 -> C3 | E25: ='Aligning data'!E16 -> D3 | F25: ='Aligning data'!F16 -> E3 | G25: ='Aligning data'!G16 -> F3 | H25: ='Aligning data'!H16 -> G3 | I25: ='Aligning data'!I16 -> H3 | K25: ='Aligning data'!K16 -> 0
A26: 4 | B26: =B9 -> IL-17 | C26: =C9 -> IL-17F | D26: =D9 -> IL-18 | E26: =E9 -> IL-2 | F26: =F9 -> IL-4 | G26: =G9 -> IL-5 | H26: =H9 -> IL-6 | I26: =I9 -> IL-7
B27: ='Aligning data'!B17 -> A4 | C27: ='Aligning data'!C17 -> B4 | D27: ='Aligning data'!D17 -> C4 | E27: ='Aligning data'!E17 -> D4 | F27: ='Aligning data'!F17 -> E4 | G27: ='Aligning data'!G17 -> F4 | H27: ='Aligning data'!H17 -> G4 | I27: ='Aligning data'!I17 -> H4 | K27: ='Aligning data'!K17 -> 0
A28: 5 | B28: =B13 -> IL-9 | C28: =C13 -> TGFb | D28: =D13 -> TNFa | E28: =E13 -> BLANK | F28: =F13 -> BLANK | G28: =G13 -> BLANK | H28: =H13 -> BLANK | I28: =I13 -> POS
B29: ='Aligning data'!B18 -> A5 | C29: ='Aligning data'!C18 -> B5 | D29: ='Aligning data'!D18 -> C5 | E29: ='Aligning data'!E18 -> D5 | F29: ='Aligning data'!F18 -> E5 | G29: ='Aligning data'!G18 -> F5 | H29: ='Aligning data'!H18 -> G5 | I29: ='Aligning data'!I18 -> H5
A30: 6 | B30: =B13 -> IL-9 | C30: =C13 -> TGFb | D30: =D13 -> TNFa | E30: =E13 -> BLANK | F30: =F13 -> BLANK | G30: =G13 -> BLANK | H30: =H13 -> BLANK | I30: =I13 -> POS
B31: ='Aligning data'!B19 -> A6 | C31: ='Aligning data'!C19 -> B6 | D31: ='Aligning data'!D19 -> C6 | E31: ='Aligning data'!E19 -> D6 | F31: ='Aligning data'!F19 -> E6 | G31: ='Aligning data'!G19 -> F6 | H31: ='Aligning data'!H19 -> G6 | I31: ='Aligning data'!I19 -> H6
A33: ='Aligning data'!A21:B21 -> Sample 3
B34: A | C34: B | D34: C | E34: D | F34: E | G34: F | H34: G | I34: H | K34: Background
A35: 1 | B35: =B20 -> POS | C35: =C20 -> POS | D35: =D20 -> NEG | E35: =E20 -> NEG | F35: =F20 -> IFNg | G35: =G20 -> IL-10 | H35: =H20 -> IL-12p70 | I35: =I20 -> IL-13
B36: ='Aligning data'!B23 -> A1 | C36: ='Aligning data'!C23 -> B1 | D36: ='Aligning data'!D23 -> C1 | E36: ='Aligning data'!E23 -> D1 | F36: ='Aligning data'!F23 -> E1 | G36: ='Aligning data'!G23 -> F1 | H36: ='Aligning data'!H23 -> G1 | I36: ='Aligning data'!I23 -> H1 | K36: ='Aligning data'!K23 -> 0
A37: 2 | B37: =B22 -> POS | C37: =C22 -> POS | D37: =D22 -> NEG | E37: =E22 -> NEG | F37: =F22 -> IFNg | G37: =G22 -> IL-10 | H37: =H22 -> IL-12p70 | I37: =I22 -> IL-13
B38: ='Aligning data'!B24 -> A2 | C38: ='Aligning data'!C24 -> B2 | D38: ='Aligning data'!D24 -> C2 | E38: ='Aligning data'!E24 -> D2 | F38: ='Aligning data'!F24 -> E2 | G38: ='Aligning data'!G24 -> F2 | H38: ='Aligning data'!H24 -> G2 | I38: ='Aligning data'!I24 -> H2 | K38: ='Aligning data'!K24 -> 0
A39: 3 | B39: =B24 -> IL-17 | C39: =C24 -> IL-17F | D39: =D24 -> IL-18 | E39: =E24 -> IL-2 | F39: =F24 -> IL-4 | G39: =G24 -> IL-5 | H39: =H24 -> IL-6 | I39: =I24 -> IL-7
B40: ='Aligning data'!B25 -> A3 | C40: ='Aligning data'!C25 -> B3 | D40: ='Aligning data'!D25 -> C3 | E40: ='Aligning data'!E25 -> D3 | F40: ='Aligning data'!F25 -> E3 | G40: ='Aligning data'!G25 -> F3 | H40: ='Aligning data'!H25 -> G3 | I40: ='Aligning data'!I25 -> H3 | K40: ='Aligning data'!K25 -> 0
A41: 4 | B41: =B26 -> IL-17 | C41: =C26 -> IL-17F | D41: =D26 -> IL-18 | E41: =E26 -> IL-2 | F41: =F26 -> IL-4 | G41: =G26 -> IL-5 | H41: =H26 -> IL-6 | I41: =I26 -> IL-7
B42: ='Aligning data'!B26 -> A4 | C42: ='Aligning data'!C26 -> B4 | D42: ='Aligning data'!D26 -> C4 | E42: ='Aligning data'!E26 -> D4 | F42: ='Aligning data'!F26 -> E4 | G42: ='Aligning data'!G26 -> F4 | H42: ='Aligning data'!H26 -> G4 | I42: ='Aligning data'!I26 -> H4 | K42: ='Aligning data'!K26 -> 0
A43: 5 | B43: =B28 -> IL-9 | C43: =C28 -> TGFb | D43: =D28 -> TNFa | E43: =E28 -> BLANK | F43: =F28 -> BLANK | G43: =G28 -> BLANK | H43: =H28 -> BLANK | I43: =I28 -> POS
B44: ='Aligning data'!B27 -> A5 | C44: ='Aligning data'!C27 -> B5 | D44: ='Aligning data'!D27 -> C5 | E44: ='Aligning data'!E27 -> D5 | F44: ='Aligning data'!F27 -> E5 | G44: ='Aligning data'!G27 -> F5 | H44: ='Aligning data'!H27 -> G5 | I44: ='Aligning data'!I27 -> H5
A45: 6 | B45: =B30 -> IL-9 | C45: =C30 -> TGFb | D45: =D30 -> TNFa | E45: =E30 -> BLANK | F45: =F30 -> BLANK | G45: =G30 -> BLANK | H45: =H30 -> BLANK | I45: =I30 -> POS
B46: ='Aligning data'!B28 -> A6 | C46: ='Aligning data'!C28 -> B6 | D46: ='Aligning data'!D28 -> C6 | E46: ='Aligning data'!E28 -> D6 | F46: ='Aligning data'!F28 -> E6 | G46: ='Aligning data'!G28 -> F6 | H46: ='Aligning data'!H28 -> G6 | I46: ='Aligning data'!I28 -> H6
A48: ='Aligning data'!A30:B30 -> Sample 4
B49: A | C49: B | D49: C | E49: D | F49: E | G49: F | H49: G | I49: H | K49: Background
A50: 1 | B50: =B35 -> POS | C50: =C35 -> POS | D50: =D35 -> NEG | E50: =E35 -> NEG | F50: =F35 -> IFNg | G50: =G35 -> IL-10 | H50: =H35 -> IL-12p70 | I50: =I35 -> IL-13
B51: ='Aligning data'!B32 -> A1 | C51: ='Aligning data'!C32 -> B1 | D51: ='Aligning data'!D32 -> C1 | E51: ='Aligning data'!E32 -> D1 | F51: ='Aligning data'!F32 -> E1 | G51: ='Aligning data'!G32 -> F1 | H51: ='Aligning data'!H32 -> G1 | I51: ='Aligning data'!I32 -> H1 | K51: ='Aligning data'!K32 -> 0
A52: 2 | B52: =B37 -> POS | C52: =C37 -> POS | D52: =D37 -> NEG | E52: =E37 -> NEG | F52: =F37 -> IFNg | G52: =G37 -> IL-10 | H52: =H37 -> IL-12p70 | I52: =I37 -> IL-13
B53: ='Aligning data'!B33 -> A2 | C53: ='Aligning data'!C33 -> B2 | D53: ='Aligning data'!D33 -> C2 | E53: ='Aligning data'!E33 -> D2 | F53: ='Aligning data'!F33 -> E2 | G53: ='Aligning data'!G33 -> F2 | H53: ='Aligning data'!H33 -> G2 | I53: ='Aligning data'!I33 -> H2 | K53: ='Aligning data'!K33 -> 0
A54: 3 | B54: =B39 -> IL-17 | C54: =C39 -> IL-17F | D54: =D39 -> IL-18 | E54: =E39 -> IL-2 | F54: =F39 -> IL-4 | G54: =G39 -> IL-5 | H54: =H39 -> IL-6 | I54: =I39 -> IL-7
B55: ='Aligning data'!B34 -> A3 | C55: ='Aligning data'!C34 -> B3 | D55: ='Aligning data'!D34 -> C3 | E55: ='Aligning data'!E34 -> D3 | F55: ='Aligning data'!F34 -> E3 | G55: ='Aligning data'!G34 -> F3 | H55: ='Aligning data'!H34 -> G3 | I55: ='Aligning data'!I34 -> H3 | K55: ='Aligning data'!K34 -> 0
A56: 4 | B56: =B41 -> IL-17 | C56: =C41 -> IL-17F | D56: =D41 -> IL-18 | E56: =E41 -> IL-2 | F56: =F41 -> IL-4 | G56: =G41 -> IL-5 | H56: =H41 -> IL-6 | I56: =I41 -> IL-7
B57: ='Aligning data'!B35 -> A4 | C57: ='Aligning data'!C35 -> B4 | D57: ='Aligning data'!D35 -> C4 | E57: ='Aligning data'!E35 -> D4 | F57: ='Aligning data'!F35 -> E4 | G57: ='Aligning data'!G35 -> F4 | H57: ='Aligning data'!H35 -> G4 | I57: ='Aligning data'!I35 -> H4 | K57: ='Aligning data'!K35 -> 0
A58: 5 | B58: =B43 -> IL-9 | C58: =C43 -> TGFb | D58: =D43 -> TNFa | E58: =E43 -> BLANK | F58: =F43 -> BLANK | G58: =G43 -> BLANK | H58: =H43 -> BLANK | I58: =I43 -> POS
B59: ='Aligning data'!B36 -> A5 | C59: ='Aligning data'!C36 -> B5 | D59: ='Aligning data'!D36 -> C5 | E59: ='Aligning data'!E36 -> D5 | F59: ='Aligning data'!F36 -> E5 | G59: ='Aligning data'!G36 -> F5 | H59: ='Aligning data'!H36 -> G5 | I59: ='Aligning data'!I36 -> H5
A60: 6 | B60: =B45 -> IL-9 | C60: =C45 -> TGFb | D60: =D45 -> TNFa | E60: =E45 -> BLANK | F60: =F45 -> BLANK | G60: =G45 -> BLANK | H60: =H45 -> BLANK | I60: =I45 -> POS
B61: ='Aligning data'!B37 -> A6 | C61: ='Aligning data'!C37 -> B6 | D61: ='Aligning data'!D37 -> C6 | E61: ='Aligning data'!E37 -> D6 | F61: ='Aligning data'!F37 -> E6 | G61: ='Aligning data'!G37 -> F6 | H61: ='Aligning data'!H37 -> G6 | I61: ='Aligning data'!I37 -> H6
A63: ='Aligning data'!A39:B39 -> Sample 5
B64: A | C64: B | D64: C | E64: D | F64: E | G64: F | H64: G | I64: H | K64: Background
A65: 1 | B65: =B50 -> POS | C65: =C50 -> POS | D65: =D50 -> NEG | E65: =E50 -> NEG | F65: =F50 -> IFNg | G65: =G50 -> IL-10 | H65: =H50 -> IL-12p70 | I65: =I50 -> IL-13
B66: ='Aligning data'!B41 -> A1 | C66: ='Aligning data'!C41 -> B1 | D66: ='Aligning data'!D41 -> C1 | E66: ='Aligning data'!E41 -> D1 | F66: ='Aligning data'!F41 -> E1 | G66: ='Aligning data'!G41 -> F1 | H66: ='Aligning data'!H41 -> G1 | I66: ='Aligning data'!I41 -> H1 | K66: ='Aligning data'!K41 -> 0
A67: 2 | B67: =B52 -> POS | C67: =C52 -> POS | D67: =D52 -> NEG | E67: =E52 -> NEG | F67: =F52 -> IFNg | G67: =G52 -> IL-10 | H67: =H52 -> IL-12p70 | I67: =I52 -> IL-13
B68: ='Aligning data'!B42 -> A2 | C68: ='Aligning data'!C42 -> B2 | D68: ='Aligning data'!D42 -> C2 | E68: ='Aligning data'!E42 -> D2 | F68: ='Aligning data'!F42 -> E2 | G68: ='Aligning data'!G42 -> F2 | H68: ='Aligning data'!H42 -> G2 | I68: ='Aligning data'!I42 -> H2 | K68: ='Aligning data'!K42 -> 0
A69: 3 | B69: =B54 -> IL-17 | C69: =C54 -> IL-17F | D69: =D54 -> IL-18 | E69: =E54 -> IL-2 | F69: =F54 -> IL-4 | G69: =G54 -> IL-5 | H69: =H54 -> IL-6 | I69: =I54 -> IL-7
B70: ='Aligning data'!B43 -> A3 | C70: ='Aligning data'!C43 -> B3 | D70: ='Aligning data'!D43 -> C3 | E70: ='Aligning data'!E43 -> D3 | F70: ='Aligning data'!F43 -> E3 | G70: ='Aligning data'!G43 -> F3 | H70: ='Aligning data'!H43 -> G3 | I70: ='Aligning data'!I43 -> H3 | K70: ='Aligning data'!K43 -> 0
A71: 4 | B71: =B56 -> IL-17 | C71: =C56 -> IL-17F | D71: =D56 -> IL-18 | E71: =E56 -> IL-2 | F71: =F56 -> IL-4 | G71: =G56 -> IL-5 | H71: =H56 -> IL-6 | I71: =I56 -> IL-7
B72: ='Aligning data'!B44 -> A4 | C72: ='Aligning data'!C44 -> B4 | D72: ='Aligning data'!D44 -> C4 | E72: ='Aligning data'!E44 -> D4 | F72: ='Aligning data'!F44 -> E4 | G72: ='Aligning data'!G44 -> F4 | H72: ='Aligning data'!H44 -> G4 | I72: ='Aligning data'!I44 -> H4 | K72: ='Aligning data'!K44 -> 0
A73: 5 | B73: =B58 -> IL-9 | C73: =C58 -> TGFb | D73: =D58 -> TNFa | E73: =E58 -> BLANK | F73: =F58 -> BLANK | G73: =G58 -> BLANK | H73: =H58 -> BLANK | I73: =I58 -> POS
B74: ='Aligning data'!B45 -> A5 | C74: ='Aligning data'!C45 -> B5 | D74: ='Aligning data'!D45 -> C5 | E74: ='Aligning data'!E45 -> D5 | F74: ='Aligning data'!F45 -> E5 | G74: ='Aligning data'!G45 -> F5 | H74: ='Aligning data'!H45 -> G5 | I74: ='Aligning data'!I45 -> H5
A75: 6 | B75: =B60 -> IL-9 | C75: =C60 -> TGFb | D75: =D60 -> TNFa | E75: =E60 -> BLANK | F75: =F60 -> BLANK | G75: =G60 -> BLANK | H75: =H60 -> BLANK | I75: =I60 -> POS
B76: ='Aligning data'!B46 -> A6 | C76: ='Aligning data'!C46 -> B6 | D76: ='Aligning data'!D46 -> C6 | E76: ='Aligning data'!E46 -> D6 | F76: ='Aligning data'!F46 -> E6 | G76: ='Aligning data'!G46 -> F6 | H76: ='Aligning data'!H46 -> G6 | I76: ='Aligning data'!I46 -> H6
A78: ='Aligning data'!A48:B48 -> Sample 6
B79: A | C79: B | D79: C | E79: D | F79: E | G79: F | H79: G | I79: H | K79: Background
A80: 1 | B80: =B65 -> POS | C80: =C65 -> POS | D80: =D65 -> NEG | E80: =E65 -> NEG | F80: =F65 -> IFNg | G80: =G65 -> IL-10 | H80: =H65 -> IL-12p70 | I80: =I65 -> IL-13
B81: ='Aligning data'!B50 -> A1 | C81: ='Aligning data'!C50 -> B1 | D81: ='Aligning data'!D50 -> C1 | E81: ='Aligning data'!E50 -> D1 | F81: ='Aligning data'!F50 -> E1 | G81: ='Aligning data'!G50 -> F1 | H81: ='Aligning data'!H50 -> G1 | I81: ='Aligning data'!I50 -> H1 | K81: ='Aligning data'!K50 -> 0
A82: 2 | B82: =B67 -> POS | C82: =C67 -> POS | D82: =D67 -> NEG | E82: =E67 -> NEG | F82: =F67 -> IFNg | G82: =G67 -> IL-10 | H82: =H67 -> IL-12p70 | I82: =I67 -> IL-13
B83: ='Aligning data'!B51 -> A2 | C83: ='Aligning data'!C51 -> B2 | D83: ='Aligning data'!D51 -> C2 | E83: ='Aligning data'!E51 -> D2 | F83: ='Aligning data'!F51 -> E2 | G83: ='Aligning data'!G51 -> F2 | H83: ='Aligning data'!H51 -> G2 | I83: ='Aligning data'!I51 -> H2 | K83: ='Aligning data'!K51 -> 0
A84: 3 | B84: =B69 -> IL-17 | C84: =C69 -> IL-17F | D84: =D69 -> IL-18 | E84: =E69 -> IL-2 | F84: =F69 -> IL-4 | G84: =G69 -> IL-5 | H84: =H69 -> IL-6 | I84: =I69 -> IL-7
B85: ='Aligning data'!B52 -> A3 | C85: ='Aligning data'!C52 -> B3 | D85: ='Aligning data'!D52 -> C3 | E85: ='Aligning data'!E52 -> D3 | F85: ='Aligning data'!F52 -> E3 | G85: ='Aligning data'!G52 -> F3 | H85: ='Aligning data'!H52 -> G3 | I85: ='Aligning data'!I52 -> H3 | K85: ='Aligning data'!K52 -> 0
A86: 4 | B86: =B71 -> IL-17 | C86: =C71 -> IL-17F | D86: =D71 -> IL-18 | E86: =E71 -> IL-2 | F86: =F71 -> IL-4 | G86: =G71 -> IL-5 | H86: =H71 -> IL-6 | I86: =I71 -> IL-7
B87: ='Aligning data'!B53 -> A4 | C87: ='Aligning data'!C53 -> B4 | D87: ='Aligning data'!D53 -> C4 | E87: ='Aligning data'!E53 -> D4 | F87: ='Aligning data'!F53 -> E4 | G87: ='Aligning data'!G53 -> F4 | H87: ='Aligning data'!H53 -> G4 | I87: ='Aligning data'!I53 -> H4 | K87: ='Aligning data'!K53 -> 0
A88: 5 | B88: =B73 -> IL-9 | C88: =C73 -> TGFb | D88: =D73 -> TNFa | E88: =E73 -> BLANK | F88: =F73 -> BLANK | G88: =G73 -> BLANK | H88: =H73 -> BLANK | I88: =I73 -> POS
B89: ='Aligning data'!B54 -> A5 | C89: ='Aligning data'!C54 -> B5 | D89: ='Aligning data'!D54 -> C5 | E89: ='Aligning data'!E54 -> D5 | F89: ='Aligning data'!F54 -> E5 | G89: ='Aligning data'!G54 -> F5 | H89: ='Aligning data'!H54 -> G5 | I89: ='Aligning data'!I54 -> H5
A90: 6 | B90: =B75 -> IL-9 | C90: =C75 -> TGFb | D90: =D75 -> TNFa | E90: =E75 -> BLANK | F90: =F75 -> BLANK | G90: =G75 -> BLANK | H90: =H75 -> BLANK | I90: =I75 -> POS
B91: ='Aligning data'!B55 -> A6 | C91: ='Aligning data'!C55 -> B6 | D91: ='Aligning data'!D55 -> C6 | E91: ='Aligning data'!E55 -> D6 | F91: ='Aligning data'!F55 -> E6 | G91: ='Aligning data'!G55 -> F6 | H91: ='Aligning data'!H55 -> G6 | I91: ='Aligning data'!I55 -> H6
A93: ='Aligning data'!A57:B57 -> Sample 7
B94: A | C94: B | D94: C | E94: D | F94: E | G94: F | H94: G | I94: H | K94: Background
A95: 1 | B95: =B80 -> POS | C95: =C80 -> POS | D95: =D80 -> NEG | E95: =E80 -> NEG | F95: =F80 -> IFNg | G95: =G80 -> IL-10 | H95: =H80 -> IL-12p70 | I95: =I80 -> IL-13 | K95: ='Aligning data'!K59 -> 0
B96: ='Aligning data'!B59 -> A1 | C96: ='Aligning data'!C59 -> B1 | D96: ='Aligning data'!D59 -> C1 | E96: ='Aligning data'!E59 -> D1 | F96: ='Aligning data'!F59 -> E1 | G96: ='Aligning data'!G59 -> F1 | H96: ='Aligning data'!H59 -> G1 | I96: ='Aligning data'!I59 -> H1
A97: 2 | B97: =B82 -> POS | C97: =C82 -> POS | D97: =D82 -> NEG | E97: =E82 -> NEG | F97: =F82 -> IFNg | G97: =G82 -> IL-10 | H97: =H82 -> IL-12p70 | I97: =I82 -> IL-13 | K97: ='Aligning data'!K60 -> 0
B98: ='Aligning data'!B60 -> A2 | C98: ='Aligning data'!C60 -> B2 | D98: ='Aligning data'!D60 -> C2 | E98: ='Aligning data'!E60 -> D2 | F98: ='Aligning data'!F60 -> E2 | G98: ='Aligning data'!G60 -> F2 | H98: ='Aligning data'!H60 -> G2 | I98: ='Aligning data'!I60 -> H2
A99: 3 | B99: =B84 -> IL-17 | C99: =C84 -> IL-17F | D99: =D84 -> IL-18 | E99: =E84 -> IL-2 | F99: =F84 -> IL-4 | G99: =G84 -> IL-5 | H99: =H84 -> IL-6 | I99: =I84 -> IL-7 | K99: ='Aligning data'!K61 -> 0
B100: ='Aligning data'!B61 -> A3 | C100: ='Aligning data'!C61 -> B3 | D100: ='Aligning data'!D61 -> C3 | E100: ='Aligning data'!E61 -> D3 | F100: ='Aligning data'!F61 -> E3 | G100: ='Aligning data'!G61 -> F3 | H100: ='Aligning data'!H61 -> G3 | I100: ='Aligning data'!I61 -> H3
A101: 4 | B101: =B86 -> IL-17 | C101: =C86 -> IL-17F | D101: =D86 -> IL-18 | E101: =E86 -> IL-2 | F101: =F86 -> IL-4 | G101: =G86 -> IL-5 | H101: =H86 -> IL-6 | I101: =I86 -> IL-7 | K101: ='Aligning data'!K62 -> 0
B102: ='Aligning data'!B62 -> A4 | C102: ='Aligning data'!C62 -> B4 | D102: ='Aligning data'!D62 -> C4 | E102: ='Aligning data'!E62 -> D4 | F102: ='Aligning data'!F62 -> E4 | G102: ='Aligning data'!G62 -> F4 | H102: ='Aligning data'!H62 -> G4 | I102: ='Aligning data'!I62 -> H4
A103: 5 | B103: =B88 -> IL-9 | C103: =C88 -> TGFb | D103: =D88 -> TNFa | E103: =E88 -> BLANK | F103: =F88 -> BLANK | G103: =G88 -> BLANK | H103: =H88 -> BLANK | I103: =I88 -> POS
B104: ='Aligning data'!B63 -> A5 | C104: ='Aligning data'!C63 -> B5 | D104: ='Aligning data'!D63 -> C5 | E104: ='Aligning data'!E63 -> D5 | F104: ='Aligning data'!F63 -> E5 | G104: ='Aligning data'!G63 -> F5 | H104: ='Aligning data'!H63 -> G5 | I104: ='Aligning data'!I63 -> H5
A105: 6 | B105: =B90 -> IL-9 | C105: =C90 -> TGFb | D105: =D90 -> TNFa | E105: =E90 -> BLANK | F105: =F90 -> BLANK | G105: =G90 -> BLANK | H105: =H90 -> BLANK | I105: =I90 -> POS
B106: ='Aligning data'!B64 -> A6 | C106: ='Aligning data'!C64 -> B6 | D106: ='Aligning data'!D64 -> C6 | E106: ='Aligning data'!E64 -> D6 | F106: ='Aligning data'!F64 -> E6 | G106: ='Aligning data'!G64 -> F6 | H106: ='Aligning data'!H64 -> G6 | I106: ='Aligning data'!I64 -> H6
A108: ='Aligning data'!A66:B66 -> Sample 8
B109: A | C109: B | D109: C | E109: D | F109: E | G109: F | H109: G | I109: H | K109: Background
A110: 1 | B110: =B95 -> POS | C110: =C95 -> POS | D110: =D95 -> NEG | E110: =E95 -> NEG | F110: =F95 -> IFNg | G110: =G95 -> IL-10 | H110: =H95 -> IL-12p70 | I110: =I95 -> IL-13
...

Sheet Sorting
A2: ='Map and Ab list'!A1 -> RayBio® Cytokine Antibody Arrays --AAM-TCR-1
C4: ='Aligning data'!A3 -> Sample 1 | G4: ='Aligning data'!A12 -> Sample 2 | K4: ='Aligning data'!A21 -> Sample 3 | O4: ='Aligning data'!A30 -> Sample 4 | S4: ='Aligning data'!A39 -> Sample 5 | W4: ='Aligning data'!A48 -> Sample 6 | AA4: ='Aligning data'!A57 -> Sample 7 | AE4: ='Aligning data'!A66 -> Sample 8 | AI4: ='Aligning data'!A75 -> Sample 9 | AM4: ='Aligning data'!A84 -> Sample 10 | AQ4: ='Aligning data'!A93 -> Sample 11 | AU4: ='Aligning data'!A102 -> Sample 12 | AY4: ='Aligning data'!A111 -> Sample 13 | BC4: ='Aligning data'!A120 -> Sample 14 | BG4: ='Aligning data'!A129 -> Sample 15 | BK4: ='Aligning data'!A138 -> SAMPLE 16 | BO4: ='Aligning data'!A147 -> SAMPLE 17 | BS4: ='Aligning data'!A156 -> SAMPLE 18 | BW4: ='Aligning data'!A165 -> SAMPLE 19 | CA4: ='Aligning data'!A174 -> SAMPLE 20 | CE4: ='Aligning data'!A183 -> SAMPLE 21 | CI4: ='Aligning data'!A192 -> SAMPLE 22 | CM4: ='Aligning data'!A201 -> SAMPLE 23 | CQ4: ='Aligning data'!A210 -> SAMPLE 24
C5: 1 | D5: 2 | E5: AVERAGE | G5: 1 | H5: 2 | I5: AVERAGE | K5: 1 | L5: 2 | M5: AVERAGE | O5: 1 | P5: 2 | Q5: AVERAGE | S5: 1 | T5: 2 | U5: AVERAGE | W5: 1 | X5: 2 | Y5: AVERAGE | AA5: 1 | AB5: 2 | AC5: AVERAGE | AE5: 1 | AF5: 2 | AG5: AVERAGE | AI5: 1 | AJ5: 2 | AK5: AVERAGE | AM5: 1 | AN5: 2 | AO5: AVERAGE | AQ5: 1 | AR5: 2 | AS5: AVERAGE | AU5: 1 | AV5: 2 | AW5: AVERAGE | AY5: 1 | AZ5: 2 | BA5: AVERAGE | BC5: 1 | BD5: 2 | BE5: AVERAGE | BG5: 1 | BH5: 2 | BI5: AVERAGE | BK5: 1 | BL5: 2 | BM5: AVERAGE | BO5: 1 | BP5: 2 | BQ5: AVERAGE | BS5: 1 | BT5: 2 | BU5: AVERAGE | BW5: 1 | BX5: 2 | BY5: AVERAGE | CA5: 1 | CB5: 2 | CC5: AVERAGE | CE5: 1 | CF5: 2 | CG5: AVERAGE | CI5: 1 | CJ5: 2 | CK5: AVERAGE | CM5: 1 | CN5: 2 | CO5: AVERAGE | CQ5: 1 | CR5: 2 | CS5: AVERAGE
A6: ='Map and Ab list'!B5 -> POS | E6: =('Map and Ab list'!B6+'Map and Ab list'!C6+'Map and Ab list'!B8+'Map and Ab list'!C8)/4 -> 0 | I6: =('Map and Ab list'!B21+'Map and Ab list'!C21+'Map and Ab list'!B23+'Map and Ab list'!C23)/4 -> #VALUE! | M6: =('Map and Ab list'!B36+'Map and Ab list'!C36+'Map and Ab list'!B38+'Map and Ab list'!C38)/4 -> #VALUE! | Q6: =('Map and Ab list'!B51+'Map and Ab list'!C51+'Map and Ab list'!B53+'Map and Ab list'!C53)/4 -> #VALUE! | U6: =('Map and Ab list'!B66+'Map and Ab list'!C66+'Map and Ab list'!B68+'Map and Ab list'!C68)/4 -> #VALUE! | Y6: =('Map and Ab list'!B81+'Map and Ab list'!C81+'Map and Ab list'!B83+'Map and Ab list'!C83)/4 -> #VALUE! | AC6: =('Map and Ab list'!B96+'Map and Ab list'!C96+'Map and Ab list'!B98+'Map and Ab list'!C98)/4 -> #VALUE! | AG6: =('Map and Ab list'!B111+'Map and Ab list'!C111+'Map and Ab list'!B113+'Map and Ab list'!C113)/4 -> #VALUE! | AK6: =('Map and Ab list'!B126+'Map and Ab list'!C126+'Map and Ab list'!B128+'Map and Ab list'!C128)/4 -> #VALUE! | AO6: =('Map and Ab list'!B141+'Map and Ab list'!C141+'Map and Ab list'!B143+'Map and Ab list'!C143)/4 -> #VALUE! | AS6: =('Map and Ab list'!B156+'Map and Ab list'!C156+'Map and Ab list'!B158+'Map and Ab list'!C158)/4 -> #VALUE! | AW6: =('Map and Ab list'!B171+'Map and Ab list'!C171+'Map and Ab list'!B173+'Map and Ab list'!C173)/4 -> #VALUE! | BA6: =('Map and Ab list'!B186+'Map and Ab list'!C186+'Map and Ab list'!B188+'Map and Ab list'!C188)/4 -> #VALUE! | BE6: =('Map and Ab list'!B201+'Map and Ab list'!C201+'Map and Ab list'!B203+'Map and Ab list'!C203)/4 -> #VALUE! | BI6: =('Map and Ab list'!B216+'Map and Ab list'!C216+'Map and Ab list'!B218+'Map and Ab list'!C218)/4 -> #VALUE! | BM6: =('Map and Ab list'!B231+'Map and Ab list'!C231+'Map and Ab list'!B233+'Map and Ab list'!C233)/4 -> #VALUE! | BQ6: =('Map and Ab list'!B246+'Map and Ab list'!C246+'Map and Ab list'!B248+'Map and Ab list'!C248)/4 -> #VALUE! | BU6: =('Map and Ab list'!B261+'Map and Ab list'!C261+'Map and Ab list'!B263+'Map and Ab list'!C263)/4 -> #VALUE! | BY6: =('Map and Ab list'!B276+'Map and Ab list'!C276+'Map and Ab list'!B278+'Map and Ab list'!C278)/4 -> #VALUE! | CC6: =('Map and Ab list'!B291+'Map and Ab list'!C291+'Map and Ab list'!B293+'Map and Ab list'!C293)/4 -> #VALUE! | CG6: =('Map and Ab list'!B306+'Map and Ab list'!C306+'Map and Ab list'!B308+'Map and Ab list'!C308)/4 -> #VALUE! | CK6: =('Map and Ab list'!B321+'Map and Ab list'!C321+'Map and Ab list'!B323+'Map and Ab list'!C323)/4 -> #VALUE! | CO6: =('Map and Ab list'!B336+'Map and Ab list'!C336+'Map and Ab list'!B338+'Map and Ab list'!C338)/4 -> #VALUE! | CS6: =('Map and Ab list'!B351+'Map and Ab list'!C351+'Map and Ab list'!B353+'Map and Ab list'!C353)/4 -> #VALUE!
A7: ='Map and Ab list'!E5 -> NEG | E7: =('Map and Ab list'!D6+'Map and Ab list'!E6+'Map and Ab list'!D8+'Map and Ab list'!E8)/4 -> 0 | I7: =('Map and Ab list'!D21+'Map and Ab list'!E21+'Map and Ab list'!D23+'Map and Ab list'!E23)/4 -> #VALUE! | M7: =('Map and Ab list'!D36+'Map and Ab list'!E36+'Map and Ab list'!D38+'Map and Ab list'!E38)/4 -> #VALUE! | Q7: =('Map and Ab list'!D51+'Map and Ab list'!E51+'Map and Ab list'!D53+'Map and Ab list'!E53)/4 -> #VALUE! | U7: =('Map and Ab list'!D66+'Map and Ab list'!E66+'Map and Ab list'!D68+'Map and Ab list'!E68)/4 -> #VALUE! | Y7: =('Map and Ab list'!D81+'Map and Ab list'!E81+'Map and Ab list'!D83+'Map and Ab list'!E83)/4 -> #VALUE! | AC7: =('Map and Ab list'!D96+'Map and Ab list'!E96+'Map and Ab list'!D98+'Map and Ab list'!E98)/4 -> #VALUE! | AG7: =('Map and Ab list'!D111+'Map and Ab list'!E111+'Map and Ab list'!D113+'Map and Ab list'!E113)/4 -> #VALUE! | AK7: =('Map and Ab list'!D126+'Map and Ab list'!E126+'Map and Ab list'!D128+'Map and Ab list'!E128)/4 -> #VALUE! | AO7: =('Map and Ab list'!D141+'Map and Ab list'!E141+'Map and Ab list'!D143+'Map and Ab list'!E143)/4 -> #VALUE! | AS7: =('Map and Ab list'!D156+'Map and Ab list'!E156+'Map and Ab list'!D158+'Map and Ab list'!E158)/4 -> #VALUE! | AW7: =('Map and Ab list'!D171+'Map and Ab list'!E171+'Map and Ab list'!D173+'Map and Ab list'!E173)/4 -> #VALUE! | BA7: =('Map and Ab list'!D186+'Map and Ab list'!E186+'Map and Ab list'!D188+'Map and Ab list'!E188)/4 -> #VALUE! | BE7: =('Map and Ab list'!D201+'Map and Ab list'!E201+'Map and Ab list'!D203+'Map and Ab list'!E203)/4 -> #VALUE! | BI7: =('Map and Ab list'!D216+'Map and Ab list'!E216+'Map and Ab list'!D218+'Map and Ab list'!E218)/4 -> #VALUE! | BM7: =('Map and Ab list'!D231+'Map and Ab list'!E231+'Map and Ab list'!D233+'Map and Ab list'!E233)/4 -> #VALUE! | BQ7: =('Map and Ab list'!D246+'Map and Ab list'!E246+'Map and Ab list'!D248+'Map and Ab list'!E248)/4 -> #VALUE! | BU7: =('Map and Ab list'!D261+'Map and Ab list'!E261+'Map and Ab list'!D263+'Map and Ab list'!E263)/4 -> #VALUE! | BY7: =('Map and Ab list'!D276+'Map and Ab list'!E276+'Map and Ab list'!D278+'Map and Ab list'!E278)/4 -> #VALUE! | CC7: =('Map and Ab list'!D291+'Map and Ab list'!E291+'Map and Ab list'!D293+'Map and Ab list'!E293)/4 -> #VALUE! | CG7: =('Map and Ab list'!D306+'Map and Ab list'!E306+'Map and Ab list'!D308+'Map and Ab list'!E308)/4 -> #VALUE! | CK7: =('Map and Ab list'!D321+'Map and Ab list'!E321+'Map and Ab list'!D323+'Map and Ab list'!E323)/4 -> #VALUE! | CO7: =('Map and Ab list'!D336+'Map and Ab list'!E336+'Map and Ab list'!D338+'Map and Ab list'!E338)/4 -> #VALUE! | CS7: =('Map and Ab list'!D351+'Map and Ab list'!E351+'Map and Ab list'!D353+'Map and Ab list'!E353)/4 -> #VALUE!
A8: ='Map and Ab list'!F5 -> IFNg | C8: ='Map and Ab list'!F6 -> 0 | D8: ='Map and Ab list'!F8 -> 0 | E8: =(C8+D8)/2 -> 0 | G8: ='Map and Ab list'!F21 -> E1 | H8: ='Map and Ab list'!F23 -> E2 | I8: =(G8+H8)/2 -> #VALUE! | K8: ='Map and Ab list'!F36 -> E1 | L8: ='Map and Ab list'!F38 -> E2 | M8: =(K8+L8)/2 -> #VALUE! | O8: ='Map and Ab list'!F51 -> E1 | P8: ='Map and Ab list'!F53 -> E2 | Q8: =(O8+P8)/2 -> #VALUE! | S8: ='Map and Ab list'!F66 -> E1 | T8: ='Map and Ab list'!F68 -> E2 | U8: =(S8+T8)/2 -> #VALUE! | W8: ='Map and Ab list'!F81 -> E1 | X8: ='Map and Ab list'!F83 -> E2 | Y8: =(W8+X8)/2 -> #VALUE! | AA8: ='Map and Ab list'!F96 -> E1 | AB8: ='Map and Ab list'!F98 -> E2 | AC8: =(AA8+AB8)/2 -> #VALUE! | AE8: ='Map and Ab list'!F111 -> E1 | AF8: ='Map and Ab list'!F113 -> E2 | AG8: =(AE8+AF8)/2 -> #VALUE! | AI8: ='Map and Ab list'!F126 -> E1 | AJ8: ='Map and Ab list'!F128 -> E2 | AK8: =(AI8+AJ8)/2 -> #VALUE! | AM8: ='Map and Ab list'!F141 -> E1 | AN8: ='Map and Ab list'!F143 -> E2 | AO8: =(AM8+AN8)/2 -> #VALUE! | AQ8: ='Map and Ab list'!F156 -> E1 | AR8: ='Map and Ab list'!F158 -> E2 | AS8: =(AQ8+AR8)/2 -> #VALUE! | AU8: ='Map and Ab list'!F171 -> E1 | AV8: ='Map and Ab list'!F173 -> E2 | AW8: =(AU8+AV8)/2 -> #VALUE! | AY8: ='Map and Ab list'!F186 -> E1 | AZ8: ='Map and Ab list'!F188 -> E2 | BA8: =(AY8+AZ8)/2 -> #VALUE! | BC8: ='Map and Ab list'!F201 -> E1 | BD8: ='Map and Ab list'!F203 -> E2 | BE8: =(BC8+BD8)/2 -> #VALUE! | BG8: ='Map and Ab list'!F216 -> E1 | BH8: ='Map and Ab list'!F218 -> E2 | BI8: =(BG8+BH8)/2 -> #VALUE! | BK8: ='Map and Ab list'!F231 -> E1 | BL8: ='Map and Ab list'!F233 -> E2 | BM8: =(BK8+BL8)/2 -> #VALUE! | BO8: ='Map and Ab list'!F246 -> E1 | BP8: ='Map and Ab list'!F248 -> E2 | BQ8: =(BO8+BP8)/2 -> #VALUE! | BS8: ='Map and Ab list'!F261 -> E1 | BT8: ='Map and Ab list'!F263 -> E2 | BU8: =(BS8+BT8)/2 -> #VALUE! | BW8: ='Map and Ab list'!F276 -> E1 | BX8: ='Map and Ab list'!F278 -> E2 | BY8: =(BW8+BX8)/2 -> #VALUE! | CA8: ='Map and Ab list'!F291 -> E1 | CB8: ='Map and Ab list'!F293 -> E2 | CC8: =(CA8+CB8)/2 -> #VALUE! | CE8: ='Map and Ab list'!F306 -> E1 | CF8: ='Map and Ab list'!F308 -> E2 | CG8: =(CE8+CF8)/2 -> #VALUE! | CI8: ='Map and Ab list'!F321 -> E1 | CJ8: ='Map and Ab list'!F323 -> E2 | CK8: =(CI8+CJ8)/2 -> #VALUE! | CM8: ='Map and Ab list'!F336 -> E1 | CN8: ='Map and Ab list'!F338 -> E2 | CO8: =(CM8+CN8)/2 -> #VALUE! | CQ8: ='Map and Ab list'!F351 -> E1 | CR8: ='Map and Ab list'!F353 -> E2 | CS8: =(CQ8+CR8)/2 -> #VALUE!
A9: ='Map and Ab list'!G5 -> IL-10 | C9: ='Map and Ab list'!G6 -> 0 | D9: ='Map and Ab list'!G8 -> 0 | E9: =(C9+D9)/2 -> 0 | G9: ='Map and Ab list'!G21 -> F1 | H9: ='Map and Ab list'!G23 -> F2 | I9: =(G9+H9)/2 -> #VALUE! | K9: ='Map and Ab list'!G36 -> F1 | L9: ='Map and Ab list'!G38 -> F2 | M9: =(K9+L9)/2 -> #VALUE! | O9: ='Map and Ab list'!G51 -> F1 | P9: ='Map and Ab list'!G53 -> F2 | Q9: =(O9+P9)/2 -> #VALUE! | S9: ='Map and Ab list'!G66 -> F1 | T9: ='Map and Ab list'!G68 -> F2 | U9: =(S9+T9)/2 -> #VALUE! | W9: ='Map and Ab list'!G81 -> F1 | X9: ='Map and Ab list'!G83 -> F2 | Y9: =(W9+X9)/2 -> #VALUE! | AA9: ='Map and Ab list'!G96 -> F1 | AB9: ='Map and Ab list'!G98 -> F2 | AC9: =(AA9+AB9)/2 -> #VALUE! | AE9: ='Map and Ab list'!G111 -> F1 | AF9: ='Map and Ab list'!G113 -> F2 | AG9: =(AE9+AF9)/2 -> #VALUE! | AI9: ='Map and Ab list'!G126 -> F1 | AJ9: ='Map and Ab list'!G128 -> F2 | AK9: =(AI9+AJ9)/2 -> #VALUE! | AM9: ='Map and Ab list'!G141 -> F1 | AN9: ='Map and Ab list'!G143 -> F2 | AO9: =(AM9+AN9)/2 -> #VALUE! | AQ9: ='Map and Ab list'!G156 -> F1 | AR9: ='Map and Ab list'!G158 -> F2 | AS9: =(AQ9+AR9)/2 -> #VALUE! | AU9: ='Map and Ab list'!G171 -> F1 | AV9: ='Map and Ab list'!G173 -> F2 | AW9: =(AU9+AV9)/2 -> #VALUE! | AY9: ='Map and Ab list'!G186 -> F1 | AZ9: ='Map and Ab list'!G188 -> F2 | BA9: =(AY9+AZ9)/2 -> #VALUE! | BC9: ='Map and Ab list'!G201 -> F1 | BD9: ='Map and Ab list'!G203 -> F2 | BE9: =(BC9+BD9)/2 -> #VALUE! | BG9: ='Map and Ab list'!G216 -> F1 | BH9: ='Map and Ab list'!G218 -> F2 | BI9: =(BG9+BH9)/2 -> #VALUE! | BK9: ='Map and Ab list'!G231 -> F1 | BL9: ='Map and Ab list'!G233 -> F2 | BM9: =(BK9+BL9)/2 -> #VALUE! | BO9: ='Map and Ab list'!G246 -> F1 | BP9: ='Map and Ab list'!G248 -> F2 | BQ9: =(BO9+BP9)/2 -> #VALUE! | BS9: ='Map and Ab list'!G261 -> F1 | BT9: ='Map and Ab list'!G263 -> F2 | BU9: =(BS9+BT9)/2 -> #VALUE! | BW9: ='Map and Ab list'!G276 -> F1 | BX9: ='Map and Ab list'!G278 -> F2 | BY9: =(BW9+BX9)/2 -> #VALUE! | CA9: ='Map and Ab list'!G291 -> F1 | CB9: ='Map and Ab list'!G293 -> F2 | CC9: =(CA9+CB9)/2 -> #VALUE! | CE9: ='Map and Ab list'!G306 -> F1 | CF9: ='Map and Ab list'!G308 -> F2 | CG9: =(CE9+CF9)/2 -> #VALUE! | CI9: ='Map and Ab list'!G321 -> F1 | CJ9: ='Map and Ab list'!G323 -> F2 | CK9: =(CI9+CJ9)/2 -> #VALUE! | CM9: ='Map and Ab list'!G336 -> F1 | CN9: ='Map and Ab list'!G338 -> F2 | CO9: =(CM9+CN9)/2 -> #VALUE! | CQ9: ='Map and Ab list'!G351 -> F1 | CR9: ='Map and Ab list'!G353 -> F2 | CS9: =(CQ9+CR9)/2 -> #VALUE!
A10: ='Map and Ab list'!H5 -> IL-12p70 | C10: ='Map and Ab list'!H6 -> 0 | D10: ='Map and Ab list'!H8 -> 0 | E10: =(C10+D10)/2 -> 0 | G10: ='Map and Ab list'!H21 -> G1 | H10: ='Map and Ab list'!H23 -> G2 | I10: =(G10+H10)/2 -> #VALUE! | K10: ='Map and Ab list'!H36 -> G1 | L10: ='Map and Ab list'!H38 -> G2 | M10: =(K10+L10)/2 -> #VALUE! | O10: ='Map and Ab list'!H51 -> G1 | P10: ='Map and Ab list'!H53 -> G2 | Q10: =(O10+P10)/2 -> #VALUE! | S10: ='Map and Ab list'!H66 -> G1 | T10: ='Map and Ab list'!H68 -> G2 | U10: =(S10+T10)/2 -> #VALUE! | W10: ='Map and Ab list'!H81 -> G1 | X10: ='Map and Ab list'!H83 -> G2 | Y10: =(W10+X10)/2 -> #VALUE! | AA10: ='Map and Ab list'!H96 -> G1 | AB10: ='Map and Ab list'!H98 -> G2 | AC10: =(AA10+AB10)/2 -> #VALUE! | AE10: ='Map and Ab list'!H111 -> G1 | AF10: ='Map and Ab list'!H113 -> G2 | AG10: =(AE10+AF10)/2 -> #VALUE! | AI10: ='Map and Ab list'!H126 -> G1 | AJ10: ='Map and Ab list'!H128 -> G2 | AK10: =(AI10+AJ10)/2 -> #VALUE! | AM10: ='Map and Ab list'!H141 -> G1 | AN10: ='Map and Ab list'!H143 -> G2 | AO10: =(AM10+AN10)/2 -> #VALUE! | AQ10: ='Map and Ab list'!H156 -> G1 | AR10: ='Map and Ab list'!H158 -> G2 | AS10: =(AQ10+AR10)/2 -> #VALUE! | AU10: ='Map and Ab list'!H171 -> G1 | AV10: ='Map and Ab list'!H173 -> G2 | AW10: =(AU10+AV10)/2 -> #VALUE! | AY10: ='Map and Ab list'!H186 -> G1 | AZ10: ='Map and Ab list'!H188 -> G2 | BA10: =(AY10+AZ10)/2 -> #VALUE! | BC10: ='Map and Ab list'!H201 -> G1 | BD10: ='Map and Ab list'!H203 -> G2 | BE10: =(BC10+BD10)/2 -> #VALUE! | BG10: ='Map and Ab list'!H216 -> G1 | BH10: ='Map and Ab list'!H218 -> G2 | BI10: =(BG10+BH10)/2 -> #VALUE! | BK10: ='Map and Ab list'!H231 -> G1 | BL10: ='Map and Ab list'!H233 -> G2 | BM10: =(BK10+BL10)/2 -> #VALUE! | BO10: ='Map and Ab list'!H246 -> G1 | BP10: ='Map and Ab list'!H248 -> G2 | BQ10: =(BO10+BP10)/2 -> #VALUE! | BS10: ='Map and Ab list'!H261 -> G1 | BT10: ='Map and Ab list'!H263 -> G2 | BU10: =(BS10+BT10)/2 -> #VALUE! | BW10: ='Map and Ab list'!H276 -> G1 | BX10: ='Map and Ab list'!H278 -> G2 | BY10: =(BW10+BX10)/2 -> #VALUE! | CA10: ='Map and Ab list'!H291 -> G1 | CB10: ='Map and Ab list'!H293 -> G2 | CC10: =(CA10+CB10)/2 -> #VALUE! | CE10: ='Map and Ab list'!H306 -> G1 | CF10: ='Map and Ab list'!H308 -> G2 | CG10: =(CE10+CF10)/2 -> #VALUE! | CI10: ='Map and Ab list'!H321 -> G1 | CJ10: ='Map and Ab list'!H323 -> G2 | CK10: =(CI10+CJ10)/2 -> #VALUE! | CM10: ='Map and Ab list'!H336 -> G1 | CN10: ='Map and Ab list'!H338 -> G2 | CO10: =(CM10+CN10)/2 -> #VALUE! | CQ10: ='Map and Ab list'!H351 -> G1 | CR10: ='Map and Ab list'!H353 -> G2 | CS10: =(CQ10+CR10)/2 -> #VALUE!
A11: ='Map and Ab list'!I5 -> IL-13 | C11: ='Map and Ab list'!I6 -> 0 | D11: ='Map and Ab list'!I8 -> 0 | E11: =(C11+D11)/2 -> 0 | G11: ='Map and Ab list'!I21 -> H1 | H11: ='Map and Ab list'!I23 -> H2 | I11: =(G11+H11)/2 -> #VALUE! | K11: ='Map and Ab list'!I36 -> H1 | L11: ='Map and Ab list'!I38 -> H2 | M11: =(K11+L11)/2 -> #VALUE! | O11: ='Map and Ab list'!I51 -> H1 | P11: ='Map and Ab list'!I53 -> H2 | Q11: =(O11+P11)/2 -> #VALUE! | S11: ='Map and Ab list'!I66 -> H1 | T11: ='Map and Ab list'!I68 -> H2 | U11: =(S11+T11)/2 -> #VALUE! | W11: ='Map and Ab list'!I81 -> H1 | X11: ='Map and Ab list'!I83 -> H2 | Y11: =(W11+X11)/2 -> #VALUE! | AA11: ='Map and Ab list'!I96 -> H1 | AB11: ='Map and Ab list'!I98 -> H2 | AC11: =(AA11+AB11)/2 -> #VALUE! | AE11: ='Map and Ab list'!I111 -> H1 | AF11: ='Map and Ab list'!I113 -> H2 | AG11: =(AE11+AF11)/2 -> #VALUE! | AI11: ='Map and Ab list'!I126 -> H1 | AJ11: ='Map and Ab list'!I128 -> H2 | AK11: =(AI11+AJ11)/2 -> #VALUE! | AM11: ='Map and Ab list'!I141 -> H1 | AN11: ='Map and Ab list'!I143 -> H2 | AO11: =(AM11+AN11)/2 -> #VALUE! | AQ11: ='Map and Ab list'!I156 -> H1 | AR11: ='Map and Ab list'!I158 -> H2 | AS11: =(AQ11+AR11)/2 -> #VALUE! | AU11: ='Map and Ab list'!I171 -> H1 | AV11: ='Map and Ab list'!I173 -> H2 | AW11: =(AU11+AV11)/2 -> #VALUE! | AY11: ='Map and Ab list'!I186 -> H1 | AZ11: ='Map and Ab list'!I188 -> H2 | BA11: =(AY11+AZ11)/2 -> #VALUE! | BC11: ='Map and Ab list'!I201 -> H1 | BD11: ='Map and Ab list'!I203 -> H2 | BE11: =(BC11+BD11)/2 -> #VALUE! | BG11: ='Map and Ab list'!I216 -> H1 | BH11: ='Map and Ab list'!I218 -> H2 | BI11: =(BG11+BH11)/2 -> #VALUE! | BK11: ='Map and Ab list'!I231 -> H1 | BL11: ='Map and Ab list'!I233 -> H2 | BM11: =(BK11+BL11)/2 -> #VALUE! | BO11: ='Map and Ab list'!I246 -> H1 | BP11: ='Map and Ab list'!I248 -> H2 | BQ11: =(BO11+BP11)/2 -> #VALUE! | BS11: ='Map and Ab list'!I261 -> H1 | BT11: ='Map and Ab list'!I263 -> H2 | BU11: =(BS11+BT11)/2 -> #VALUE! | BW11: ='Map and Ab list'!I276 -> H1 | BX11: ='Map and Ab list'!I278 -> H2 | BY11: =(BW11+BX11)/2 -> #VALUE! | CA11: ='Map and Ab list'!I291 -> H1 | CB11: ='Map and Ab list'!I293 -> H2 | CC11: =(CA11+CB11)/2 -> #VALUE! | CE11: ='Map and Ab list'!I306 -> H1 | CF11: ='Map and Ab list'!I308 -> H2 | CG11: =(CE11+CF11)/2 -> #VALUE! | CI11: ='Map and Ab list'!I321 -> H1 | CJ11: ='Map and Ab list'!I323 -> H2 | CK11: =(CI11+CJ11)/2 -> #VALUE! | CM11: ='Map and Ab list'!I336 -> H1 | CN11: ='Map and Ab list'!I338 -> H2 | CO11: =(CM11+CN11)/2 -> #VALUE! | CQ11: ='Map and Ab list'!I351 -> H1 | CR11: ='Map and Ab list'!I353 -> H2 | CS11: =(CQ11+CR11)/2 -> #VALUE!
A12: ='Map and Ab list'!B9 -> IL-17 | C12: ='Map and Ab list'!B10 -> 0 | D12: ='Map and Ab list'!B12 -> 0 | E12: =(C12+D12)/2 -> 0 | G12: ='Map and Ab list'!B25 -> A3 | H12: ='Map and Ab list'!B27 -> A4 | I12: =(G12+H12)/2 -> #VALUE! | K12: ='Map and Ab list'!B40 -> A3 | L12: ='Map and Ab list'!B42 -> A4 | M12: =(K12+L12)/2 -> #VALUE! | O12: ='Map and Ab list'!B55 -> A3 | P12: ='Map and Ab list'!B57 -> A4 | Q12: =(O12+P12)/2 -> #VALUE! | S12: ='Map and Ab list'!B70 -> A3 | T12: ='Map and Ab list'!B72 -> A4 | U12: =(S12+T12)/2 -> #VALUE! | W12: ='Map and Ab list'!B85 -> A3 | X12: ='Map and Ab list'!B87 -> A4 | Y12: =(W12+X12)/2 -> #VALUE! | AA12: ='Map and Ab list'!B100 -> A3 | AB12: ='Map and Ab list'!B102 -> A4 | AC12: =(AA12+AB12)/2 -> #VALUE! | AE12: ='Map and Ab list'!B115 -> A3 | AF12: ='Map and Ab list'!B117 -> A4 | AG12: =(AE12+AF12)/2 -> #VALUE! | AI12: ='Map and Ab list'!B130 -> A3 | AJ12: ='Map and Ab list'!B132 -> A4 | AK12: =(AI12+AJ12)/2 -> #VALUE! | AM12: ='Map and Ab list'!B145 -> A3 | AN12: ='Map and Ab list'!B147 -> A4 | AO12: =(AM12+AN12)/2 -> #VALUE! | AQ12: ='Map and Ab list'!B160 -> A3 | AR12: ='Map and Ab list'!B162 -> A4 | AS12: =(AQ12+AR12)/2 -> #VALUE! | AU12: ='Map and Ab list'!B175 -> A3 | AV12: ='Map and Ab list'!B177 -> A4 | AW12: =(AU12+AV12)/2 -> #VALUE! | AY12: ='Map and Ab list'!B190 -> A3 | AZ12: ='Map and Ab list'!B192 -> A4 | BA12: =(AY12+AZ12)/2 -> #VALUE! | BC12: ='Map and Ab list'!B205 -> A3 | BD12: ='Map and Ab list'!B207 -> A4 | BE12: =(BC12+BD12)/2 -> #VALUE! | BG12: ='Map and Ab list'!B220 -> A3 | BH12: ='Map and Ab list'!B222 -> A4 | BI12: =(BG12+BH12)/2 -> #VALUE! | BK12: ='Map and Ab list'!B235 -> A3 | BL12: ='Map and Ab list'!B237 -> A4 | BM12: =(BK12+BL12)/2 -> #VALUE! | BO12: ='Map and Ab list'!B250 -> A3 | BP12: ='Map and Ab list'!B252 -> A4 | BQ12: =(BO12+BP12)/2 -> #VALUE! | BS12: ='Map and Ab list'!B265 -> A3 | BT12: ='Map and Ab list'!B267 -> A4 | BU12: =(BS12+BT12)/2 -> #VALUE! | BW12: ='Map and Ab list'!B280 -> A3 | BX12: ='Map and Ab list'!B282 -> A4 | BY12: =(BW12+BX12)/2 -> #VALUE! | CA12: ='Map and Ab list'!B295 -> A3 | CB12: ='Map and Ab list'!B297 -> A4 | CC12: =(CA12+CB12)/2 -> #VALUE! | CE12: ='Map and Ab list'!B310 -> A3 | CF12: ='Map and Ab list'!B312 -> A4 | CG12: =(CE12+CF12)/2 -> #VALUE! | CI12: ='Map and Ab list'!B325 -> A3 | CJ12: ='Map and Ab list'!B327 -> A4 | CK12: =(CI12+CJ12)/2 -> #VALUE! | CM12: ='Map and Ab list'!B340 -> A3 | CN12: ='Map and Ab list'!B342 -> A4 | CO12: =(CM12+CN12)/2 -> #VALUE! | CQ12: ='Map and Ab list'!B355 -> A3 | CR12: ='Map and Ab list'!B357 -> A4 | CS12: =(CQ12+CR12)/2 -> #VALUE!
A13: ='Map and Ab list'!C9 -> IL-17F | C13: ='Map and Ab list'!C10 -> 0 | D13: ='Map and Ab list'!C12 -> 0 | E13: =(C13+D13)/2 -> 0 | G13: ='Map and Ab list'!C25 -> B3 | H13: ='Map and Ab list'!C27 -> B4 | I13: =(G13+H13)/2 -> #VALUE! | K13: ='Map and Ab list'!C40 -> B3 | L13: ='Map and Ab list'!C42 -> B4 | M13: =(K13+L13)/2 -> #VALUE! | O13: ='Map and Ab list'!C55 -> B3 | P13: ='Map and Ab list'!C57 -> B4 | Q13: =(O13+P13)/2 -> #VALUE! | S13: ='Map and Ab list'!C70 -> B3 | T13: ='Map and Ab list'!C72 -> B4 | U13: =(S13+T13)/2 -> #VALUE! | W13: ='Map and Ab list'!C85 -> B3 | X13: ='Map and Ab list'!C87 -> B4 | Y13: =(W13+X13)/2 -> #VALUE! | AA13: ='Map and Ab list'!C100 -> B3 | AB13: ='Map and Ab list'!C102 -> B4 | AC13: =(AA13+AB13)/2 -> #VALUE! | AE13: ='Map and Ab list'!C115 -> B3 | AF13: ='Map and Ab list'!C117 -> B4 | AG13: =(AE13+AF13)/2 -> #VALUE! | AI13: ='Map and Ab list'!C130 -> B3 | AJ13: ='Map and Ab list'!C132 -> B4 | AK13: =(AI13+AJ13)/2 -> #VALUE! | AM13: ='Map and Ab list'!C145 -> B3 | AN13: ='Map and Ab list'!C147 -> B4 | AO13: =(AM13+AN13)/2 -> #VALUE! | AQ13: ='Map and Ab list'!C160 -> B3 | AR13: ='Map and Ab list'!C162 -> B4 | AS13: =(AQ13+AR13)/2 -> #VALUE! | AU13: ='Map and Ab list'!C175 -> B3 | AV13: ='Map and Ab list'!C177 -> B4 | AW13: =(AU13+AV13)/2 -> #VALUE! | AY13: ='Map and Ab list'!C190 -> B3 | AZ13: ='Map and Ab list'!C192 -> B4 | BA13: =(AY13+AZ13)/2 -> #VALUE! | BC13: ='Map and Ab list'!C205 -> B3 | BD13: ='Map and Ab list'!C207 -> B4 | BE13: =(BC13+BD13)/2 -> #VALUE! | BG13: ='Map and Ab list'!C220 -> B3 | BH13: ='Map and Ab list'!C222 -> B4 | BI13: =(BG13+BH13)/2 -> #VALUE! | BK13: ='Map and Ab list'!C235 -> B3 | BL13: ='Map and Ab list'!C237 -> B4 | BM13: =(BK13+BL13)/2 -> #VALUE! | BO13: ='Map and Ab list'!C250 -> B3 | BP13: ='Map and Ab list'!C252 -> B4 | BQ13: =(BO13+BP13)/2 -> #VALUE! | BS13: ='Map and Ab list'!C265 -> B3 | BT13: ='Map and Ab list'!C267 -> B4 | BU13: =(BS13+BT13)/2 -> #VALUE! | BW13: ='Map and Ab list'!C280 -> B3 | BX13: ='Map and Ab list'!C282 -> B4 | BY13: =(BW13+BX13)/2 -> #VALUE! | CA13: ='Map and Ab list'!C295 -> B3 | CB13: ='Map and Ab list'!C297 -> B4 | CC13: =(CA13+CB13)/2 -> #VALUE! | CE13: ='Map and Ab list'!C310 -> B3 | CF13: ='Map and Ab list'!C312 -> B4 | CG13: =(CE13+CF13)/2 -> #VALUE! | CI13: ='Map and Ab list'!C325 -> B3 | CJ13: ='Map and Ab list'!C327 -> B4 | CK13: =(CI13+CJ13)/2 -> #VALUE! | CM13: ='Map and Ab list'!C340 -> B3 | CN13: ='Map and Ab list'!C342 -> B4 | CO13: =(CM13+CN13)/2 -> #VALUE! | CQ13: ='Map and Ab list'!C355 -> B3 | CR13: ='Map and Ab list'!C357 -> B4 | CS13: =(CQ13+CR13)/2 -> #VALUE!
A14: ='Map and Ab list'!D9 -> IL-18 | C14: ='Map and Ab list'!D10 -> 0 | D14: ='Map and Ab list'!D12 -> 0 | E14: =(C14+D14)/2 -> 0 | G14: ='Map and Ab list'!D25 -> C3 | H14: ='Map and Ab list'!D27 -> C4 | I14: =(G14+H14)/2 -> #VALUE! | K14: ='Map and Ab list'!D40 -> C3 | L14: ='Map and Ab list'!D42 -> C4 | M14: =(K14+L14)/2 -> #VALUE! | O14: ='Map and Ab list'!D55 -> C3 | P14: ='Map and Ab list'!D57 -> C4 | Q14: =(O14+P14)/2 -> #VALUE! | S14: ='Map and Ab list'!D70 -> C3 | T14: ='Map and Ab list'!D72 -> C4 | U14: =(S14+T14)/2 -> #VALUE! | W14: ='Map and Ab list'!D85 -> C3 | X14: ='Map and Ab list'!D87 -> C4 | Y14: =(W14+X14)/2 -> #VALUE! | AA14: ='Map and Ab list'!D100 -> C3 | AB14: ='Map and Ab list'!D102 -> C4 | AC14: =(AA14+AB14)/2 -> #VALUE! | AE14: ='Map and Ab list'!D115 -> C3 | AF14: ='Map and Ab list'!D117 -> C4 | AG14: =(AE14+AF14)/2 -> #VALUE! | AI14: ='Map and Ab list'!D130 -> C3 | AJ14: ='Map and Ab list'!D132 -> C4 | AK14: =(AI14+AJ14)/2 -> #VALUE! | AM14: ='Map and Ab list'!D145 -> C3 | AN14: ='Map and Ab list'!D147 -> C4 | AO14: =(AM14+AN14)/2 -> #VALUE! | AQ14: ='Map and Ab list'!D160 -> C3 | AR14: ='Map and Ab list'!D162 -> C4 | AS14: =(AQ14+AR14)/2 -> #VALUE! | AU14: ='Map and Ab list'!D175 -> C3 | AV14: ='Map and Ab list'!D177 -> C4 | AW14: =(AU14+AV14)/2 -> #VALUE! | AY14: ='Map and Ab list'!D190 -> C3 | AZ14: ='Map and Ab list'!D192 -> C4 | BA14: =(AY14+AZ14)/2 -> #VALUE! | BC14: ='Map and Ab list'!D205 -> C3 | BD14: ='Map and Ab list'!D207 -> C4 | BE14: =(BC14+BD14)/2 -> #VALUE! | BG14: ='Map and Ab list'!D220 -> C3 | BH14: ='Map and Ab list'!D222 -> C4 | BI14: =(BG14+BH14)/2 -> #VALUE! | BK14: ='Map and Ab list'!D235 -> C3 | BL14: ='Map and Ab list'!D237 -> C4 | BM14: =(BK14+BL14)/2 -> #VALUE! | BO14: ='Map and Ab list'!D250 -> C3 | BP14: ='Map and Ab list'!D252 -> C4 | BQ14: =(BO14+BP14)/2 -> #VALUE! | BS14: ='Map and Ab list'!D265 -> C3 | BT14: ='Map and Ab list'!D267 -> C4 | BU14: =(BS14+BT14)/2 -> #VALUE! | BW14: ='Map and Ab list'!D280 -> C3 | BX14: ='Map and Ab list'!D282 -> C4 | BY14: =(BW14+BX14)/2 -> #VALUE! | CA14: ='Map and Ab list'!D295 -> C3 | CB14: ='Map and Ab list'!D297 -> C4 | CC14: =(CA14+CB14)/2 -> #VALUE! | CE14: ='Map and Ab list'!D310 -> C3 | CF14: ='Map and Ab list'!D312 -> C4 | CG14: =(CE14+CF14)/2 -> #VALUE! | CI14: ='Map and Ab list'!D325 -> C3 | CJ14: ='Map and Ab list'!D327 -> C4 | CK14: =(CI14+CJ14)/2 -> #VALUE! | CM14: ='Map and Ab list'!D340 -> C3 | CN14: ='Map and Ab list'!D342 -> C4 | CO14: =(CM14+CN14)/2 -> #VALUE! | CQ14: ='Map and Ab list'!D355 -> C3 | CR14: ='Map and Ab list'!D357 -> C4 | CS14: =(CQ14+CR14)/2 -> #VALUE!
A15: ='Map and Ab list'!E9 -> IL-2 | C15: ='Map and Ab list'!E10 -> 0 | D15: ='Map and Ab list'!E12 -> 0 | E15: =(C15+D15)/2 -> 0 | G15: ='Map and Ab list'!E25 -> D3 | H15: ='Map and Ab list'!E27 -> D4 | I15: =(G15+H15)/2 -> #VALUE! | K15: ='Map and Ab list'!E40 -> D3 | L15: ='Map and Ab list'!E42 -> D4 | M15: =(K15+L15)/2 -> #VALUE! | O15: ='Map and Ab list'!E55 -> D3 | P15: ='Map and Ab list'!E57 -> D4 | Q15: =(O15+P15)/2 -> #VALUE! | S15: ='Map and Ab list'!E70 -> D3 | T15: ='Map and Ab list'!E72 -> D4 | U15: =(S15+T15)/2 -> #VALUE! | W15: ='Map and Ab list'!E85 -> D3 | X15: ='Map and Ab list'!E87 -> D4 | Y15: =(W15+X15)/2 -> #VALUE! | AA15: ='Map and Ab list'!E100 -> D3 | AB15: ='Map and Ab list'!E102 -> D4 | AC15: =(AA15+AB15)/2 -> #VALUE! | AE15: ='Map and Ab list'!E115 -> D3 | AF15: ='Map and Ab list'!E117 -> D4 | AG15: =(AE15+AF15)/2 -> #VALUE! | AI15: ='Map and Ab list'!E130 -> D3 | AJ15: ='Map and Ab list'!E132 -> D4 | AK15: =(AI15+AJ15)/2 -> #VALUE! | AM15: ='Map and Ab list'!E145 -> D3 | AN15: ='Map and Ab list'!E147 -> D4 | AO15: =(AM15+AN15)/2 -> #VALUE! | AQ15: ='Map and Ab list'!E160 -> D3 | AR15: ='Map and Ab list'!E162 -> D4 | AS15: =(AQ15+AR15)/2 -> #VALUE! | AU15: ='Map and Ab list'!E175 -> D3 | AV15: ='Map and Ab list'!E177 -> D4 | AW15: =(AU15+AV15)/2 -> #VALUE! | AY15: ='Map and Ab list'!E190 -> D3 | AZ15: ='Map and Ab list'!E192 -> D4 | BA15: =(AY15+AZ15)/2 -> #VALUE! | BC15: ='Map and Ab list'!E205 -> D3 | BD15: ='Map and Ab list'!E207 -> D4 | BE15: =(BC15+BD15)/2 -> #VALUE! | BG15: ='Map and Ab list'!E220 -> D3 | BH15: ='Map and Ab list'!E222 -> D4 | BI15: =(BG15+BH15)/2 -> #VALUE! | BK15: ='Map and Ab list'!E235 -> D3 | BL15: ='Map and Ab list'!E237 -> D4 | BM15: =(BK15+BL15)/2 -> #VALUE! | BO15: ='Map and Ab list'!E250 -> D3 | BP15: ='Map and Ab list'!E252 -> D4 | BQ15: =(BO15+BP15)/2 -> #VALUE! | BS15: ='Map and Ab list'!E265 -> D3 | BT15: ='Map and Ab list'!E267 -> D4 | BU15: =(BS15+BT15)/2 -> #VALUE! | BW15: ='Map and Ab list'!E280 -> D3 | BX15: ='Map and Ab list'!E282 -> D4 | BY15: =(BW15+BX15)/2 -> #VALUE! | CA15: ='Map and Ab list'!E295 -> D3 | CB15: ='Map and Ab list'!E297 -> D4 | CC15: =(CA15+CB15)/2 -> #VALUE! | CE15: ='Map and Ab list'!E310 -> D3 | CF15: ='Map and Ab list'!E312 -> D4 | CG15: =(CE15+CF15)/2 -> #VALUE! | CI15: ='Map and Ab list'!E325 -> D3 | CJ15: ='Map and Ab list'!E327 -> D4 | CK15: =(CI15+CJ15)/2 -> #VALUE! | CM15: ='Map and Ab list'!E340 -> D3 | CN15: ='Map and Ab list'!E342 -> D4 | CO15: =(CM15+CN15)/2 -> #VALUE! | CQ15: ='Map and Ab list'!E355 -> D3 | CR15: ='Map and Ab list'!E357 -> D4 | CS15: =(CQ15+CR15)/2 -> #VALUE!
A16: ='Map and Ab list'!F9 -> IL-4 | C16: ='Map and Ab list'!F10 -> 0 | D16: ='Map and Ab list'!F12 -> 0 | E16: =(C16+D16)/2 -> 0 | G16: ='Map and Ab list'!F25 -> E3 | H16: ='Map and Ab list'!F27 -> E4 | I16: =(G16+H16)/2 -> #VALUE! | K16: ='Map and Ab list'!F40 -> E3 | L16: ='Map and Ab list'!F42 -> E4 | M16: =(K16+L16)/2 -> #VALUE! | O16: ='Map and Ab list'!F55 -> E3 | P16: ='Map and Ab list'!F57 -> E4 | Q16: =(O16+P16)/2 -> #VALUE! | S16: ='Map and Ab list'!F70 -> E3 | T16: ='Map and Ab list'!F72 -> E4 | U16: =(S16+T16)/2 -> #VALUE! | W16: ='Map and Ab list'!F85 -> E3 | X16: ='Map and Ab list'!F87 -> E4 | Y16: =(W16+X16)/2 -> #VALUE! | AA16: ='Map and Ab list'!F100 -> E3 | AB16: ='Map and Ab list'!F102 -> E4 | AC16: =(AA16+AB16)/2 -> #VALUE! | AE16: ='Map and Ab list'!F115 -> E3 | AF16: ='Map and Ab list'!F117 -> E4 | AG16: =(AE16+AF16)/2 -> #VALUE! | AI16: ='Map and Ab list'!F130 -> E3 | AJ16: ='Map and Ab list'!F132 -> E4 | AK16: =(AI16+AJ16)/2 -> #VALUE! | AM16: ='Map and Ab list'!F145 -> E3 | AN16: ='Map and Ab list'!F147 -> E4 | AO16: =(AM16+AN16)/2 -> #VALUE! | AQ16: ='Map and Ab list'!F160 -> E3 | AR16: ='Map and Ab list'!F162 -> E4 | AS16: =(AQ16+AR16)/2 -> #VALUE! | AU16: ='Map and Ab list'!F175 -> E3 | AV16: ='Map and Ab list'!F177 -> E4 | AW16: =(AU16+AV16)/2 -> #VALUE! | AY16: ='Map and Ab list'!F190 -> E3 | AZ16: ='Map and Ab list'!F192 -> E4 | BA16: =(AY16+AZ16)/2 -> #VALUE! | BC16: ='Map and Ab list'!F205 -> E3 | BD16: ='Map and Ab list'!F207 -> E4 | BE16: =(BC16+BD16)/2 -> #VALUE! | BG16: ='Map and Ab list'!F220 -> E3 | BH16: ='Map and Ab list'!F222 -> E4 | BI16: =(BG16+BH16)/2 -> #VALUE! | BK16: ='Map and Ab list'!F235 -> E3 | BL16: ='Map and Ab list'!F237 -> E4 | BM16: =(BK16+BL16)/2 -> #VALUE! | BO16: ='Map and Ab list'!F250 -> E3 | BP16: ='Map and Ab list'!F252 -> E4 | BQ16: =(BO16+BP16)/2 -> #VALUE! | BS16: ='Map and Ab list'!F265 -> E3 | BT16: ='Map and Ab list'!F267 -> E4 | BU16: =(BS16+BT16)/2 -> #VALUE! | BW16: ='Map and Ab list'!F280 -> E3 | BX16: ='Map and Ab list'!F282 -> E4 | BY16: =(BW16+BX16)/2 -> #VALUE! | CA16: ='Map and Ab list'!F295 -> E3 | CB16: ='Map and Ab list'!F297 -> E4 | CC16: =(CA16+CB16)/2 -> #VALUE! | CE16: ='Map and Ab list'!F310 -> E3 | CF16: ='Map and Ab list'!F312 -> E4 | CG16: =(CE16+CF16)/2 -> #VALUE! | CI16: ='Map and Ab list'!F325 -> E3 | CJ16: ='Map and Ab list'!F327 -> E4 | CK16: =(CI16+CJ16)/2 -> #VALUE! | CM16: ='Map and Ab list'!F340 -> E3 | CN16: ='Map and Ab list'!F342 -> E4 | CO16: =(CM16+CN16)/2 -> #VALUE! | CQ16: ='Map and Ab list'!F355 -> E3 | CR16: ='Map and Ab list'!F357 -> E4 | CS16: =(CQ16+CR16)/2 -> #VALUE!
A17: ='Map and Ab list'!G9 -> IL-5 | C17: ='Map and Ab list'!G10 -> 0 | D17: ='Map and Ab list'!G12 -> 0 | E17: =(C17+D17)/2 -> 0 | G17: ='Map and Ab list'!G25 -> F3 | H17: ='Map and Ab list'!G27 -> F4 | I17: =(G17+H17)/2 -> #VALUE! | K17: ='Map and Ab list'!G40 -> F3 | L17: ='Map and Ab list'!G42 -> F4 | M17: =(K17+L17)/2 -> #VALUE! | O17: ='Map and Ab list'!G55 -> F3 | P17: ='Map and Ab list'!G57 -> F4 | Q17: =(O17+P17)/2 -> #VALUE! | S17: ='Map and Ab list'!G70 -> F3 | T17: ='Map and Ab list'!G72 -> F4 | U17: =(S17+T17)/2 -> #VALUE! | W17: ='Map and Ab list'!G85 -> F3 | X17: ='Map and Ab list'!G87 -> F4 | Y17: =(W17+X17)/2 -> #VALUE! | AA17: ='Map and Ab list'!G100 -> F3 | AB17: ='Map and Ab list'!G102 -> F4 | AC17: =(AA17+AB17)/2 -> #VALUE! | AE17: ='Map and Ab list'!G115 -> F3 | AF17: ='Map and Ab list'!G117 -> F4 | AG17: =(AE17+AF17)/2 -> #VALUE! | AI17: ='Map and Ab list'!G130 -> F3 | AJ17: ='Map and Ab list'!G132 -> F4 | AK17: =(AI17+AJ17)/2 -> #VALUE! | AM17: ='Map and Ab list'!G145 -> F3 | AN17: ='Map and Ab list'!G147 -> F4 | AO17: =(AM17+AN17)/2 -> #VALUE! | AQ17: ='Map and Ab list'!G160 -> F3 | AR17: ='Map and Ab list'!G162 -> F4 | AS17: =(AQ17+AR17)/2 -> #VALUE! | AU17: ='Map and Ab list'!G175 -> F3 | AV17: ='Map and Ab list'!G177 -> F4 | AW17: =(AU17+AV17)/2 -> #VALUE! | AY17: ='Map and Ab list'!G190 -> F3 | AZ17: ='Map and Ab list'!G192 -> F4 | BA17: =(AY17+AZ17)/2 -> #VALUE! | BC17: ='Map and Ab list'!G205 -> F3 | BD17: ='Map and Ab list'!G207 -> F4 | BE17: =(BC17+BD17)/2 -> #VALUE! | BG17: ='Map and Ab list'!G220 -> F3 | BH17: ='Map and Ab list'!G222 -> F4 | BI17: =(BG17+BH17)/2 -> #VALUE! | BK17: ='Map and Ab list'!G235 -> F3 | BL17: ='Map and Ab list'!G237 -> F4 | BM17: =(BK17+BL17)/2 -> #VALUE! | BO17: ='Map and Ab list'!G250 -> F3 | BP17: ='Map and Ab list'!G252 -> F4 | BQ17: =(BO17+BP17)/2 -> #VALUE! | BS17: ='Map and Ab list'!G265 -> F3 | BT17: ='Map and Ab list'!G267 -> F4 | BU17: =(BS17+BT17)/2 -> #VALUE! | BW17: ='Map and Ab list'!G280 -> F3 | BX17: ='Map and Ab list'!G282 -> F4 | BY17: =(BW17+BX17)/2 -> #VALUE! | CA17: ='Map and Ab list'!G295 -> F3 | CB17: ='Map and Ab list'!G297 -> F4 | CC17: =(CA17+CB17)/2 -> #VALUE! | CE17: ='Map and Ab list'!G310 -> F3 | CF17: ='Map and Ab list'!G312 -> F4 | CG17: =(CE17+CF17)/2 -> #VALUE! | CI17: ='Map and Ab list'!G325 -> F3 | CJ17: ='Map and Ab list'!G327 -> F4 | CK17: =(CI17+CJ17)/2 -> #VALUE! | CM17: ='Map and Ab list'!G340 -> F3 | CN17: ='Map and Ab list'!G342 -> F4 | CO17: =(CM17+CN17)/2 -> #VALUE! | CQ17: ='Map and Ab list'!G355 -> F3 | CR17: ='Map and Ab list'!G357 -> F4 | CS17: =(CQ17+CR17)/2 -> #VALUE!
A18: ='Map and Ab list'!H9 -> IL-6 | C18: ='Map and Ab list'!H10 -> 0 | D18: ='Map and Ab list'!H12 -> 0 | E18: =(C18+D18)/2 -> 0 | G18: ='Map and Ab list'!H25 -> G3 | H18: ='Map and Ab list'!H27 -> G4 | I18: =(G18+H18)/2 -> #VALUE! | K18: ='Map and Ab list'!H40 -> G3 | L18: ='Map and Ab list'!H42 -> G4 | M18: =(K18+L18)/2 -> #VALUE! | O18: ='Map and Ab list'!H55 -> G3 | P18: ='Map and Ab list'!H57 -> G4 | Q18: =(O18+P18)/2 -> #VALUE! | S18: ='Map and Ab list'!H70 -> G3 | T18: ='Map and Ab list'!H72 -> G4 | U18: =(S18+T18)/2 -> #VALUE! | W18: ='Map and Ab list'!H85 -> G3 | X18: ='Map and Ab list'!H87 -> G4 | Y18: =(W18+X18)/2 -> #VALUE! | AA18: ='Map and Ab list'!H100 -> G3 | AB18: ='Map and Ab list'!H102 -> G4 | AC18: =(AA18+AB18)/2 -> #VALUE! | AE18: ='Map and Ab list'!H115 -> G3 | AF18: ='Map and Ab list'!H117 -> G4 | AG18: =(AE18+AF18)/2 -> #VALUE! | AI18: ='Map and Ab list'!H130 -> G3 | AJ18: ='Map and Ab list'!H132 -> G4 | AK18: =(AI18+AJ18)/2 -> #VALUE! | AM18: ='Map and Ab list'!H145 -> G3 | AN18: ='Map and Ab list'!H147 -> G4 | AO18: =(AM18+AN18)/2 -> #VALUE! | AQ18: ='Map and Ab list'!H160 -> G3 | AR18: ='Map and Ab list'!H162 -> G4 | AS18: =(AQ18+AR18)/2 -> #VALUE! | AU18: ='Map and Ab list'!H175 -> G3 | AV18: ='Map and Ab list'!H177 -> G4 | AW18: =(AU18+AV18)/2 -> #VALUE! | AY18: ='Map and Ab list'!H190 -> G3 | AZ18: ='Map and Ab list'!H192 -> G4 | BA18: =(AY18+AZ18)/2 -> #VALUE! | BC18: ='Map and Ab list'!H205 -> G3 | BD18: ='Map and Ab list'!H207 -> G4 | BE18: =(BC18+BD18)/2 -> #VALUE! | BG18: ='Map and Ab list'!H220 -> G3 | BH18: ='Map and Ab list'!H222 -> G4 | BI18: =(BG18+BH18)/2 -> #VALUE! | BK18: ='Map and Ab list'!H235 -> G3 | BL18: ='Map and Ab list'!H237 -> G4 | BM18: =(BK18+BL18)/2 -> #VALUE! | BO18: ='Map and Ab list'!H250 -> G3 | BP18: ='Map and Ab list'!H252 -> G4 | BQ18: =(BO18+BP18)/2 -> #VALUE! | BS18: ='Map and Ab list'!H265 -> G3 | BT18: ='Map and Ab list'!H267 -> G4 | BU18: =(BS18+BT18)/2 -> #VALUE! | BW18: ='Map and Ab list'!H280 -> G3 | BX18: ='Map and Ab list'!H282 -> G4 | BY18: =(BW18+BX18)/2 -> #VALUE! | CA18: ='Map and Ab list'!H295 -> G3 | CB18: ='Map and Ab list'!H297 -> G4 | CC18: =(CA18+CB18)/2 -> #VALUE! | CE18: ='Map and Ab list'!H310 -> G3 | CF18: ='Map and Ab list'!H312 -> G4 | CG18: =(CE18+CF18)/2 -> #VALUE! | CI18: ='Map and Ab list'!H325 -> G3 | CJ18: ='Map and Ab list'!H327 -> G4 | CK18: =(CI18+CJ18)/2 -> #VALUE! | CM18: ='Map and Ab list'!H340 -> G3 | CN18: ='Map and Ab list'!H342 -> G4 | CO18: =(CM18+CN18)/2 -> #VALUE! | CQ18: ='Map and Ab list'!H355 -> G3 | CR18: ='Map and Ab list'!H357 -> G4 | CS18: =(CQ18+CR18)/2 -> #VALUE!
A19: ='Map and Ab list'!I9 -> IL-7 | C19: ='Map and Ab list'!I10 -> 0 | D19: ='Map and Ab list'!I12 -> 0 | E19: =(C19+D19)/2 -> 0 | G19: ='Map and Ab list'!I25 -> H3 | H19: ='Map and Ab list'!I27 -> H4 | I19: =(G19+H19)/2 -> #VALUE! | K19: ='Map and Ab list'!I40 -> H3 | L19: ='Map and Ab list'!I42 -> H4 | M19: =(K19+L19)/2 -> #VALUE! | O19: ='Map and Ab list'!I55 -> H3 | P19: ='Map and Ab list'!I57 -> H4 | Q19: =(O19+P19)/2 -> #VALUE! | S19: ='Map and Ab list'!I70 -> H3 | T19: ='Map and Ab list'!I72 -> H4 | U19: =(S19+T19)/2 -> #VALUE! | W19: ='Map and Ab list'!I85 -> H3 | X19: ='Map and Ab list'!I87 -> H4 | Y19: =(W19+X19)/2 -> #VALUE! | AA19: ='Map and Ab list'!I100 -> H3 | AB19: ='Map and Ab list'!I102 -> H4 | AC19: =(AA19+AB19)/2 -> #VALUE! | AE19: ='Map and Ab list'!I115 -> H3 | AF19: ='Map and Ab list'!I117 -> H4 | AG19: =(AE19+AF19)/2 -> #VALUE! | AI19: ='Map and Ab list'!I130 -> H3 | AJ19: ='Map and Ab list'!I132 -> H4 | AK19: =(AI19+AJ19)/2 -> #VALUE! | AM19: ='Map and Ab list'!I145 -> H3 | AN19: ='Map and Ab list'!I147 -> H4 | AO19: =(AM19+AN19)/2 -> #VALUE! | AQ19: ='Map and Ab list'!I160 -> H3 | AR19: ='Map and Ab list'!I162 -> H4 | AS19: =(AQ19+AR19)/2 -> #VALUE! | AU19: ='Map and Ab list'!I175 -> H3 | AV19: ='Map and Ab list'!I177 -> H4 | AW19: =(AU19+AV19)/2 -> #VALUE! | AY19: ='Map and Ab list'!I190 -> H3 | AZ19: ='Map and Ab list'!I192 -> H4 | BA19: =(AY19+AZ19)/2 -> #VALUE! | BC19: ='Map and Ab list'!I205 -> H3 | BD19: ='Map and Ab list'!I207 -> H4 | BE19: =(BC19+BD19)/2 -> #VALUE! | BG19: ='Map and Ab list'!I220 -> H3 | BH19: ='Map and Ab list'!I222 -> H4 | BI19: =(BG19+BH19)/2 -> #VALUE! | BK19: ='Map and Ab list'!I235 -> H3 | BL19: ='Map and Ab list'!I237 -> H4 | BM19: =(BK19+BL19)/2 -> #VALUE! | BO19: ='Map and Ab list'!I250 -> H3 | BP19: ='Map and Ab list'!I252 -> H4 | BQ19: =(BO19+BP19)/2 -> #VALUE! | BS19: ='Map and Ab list'!I265 -> H3 | BT19: ='Map and Ab list'!I267 -> H4 | BU19: =(BS19+BT19)/2 -> #VALUE! | BW19: ='Map and Ab list'!I280 -> H3 | BX19: ='Map and Ab list'!I282 -> H4 | BY19: =(BW19+BX19)/2 -> #VALUE! | CA19: ='Map and Ab list'!I295 -> H3 | CB19: ='Map and Ab list'!I297 -> H4 | CC19: =(CA19+CB19)/2 -> #VALUE! | CE19: ='Map and Ab list'!I310 -> H3 | CF19: ='Map and Ab list'!I312 -> H4 | CG19: =(CE19+CF19)/2 -> #VALUE! | CI19: ='Map and Ab list'!I325 -> H3 | CJ19: ='Map and Ab list'!I327 -> H4 | CK19: =(CI19+CJ19)/2 -> #VALUE! | CM19: ='Map and Ab list'!I340 -> H3 | CN19: ='Map and Ab list'!I342 -> H4 | CO19: =(CM19+CN19)/2 -> #VALUE! | CQ19: ='Map and Ab list'!I355 -> H3 | CR19: ='Map and Ab list'!I357 -> H4 | CS19: =(CQ19+CR19)/2 -> #VALUE!
A20: ='Map and Ab list'!B13 -> IL-9 | C20: ='Map and Ab list'!B14 -> 0 | D20: ='Map and Ab list'!B16 -> 0 | E20: =(C20+D20)/2 -> 0 | G20: ='Map and Ab list'!B29 -> A5 | H20: ='Map and Ab list'!B31 -> A6 | I20: =(G20+H20)/2 -> #VALUE! | K20: ='Map and Ab list'!B44 -> A5 | L20: ='Map and Ab list'!B46 -> A6 | M20: =(K20+L20)/2 -> #VALUE! | O20: ='Map and Ab list'!B59 -> A5 | P20: ='Map and Ab list'!B61 -> A6 | Q20: =(O20+P20)/2 -> #VALUE! | S20: ='Map and Ab list'!B74 -> A5 | T20: ='Map and Ab list'!B76 -> A6 | U20: =(S20+T20)/2 -> #VALUE! | W20: ='Map and Ab list'!B89 -> A5 | X20: ='Map and Ab list'!B91 -> A6 | Y20: =(W20+X20)/2 -> #VALUE! | AA20: ='Map and Ab list'!B104 -> A5 | AB20: ='Map and Ab list'!B106 -> A6 | AC20: =(AA20+AB20)/2 -> #VALUE! | AE20: ='Map and Ab list'!B119 -> A5 | AF20: ='Map and Ab list'!B121 -> A6 | AG20: =(AE20+AF20)/2 -> #VALUE! | AI20: ='Map and Ab list'!B134 -> A5 | AJ20: ='Map and Ab list'!B136 -> A6 | AK20: =(AI20+AJ20)/2 -> #VALUE! | AM20: ='Map and Ab list'!B149 -> A5 | AN20: ='Map and Ab list'!B151 -> A6 | AO20: =(AM20+AN20)/2 -> #VALUE! | AQ20: ='Map and Ab list'!B164 -> A5 | AR20: ='Map and Ab list'!B166 -> A6 | AS20: =(AQ20+AR20)/2 -> #VALUE! | AU20: ='Map and Ab list'!B179 -> A5 | AV20: ='Map and Ab list'!B181 -> A6 | AW20: =(AU20+AV20)/2 -> #VALUE! | AY20: ='Map and Ab list'!B194 -> A5 | AZ20: ='Map and Ab list'!B196 -> A6 | BA20: =(AY20+AZ20)/2 -> #VALUE! | BC20: ='Map and Ab list'!B209 -> A5 | BD20: ='Map and Ab list'!B211 -> A6 | BE20: =(BC20+BD20)/2 -> #VALUE! | BG20: ='Map and Ab list'!B224 -> A5 | BH20: ='Map and Ab list'!B226 -> A6 | BI20: =(BG20+BH20)/2 -> #VALUE! | BK20: ='Map and Ab list'!B239 -> A5 | BL20: ='Map and Ab list'!B241 -> A6 | BM20: =(BK20+BL20)/2 -> #VALUE! | BO20: ='Map and Ab list'!B254 -> A5 | BP20: ='Map and Ab list'!B256 -> A6 | BQ20: =(BO20+BP20)/2 -> #VALUE! | BS20: ='Map and Ab list'!B269 -> A5 | BT20: ='Map and Ab list'!B271 -> A6 | BU20: =(BS20+BT20)/2 -> #VALUE! | BW20: ='Map and Ab list'!B284 -> A5 | BX20: ='Map and Ab list'!B286 -> A6 | BY20: =(BW20+BX20)/2 -> #VALUE! | CA20: ='Map and Ab list'!B299 -> A5 | CB20: ='Map and Ab list'!B301 -> A6 | CC20: =(CA20+CB20)/2 -> #VALUE! | CE20: ='Map and Ab list'!B314 -> A5 | CF20: ='Map and Ab list'!B316 -> A6 | CG20: =(CE20+CF20)/2 -> #VALUE! | CI20: ='Map and Ab list'!B329 -> A5 | CJ20: ='Map and Ab list'!B331 -> A6 | CK20: =(CI20+CJ20)/2 -> #VALUE! | CM20: ='Map and Ab list'!B344 -> A5 | CN20: ='Map and Ab list'!B346 -> A6 | CO20: =(CM20+CN20)/2 -> #VALUE! | CQ20: ='Map and Ab list'!B359 -> A5 | CR20: ='Map and Ab list'!B361 -> A6 | CS20: =(CQ20+CR20)/2 -> #VALUE!
A21: ='Map and Ab list'!C13 -> TGFb | C21: ='Map and Ab list'!C14 -> 0 | D21: ='Map and Ab list'!C16 -> 0 | E21: =(C21+D21)/2 -> 0 | G21: ='Map and Ab list'!C29 -> B5 | H21: ='Map and Ab list'!C31 -> B6 | I21: =(G21+H21)/2 -> #VALUE! | K21: ='Map and Ab list'!C44 -> B5 | L21: ='Map and Ab list'!C46 -> B6 | M21: =(K21+L21)/2 -> #VALUE! | O21: ='Map and Ab list'!C59 -> B5 | P21: ='Map and Ab list'!C61 -> B6 | Q21: =(O21+P21)/2 -> #VALUE! | S21: ='Map and Ab list'!C74 -> B5 | T21: ='Map and Ab list'!C76 -> B6 | U21: =(S21+T21)/2 -> #VALUE! | W21: ='Map and Ab list'!C89 -> B5 | X21: ='Map and Ab list'!C91 -> B6 | Y21: =(W21+X21)/2 -> #VALUE! | AA21: ='Map and Ab list'!C104 -> B5 | AB21: ='Map and Ab list'!C106 -> B6 | AC21: =(AA21+AB21)/2 -> #VALUE! | AE21: ='Map and Ab list'!C119 -> B5 | AF21: ='Map and Ab list'!C121 -> B6 | AG21: =(AE21+AF21)/2 -> #VALUE! | AI21: ='Map and Ab list'!C134 -> B5 | AJ21: ='Map and Ab list'!C136 -> B6 | AK21: =(AI21+AJ21)/2 -> #VALUE! | AM21: ='Map and Ab list'!C149 -> B5 | AN21: ='Map and Ab list'!C151 -> B6 | AO21: =(AM21+AN21)/2 -> #VALUE! | AQ21: ='Map and Ab list'!C164 -> B5 | AR21: ='Map and Ab list'!C166 -> B6 | AS21: =(AQ21+AR21)/2 -> #VALUE! | AU21: ='Map and Ab list'!C179 -> B5 | AV21: ='Map and Ab list'!C181 -> B6 | AW21: =(AU21+AV21)/2 -> #VALUE! | AY21: ='Map and Ab list'!C194 -> B5 | AZ21: ='Map and Ab list'!C196 -> B6 | BA21: =(AY21+AZ21)/2 -> #VALUE! | BC21: ='Map and Ab list'!C209 -> B5 | BD21: ='Map and Ab list'!C211 -> B6 | BE21: =(BC21+BD21)/2 -> #VALUE! | BG21: ='Map and Ab list'!C224 -> B5 | BH21: ='Map and Ab list'!C226 -> B6 | BI21: =(BG21+BH21)/2 -> #VALUE! | BK21: ='Map and Ab list'!C239 -> B5 | BL21: ='Map and Ab list'!C241 -> B6 | BM21: =(BK21+BL21)/2 -> #VALUE! | BO21: ='Map and Ab list'!C254 -> B5 | BP21: ='Map and Ab list'!C256 -> B6 | BQ21: =(BO21+BP21)/2 -> #VALUE! | BS21: ='Map and Ab list'!C269 -> B5 | BT21: ='Map and Ab list'!C271 -> B6 | BU21: =(BS21+BT21)/2 -> #VALUE! | BW21: ='Map and Ab list'!C284 -> B5 | BX21: ='Map and Ab list'!C286 -> B6 | BY21: =(BW21+BX21)/2 -> #VALUE! | CA21: ='Map and Ab list'!C299 -> B5 | CB21: ='Map and Ab list'!C301 -> B6 | CC21: =(CA21+CB21)/2 -> #VALUE! | CE21: ='Map and Ab list'!C314 -> B5 | CF21: ='Map and Ab list'!C316 -> B6 | CG21: =(CE21+CF21)/2 -> #VALUE! | CI21: ='Map and Ab list'!C329 -> B5 | CJ21: ='Map and Ab list'!C331 -> B6 | CK21: =(CI21+CJ21)/2 -> #VALUE! | CM21: ='Map and Ab list'!C344 -> B5 | CN21: ='Map and Ab list'!C346 -> B6 | CO21: =(CM21+CN21)/2 -> #VALUE! | CQ21: ='Map and Ab list'!C359 -> B5 | CR21: ='Map and Ab list'!C361 -> B6 | CS21: =(CQ21+CR21)/2 -> #VALUE!
A22: ='Map and Ab list'!D13 -> TNFa | C22: ='Map and Ab list'!D14 -> 0 | D22: ='Map and Ab list'!D16 -> 0 | E22: =(C22+D22)/2 -> 0 | G22: ='Map and Ab list'!D29 -> C5 | H22: ='Map and Ab list'!D31 -> C6 | I22: =(G22+H22)/2 -> #VALUE! | K22: ='Map and Ab list'!D44 -> C5 | L22: ='Map and Ab list'!D46 -> C6 | M22: =(K22+L22)/2 -> #VALUE! | O22: ='Map and Ab list'!D59 -> C5 | P22: ='Map and Ab list'!D61 -> C6 | Q22: =(O22+P22)/2 -> #VALUE! | S22: ='Map and Ab list'!D74 -> C5 | T22: ='Map and Ab list'!D76 -> C6 | U22: =(S22+T22)/2 -> #VALUE! | W22: ='Map and Ab list'!D89 -> C5 | X22: ='Map and Ab list'!D91 -> C6 | Y22: =(W22+X22)/2 -> #VALUE! | AA22: ='Map and Ab list'!D104 -> C5 | AB22: ='Map and Ab list'!D106 -> C6 | AC22: =(AA22+AB22)/2 -> #VALUE! | AE22: ='Map and Ab list'!D119 -> C5 | AF22: ='Map and Ab list'!D121 -> C6 | AG22: =(AE22+AF22)/2 -> #VALUE! | AI22: ='Map and Ab list'!D134 -> C5 | AJ22: ='Map and Ab list'!D136 -> C6 | AK22: =(AI22+AJ22)/2 -> #VALUE! | AM22: ='Map and Ab list'!D149 -> C5 | AN22: ='Map and Ab list'!D151 -> C6 | AO22: =(AM22+AN22)/2 -> #VALUE! | AQ22: ='Map and Ab list'!D164 -> C5 | AR22: ='Map and Ab list'!D166 -> C6 | AS22: =(AQ22+AR22)/2 -> #VALUE! | AU22: ='Map and Ab list'!D179 -> C5 | AV22: ='Map and Ab list'!D181 -> C6 | AW22: =(AU22+AV22)/2 -> #VALUE! | AY22: ='Map and Ab list'!D194 -> C5 | AZ22: ='Map and Ab list'!D196 -> C6 | BA22: =(AY22+AZ22)/2 -> #VALUE! | BC22: ='Map and Ab list'!D209 -> C5 | BD22: ='Map and Ab list'!D211 -> C6 | BE22: =(BC22+BD22)/2 -> #VALUE! | BG22: ='Map and Ab list'!D224 -> C5 | BH22: ='Map and Ab list'!D226 -> C6 | BI22: =(BG22+BH22)/2 -> #VALUE! | BK22: ='Map and Ab list'!D239 -> C5 | BL22: ='Map and Ab list'!D241 -> C6 | BM22: =(BK22+BL22)/2 -> #VALUE! | BO22: ='Map and Ab list'!D254 -> C5 | BP22: ='Map and Ab list'!D256 -> C6 | BQ22: =(BO22+BP22)/2 -> #VALUE! | BS22: ='Map and Ab list'!D269 -> C5 | BT22: ='Map and Ab list'!D271 -> C6 | BU22: =(BS22+BT22)/2 -> #VALUE! | BW22: ='Map and Ab list'!D284 -> C5 | BX22: ='Map and Ab list'!D286 -> C6 | BY22: =(BW22+BX22)/2 -> #VALUE! | CA22: ='Map and Ab list'!D299 -> C5 | CB22: ='Map and Ab list'!D301 -> C6 | CC22: =(CA22+CB22)/2 -> #VALUE! | CE22: ='Map and Ab list'!D314 -> C5 | CF22: ='Map and Ab list'!D316 -> C6 | CG22: =(CE22+CF22)/2 -> #VALUE! | CI22: ='Map and Ab list'!D329 -> C5 | CJ22: ='Map and Ab list'!D331 -> C6 | CK22: =(CI22+CJ22)/2 -> #VALUE! | CM22: ='Map and Ab list'!D344 -> C5 | CN22: ='Map and Ab list'!D346 -> C6 | CO22: =(CM22+CN22)/2 -> #VALUE! | CQ22: ='Map and Ab list'!D359 -> C5 | CR22: ='Map and Ab list'!D361 -> C6 | CS22: =(CQ22+CR22)/2 -> #VALUE!
A23: ='Map and Ab list'!E13 -> BLANK | C23: ='Map and Ab list'!E14 -> 0 | D23: ='Map and Ab list'!E16 -> 0 | E23: =(C23+D23)/2 -> 0 | G23: ='Map and Ab list'!E29 -> D5 | H23: ='Map and Ab list'!E31 -> D6 | I23: =(G23+H23)/2 -> #VALUE! | K23: ='Map and Ab list'!E44 -> D5 | L23: ='Map and Ab list'!E46 -> D6 | M23: =(K23+L23)/2 -> #VALUE! | O23: ='Map and Ab list'!E59 -> D5 | P23: ='Map and Ab list'!E61 -> D6 | Q23: =(O23+P23)/2 -> #VALUE! | S23: ='Map and Ab list'!E74 -> D5 | T23: ='Map and Ab list'!E76 -> D6 | U23: =(S23+T23)/2 -> #VALUE! | W23: ='Map and Ab list'!E89 -> D5 | X23: ='Map and Ab list'!E91 -> D6 | Y23: =(W23+X23)/2 -> #VALUE! | AA23: ='Map and Ab list'!E104 -> D5 | AB23: ='Map and Ab list'!E106 -> D6 | AC23: =(AA23+AB23)/2 -> #VALUE! | AE23: ='Map and Ab list'!E119 -> D5 | AF23: ='Map and Ab list'!E121 -> D6 | AG23: =(AE23+AF23)/2 -> #VALUE! | AI23: ='Map and Ab list'!E134 -> D5 | AJ23: ='Map and Ab list'!E136 -> D6 | AK23: =(AI23+AJ23)/2 -> #VALUE! | AM23: ='Map and Ab list'!E149 -> D5 | AN23: ='Map and Ab list'!E151 -> D6 | AO23: =(AM23+AN23)/2 -> #VALUE! | AQ23: ='Map and Ab list'!E164 -> D5 | AR23: ='Map and Ab list'!E166 -> D6 | AS23: =(AQ23+AR23)/2 -> #VALUE! | AU23: ='Map and Ab list'!E179 -> D5 | AV23: ='Map and Ab list'!E181 -> D6 | AW23: =(AU23+AV23)/2 -> #VALUE! | AY23: ='Map and Ab list'!E194 -> D5 | AZ23: ='Map and Ab list'!E196 -> D6 | BA23: =(AY23+AZ23)/2 -> #VALUE! | BC23: ='Map and Ab list'!E209 -> D5 | BD23: ='Map and Ab list'!E211 -> D6 | BE23: =(BC23+BD23)/2 -> #VALUE! | BG23: ='Map and Ab list'!E224 -> D5 | BH23: ='Map and Ab list'!E226 -> D6 | BI23: =(BG23+BH23)/2 -> #VALUE! | BK23: ='Map and Ab list'!E239 -> D5 | BL23: ='Map and Ab list'!E241 -> D6 | BM23: =(BK23+BL23)/2 -> #VALUE! | BO23: ='Map and Ab list'!E254 -> D5 | BP23: ='Map and Ab list'!E256 -> D6 | BQ23: =(BO23+BP23)/2 -> #VALUE! | BS23: ='Map and Ab list'!E269 -> D5 | BT23: ='Map and Ab list'!E271 -> D6 | BU23: =(BS23+BT23)/2 -> #VALUE! | BW23: ='Map and Ab list'!E284 -> D5 | BX23: ='Map and Ab list'!E286 -> D6 | BY23: =(BW23+BX23)/2 -> #VALUE! | CA23: ='Map and Ab list'!E299 -> D5 | CB23: ='Map and Ab list'!E301 -> D6 | CC23: =(CA23+CB23)/2 -> #VALUE! | CE23: ='Map and Ab list'!E314 -> D5 | CF23: ='Map and Ab list'!E316 -> D6 | CG23: =(CE23+CF23)/2 -> #VALUE! | CI23: ='Map and Ab list'!E329 -> D5 | CJ23: ='Map and Ab list'!E331 -> D6 | CK23: =(CI23+CJ23)/2 -> #VALUE! | CM23: ='Map and Ab list'!E344 -> D5 | CN23: ='Map and Ab list'!E346 -> D6 | CO23: =(CM23+CN23)/2 -> #VALUE! | CQ23: ='Map and Ab list'!E359 -> D5 | CR23: ='Map and Ab list'!E361 -> D6 | CS23: =(CQ23+CR23)/2 -> #VALUE!
A24: ='Map and Ab list'!F13 -> BLANK | C24: ='Map and Ab list'!F14 -> 0 | D24: ='Map and Ab list'!F16 -> 0 | E24: =(C24+D24)/2 -> 0 | G24: ='Map and Ab list'!F29 -> E5 | H24: ='Map and Ab list'!F31 -> E6 | I24: =(G24+H24)/2 -> #VALUE! | K24: ='Map and Ab list'!F44 -> E5 | L24: ='Map and Ab list'!F46 -> E6 | M24: =(K24+L24)/2 -> #VALUE! | O24: ='Map and Ab list'!F59 -> E5 | P24: ='Map and Ab list'!F61 -> E6 | Q24: =(O24+P24)/2 -> #VALUE! | S24: ='Map and Ab list'!F74 -> E5 | T24: ='Map and Ab list'!F76 -> E6 | U24: =(S24+T24)/2 -> #VALUE! | W24: ='Map and Ab list'!F89 -> E5 | X24: ='Map and Ab list'!F91 -> E6 | Y24: =(W24+X24)/2 -> #VALUE! | AA24: ='Map and Ab list'!F104 -> E5 | AB24: ='Map and Ab list'!F106 -> E6 | AC24: =(AA24+AB24)/2 -> #VALUE! | AE24: ='Map and Ab list'!F119 -> E5 | AF24: ='Map and Ab list'!F121 -> E6 | AG24: =(AE24+AF24)/2 -> #VALUE! | AI24: ='Map and Ab list'!F134 -> E5 | AJ24: ='Map and Ab list'!F136 -> E6 | AK24: =(AI24+AJ24)/2 -> #VALUE! | AM24: ='Map and Ab list'!F149 -> E5 | AN24: ='Map and Ab list'!F151 -> E6 | AO24: =(AM24+AN24)/2 -> #VALUE! | AQ24: ='Map and Ab list'!F164 -> E5 | AR24: ='Map and Ab list'!F166 -> E6 | AS24: =(AQ24+AR24)/2 -> #VALUE! | AU24: ='Map and Ab list'!F179 -> E5 | AV24: ='Map and Ab list'!F181 -> E6 | AW24: =(AU24+AV24)/2 -> #VALUE! | AY24: ='Map and Ab list'!F194 -> E5 | AZ24: ='Map and Ab list'!F196 -> E6 | BA24: =(AY24+AZ24)/2 -> #VALUE! | BC24: ='Map and Ab list'!F209 -> E5 | BD24: ='Map and Ab list'!F211 -> E6 | BE24: =(BC24+BD24)/2 -> #VALUE! | BG24: ='Map and Ab list'!F224 -> E5 | BH24: ='Map and Ab list'!F226 -> E6 | BI24: =(BG24+BH24)/2 -> #VALUE! | BK24: ='Map and Ab list'!F239 -> E5 | BL24: ='Map and Ab list'!F241 -> E6 | BM24: =(BK24+BL24)/2 -> #VALUE! | BO24: ='Map and Ab list'!F254 -> E5 | BP24: ='Map and Ab list'!F256 -> E6 | BQ24: =(BO24+BP24)/2 -> #VALUE! | BS24: ='Map and Ab list'!F269 -> E5 | BT24: ='Map and Ab list'!F271 -> E6 | BU24: =(BS24+BT24)/2 -> #VALUE! | BW24: ='Map and Ab list'!F284 -> E5 | BX24: ='Map and Ab list'!F286 -> E6 | BY24: =(BW24+BX24)/2 -> #VALUE! | CA24: ='Map and Ab list'!F299 -> E5 | CB24: ='Map and Ab list'!F301 -> E6 | CC24: =(CA24+CB24)/2 -> #VALUE! | CE24: ='Map and Ab list'!F314 -> E5 | CF24: ='Map and Ab list'!F316 -> E6 | CG24: =(CE24+CF24)/2 -> #VALUE! | CI24: ='Map and Ab list'!F329 -> E5 | CJ24: ='Map and Ab list'!F331 -> E6 | CK24: =(CI24+CJ24)/2 -> #VALUE! | CM24: ='Map and Ab list'!F344 -> E5 | CN24: ='Map and Ab list'!F346 -> E6 | CO24: =(CM24+CN24)/2 -> #VALUE! | CQ24: ='Map and Ab list'!F359 -> E5 | CR24: ='Map and Ab list'!F361 -> E6 | CS24: =(CQ24+CR24)/2 -> #VALUE!
A25: ='Map and Ab list'!G13 -> BLANK | C25: ='Map and Ab list'!G14 -> 0 | D25: ='Map and Ab list'!G16 -> 0 | E25: =(C25+D25)/2 -> 0 | G25: ='Map and Ab list'!G29 -> F5 | H25: ='Map and Ab list'!G31 -> F6 | I25: =(G25+H25)/2 -> #VALUE! | K25: ='Map and Ab list'!G44 -> F5 | L25: ='Map and Ab list'!G46 -> F6 | M25: =(K25+L25)/2 -> #VALUE! | O25: ='Map and Ab list'!G59 -> F5 | P25: ='Map and Ab list'!G61 -> F6 | Q25: =(O25+P25)/2 -> #VALUE! | S25: ='Map and Ab list'!G74 -> F5 | T25: ='Map and Ab list'!G76 -> F6 | U25: =(S25+T25)/2 -> #VALUE! | W25: ='Map and Ab list'!G89 -> F5 | X25: ='Map and Ab list'!G91 -> F6 | Y25: =(W25+X25)/2 -> #VALUE! | AA25: ='Map and Ab list'!G104 -> F5 | AB25: ='Map and Ab list'!G106 -> F6 | AC25: =(AA25+AB25)/2 -> #VALUE! | AE25: ='Map and Ab list'!G119 -> F5 | AF25: ='Map and Ab list'!G121 -> F6 | AG25: =(AE25+AF25)/2 -> #VALUE! | AI25: ='Map and Ab list'!G134 -> F5 | AJ25: ='Map and Ab list'!G136 -> F6 | AK25: =(AI25+AJ25)/2 -> #VALUE! | AM25: ='Map and Ab list'!G149 -> F5 | AN25: ='Map and Ab list'!G151 -> F6 | AO25: =(AM25+AN25)/2 -> #VALUE! | AQ25: ='Map and Ab list'!G164 -> F5 | AR25: ='Map and Ab list'!G166 -> F6 | AS25: =(AQ25+AR25)/2 -> #VALUE! | AU25: ='Map and Ab list'!G179 -> F5 | AV25: ='Map and Ab list'!G181 -> F6 | AW25: =(AU25+AV25)/2 -> #VALUE! | AY25: ='Map and Ab list'!G194 -> F5 | AZ25: ='Map and Ab list'!G196 -> F6 | BA25: =(AY25+AZ25)/2 -> #VALUE! | BC25: ='Map and Ab list'!G209 -> F5 | BD25: ='Map and Ab list'!G211 -> F6 | BE25: =(BC25+BD25)/2 -> #VALUE! | BG25: ='Map and Ab list'!G224 -> F5 | BH25: ='Map and Ab list'!G226 -> F6 | BI25: =(BG25+BH25)/2 -> #VALUE! | BK25: ='Map and Ab list'!G239 -> F5 | BL25: ='Map and Ab list'!G241 -> F6 | BM25: =(BK25+BL25)/2 -> #VALUE! | BO25: ='Map and Ab list'!G254 -> F5 | BP25: ='Map and Ab list'!G256 -> F6 | BQ25: =(BO25+BP25)/2 -> #VALUE! | BS25: ='Map and Ab list'!G269 -> F5 | BT25: ='Map and Ab list'!G271 -> F6 | BU25: =(BS25+BT25)/2 -> #VALUE! | BW25: ='Map and Ab list'!G284 -> F5 | BX25: ='Map and Ab list'!G286 -> F6 | BY25: =(BW25+BX25)/2 -> #VALUE! | CA25: ='Map and Ab list'!G299 -> F5 | CB25: ='Map and Ab list'!G301 -> F6 | CC25: =(CA25+CB25)/2 -> #VALUE! | CE25: ='Map and Ab list'!G314 -> F5 | CF25: ='Map and Ab list'!G316 -> F6 | CG25: =(CE25+CF25)/2 -> #VALUE! | CI25: ='Map and Ab list'!G329 -> F5 | CJ25: ='Map and Ab list'!G331 -> F6 | CK25: =(CI25+CJ25)/2 -> #VALUE! | CM25: ='Map and Ab list'!G344 -> F5 | CN25: ='Map and Ab list'!G346 -> F6 | CO25: =(CM25+CN25)/2 -> #VALUE! | CQ25: ='Map and Ab list'!G359 -> F5 | CR25: ='Map and Ab list'!G361 -> F6 | CS25: =(CQ25+CR25)/2 -> #VALUE!
A26: Background | E26: =('Map and Ab list'!K6+'Map and Ab list'!K8+'Map and Ab list'!K10+'Map and Ab list'!K12)/4 -> 0 | I26: =('Map and Ab list'!K21+'Map and Ab list'!K23+'Map and Ab list'!K25+'Map and Ab list'!K27)/4 -> 0 | M26: =SUM('Map and Ab list'!K36:K42)/4 -> 0 | Q26: =SUM('Map and Ab list'!K51:K57)/4 -> 0 | U26: =SUM('Map and Ab list'!K66:K72)/4 -> 0 | Y26: =SUM('Map and Ab list'!K81:K87)/4 -> 0 | AC26: =SUM('Map and Ab list'!K95:K101)/4 -> 0 | AG26: =SUM('Map and Ab list'!K111:K117)/4 -> 0 | AK26: =SUM('Map and Ab list'!K126:K132)/4 -> 0 | AO26: =SUM('Map and Ab list'!K141:K147)/4 -> 0 | AS26: =SUM('Map and Ab list'!K156:K162)/4 -> 0 | AW26: =SUM('Map and Ab list'!K171:K177)/4 -> 0 | BA26: =SUM('Map and Ab list'!K186:K192)/4 -> 0 | BE26: =SUM('Map and Ab list'!K201:K207)/4 -> 0 | BI26: =SUM('Map and Ab list'!K216:K222)/4 -> 0 | BM26: =SUM('Map and Ab list'!K231:K237)/4 -> 0 | BQ26: =SUM('Map and Ab list'!K246:K252)/4 -> 0 | BU26: =SUM('Map and Ab list'!K261:K267)/4 -> 0 | BY26: =SUM('Map and Ab list'!K276:K282)/4 -> 0 | CC26: =SUM('Map and Ab list'!K291:K297)/4 -> 0 | CG26: =SUM('Map and Ab list'!K306:K312)/4 -> 0 | CK26: =SUM('Map and Ab list'!K321:K327)/4 -> 0 | CO26: =SUM('Map and Ab list'!K336:K342)/4 -> 0 | CS26: =SUM('Map and Ab list'!K351:K357)/4 -> 0

Sheet Averages
A2: ='Aligning data'!A1 -> RayBio® Cytokine Antibody Arrays --AAM-TCR-1
B4: =Sorting!C4 -> Sample 1 | C4: =Sorting!G4 -> Sample 2 | D4: =Sorting!K4 -> Sample 3 | E4: =Sorting!O4 -> Sample 4 | F4: =Sorting!S4 -> Sample 5 | G4: =Sorting!W4 -> Sample 6 | H4: =Sorting!AA4 -> Sample 7 | I4: =Sorting!AE4 -> Sample 8 | J4: =Sorting!AI4 -> Sample 9 | K4: =Sorting!AM4 -> Sample 10 | L4: =Sorting!AQ4 -> Sample 11 | M4: =Sorting!AU4 -> Sample 12 | N4: =Sorting!AY4 -> Sample 13 | O4: =Sorting!BC4 -> Sample 14 | P4: =Sorting!BG4 -> Sample 15 | Q4: =Sorting!BK4 -> SAMPLE 16 | R4: =Sorting!BO4 -> SAMPLE 17 | S4: =Sorting!BS4 -> SAMPLE 18 | T4: =Sorting!BW4 -> SAMPLE 19 | U4: =Sorting!CA4 -> SAMPLE 20 | V4: =Sorting!CE4 -> SAMPLE 21 | W4: =Sorting!CI4 -> SAMPLE 22 | X4: =Sorting!CM4 -> SAMPLE 23 | Y4: =Sorting!CQ4 -> SAMPLE 24
A6: =Sorting!A6 -> POS | B6: =Sorting!E6 -> 0 | C6: =Sorting!I6 -> #VALUE! | D6: =Sorting!M6 -> #VALUE! | E6: =Sorting!Q6 -> #VALUE! | F6: =Sorting!U6 -> #VALUE! | G6: =Sorting!Y6 -> #VALUE! | H6: =Sorting!AC6 -> #VALUE! | I6: =Sorting!AG6 -> #VALUE! | J6: =Sorting!AK6 -> #VALUE! | K6: =Sorting!AO6 -> #VALUE! | L6: =Sorting!AS6 -> #VALUE! | M6: =Sorting!AW6 -> #VALUE! | N6: =Sorting!BA6 -> #VALUE! | O6: =Sorting!BE6 -> #VALUE! | P6: =Sorting!BI6 -> #VALUE! | Q6: =Sorting!BM6 -> #VALUE! | R6: =Sorting!BQ6 -> #VALUE! | S6: =Sorting!BU6 -> #VALUE! | T6: =Sorting!BY6 -> #VALUE! | U6: =Sorting!CC6 -> #VALUE! | V6: =Sorting!CG6 -> #VALUE! | W6: =Sorting!CK6 -> #VALUE! | X6: =Sorting!CO6 -> #VALUE! | Y6: =Sorting!CS6 -> #VALUE!
A7: =Sorting!A7 -> NEG | B7: =Sorting!E7 -> 0 | C7: =Sorting!I7 -> #VALUE! | D7: =Sorting!M7 -> #VALUE! | E7: =Sorting!Q7 -> #VALUE! | F7: =Sorting!U7 -> #VALUE! | G7: =Sorting!Y7 -> #VALUE! | H7: =Sorting!AC7 -> #VALUE! | I7: =Sorting!AG7 -> #VALUE! | J7: =Sorting!AK7 -> #VALUE! | K7: =Sorting!AO7 -> #VALUE! | L7: =Sorting!AS7 -> #VALUE! | M7: =Sorting!AW7 -> #VALUE! | N7: =Sorting!BA7 -> #VALUE! | O7: =Sorting!BE7 -> #VALUE! | P7: =Sorting!BI7 -> #VALUE! | Q7: =Sorting!BM7 -> #VALUE! | R7: =Sorting!BQ7 -> #VALUE! | S7: =Sorting!BU7 -> #VALUE! | T7: =Sorting!BY7 -> #VALUE! | U7: =Sorting!CC7 -> #VALUE! | V7: =Sorting!CG7 -> #VALUE! | W7: =Sorting!CK7 -> #VALUE! | X7: =Sorting!CO7 -> #VALUE! | Y7: =Sorting!CS7 -> #VALUE!
A8: =Sorting!A8 -> IFNg | B8: =Sorting!E8 -> 0 | C8: =Sorting!I8 -> #VALUE! | D8: =Sorting!M8 -> #VALUE! | E8: =Sorting!Q8 -> #VALUE! | F8: =Sorting!U8 -> #VALUE! | G8: =Sorting!Y8 -> #VALUE! | H8: =Sorting!AC8 -> #VALUE! | I8: =Sorting!AG8 -> #VALUE! | J8: =Sorting!AK8 -> #VALUE! | K8: =Sorting!AO8 -> #VALUE! | L8: =Sorting!AS8 -> #VALUE! | M8: =Sorting!AW8 -> #VALUE! | N8: =Sorting!BA8 -> #VALUE! | O8: =Sorting!BE8 -> #VALUE! | P8: =Sorting!BI8 -> #VALUE! | Q8: =Sorting!BM8 -> #VALUE! | R8: =Sorting!BQ8 -> #VALUE! | S8: =Sorting!BU8 -> #VALUE! | T8: =Sorting!BY8 -> #VALUE! | U8: =Sorting!CC8 -> #VALUE! | V8: =Sorting!CG8 -> #VALUE! | W8: =Sorting!CK8 -> #VALUE! | X8: =Sorting!CO8 -> #VALUE! | Y8: =Sorting!CS8 -> #VALUE!
A9: =Sorting!A9 -> IL-10 | B9: =Sorting!E9 -> 0 | C9: =Sorting!I9 -> #VALUE! | D9: =Sorting!M9 -> #VALUE! | E9: =Sorting!Q9 -> #VALUE! | F9: =Sorting!U9 -> #VALUE! | G9: =Sorting!Y9 -> #VALUE! | H9: =Sorting!AC9 -> #VALUE! | I9: =Sorting!AG9 -> #VALUE! | J9: =Sorting!AK9 -> #VALUE! | K9: =Sorting!AO9 -> #VALUE! | L9: =Sorting!AS9 -> #VALUE! | M9: =Sorting!AW9 -> #VALUE! | N9: =Sorting!BA9 -> #VALUE! | O9: =Sorting!BE9 -> #VALUE! | P9: =Sorting!BI9 -> #VALUE! | Q9: =Sorting!BM9 -> #VALUE! | R9: =Sorting!BQ9 -> #VALUE! | S9: =Sorting!BU9 -> #VALUE! | T9: =Sorting!BY9 -> #VALUE! | U9: =Sorting!CC9 -> #VALUE! | V9: =Sorting!CG9 -> #VALUE! | W9: =Sorting!CK9 -> #VALUE! | X9: =Sorting!CO9 -> #VALUE! | Y9: =Sorting!CS9 -> #VALUE!
A10: =Sorting!A10 -> IL-12p70 | B10: =Sorting!E10 -> 0 | C10: =Sorting!I10 -> #VALUE! | D10: =Sorting!M10 -> #VALUE! | E10: =Sorting!Q10 -> #VALUE! | F10: =Sorting!U10 -> #VALUE! | G10: =Sorting!Y10 -> #VALUE! | H10: =Sorting!AC10 -> #VALUE! | I10: =Sorting!AG10 -> #VALUE! | J10: =Sorting!AK10 -> #VALUE! | K10: =Sorting!AO10 -> #VALUE! | L10: =Sorting!AS10 -> #VALUE! | M10: =Sorting!AW10 -> #VALUE! | N10: =Sorting!BA10 -> #VALUE! | O10: =Sorting!BE10 -> #VALUE! | P10: =Sorting!BI10 -> #VALUE! | Q10: =Sorting!BM10 -> #VALUE! | R10: =Sorting!BQ10 -> #VALUE! | S10: =Sorting!BU10 -> #VALUE! | T10: =Sorting!BY10 -> #VALUE! | U10: =Sorting!CC10 -> #VALUE! | V10: =Sorting!CG10 -> #VALUE! | W10: =Sorting!CK10 -> #VALUE! | X10: =Sorting!CO10 -> #VALUE! | Y10: =Sorting!CS10 -> #VALUE!
A11: =Sorting!A11 -> IL-13 | B11: =Sorting!E11 -> 0 | C11: =Sorting!I11 -> #VALUE! | D11: =Sorting!M11 -> #VALUE! | E11: =Sorting!Q11 -> #VALUE! | F11: =Sorting!U11 -> #VALUE! | G11: =Sorting!Y11 -> #VALUE! | H11: =Sorting!AC11 -> #VALUE! | I11: =Sorting!AG11 -> #VALUE! | J11: =Sorting!AK11 -> #VALUE! | K11: =Sorting!AO11 -> #VALUE! | L11: =Sorting!AS11 -> #VALUE! | M11: =Sorting!AW11 -> #VALUE! | N11: =Sorting!BA11 -> #VALUE! | O11: =Sorting!BE11 -> #VALUE! | P11: =Sorting!BI11 -> #VALUE! | Q11: =Sorting!BM11 -> #VALUE! | R11: =Sorting!BQ11 -> #VALUE! | S11: =Sorting!BU11 -> #VALUE! | T11: =Sorting!BY11 -> #VALUE! | U11: =Sorting!CC11 -> #VALUE! | V11: =Sorting!CG11 -> #VALUE! | W11: =Sorting!CK11 -> #VALUE! | X11: =Sorting!CO11 -> #VALUE! | Y11: =Sorting!CS11 -> #VALUE!
A12: =Sorting!A12 -> IL-17 | B12: =Sorting!E12 -> 0 | C12: =Sorting!I12 -> #VALUE! | D12: =Sorting!M12 -> #VALUE! | E12: =Sorting!Q12 -> #VALUE! | F12: =Sorting!U12 -> #VALUE! | G12: =Sorting!Y12 -> #VALUE! | H12: =Sorting!AC12 -> #VALUE! | I12: =Sorting!AG12 -> #VALUE! | J12: =Sorting!AK12 -> #VALUE! | K12: =Sorting!AO12 -> #VALUE! | L12: =Sorting!AS12 -> #VALUE! | M12: =Sorting!AW12 -> #VALUE! | N12: =Sorting!BA12 -> #VALUE! | O12: =Sorting!BE12 -> #VALUE! | P12: =Sorting!BI12 -> #VALUE! | Q12: =Sorting!BM12 -> #VALUE! | R12: =Sorting!BQ12 -> #VALUE! | S12: =Sorting!BU12 -> #VALUE! | T12: =Sorting!BY12 -> #VALUE! | U12: =Sorting!CC12 -> #VALUE! | V12: =Sorting!CG12 -> #VALUE! | W12: =Sorting!CK12 -> #VALUE! | X12: =Sorting!CO12 -> #VALUE! | Y12: =Sorting!CS12 -> #VALUE!
A13: =Sorting!A13 -> IL-17F | B13: =Sorting!E13 -> 0 | C13: =Sorting!I13 -> #VALUE! | D13: =Sorting!M13 -> #VALUE! | E13: =Sorting!Q13 -> #VALUE! | F13: =Sorting!U13 -> #VALUE! | G13: =Sorting!Y13 -> #VALUE! | H13: =Sorting!AC13 -> #VALUE! | I13: =Sorting!AG13 -> #VALUE! | J13: =Sorting!AK13 -> #VALUE! | K13: =Sorting!AO13 -> #VALUE! | L13: =Sorting!AS13 -> #VALUE! | M13: =Sorting!AW13 -> #VALUE! | N13: =Sorting!BA13 -> #VALUE! | O13: =Sorting!BE13 -> #VALUE! | P13: =Sorting!BI13 -> #VALUE! | Q13: =Sorting!BM13 -> #VALUE! | R13: =Sorting!BQ13 -> #VALUE! | S13: =Sorting!BU13 -> #VALUE! | T13: =Sorting!BY13 -> #VALUE! | U13: =Sorting!CC13 -> #VALUE! | V13: =Sorting!CG13 -> #VALUE! | W13: =Sorting!CK13 -> #VALUE! | X13: =Sorting!CO13 -> #VALUE! | Y13: =Sorting!CS13 -> #VALUE!
A14: =Sorting!A14 -> IL-18 | B14: =Sorting!E14 -> 0 | C14: =Sorting!I14 -> #VALUE! | D14: =Sorting!M14 -> #VALUE! | E14: =Sorting!Q14 -> #VALUE! | F14: =Sorting!U14 -> #VALUE! | G14: =Sorting!Y14 -> #VALUE! | H14: =Sorting!AC14 -> #VALUE! | I14: =Sorting!AG14 -> #VALUE! | J14: =Sorting!AK14 -> #VALUE! | K14: =Sorting!AO14 -> #VALUE! | L14: =Sorting!AS14 -> #VALUE! | M14: =Sorting!AW14 -> #VALUE! | N14: =Sorting!BA14 -> #VALUE! | O14: =Sorting!BE14 -> #VALUE! | P14: =Sorting!BI14 -> #VALUE! | Q14: =Sorting!BM14 -> #VALUE! | R14: =Sorting!BQ14 -> #VALUE! | S14: =Sorting!BU14 -> #VALUE! | T14: =Sorting!BY14 -> #VALUE! | U14: =Sorting!CC14 -> #VALUE! | V14: =Sorting!CG14 -> #VALUE! | W14: =Sorting!CK14 -> #VALUE! | X14: =Sorting!CO14 -> #VALUE! | Y14: =Sorting!CS14 -> #VALUE!
A15: =Sorting!A15 -> IL-2 | B15: =Sorting!E15 -> 0 | C15: =Sorting!I15 -> #VALUE! | D15: =Sorting!M15 -> #VALUE! | E15: =Sorting!Q15 -> #VALUE! | F15: =Sorting!U15 -> #VALUE! | G15: =Sorting!Y15 -> #VALUE! | H15: =Sorting!AC15 -> #VALUE! | I15: =Sorting!AG15 -> #VALUE! | J15: =Sorting!AK15 -> #VALUE! | K15: =Sorting!AO15 -> #VALUE! | L15: =Sorting!AS15 -> #VALUE! | M15: =Sorting!AW15 -> #VALUE! | N15: =Sorting!BA15 -> #VALUE! | O15: =Sorting!BE15 -> #VALUE! | P15: =Sorting!BI15 -> #VALUE! | Q15: =Sorting!BM15 -> #VALUE! | R15: =Sorting!BQ15 -> #VALUE! | S15: =Sorting!BU15 -> #VALUE! | T15: =Sorting!BY15 -> #VALUE! | U15: =Sorting!CC15 -> #VALUE! | V15: =Sorting!CG15 -> #VALUE! | W15: =Sorting!CK15 -> #VALUE! | X15: =Sorting!CO15 -> #VALUE! | Y15: =Sorting!CS15 -> #VALUE!
A16: =Sorting!A16 -> IL-4 | B16: =Sorting!E16 -> 0 | C16: =Sorting!I16 -> #VALUE! | D16: =Sorting!M16 -> #VALUE! | E16: =Sorting!Q16 -> #VALUE! | F16: =Sorting!U16 -> #VALUE! | G16: =Sorting!Y16 -> #VALUE! | H16: =Sorting!AC16 -> #VALUE! | I16: =Sorting!AG16 -> #VALUE! | J16: =Sorting!AK16 -> #VALUE! | K16: =Sorting!AO16 -> #VALUE! | L16: =Sorting!AS16 -> #VALUE! | M16: =Sorting!AW16 -> #VALUE! | N16: =Sorting!BA16 -> #VALUE! | O16: =Sorting!BE16 -> #VALUE! | P16: =Sorting!BI16 -> #VALUE! | Q16: =Sorting!BM16 -> #VALUE! | R16: =Sorting!BQ16 -> #VALUE! | S16: =Sorting!BU16 -> #VALUE! | T16: =Sorting!BY16 -> #VALUE! | U16: =Sorting!CC16 -> #VALUE! | V16: =Sorting!CG16 -> #VALUE! | W16: =Sorting!CK16 -> #VALUE! | X16: =Sorting!CO16 -> #VALUE! | Y16: =Sorting!CS16 -> #VALUE!
A17: =Sorting!A17 -> IL-5 | B17: =Sorting!E17 -> 0 | C17: =Sorting!I17 -> #VALUE! | D17: =Sorting!M17 -> #VALUE! | E17: =Sorting!Q17 -> #VALUE! | F17: =Sorting!U17 -> #VALUE! | G17: =Sorting!Y17 -> #VALUE! | H17: =Sorting!AC17 -> #VALUE! | I17: =Sorting!AG17 -> #VALUE! | J17: =Sorting!AK17 -> #VALUE! | K17: =Sorting!AO17 -> #VALUE! | L17: =Sorting!AS17 -> #VALUE! | M17: =Sorting!AW17 -> #VALUE! | N17: =Sorting!BA17 -> #VALUE! | O17: =Sorting!BE17 -> #VALUE! | P17: =Sorting!BI17 -> #VALUE! | Q17: =Sorting!BM17 -> #VALUE! | R17: =Sorting!BQ17 -> #VALUE! | S17: =Sorting!BU17 -> #VALUE! | T17: =Sorting!BY17 -> #VALUE! | U17: =Sorting!CC17 -> #VALUE! | V17: =Sorting!CG17 -> #VALUE! | W17: =Sorting!CK17 -> #VALUE! | X17: =Sorting!CO17 -> #VALUE! | Y17: =Sorting!CS17 -> #VALUE!
... A26: =Sorting!A26 -> Background | B26: =Sorting!E26 -> 0 | C26: =Sorting!I26 -> 0 | D26: =Sorting!M26 -> 0 | E26: =Sorting!Q26 -> 0 | F26: =Sorting!U26 -> 0 | G26: =Sorting!Y26 -> 0 | H26: =Sorting!AC26 -> 0 | I26: =Sorting!AG26 -> 0 | J26: =Sorting!AK26 -> 0 | K26: =Sorting!AO26 -> 0 | L26: =Sorting!AS26 -> 0 | M26: =Sorting!AW26 -> 0 | N26: =Sorting!BA26 -> 0 | O26: =Sorting!BE26 -> 0 | P26: =Sorting!BI26 -> 0 | Q26: =Sorting!BM26 -> 0 | R26: =Sorting!BQ26 -> 0 | S26: =Sorting!BU26 -> 0 | T26: =Sorting!BY26 -> 0 | U26: =Sorting!CC26 -> 0 | V26: =Sorting!CG26 -> 0 | W26: =Sorting!CK26 -> 0 | X26: =Sorting!CO26 -> 0 | Y26: =Sorting!CS26 -> 0

Sheet Bg(1)
A2: ='Aligning data'!A1 -> RayBio® Cytokine Antibody Arrays --AAM-TCR-1
B4: =Averages!B4 -> Sample 1 | C4: =Averages!C4 -> Sample 2 | D4: =Averages!D4 -> Sample 3 | E4: =Averages!E4 -> Sample 4 | F4: =Averages!F4 -> Sample 5 | G4: =Averages!G4 -> Sample 6 | H4: =Averages!H4 -> Sample 7 | I4: =Averages!I4 -> Sample 8 | ... Y4: =Averages!Y4 -> SAMPLE 24
A6: =Averages!A6 -> POS | B6: =Averages!B6-Averages!B26 -> 0 | C6: =Averages!C6-Averages!C26 -> #VALUE! | D6: =Averages!D6-Averages!D26 -> #VALUE! | E6: =Averages!E6-Averages!E26 -> #VALUE! | F6: =Averages!F6-Averages!F26 -> #VALUE! | G6: =Averages!G6-Averages!G26 -> #VALUE! | H6: =Averages!H6-Averages!H26 -> #VALUE! | I6: =Averages!I6-Averages!I26 -> #VALUE! | ... Y6: =Averages!Y6-Averages!Y26 -> #VALUE!
A7: =Averages!A7 -> NEG | B7: =Averages!B7-Averages!B26 -> 0 | C7: =Averages!C7-Averages!C26 -> #VALUE! | D7: =Averages!D7-Averages!D26 -> #VALUE! | E7: =Averages!E7-Averages!E26 -> #VALUE! | F7: =Averages!F7-Averages!F26 -> #VALUE! | G7: =Averages!G7-Averages!G26 -> #VALUE! | H7: =Averages!H7-Averages!H26 -> #VALUE! | I7: =Averages!I7-Averages!I26 -> #VALUE! | ... Y7: =Averages!Y7-Averages!Y26 -> #VALUE!
A8: =Averages!A8 -> IFNg | B8: =Averages!B8-Averages!B26 -> 0 | C8: =Averages!C8-Averages!C26 -> #VALUE! | D8: =Averages!D8-Averages!D26 -> #VALUE! | E8: =Averages!E8-Averages!E26 -> #VALUE! | F8: =Averages!F8-Averages!F26 -> #VALUE! | G8: =Averages!G8-Averages!G26 -> #VALUE! | H8: =Averages!H8-Averages!H26 -> #VALUE! | I8: =Averages!I8-Averages!I26 -> #VALUE! | ... Y8: =Averages!Y8-Averages!Y26 -> #VALUE!
A9: =Averages!A9 -> IL-10 | B9: =Averages!B9-Averages!B26 -> 0 | C9: =Averages!C9-Averages!C26 -> #VALUE! | D9: =Averages!D9-Averages!D26 -> #VALUE! | E9: =Averages!E9-Averages!E26 -> #VALUE! | F9: =Averages!F9-Averages!F26 -> #VALUE! | G9: =Averages!G9-Averages!G26 -> #VALUE! | H9: =Averages!H9-Averages!H26 -> #VALUE! | I9: =Averages!I9-Averages!I26 -> #VALUE! | ... Y9: =Averages!Y9-Averages!Y26 -> #VALUE!
A10: =Averages!A10 -> IL-12p70 | B10: =Averages!B10-Averages!B26 -> 0 | C10: =Averages!C10-Averages!C26 -> #VALUE! | D10: =Averages!D10-Averages!D26 -> #VALUE! | E10: =Averages!E10-Averages!E26 -> #VALUE! | F10: =Averages!F10-Averages!F26 -> #VALUE! | G10: =Averages!G10-Averages!G26 -> #VALUE! | H10: =Averages!H10-Averages!H26 -> #VALUE! | I10: =Averages!I10-Averages!I26 -> #VALUE! | ... Y10: =Averages!Y10-Averages!Y26 -> #VALUE!
A11: =Averages!A11 -> IL-13 | B11: =Averages!B11-Averages!B26 -> 0 | C11: =Averages!C11-Averages!C26 -> #VALUE! | D11: =Averages!D11-Averages!D26 -> #VALUE! | E11: =Averages!E11-Averages!E26 -> #VALUE! | F11: =Averages!F11-Averages!F26 -> #VALUE! | G11: =Averages!G11-Averages!G26 -> #VALUE! | H11: =Averages!H11-Averages!H26 -> #VALUE! | I11: =Averages!I11-Averages!I26 -> #VALUE! | ... Y11: =Averages!Y11-Averages!Y26 -> #VALUE!
A12: =Averages!A12 -> IL-17 | B12: =Averages!B12-Averages!B26 -> 0 | C12: =Averages!C12-Averages!C26 -> #VALUE! | D12: =Averages!D12-Averages!D26 -> #VALUE! | E12: =Averages!E12-Averages!E26 -> #VALUE! | F12: =Averages!F12-Averages!F26 -> #VALUE! | G12: =Averages!G12-Averages!G26 -> #VALUE! | H12: =Averages!H12-Averages!H26 -> #VALUE! | I12: =Averages!I12-Averages!I26 -> #VALUE! | ... Y12: =Averages!Y12-Averages!Y26 -> #VALUE!
A13: =Averages!A13 -> IL-17F | B13: =Averages!B13-Averages!B26 -> 0 | C13: =Averages!C13-Averages!C26 -> #VALUE! | D13: =Averages!D13-Averages!D26 -> #VALUE! | E13: =Averages!E13-Averages!E26 -> #VALUE! | F13: =Averages!F13-Averages!F26 -> #VALUE! | G13: =Averages!G13-Averages!G26 -> #VALUE! | H13: =Averages!H13-Averages!H26 -> #VALUE! | I13: =Averages!I13-Averages!I26 -> #VALUE! | ... Y13: =Averages!Y13-Averages!Y26 -> #VALUE!
A14: =Averages!A14 -> IL-18 | B14: =Averages!B14-Averages!B26 -> 0 | C14: =Averages!C14-Averages!C26 -> #VALUE! | D14: =Averages!D14-Averages!D26 -> #VALUE! | E14: =Averages!E14-Averages!E26 -> #VALUE! | F14: =Averages!F14-Averages!F26 -> #VALUE! | G14: =Averages!G14-Averages!G26 -> #VALUE! | H14: =Averages!H14-Averages!H26 -> #VALUE! | I14: =Averages!I14-Averages!I26 -> #VALUE! | ... Y14: =Averages!Y14-Averages!Y26 -> #VALUE!
A15: =Averages!A15 -> IL-2 | B15: =Averages!B15-Averages!B26 -> 0 | C15: =Averages!C15-Averages!C26 -> #VALUE! | D15: =Averages!D15-Averages!D26 -> #VALUE! | E15: =Averages!E15-Averages!E26 -> #VALUE! | F15: =Averages!F15-Averages!F26 -> #VALUE! | G15: =Averages!G15-Averages!G26 -> #VALUE! | H15: =Averages!H15-Averages!H26 -> #VALUE! | I15: =Averages!I15-Averages!I26 -> #VALUE! | ... Y15: =Averages!Y15-Averages!Y26 -> #VALUE!
A16: =Averages!A16 -> IL-4 | B16: =Averages!B16-Averages!B26 -> 0 | C16: =Averages!C16-Averages!C26 -> #VALUE! | D16: =Averages!D16-Averages!D26 -> #VALUE! | E16: =Averages!E16-Averages!E26 -> #VALUE! | F16: =Averages!F16-Averages!F26 -> #VALUE! | G16: =Averages!G16-Averages!G26 -> #VALUE! | H16: =Averages!H16-Averages!H26 -> #VALUE! | I16: =Averages!I16-Averages!I26 -> #VALUE! | ... Y16: =Averages!Y16-Averages!Y26 -> #VALUE!
A17: =Averages!A17 -> IL-5 | B17: =Averages!B17-Averages!B26 -> 0 | C17: =Averages!C17-Averages!C26 -> #VALUE! | D17: =Averages!D17-Averages!D26 -> #VALUE! | E17: =Averages!E17-Averages!E26 -> #VALUE! | F17: =Averages!F17-Averages!F26 -> #VALUE! | G17: =Averages!G17-Averages!G26 -> #VALUE! | H17: =Averages!H17-Averages!H26 -> #VALUE! | I17: =Averages!I17-Averages!I26 -> #VALUE! | ... Y17: =Averages!Y17-Averages!Y26 -> #VALUE!
A18: =Averages!A18 -> IL-6 | B18: =Averages!B18-Averages!B26 -> 0 | C18: =Averages!C18-Averages!C26 -> #VALUE! | D18: =Averages!D18-Averages!D26 -> #VALUE! | E18: =Averages!E18-Averages!E26 -> #VALUE! | F18: =Averages!F18-Averages!F26 -> #VALUE! | G18: =Averages!G18-Averages!G26 -> #VALUE! | H18: =Averages!H18-Averages!H26 -> #VALUE! | I18: =Averages!I18-Averages!I26 -> #VALUE! | ... Y18: =Averages!Y18-Averages!Y26 -> #VALUE!
A19: =Averages!A19 -> IL-7 | B19: =Averages!B19-Averages!B26 -> 0 | C19: =Averages!C19-Averages!C26 -> #VALUE! | D19: =Averages!D19-Averages!D26 -> #VALUE! | E19: =Averages!E19-Averages!E26 -> #VALUE! | F19: =Averages!F19-Averages!F26 -> #VALUE! | G19: =Averages!G19-Averages!G26 -> #VALUE! | H19: =Averages!H19-Averages!H26 -> #VALUE! | I19: =Averages!I19-Averages!I26 -> #VALUE! | ... Y19: =Averages!Y19-Averages!Y26 -> #VALUE!
A20: =Averages!A20 -> IL-9 | B20: =Averages!B20-Averages!B26 -> 0 | C20: =Averages!C20-Averages!C26 -> #VALUE! | D20: =Averages!D20-Averages!D26 -> #VALUE! | E20: =Averages!E20-Averages!E26 -> #VALUE! | F20: =Averages!F20-Averages!F26 -> #VALUE! | G20: =Averages!G20-Averages!G26 -> #VALUE! | H20: =Averages!H20-Averages!H26 -> #VALUE! | I20: =Averages!I20-Averages!I26 -> #VALUE! | ... Y20: =Averages!Y20-Averages!Y26 -> #VALUE!
A21: =Averages!A21 -> TGFb | B21: =Averages!B21-Averages!B26 -> 0 | C21: =Averages!C21-Averages!C26 -> #VALUE! | D21: =Averages!D21-Averages!D26 -> #VALUE! | E21: =Averages!E21-Averages!E26 -> #VALUE! | F21: =Averages!F21-Averages!F26 -> #VALUE! | G21: =Averages!G21-Averages!G26 -> #VALUE! | H21: =Averages!H21-Averages!H26 -> #VALUE! | I21: =Averages!I21-Averages!I26 -> #VALUE! | ... Y21: =Averages!Y21-Averages!Y26 -> #VALUE!
A22: =Averages!A22 -> TNFa | B22: =Averages!B22-Averages!B26 -> 0 | C22: =Averages!C22-Averages!C26 -> #VALUE! | D22: =Averages!D22-Averages!D26 -> #VALUE! | E22: =Averages!E22-Averages!E26 -> #VALUE! | F22: =Averages!F22-Averages!F26 -> #VALUE! | G22: =Averages!G22-Averages!G26 -> #VALUE! | H22: =Averages!H22-Averages!H26 -> #VALUE! | I22: =Averages!I22-Averages!I26 -> #VALUE! | ... Y22: =Averages!Y22-Averages!Y26 -> #VALUE!
A23: =Averages!A23 -> BLANK | B23: =Averages!B23-Averages!B26 -> 0 | C23: =Averages!C23-Averages!C26 -> #VALUE! | D23: =Averages!D23-Averages!D26 -> #VALUE! | E23: =Averages!E23-Averages!E26 -> #VALUE! | F23: =Averages!F23-Averages!F26 -> #VALUE! | G23: =Averages!G23-Averages!G26 -> #VALUE! | H23: =Averages!H23-Averages!H26 -> #VALUE! | I23: =Averages!I23-Averages!I26 -> #VALUE! | ... Y23: =Averages!Y23-Averages!Y26 -> #VALUE!
A24: =Averages!A24 -> BLANK | B24: =Averages!B24-Averages!B26 -> 0 | C24: =Averages!C24-Averages!C26 -> #VALUE! | D24: =Averages!D24-Averages!D26 -> #VALUE! | E24: =Averages!E24-Averages!E26 -> #VALUE! | F24: =Averages!F24-Averages!F26 -> #VALUE! | G24: =Averages!G24-Averages!G26 -> #VALUE! | H24: =Averages!H24-Averages!H26 -> #VALUE! | I24: =Averages!I24-Averages!I26 -> #VALUE! | ... Y24: =Averages!Y24-Averages!Y26 -> #VALUE!
A25: =Averages!A25 -> BLANK | B25: =Averages!B25-Averages!B26 -> 0 | C25: =Averages!C25-Averages!C26 -> #VALUE! | D25: =Averages!D25-Averages!D26 -> #VALUE! | E25: =Averages!E25-Averages!E26 -> #VALUE! | F25: =Averages!F25-Averages!F26 -> #VALUE! | G25: =Averages!G25-Averages!G26 -> #VALUE! | H25: =Averages!H25-Averages!H26 -> #VALUE! | I25: =Averages!I25-Averages!I26 -> #VALUE! | ... Y25: =Averages!Y25-Averages!Y26 -> #VALUE!
A26: =Averages!#REF! -> #REF! | B26: =Averages!#REF!-Averages!B26 -> #REF! | C26: =Averages!#REF!-Averages!C26 -> #REF! | D26: =Averages!#REF!-Averages!D26 -> #REF! | E26: =Averages!#REF!-Averages!E26 -> #REF! | F26: =Averages!#REF!-Averages!F26 -> #REF! | G26: =Averages!#REF!-Averages!G26 -> #REF! | H26: =Averages!#REF!-Averages!H26 -> #REF! | I26: =Averages!#REF!-Averages!I26 -> #REF! | ... Y26: =Averages!#REF!-Averages!Y26 -> #REF!
A27: =Averages!#REF! -> #REF! | B27: =Averages!#REF!-Averages!B26 -> #REF! | C27: =Averages!#REF!-Averages!C26 -> #REF! | D27: =Averages!#REF!-Averages!D26 -> #REF! | E27: =Averages!#REF!-Averages!E26 -> #REF! | F27: =Averages!#REF!-Averages!F26 -> #REF! | G27: =Averages!#REF!-Averages!G26 -> #REF! | H27: =Averages!#REF!-Averages!H26 -> #REF! | I27: =Averages!#REF!-Averages!I26 -> #REF! | ... Y27: =Averages!#REF!-Averages!Y26 -> #REF!

Sheet Bg Subtraction
A2: ='Aligning data'!A1 -> RayBio® Cytokine Antibody Arrays --AAM-TCR-1
B4: =Averages!B4 -> Sample 1 | C4: =Averages!C4 -> Sample 2 | D4: =Averages!D4 -> Sample 3 | E4: =Averages!E4 -> Sample 4 | F4: =Averages!F4 -> Sample 5 | G4: =Averages!G4 -> Sample 6 | H4: =Averages!H4 -> Sample 7 | I4: =Averages!I4 -> Sample 8 | ... Y4: =Averages!Y4 -> SAMPLE 24
A6: =Averages!A6 -> POS | B6: =IF(('Bg(1)'!B6)<0, "0", ('Bg(1)'!B6)) -> 0 | C6: =IF(('Bg(1)'!C6)<0, "0", ('Bg(1)'!C6)) -> #VALUE! | D6: =IF(('Bg(1)'!D6)<0, "0", ('Bg(1)'!D6)) -> #VALUE! | E6: =IF(('Bg(1)'!E6)<0, "0", ('Bg(1)'!E6)) -> #VALUE! | F6: =IF(('Bg(1)'!F6)<0, "0", ('Bg(1)'!F6)) -> #VALUE! | G6: =IF(('Bg(1)'!G6)<0, "0", ('Bg(1)'!G6)) -> #VALUE! | H6: =IF(('Bg(1)'!H6)<0, "0", ('Bg(1)'!H6)) -> #VALUE! | I6: =IF(('Bg(1)'!I6)<0, "0", ('Bg(1)'!I6)) -> #VALUE! | ... Y6: =IF(('Bg(1)'!Y6)<0, "0", ('Bg(1)'!Y6)) -> #VALUE!
A7: =Averages!A7 -> NEG | B7: =IF(('Bg(1)'!B7)<0, "0", ('Bg(1)'!B7)) -> 0 | C7: =IF(('Bg(1)'!C7)<0, "0", ('Bg(1)'!C7)) -> #VALUE! | D7: =IF(('Bg(1)'!D7)<0, "0", ('Bg(1)'!D7)) -> #VALUE! | E7: =IF(('Bg(1)'!E7)<0, "0", ('Bg(1)'!E7)) -> #VALUE! | F7: =IF(('Bg(1)'!F7)<0, "0", ('Bg(1)'!F7)) -> #VALUE! | G7: =IF(('Bg(1)'!G7)<0, "0", ('Bg(1)'!G7)) -> #VALUE! | H7: =IF(('Bg(1)'!H7)<0, "0", ('Bg(1)'!H7)) -> #VALUE! | I7: =IF(('Bg(1)'!I7)<0, "0", ('Bg(1)'!I7)) -> #VALUE! | ... Y7: =IF(('Bg(1)'!Y7)<0, "0", ('Bg(1)'!Y7)) -> #VALUE!
A8: =Averages!A8 -> IFNg | B8: =IF(('Bg(1)'!B8)<0, "0", ('Bg(1)'!B8)) -> 0 | C8: =IF(('Bg(1)'!C8)<0, "0", ('Bg(1)'!C8)) -> #VALUE! | D8: =IF(('Bg(1)'!D8)<0, "0", ('Bg(1)'!D8)) -> #VALUE! | E8: =IF(('Bg(1)'!E8)<0, "0", ('Bg(1)'!E8)) -> #VALUE! | F8: =IF(('Bg(1)'!F8)<0, "0", ('Bg(1)'!F8)) -> #VALUE! | G8: =IF(('Bg(1)'!G8)<0, "0", ('Bg(1)'!G8)) -> #VALUE! | H8: =IF(('Bg(1)'!H8)<0, "0", ('Bg(1)'!H8)) -> #VALUE! | I8: =IF(('Bg(1)'!I8)<0, "0", ('Bg(1)'!I8)) -> #VALUE! | ... Y8: =IF(('Bg(1)'!Y8)<0, "0", ('Bg(1)'!Y8)) -> #VALUE!
A9: =Averages!A9 -> IL-10 | B9: =IF(('Bg(1)'!B9)<0, "0", ('Bg(1)'!B9)) -> 0 | C9: =IF(('Bg(1)'!C9)<0, "0", ('Bg(1)'!C9)) -> #VALUE! | D9: =IF(('Bg(1)'!D9)<0, "0", ('Bg(1)'!D9)) -> #VALUE! | E9: =IF(('Bg(1)'!E9)<0, "0", ('Bg(1)'!E9)) -> #VALUE! | F9: =IF(('Bg(1)'!F9)<0, "0", ('Bg(1)'!F9)) -> #VALUE! | G9: =IF(('Bg(1)'!G9)<0, "0", ('Bg(1)'!G9)) -> #VALUE! | H9: =IF(('Bg(1)'!H9)<0, "0", ('Bg(1)'!H9)) -> #VALUE! | I9: =IF(('Bg(1)'!I9)<0, "0", ('Bg(1)'!I9)) -> #VALUE! | ... Y9: =IF(('Bg(1)'!Y9)<0, "0", ('Bg(1)'!Y9)) -> #VALUE!
A10: =Averages!A10 -> IL-12p70 | B10: =IF(('Bg(1)'!B10)<0, "0", ('Bg(1)'!B10)) -> 0 | C10: =IF(('Bg(1)'!C10)<0, "0", ('Bg(1)'!C10)) -> #VALUE! | D10: =IF(('Bg(1)'!D10)<0, "0", ('Bg(1)'!D10)) -> #VALUE! | E10: =IF(('Bg(1)'!E10)<0, "0", ('Bg(1)'!E10)) -> #VALUE! | F10: =IF(('Bg(1)'!F10)<0, "0", ('Bg(1)'!F10)) -> #VALUE! | G10: =IF(('Bg(1)'!G10)<0, "0", ('Bg(1)'!G10)) -> #VALUE! | H10: =IF(('Bg(1)'!H10)<0, "0", ('Bg(1)'!H10)) -> #VALUE! | I10: =IF(('Bg(1)'!I10)<0, "0", ('Bg(1)'!I10)) -> #VALUE! | ... Y10: =IF(('Bg(1)'!Y10)<0, "0", ('Bg(1)'!Y10)) -> #VALUE!
A11: =Averages!A11 -> IL-13 | B11: =IF(('Bg(1)'!B11)<0, "0", ('Bg(1)'!B11)) -> 0 | C11: =IF(('Bg(1)'!C11)<0, "0", ('Bg(1)'!C11)) -> #VALUE! | D11: =IF(('Bg(1)'!D11)<0, "0", ('Bg(1)'!D11)) -> #VALUE! | E11: =IF(('Bg(1)'!E11)<0, "0", ('Bg(1)'!E11)) -> #VALUE! | F11: =IF(('Bg(1)'!F11)<0, "0", ('Bg(1)'!F11)) -> #VALUE! | G11: =IF(('Bg(1)'!G11)<0, "0", ('Bg(1)'!G11)) -> #VALUE! | H11: =IF(('Bg(1)'!H11)<0, "0", ('Bg(1)'!H11)) -> #VALUE! | I11: =IF(('Bg(1)'!I11)<0, "0", ('Bg(1)'!I11)) -> #VALUE! | ... Y11: =IF(('Bg(1)'!Y11)<0, "0", ('Bg(1)'!Y11)) -> #VALUE!
A12: =Averages!A12 -> IL-17 | B12: =IF(('Bg(1)'!B12)<0, "0", ('Bg(1)'!B12)) -> 0 | C12: =IF(('Bg(1)'!C12)<0, "0", ('Bg(1)'!C12)) -> #VALUE! | D12: =IF(('Bg(1)'!D12)<0, "0", ('Bg(1)'!D12)) -> #VALUE! | E12: =IF(('Bg(1)'!E12)<0, "0", ('Bg(1)'!E12)) -> #VALUE! | F12: =IF(('Bg(1)'!F12)<0, "0", ('Bg(1)'!F12)) -> #VALUE! | G12: =IF(('Bg(1)'!G12)<0, "0", ('Bg(1)'!G12)) -> #VALUE! | H12: =IF(('Bg(1)'!H12)<0, "0", ('Bg(1)'!H12)) -> #VALUE! | I12: =IF(('Bg(1)'!I12)<0, "0", ('Bg(1)'!I12)) -> #VALUE! | ... Y12: =IF(('Bg(1)'!Y12)<0, "0", ('Bg(1)'!Y12)) -> #VALUE!
A13: =Averages!A13 -> IL-17F | B13: =IF(('Bg(1)'!B13)<0, "0", ('Bg(1)'!B13)) -> 0 | C13: =IF(('Bg(1)'!C13)<0, "0", ('Bg(1)'!C13)) -> #VALUE! | D13: =IF(('Bg(1)'!D13)<0, "0", ('Bg(1)'!D13)) -> #VALUE! | E13: =IF(('Bg(1)'!E13)<0, "0", ('Bg(1)'!E13)) -> #VALUE! | F13: =IF(('Bg(1)'!F13)<0, "0", ('Bg(1)'!F13)) -> #VALUE! | G13: =IF(('Bg(1)'!G13)<0, "0", ('Bg(1)'!G13)) -> #VALUE! | H13: =IF(('Bg(1)'!H13)<0, "0", ('Bg(1)'!H13)) -> #VALUE! | I13: =IF(('Bg(1)'!I13)<0, "0", ('Bg(1)'!I13)) -> #VALUE! | ... Y13: =IF(('Bg(1)'!Y13)<0, "0", ('Bg(1)'!Y13)) -> #VALUE!
A14: =Averages!A14 -> IL-18 | B14: =IF(('Bg(1)'!B14)<0, "0", ('Bg(1)'!B14)) -> 0 | C14: =IF(('Bg(1)'!C14)<0, "0", ('Bg(1)'!C14)) -> #VALUE! | D14: =IF(('Bg(1)'!D14)<0, "0", ('Bg(1)'!D14)) -> #VALUE! | E14: =IF(('Bg(1)'!E14)<0, "0", ('Bg(1)'!E14)) -> #VALUE! | F14: =IF(('Bg(1)'!F14)<0, "0", ('Bg(1)'!F14)) -> #VALUE! | G14: =IF(('Bg(1)'!G14)<0, "0", ('Bg(1)'!G14)) -> #VALUE! | H14: =IF(('Bg(1)'!H14)<0, "0", ('Bg(1)'!H14)) -> #VALUE! | I14: =IF(('Bg(1)'!I14)<0, "0", ('Bg(1)'!I14)) -> #VALUE! | ... Y14: =IF(('Bg(1)'!Y14)<0, "0", ('Bg(1)'!Y14)) -> #VALUE!
A15: =Averages!A15 -> IL-2 | B15: =IF(('Bg(1)'!B15)<0, "0", ('Bg(1)'!B15)) -> 0 | C15: =IF(('Bg(1)'!C15)<0, "0", ('Bg(1)'!C15)) -> #VALUE! | D15: =IF(('Bg(1)'!D15)<0, "0", ('Bg(1)'!D15)) -> #VALUE! | E15: =IF(('Bg(1)'!E15)<0, "0", ('Bg(1)'!E15)) -> #VALUE! | F15: =IF(('Bg(1)'!F15)<0, "0", ('Bg(1)'!F15)) -> #VALUE! | G15: =IF(('Bg(1)'!G15)<0, "0", ('Bg(1)'!G15)) -> #VALUE! | H15: =IF(('Bg(1)'!H15)<0, "0", ('Bg(1)'!H15)) -> #VALUE! | I15: =IF(('Bg(1)'!I15)<0, "0", ('Bg(1)'!I15)) -> #VALUE! | ... Y15: =IF(('Bg(1)'!Y15)<0, "0", ('Bg(1)'!Y15)) -> #VALUE!
A16: =Averages!A16 -> IL-4 | B16: =IF(('Bg(1)'!B16)<0, "0", ('Bg(1)'!B16)) -> 0 | C16: =IF(('Bg(1)'!C16)<0, "0", ('Bg(1)'!C16)) -> #VALUE! | D16: =IF(('Bg(1)'!D16)<0, "0", ('Bg(1)'!D16)) -> #VALUE! | E16: =IF(('Bg(1)'!E16)<0, "0", ('Bg(1)'!E16)) -> #VALUE! | F16: =IF(('Bg(1)'!F16)<0, "0", ('Bg(1)'!F16)) -> #VALUE! | G16: =IF(('Bg(1)'!G16)<0, "0", ('Bg(1)'!G16)) -> #VALUE! | H16: =IF(('Bg(1)'!H16)<0, "0", ('Bg(1)'!H16)) -> #VALUE! | I16: =IF(('Bg(1)'!I16)<0, "0", ('Bg(1)'!I16)) -> #VALUE! | ... Y16: =IF(('Bg(1)'!Y16)<0, "0", ('Bg(1)'!Y16)) -> #VALUE!
A17: =Averages!A17 -> IL-5 | B17: =IF(('Bg(1)'!B17)<0, "0", ('Bg(1)'!B17)) -> 0 | C17: =IF(('Bg(1)'!C17)<0, "0", ('Bg(1)'!C17)) -> #VALUE! | D17: =IF(('Bg(1)'!D17)<0, "0", ('Bg(1)'!D17)) -> #VALUE! | E17: =IF(('Bg(1)'!E17)<0, "0", ('Bg(1)'!E17)) -> #VALUE! | F17: =IF(('Bg(1)'!F17)<0, "0", ('Bg(1)'!F17)) -> #VALUE! | G17: =IF(('Bg(1)'!G17)<0, "0", ('Bg(1)'!G17)) -> #VALUE! | H17: =IF(('Bg(1)'!H17)<0, "0", ('Bg(1)'!H17)) -> #VALUE! | I17: =IF(('Bg(1)'!I17)<0, "0", ('Bg(1)'!I17)) -> #VALUE! | ... Y17: =IF(('Bg(1)'!Y17)<0, "0", ('Bg(1)'!Y17)) -> #VALUE!
... A25: =Averages!A25 -> BLANK | B25: =IF(('Bg(1)'!B25)<0, "0", ('Bg(1)'!B25)) -> 0 | C25: =IF(('Bg(1)'!C25)<0, "0", ('Bg(1)'!C25)) -> #VALUE! | D25: =IF(('Bg(1)'!D25)<0, "0", ('Bg(1)'!D25)) -> #VALUE! | E25: =IF(('Bg(1)'!E25)<0, "0", ('Bg(1)'!E25)) -> #VALUE! | F25: =IF(('Bg(1)'!F25)<0, "0", ('Bg(1)'!F25)) -> #VALUE! | G25: =IF(('Bg(1)'!G25)<0, "0", ('Bg(1)'!G25)) -> #VALUE! | H25: =IF(('Bg(1)'!H25)<0, "0", ('Bg(1)'!H25)) -> #VALUE! | I25: =IF(('Bg(1)'!I25)<0, "0", ('Bg(1)'!I25)) -> #VALUE! | ... Y25: =IF(('Bg(1)'!Y25)<0, "0", ('Bg(1)'!Y25)) -> #VALUE!
A26: =Averages!#REF! -> #REF! | B26: =IF(('Bg(1)'!B26)<0, "0", ('Bg(1)'!B26)) -> #REF! | C26: =IF(('Bg(1)'!C26)<0, "0", ('Bg(1)'!C26)) -> #REF! | D26: =IF(('Bg(1)'!D26)<0, "0", ('Bg(1)'!D26)) -> #REF! | E26: =IF(('Bg(1)'!E26)<0, "0", ('Bg(1)'!E26)) -> #REF! | F26: =IF(('Bg(1)'!F26)<0, "0", ('Bg(1)'!F26)) -> #REF! | G26: =IF(('Bg(1)'!G26)<0, "0", ('Bg(1)'!G26)) -> #REF! | H26: =IF(('Bg(1)'!H26)<0, "0", ('Bg(1)'!H26)) -> #REF! | I26: =IF(('Bg(1)'!I26)<0, "0", ('Bg(1)'!I26)) -> #REF! | ... Y26: =IF(('Bg(1)'!Y26)<0, "0", ('Bg(1)'!Y26)) -> #REF!
A27: =Averages!#REF! -> #REF! | B27: =IF(('Bg(1)'!B27)<0, "0", ('Bg(1)'!B27)) -> #REF! | C27: =IF(('Bg(1)'!C27)<0, "0", ('Bg(1)'!C27)) -> #REF! | D27: =IF(('Bg(1)'!D27)<0, "0", ('Bg(1)'!D27)) -> #REF! | E27: =IF(('Bg(1)'!E27)<0, "0", ('Bg(1)'!E27)) -> #REF! | F27: =IF(('Bg(1)'!F27)<0, "0", ('Bg(1)'!F27)) -> #REF! | G27: =IF(('Bg(1)'!G27)<0, "0", ('Bg(1)'!G27)) -> #REF! | H27: =IF(('Bg(1)'!H27)<0, "0", ('Bg(1)'!H27)) -> #REF! | I27: =IF(('Bg(1)'!I27)<0, "0", ('Bg(1)'!I27)) -> #REF! | ... Y27: =IF(('Bg(1)'!Y27)<0, "0", ('Bg(1)'!Y27)) -> #REF!

Sheet Normalization 1
A2: ='Aligning data'!A1 -> RayBio® Cytokine Antibody Arrays --AAM-TCR-1
A4: Normalization (with Background Subtraction)
B6: ='Bg Subtraction'!B4 -> Sample 1 | C6: ='Bg Subtraction'!C4 -> Sample 2 | D6: ='Bg Subtraction'!D4 -> Sample 3 | E6: ='Bg Subtraction'!E4 -> Sample 4 | F6: ='Bg Subtraction'!F4 -> Sample 5 | G6: ='Bg Subtraction'!G4 -> Sample 6 | H6: ='Bg Subtraction'!H4 -> Sample 7 | I6: ='Bg Subtraction'!I4 -> Sample 8 | ... Y6: ='Bg Subtraction'!Y4 -> SAMPLE 24
A8: ='Bg Subtraction'!A6 -> POS | B8: ='Bg Subtraction'!B6*'Bg Subtraction'!B6/'Bg Subtraction'!B6 -> #DIV/0! | C8: ='Bg Subtraction'!C6*'Bg Subtraction'!B6/'Bg Subtraction'!C6 -> #VALUE! | D8: ='Bg Subtraction'!D6*'Bg Subtraction'!B6/'Bg Subtraction'!D6 -> #VALUE! | E8: ='Bg Subtraction'!E6*'Bg Subtraction'!B6/'Bg Subtraction'!E6 -> #VALUE! | F8: ='Bg Subtraction'!F6*'Bg Subtraction'!B6/'Bg Subtraction'!F6 -> #VALUE! | G8: ='Bg Subtraction'!G6*'Bg Subtraction'!B6/'Bg Subtraction'!G6 -> #VALUE! | H8: ='Bg Subtraction'!H6*'Bg Subtraction'!B6/'Bg Subtraction'!H6 -> #VALUE! | I8: ='Bg Subtraction'!I6*'Bg Subtraction'!B6/'Bg Subtraction'!I6 -> #VALUE! | J8: ='Bg Subtraction'!J6*'Bg Subtraction'!B6/'Bg Subtraction'!J6 -> #VALUE! | K8: ='Bg Subtraction'!K6*'Bg Subtraction'!B6/'Bg Subtraction'!K6 -> #VALUE! | L8: ='Bg Subtraction'!L6*'Bg Subtraction'!B6/'Bg Subtraction'!L6 -> #VALUE! | M8: ='Bg Subtraction'!M6*'Bg Subtraction'!B6/'Bg Subtraction'!M6 -> #VALUE! | N8: ='Bg Subtraction'!N6*'Bg Subtraction'!B6/'Bg Subtraction'!N6 -> #VALUE! | O8: ='Bg Subtraction'!O6*'Bg Subtraction'!B6/'Bg Subtraction'!O6 -> #VALUE! | P8: ='Bg Subtraction'!P6*'Bg Subtraction'!B6/'Bg Subtraction'!P6 -> #VALUE! | Q8: ='Bg Subtraction'!Q6*'Bg Subtraction'!B6/'Bg Subtraction'!Q6 -> #VALUE! | R8: ='Bg Subtraction'!R6*'Bg Subtraction'!B6/'Bg Subtraction'!R6 -> #VALUE! | S8: ='Bg Subtraction'!S6*'Bg Subtraction'!B6/'Bg Subtraction'!S6 -> #VALUE! | T8: ='Bg Subtraction'!T6*'Bg Subtraction'!B6/'Bg Subtraction'!T6 -> #VALUE! | U8: ='Bg Subtraction'!U6*'Bg Subtraction'!B6/'Bg Subtraction'!U6 -> #VALUE! | V8: ='Bg Subtraction'!V6*'Bg Subtraction'!B6/'Bg Subtraction'!V6 -> #VALUE! | W8: ='Bg Subtraction'!W6*'Bg Subtraction'!B6/'Bg Subtraction'!W6 -> #VALUE! | X8: ='Bg Subtraction'!X6*'Bg Subtraction'!B6/'Bg Subtraction'!X6 -> #VALUE! | Y8: ='Bg Subtraction'!Y6*'Bg Subtraction'!B6/'Bg Subtraction'!Y6 -> #VALUE!
A9: ='Bg Subtraction'!A7 -> NEG | B9: ='Bg Subtraction'!B7*'Bg Subtraction'!B6/'Bg Subtraction'!B6 -> #DIV/0! | C9: ='Bg Subtraction'!C7*'Bg Subtraction'!B6/'Bg Subtraction'!C6 -> #VALUE! | D9: ='Bg Subtraction'!D7*'Bg Subtraction'!B6/'Bg Subtraction'!D6 -> #VALUE! | E9: ='Bg Subtraction'!E7*'Bg Subtraction'!B6/'Bg Subtraction'!E6 -> #VALUE! | F9: ='Bg Subtraction'!F7*'Bg Subtraction'!B6/'Bg Subtraction'!F6 -> #VALUE! | G9: ='Bg Subtraction'!G7*'Bg Subtraction'!B6/'Bg Subtraction'!G6 -> #VALUE! | H9: ='Bg Subtraction'!H7*'Bg Subtraction'!B6/'Bg Subtraction'!H6 -> #VALUE! | I9: ='Bg Subtraction'!I7*'Bg Subtraction'!B6/'Bg Subtraction'!I6 -> #VALUE! | J9: ='Bg Subtraction'!J7*'Bg Subtraction'!B6/'Bg Subtraction'!J6 -> #VALUE! | K9: ='Bg Subtraction'!K7*'Bg Subtraction'!B6/'Bg Subtraction'!K6 -> #VALUE! | L9: ='Bg Subtraction'!L7*'Bg Subtraction'!B6/'Bg Subtraction'!L6 -> #VALUE! | M9: ='Bg Subtraction'!M7*'Bg Subtraction'!B6/'Bg Subtraction'!M6 -> #VALUE! | N9: ='Bg Subtraction'!N7*'Bg Subtraction'!B6/'Bg Subtraction'!N6 -> #VALUE! | O9: ='Bg Subtraction'!O7*'Bg Subtraction'!B6/'Bg Subtraction'!O6 -> #VALUE! | P9: ='Bg Subtraction'!P7*'Bg Subtraction'!B6/'Bg Subtraction'!P6 -> #VALUE! | Q9: ='Bg Subtraction'!Q7*'Bg Subtraction'!B6/'Bg Subtraction'!Q6 -> #VALUE! | R9: ='Bg Subtraction'!R7*'Bg Subtraction'!B6/'Bg Subtraction'!R6 -> #VALUE! | S9: ='Bg Subtraction'!S7*'Bg Subtraction'!B6/'Bg Subtraction'!S6 -> #VALUE! | T9: ='Bg Subtraction'!T7*'Bg Subtraction'!B6/'Bg Subtraction'!T6 -> #VALUE! | U9: ='Bg Subtraction'!U7*'Bg Subtraction'!B6/'Bg Subtraction'!U6 -> #VALUE! | V9: ='Bg Subtraction'!V7*'Bg Subtraction'!B6/'Bg Subtraction'!V6 -> #VALUE! | W9: ='Bg Subtraction'!W7*'Bg Subtraction'!B6/'Bg Subtraction'!W6 -> #VALUE! | X9: ='Bg Subtraction'!X7*'Bg Subtraction'!B6/'Bg Subtraction'!X6 -> #VALUE! | Y9: ='Bg Subtraction'!Y7*'Bg Subtraction'!B6/'Bg Subtraction'!Y6 -> #VALUE!
A10: ='Bg Subtraction'!A8 -> IFNg | B10: ='Bg Subtraction'!B8*'Bg Subtraction'!B6/'Bg Subtraction'!B6 -> #DIV/0! | C10: ='Bg Subtraction'!C8*'Bg Subtraction'!B6/'Bg Subtraction'!C6 -> #VALUE! | D10: ='Bg Subtraction'!D8*'Bg Subtraction'!B6/'Bg Subtraction'!D6 -> #VALUE! | E10: ='Bg Subtraction'!E8*'Bg Subtraction'!B6/'Bg Subtraction'!E6 -> #VALUE! | F10: ='Bg Subtraction'!F8*'Bg Subtraction'!B6/'Bg Subtraction'!F6 -> #VALUE! | G10: ='Bg Subtraction'!G8*'Bg Subtraction'!B6/'Bg Subtraction'!G6 -> #VALUE! | H10: ='Bg Subtraction'!H8*'Bg Subtraction'!B6/'Bg Subtraction'!H6 -> #VALUE! | I10: ='Bg Subtraction'!I8*'Bg Subtraction'!B6/'Bg Subtraction'!I6 -> #VALUE! | J10: ='Bg Subtraction'!J8*'Bg Subtraction'!B6/'Bg Subtraction'!J6 -> #VALUE! | K10: ='Bg Subtraction'!K8*'Bg Subtraction'!B6/'Bg Subtraction'!K6 -> #VALUE! | L10: ='Bg Subtraction'!L8*'Bg Subtraction'!B6/'Bg Subtraction'!L6 -> #VALUE! | M10: ='Bg Subtraction'!M8*'Bg Subtraction'!B6/'Bg Subtraction'!M6 -> #VALUE! | N10: ='Bg Subtraction'!N8*'Bg Subtraction'!B6/'Bg Subtraction'!N6 -> #VALUE! | O10: ='Bg Subtraction'!O8*'Bg Subtraction'!B6/'Bg Subtraction'!O6 -> #VALUE! | P10: ='Bg Subtraction'!P8*'Bg Subtraction'!B6/'Bg Subtraction'!P6 -> #VALUE! | Q10: ='Bg Subtraction'!Q8*'Bg Subtraction'!B6/'Bg Subtraction'!Q6 -> #VALUE! | R10: ='Bg Subtraction'!R8*'Bg Subtraction'!B6/'Bg Subtraction'!R6 -> #VALUE! | S10: ='Bg Subtraction'!S8*'Bg Subtraction'!B6/'Bg Subtraction'!S6 -> #VALUE! | T10: ='Bg Subtraction'!T8*'Bg Subtraction'!B6/'Bg Subtraction'!T6 -> #VALUE! | U10: ='Bg Subtraction'!U8*'Bg Subtraction'!B6/'Bg Subtraction'!U6 -> #VALUE! | V10: ='Bg Subtraction'!V8*'Bg Subtraction'!B6/'Bg Subtraction'!V6 -> #VALUE! | W10: ='Bg Subtraction'!W8*'Bg Subtraction'!B6/'Bg Subtraction'!W6 -> #VALUE! | X10: ='Bg Subtraction'!X8*'Bg Subtraction'!B6/'Bg Subtraction'!X6 -> #VALUE! | Y10: ='Bg Subtraction'!Y8*'Bg Subtraction'!B6/'Bg Subtraction'!Y6 -> #VALUE!
A11: ='Bg Subtraction'!A9 -> IL-10 | B11: ='Bg Subtraction'!B9*'Bg Subtraction'!B6/'Bg Subtraction'!B6 -> #DIV/0! | C11: ='Bg Subtraction'!C9*'Bg Subtraction'!B6/'Bg Subtraction'!C6 -> #VALUE! | D11: ='Bg Subtraction'!D9*'Bg Subtraction'!B6/'Bg Subtraction'!D6 -> #VALUE! | E11: ='Bg Subtraction'!E9*'Bg Subtraction'!B6/'Bg Subtraction'!E6 -> #VALUE! | F11: ='Bg Subtraction'!F9*'Bg Subtraction'!B6/'Bg Subtraction'!F6 -> #VALUE! | G11: ='Bg Subtraction'!G9*'Bg Subtraction'!B6/'Bg Subtraction'!G6 -> #VALUE! | H11: ='Bg Subtraction'!H9*'Bg Subtraction'!B6/'Bg Subtraction'!H6 -> #VALUE! | I11: ='Bg Subtraction'!I9*'Bg Subtraction'!B6/'Bg Subtraction'!I6 -> #VALUE! | J11: ='Bg Subtraction'!J9*'Bg Subtraction'!B6/'Bg Subtraction'!J6 -> #VALUE! | K11: ='Bg Subtraction'!K9*'Bg Subtraction'!B6/'Bg Subtraction'!K6 -> #VALUE! | L11: ='Bg Subtraction'!L9*'Bg Subtraction'!B6/'Bg Subtraction'!L6 -> #VALUE! | M11: ='Bg Subtraction'!M9*'Bg Subtraction'!B6/'Bg Subtraction'!M6 -> #VALUE! | N11: ='Bg Subtraction'!N9*'Bg Subtraction'!B6/'Bg Subtraction'!N6 -> #VALUE! | O11: ='Bg Subtraction'!O9*'Bg Subtraction'!B6/'Bg Subtraction'!O6 -> #VALUE! | P11: ='Bg Subtraction'!P9*'Bg Subtraction'!B6/'Bg Subtraction'!P6 -> #VALUE! | Q11: ='Bg Subtraction'!Q9*'Bg Subtraction'!B6/'Bg Subtraction'!Q6 -> #VALUE! | R11: ='Bg Subtraction'!R9*'Bg Subtraction'!B6/'Bg Subtraction'!R6 -> #VALUE! | S11: ='Bg Subtraction'!S9*'Bg Subtraction'!B6/'Bg Subtraction'!S6 -> #VALUE! | T11: ='Bg Subtraction'!T9*'Bg Subtraction'!B6/'Bg Subtraction'!T6 -> #VALUE! | U11: ='Bg Subtraction'!U9*'Bg Subtraction'!B6/'Bg Subtraction'!U6 -> #VALUE! | V11: ='Bg Subtraction'!V9*'Bg Subtraction'!B6/'Bg Subtraction'!V6 -> #VALUE! | W11: ='Bg Subtraction'!W9*'Bg Subtraction'!B6/'Bg Subtraction'!W6 -> #VALUE! | X11: ='Bg Subtraction'!X9*'Bg Subtraction'!B6/'Bg Subtraction'!X6 -> #VALUE! | Y11: ='Bg Subtraction'!Y9*'Bg Subtraction'!B6/'Bg Subtraction'!Y6 -> #VALUE!
A12: ='Bg Subtraction'!A10 -> IL-12p70 | B12: ='Bg Subtraction'!B10*'Bg Subtraction'!B6/'Bg Subtraction'!B6 -> #DIV/0! | C12: ='Bg Subtraction'!C10*'Bg Subtraction'!B6/'Bg Subtraction'!C6 -> #VALUE! | D12: ='Bg Subtraction'!D10*'Bg Subtraction'!B6/'Bg Subtraction'!D6 -> #VALUE! | E12: ='Bg Subtraction'!E10*'Bg Subtraction'!B6/'Bg Subtraction'!E6 -> #VALUE! | F12: ='Bg Subtraction'!F10*'Bg Subtraction'!B6/'Bg Subtraction'!F6 -> #VALUE! | G12: ='Bg Subtraction'!G10*'Bg Subtraction'!B6/'Bg Subtraction'!G6 -> #VALUE! | H12: ='Bg Subtraction'!H10*'Bg Subtraction'!B6/'Bg Subtraction'!H6 -> #VALUE! | I12: ='Bg Subtraction'!I10*'Bg Subtraction'!B6/'Bg Subtraction'!I6 -> #VALUE! | J12: ='Bg Subtraction'!J10*'Bg Subtraction'!B6/'Bg Subtraction'!J6 -> #VALUE! | K12: ='Bg Subtraction'!K10*'Bg Subtraction'!B6/'Bg Subtraction'!K6 -> #VALUE! | L12: ='Bg Subtraction'!L10*'Bg Subtraction'!B6/'Bg Subtraction'!L6 -> #VALUE! | M12: ='Bg Subtraction'!M10*'Bg Subtraction'!B6/'Bg Subtraction'!M6 -> #VALUE! | N12: ='Bg Subtraction'!N10*'Bg Subtraction'!B6/'Bg Subtraction'!N6 -> #VALUE! | O12: ='Bg Subtraction'!O10*'Bg Subtraction'!B6/'Bg Subtraction'!O6 -> #VALUE! | P12: ='Bg Subtraction'!P10*'Bg Subtraction'!B6/'Bg Subtraction'!P6 -> #VALUE! | Q12: ='Bg Subtraction'!Q10*'Bg Subtraction'!B6/'Bg Subtraction'!Q6 -> #VALUE! | R12: ='Bg Subtraction'!R10*'Bg Subtraction'!B6/'Bg Subtraction'!R6 -> #VALUE! | S12: ='Bg Subtraction'!S10*'Bg Subtraction'!B6/'Bg Subtraction'!S6 -> #VALUE! | T12: ='Bg Subtraction'!T10*'Bg Subtraction'!B6/'Bg Subtraction'!T6 -> #VALUE! | U12: ='Bg Subtraction'!U10*'Bg Subtraction'!B6/'Bg Subtraction'!U6 -> #VALUE! | V12: ='Bg Subtraction'!V10*'Bg Subtraction'!B6/'Bg Subtraction'!V6 -> #VALUE! | W12: ='Bg Subtraction'!W10*'Bg Subtraction'!B6/'Bg Subtraction'!W6 -> #VALUE! | X12: ='Bg Subtraction'!X10*'Bg Subtraction'!B6/'Bg Subtraction'!X6 -> #VALUE! | Y12: ='Bg Subtraction'!Y10*'Bg Subtraction'!B6/'Bg Subtraction'!Y6 -> #VALUE!
A13: ='Bg Subtraction'!A11 -> IL-13 | B13: ='Bg Subtraction'!B11*'Bg Subtraction'!B6/'Bg Subtraction'!B6 -> #DIV/0! | C13: ='Bg Subtraction'!C11*'Bg Subtraction'!B6/'Bg Subtraction'!C6 -> #VALUE! | D13: ='Bg Subtraction'!D11*'Bg Subtraction'!B6/'Bg Subtraction'!D6 -> #VALUE! | E13: ='Bg Subtraction'!E11*'Bg Subtraction'!B6/'Bg Subtraction'!E6 -> #VALUE! | F13: ='Bg Subtraction'!F11*'Bg Subtraction'!B6/'Bg Subtraction'!F6 -> #VALUE! | G13: ='Bg Subtraction'!G11*'Bg Subtraction'!B6/'Bg Subtraction'!G6 -> #VALUE! | H13: ='Bg Subtraction'!H11*'Bg Subtraction'!B6/'Bg Subtraction'!H6 -> #VALUE! | I13: ='Bg Subtraction'!I11*'Bg Subtraction'!B6/'Bg Subtraction'!I6 -> #VALUE! | J13: ='Bg Subtraction'!J11*'Bg Subtraction'!B6/'Bg Subtraction'!J6 -> #VALUE! | K13: ='Bg Subtraction'!K11*'Bg Subtraction'!B6/'Bg Subtraction'!K6 -> #VALUE! | L13: ='Bg Subtraction'!L11*'Bg Subtraction'!B6/'Bg Subtraction'!L6 -> #VALUE! | M13: ='Bg Subtraction'!M11*'Bg Subtraction'!B6/'Bg Subtraction'!M6 -> #VALUE! | N13: ='Bg Subtraction'!N11*'Bg Subtraction'!B6/'Bg Subtraction'!N6 -> #VALUE! | O13: ='Bg Subtraction'!O11*'Bg Subtraction'!B6/'Bg Subtraction'!O6 -> #VALUE! | P13: ='Bg Subtraction'!P11*'Bg Subtraction'!B6/'Bg Subtraction'!P6 -> #VALUE! | Q13: ='Bg Subtraction'!Q11*'Bg Subtraction'!B6/'Bg Subtraction'!Q6 -> #VALUE! | R13: ='Bg Subtraction'!R11*'Bg Subtraction'!B6/'Bg Subtraction'!R6 -> #VALUE! | S13: ='Bg Subtraction'!S11*'Bg Subtraction'!B6/'Bg Subtraction'!S6 -> #VALUE! | T13: ='Bg Subtraction'!T11*'Bg Subtraction'!B6/'Bg Subtraction'!T6 -> #VALUE! | U13: ='Bg Subtraction'!U11*'Bg Subtraction'!B6/'Bg Subtraction'!U6 -> #VALUE! | V13: ='Bg Subtraction'!V11*'Bg Subtraction'!B6/'Bg Subtraction'!V6 -> #VALUE! | W13: ='Bg Subtraction'!W11*'Bg Subtraction'!B6/'Bg Subtraction'!W6 -> #VALUE! | X13: ='Bg Subtraction'!X11*'Bg Subtraction'!B6/'Bg Subtraction'!X6 -> #VALUE! | Y13: ='Bg Subtraction'!Y11*'Bg Subtraction'!B6/'Bg Subtraction'!Y6 -> #VALUE!
A14: ='Bg Subtraction'!A12 -> IL-17 | B14: ='Bg Subtraction'!B12*'Bg Subtraction'!B6/'Bg Subtraction'!B6 -> #DIV/0! | C14: ='Bg Subtraction'!C12*'Bg Subtraction'!B6/'Bg Subtraction'!C6 -> #VALUE! | D14: ='Bg Subtraction'!D12*'Bg Subtraction'!B6/'Bg Subtraction'!D6 -> #VALUE! | E14: ='Bg Subtraction'!E12*'Bg Subtraction'!B6/'Bg Subtraction'!E6 -> #VALUE! | F14: ='Bg Subtraction'!F12*'Bg Subtraction'!B6/'Bg Subtraction'!F6 -> #VALUE! | G14: ='Bg Subtraction'!G12*'Bg Subtraction'!B6/'Bg Subtraction'!G6 -> #VALUE! | H14: ='Bg Subtraction'!H12*'Bg Subtraction'!B6/'Bg Subtraction'!H6 -> #VALUE! | I14: ='Bg Subtraction'!I12*'Bg Subtraction'!B6/'Bg Subtraction'!I6 -> #VALUE! | J14: ='Bg Subtraction'!J12*'Bg Subtraction'!B6/'Bg Subtraction'!J6 -> #VALUE! | K14: ='Bg Subtraction'!K12*'Bg Subtraction'!B6/'Bg Subtraction'!K6 -> #VALUE! | L14: ='Bg Subtraction'!L12*'Bg Subtraction'!B6/'Bg Subtraction'!L6 -> #VALUE! | M14: ='Bg Subtraction'!M12*'Bg Subtraction'!B6/'Bg Subtraction'!M6 -> #VALUE! | N14: ='Bg Subtraction'!N12*'Bg Subtraction'!B6/'Bg Subtraction'!N6 -> #VALUE! | O14: ='Bg Subtraction'!O12*'Bg Subtraction'!B6/'Bg Subtraction'!O6 -> #VALUE! | P14: ='Bg Subtraction'!P12*'Bg Subtraction'!B6/'Bg Subtraction'!P6 -> #VALUE! | Q14: ='Bg Subtraction'!Q12*'Bg Subtraction'!B6/'Bg Subtraction'!Q6 -> #VALUE! | R14: ='Bg Subtraction'!R12*'Bg Subtraction'!B6/'Bg Subtraction'!R6 -> #VALUE! | S14: ='Bg Subtraction'!S12*'Bg Subtraction'!B6/'Bg Subtraction'!S6 -> #VALUE! | T14: ='Bg Subtraction'!T12*'Bg Subtraction'!B6/'Bg Subtraction'!T6 -> #VALUE! | U14: ='Bg Subtraction'!U12*'Bg Subtraction'!B6/'Bg Subtraction'!U6 -> #VALUE! | V14: ='Bg Subtraction'!V12*'Bg Subtraction'!B6/'Bg Subtraction'!V6 -> #VALUE! | W14: ='Bg Subtraction'!W12*'Bg Subtraction'!B6/'Bg Subtraction'!W6 -> #VALUE! | X14: ='Bg Subtraction'!X12*'Bg Subtraction'!B6/'Bg Subtraction'!X6 -> #VALUE! | Y14: ='Bg Subtraction'!Y12*'Bg Subtraction'!B6/'Bg Subtraction'!Y6 -> #VALUE!
A15: ='Bg Subtraction'!A13 -> IL-17F | B15: ='Bg Subtraction'!B13*'Bg Subtraction'!B6/'Bg Subtraction'!B6 -> #DIV/0! | C15: ='Bg Subtraction'!C13*'Bg Subtraction'!B6/'Bg Subtraction'!C6 -> #VALUE! | D15: ='Bg Subtraction'!D13*'Bg Subtraction'!B6/'Bg Subtraction'!D6 -> #VALUE! | E15: ='Bg Subtraction'!E13*'Bg Subtraction'!B6/'Bg Subtraction'!E6 -> #VALUE! | F15: ='Bg Subtraction'!F13*'Bg Subtraction'!B6/'Bg Subtraction'!F6 -> #VALUE! | G15: ='Bg Subtraction'!G13*'Bg Subtraction'!B6/'Bg Subtraction'!G6 -> #VALUE! | H15: ='Bg Subtraction'!H13*'Bg Subtraction'!B6/'Bg Subtraction'!H6 -> #VALUE! | I15: ='Bg Subtraction'!I13*'Bg Subtraction'!B6/'Bg Subtraction'!I6 -> #VALUE! | J15: ='Bg Subtraction'!J13*'Bg Subtraction'!B6/'Bg Subtraction'!J6 -> #VALUE! | K15: ='Bg Subtraction'!K13*'Bg Subtraction'!B6/'Bg Subtraction'!K6 -> #VALUE! | L15: ='Bg Subtraction'!L13*'Bg Subtraction'!B6/'Bg Subtraction'!L6 -> #VALUE! | M15: ='Bg Subtraction'!M13*'Bg Subtraction'!B6/'Bg Subtraction'!M6 -> #VALUE! | N15: ='Bg Subtraction'!N13*'Bg Subtraction'!B6/'Bg Subtraction'!N6 -> #VALUE! | O15: ='Bg Subtraction'!O13*'Bg Subtraction'!B6/'Bg Subtraction'!O6 -> #VALUE! | P15: ='Bg Subtraction'!P13*'Bg Subtraction'!B6/'Bg Subtraction'!P6 -> #VALUE! | Q15: ='Bg Subtraction'!Q13*'Bg Subtraction'!B6/'Bg Subtraction'!Q6 -> #VALUE! | R15: ='Bg Subtraction'!R13*'Bg Subtraction'!B6/'Bg Subtraction'!R6 -> #VALUE! | S15: ='Bg Subtraction'!S13*'Bg Subtraction'!B6/'Bg Subtraction'!S6 -> #VALUE! | T15: ='Bg Subtraction'!T13*'Bg Subtraction'!B6/'Bg Subtraction'!T6 -> #VALUE! | U15: ='Bg Subtraction'!U13*'Bg Subtraction'!B6/'Bg Subtraction'!U6 -> #VALUE! | V15: ='Bg Subtraction'!V13*'Bg Subtraction'!B6/'Bg Subtraction'!V6 -> #VALUE! | W15: ='Bg Subtraction'!W13*'Bg Subtraction'!B6/'Bg Subtraction'!W6 -> #VALUE! | X15: ='Bg Subtraction'!X13*'Bg Subtraction'!B6/'Bg Subtraction'!X6 -> #VALUE! | Y15: ='Bg Subtraction'!Y13*'Bg Subtraction'!B6/'Bg Subtraction'!Y6 -> #VALUE!
A16: ='Bg Subtraction'!A14 -> IL-18 | B16: ='Bg Subtraction'!B14*'Bg Subtraction'!B6/'Bg Subtraction'!B6 -> #DIV/0! | C16: ='Bg Subtraction'!C14*'Bg Subtraction'!B6/'Bg Subtraction'!C6 -> #VALUE! | D16: ='Bg Subtraction'!D14*'Bg Subtraction'!B6/'Bg Subtraction'!D6 -> #VALUE! | E16: ='Bg Subtraction'!E14*'Bg Subtraction'!B6/'Bg Subtraction'!E6 -> #VALUE! | F16: ='Bg Subtraction'!F14*'Bg Subtraction'!B6/'Bg Subtraction'!F6 -> #VALUE! | G16: ='Bg Subtraction'!G14*'Bg Subtraction'!B6/'Bg Subtraction'!G6 -> #VALUE! | H16: ='Bg Subtraction'!H14*'Bg Subtraction'!B6/'Bg Subtraction'!H6 -> #VALUE! | I16: ='Bg Subtraction'!I14*'Bg Subtraction'!B6/'Bg Subtraction'!I6 -> #VALUE! | J16: ='Bg Subtraction'!J14*'Bg Subtraction'!B6/'Bg Subtraction'!J6 -> #VALUE! | K16: ='Bg Subtraction'!K14*'Bg Subtraction'!B6/'Bg Subtraction'!K6 -> #VALUE! | L16: ='Bg Subtraction'!L14*'Bg Subtraction'!B6/'Bg Subtraction'!L6 -> #VALUE! | M16: ='Bg Subtraction'!M14*'Bg Subtraction'!B6/'Bg Subtraction'!M6 -> #VALUE! | N16: ='Bg Subtraction'!N14*'Bg Subtraction'!B6/'Bg Subtraction'!N6 -> #VALUE! | O16: ='Bg Subtraction'!O14*'Bg Subtraction'!B6/'Bg Subtraction'!O6 -> #VALUE! | P16: ='Bg Subtraction'!P14*'Bg Subtraction'!B6/'Bg Subtraction'!P6 -> #VALUE! | Q16: ='Bg Subtraction'!Q14*'Bg Subtraction'!B6/'Bg Subtraction'!Q6 -> #VALUE! | R16: ='Bg Subtraction'!R14*'Bg Subtraction'!B6/'Bg Subtraction'!R6 -> #VALUE! | S16: ='Bg Subtraction'!S14*'Bg Subtraction'!B6/'Bg Subtraction'!S6 -> #VALUE! | T16: ='Bg Subtraction'!T14*'Bg Subtraction'!B6/'Bg Subtraction'!T6 -> #VALUE! | U16: ='Bg Subtraction'!U14*'Bg Subtraction'!B6/'Bg Subtraction'!U6 -> #VALUE! | V16: ='Bg Subtraction'!V14*'Bg Subtraction'!B6/'Bg Subtraction'!V6 -> #VALUE! | W16: ='Bg Subtraction'!W14*'Bg Subtraction'!B6/'Bg Subtraction'!W6 -> #VALUE! | X16: ='Bg Subtraction'!X14*'Bg Subtraction'!B6/'Bg Subtraction'!X6 -> #VALUE! | Y16: ='Bg Subtraction'!Y14*'Bg Subtraction'!B6/'Bg Subtraction'!Y6 -> #VALUE!
A17: ='Bg Subtraction'!A15 -> IL-2 | B17: ='Bg Subtraction'!B15*'Bg Subtraction'!B6/'Bg Subtraction'!B6 -> #DIV/0! | C17: ='Bg Subtraction'!C15*'Bg Subtraction'!B6/'Bg Subtraction'!C6 -> #VALUE! | D17: ='Bg Subtraction'!D15*'Bg Subtraction'!B6/'Bg Subtraction'!D6 -> #VALUE! | E17: ='Bg Subtraction'!E15*'Bg Subtraction'!B6/'Bg Subtraction'!E6 -> #VALUE! | F17: ='Bg Subtraction'!F15*'Bg Subtraction'!B6/'Bg Subtraction'!F6 -> #VALUE! | G17: ='Bg Subtraction'!G15*'Bg Subtraction'!B6/'Bg Subtraction'!G6 -> #VALUE! | H17: ='Bg Subtraction'!H15*'Bg Subtraction'!B6/'Bg Subtraction'!H6 -> #VALUE! | I17: ='Bg Subtraction'!I15*'Bg Subtraction'!B6/'Bg Subtraction'!I6 -> #VALUE! | J17: ='Bg Subtraction'!J15*'Bg Subtraction'!B6/'Bg Subtraction'!J6 -> #VALUE! | K17: ='Bg Subtraction'!K15*'Bg Subtraction'!B6/'Bg Subtraction'!K6 -> #VALUE! | L17: ='Bg Subtraction'!L15*'Bg Subtraction'!B6/'Bg Subtraction'!L6 -> #VALUE! | M17: ='Bg Subtraction'!M15*'Bg Subtraction'!B6/'Bg Subtraction'!M6 -> #VALUE! | N17: ='Bg Subtraction'!N15*'Bg Subtraction'!B6/'Bg Subtraction'!N6 -> #VALUE! | O17: ='Bg Subtraction'!O15*'Bg Subtraction'!B6/'Bg Subtraction'!O6 -> #VALUE! | P17: ='Bg Subtraction'!P15*'Bg Subtraction'!B6/'Bg Subtraction'!P6 -> #VALUE! | Q17: ='Bg Subtraction'!Q15*'Bg Subtraction'!B6/'Bg Subtraction'!Q6 -> #VALUE! | R17: ='Bg Subtraction'!R15*'Bg Subtraction'!B6/'Bg Subtraction'!R6 -> #VALUE! | S17: ='Bg Subtraction'!S15*'Bg Subtraction'!B6/'Bg Subtraction'!S6 -> #VALUE! | T17: ='Bg Subtraction'!T15*'Bg Subtraction'!B6/'Bg Subtraction'!T6 -> #VALUE! | U17: ='Bg Subtraction'!U15*'Bg Subtraction'!B6/'Bg Subtraction'!U6 -> #VALUE! | V17: ='Bg Subtraction'!V15*'Bg Subtraction'!B6/'Bg Subtraction'!V6 -> #VALUE! | W17: ='Bg Subtraction'!W15*'Bg Subtraction'!B6/'Bg Subtraction'!W6 -> #VALUE! | X17: ='Bg Subtraction'!X15*'Bg Subtraction'!B6/'Bg Subtraction'!X6 -> #VALUE! | Y17: ='Bg Subtraction'!Y15*'Bg Subtraction'!B6/'Bg Subtraction'!Y6 -> #VALUE!
A18: ='Bg Subtraction'!A16 -> IL-4 | B18: ='Bg Subtraction'!B16*'Bg Subtraction'!B6/'Bg Subtraction'!B6 -> #DIV/0! | C18: ='Bg Subtraction'!C16*'Bg Subtraction'!B6/'Bg Subtraction'!C6 -> #VALUE! | D18: ='Bg Subtraction'!D16*'Bg Subtraction'!B6/'Bg Subtraction'!D6 -> #VALUE! | E18: ='Bg Subtraction'!E16*'Bg Subtraction'!B6/'Bg Subtraction'!E6 -> #VALUE! | F18: ='Bg Subtraction'!F16*'Bg Subtraction'!B6/'Bg Subtraction'!F6 -> #VALUE! | G18: ='Bg Subtraction'!G16*'Bg Subtraction'!B6/'Bg Subtraction'!G6 -> #VALUE! | H18: ='Bg Subtraction'!H16*'Bg Subtraction'!B6/'Bg Subtraction'!H6 -> #VALUE! | I18: ='Bg Subtraction'!I16*'Bg Subtraction'!B6/'Bg Subtraction'!I6 -> #VALUE! | J18: ='Bg Subtraction'!J16*'Bg Subtraction'!B6/'Bg Subtraction'!J6 -> #VALUE! | K18: ='Bg Subtraction'!K16*'Bg Subtraction'!B6/'Bg Subtraction'!K6 -> #VALUE! | L18: ='Bg Subtraction'!L16*'Bg Subtraction'!B6/'Bg Subtraction'!L6 -> #VALUE! | M18: ='Bg Subtraction'!M16*'Bg Subtraction'!B6/'Bg Subtraction'!M6 -> #VALUE! | N18: ='Bg Subtraction'!N16*'Bg Subtraction'!B6/'Bg Subtraction'!N6 -> #VALUE! | O18: ='Bg Subtraction'!O16*'Bg Subtraction'!B6/'Bg Subtraction'!O6 -> #VALUE! | P18: ='Bg Subtraction'!P16*'Bg Subtraction'!B6/'Bg Subtraction'!P6 -> #VALUE! | Q18: ='Bg Subtraction'!Q16*'Bg Subtraction'!B6/'Bg Subtraction'!Q6 -> #VALUE! | R18: ='Bg Subtraction'!R16*'Bg Subtraction'!B6/'Bg Subtraction'!R6 -> #VALUE! | S18: ='Bg Subtraction'!S16*'Bg Subtraction'!B6/'Bg Subtraction'!S6 -> #VALUE! | T18: ='Bg Subtraction'!T16*'Bg Subtraction'!B6/'Bg Subtraction'!T6 -> #VALUE! | U18: ='Bg Subtraction'!U16*'Bg Subtraction'!B6/'Bg Subtraction'!U6 -> #VALUE! | V18: ='Bg Subtraction'!V16*'Bg Subtraction'!B6/'Bg Subtraction'!V6 -> #VALUE! | W18: ='Bg Subtraction'!W16*'Bg Subtraction'!B6/'Bg Subtraction'!W6 -> #VALUE! | X18: ='Bg Subtraction'!X16*'Bg Subtraction'!B6/'Bg Subtraction'!X6 -> #VALUE! | Y18: ='Bg Subtraction'!Y16*'Bg Subtraction'!B6/'Bg Subtraction'!Y6 -> #VALUE!
A19: ='Bg Subtraction'!A17 -> IL-5 | B19: ='Bg Subtraction'!B17*'Bg Subtraction'!B6/'Bg Subtraction'!B6 -> #DIV/0! | C19: ='Bg Subtraction'!C17*'Bg Subtraction'!B6/'Bg Subtraction'!C6 -> #VALUE! | D19: ='Bg Subtraction'!D17*'Bg Subtraction'!B6/'Bg Subtraction'!D6 -> #VALUE! | E19: ='Bg Subtraction'!E17*'Bg Subtraction'!B6/'Bg Subtraction'!E6 -> #VALUE! | F19: ='Bg Subtraction'!F17*'Bg Subtraction'!B6/'Bg Subtraction'!F6 -> #VALUE! | G19: ='Bg Subtraction'!G17*'Bg Subtraction'!B6/'Bg Subtraction'!G6 -> #VALUE! | H19: ='Bg Subtraction'!H17*'Bg Subtraction'!B6/'Bg Subtraction'!H6 -> #VALUE! | I19: ='Bg Subtraction'!I17*'Bg Subtraction'!B6/'Bg Subtraction'!I6 -> #VALUE! | J19: ='Bg Subtraction'!J17*'Bg Subtraction'!B6/'Bg Subtraction'!J6 -> #VALUE! | K19: ='Bg Subtraction'!K17*'Bg Subtraction'!B6/'Bg Subtraction'!K6 -> #VALUE! | L19: ='Bg Subtraction'!L17*'Bg Subtraction'!B6/'Bg Subtraction'!L6 -> #VALUE! | M19: ='Bg Subtraction'!M17*'Bg Subtraction'!B6/'Bg Subtraction'!M6 -> #VALUE! | N19: ='Bg Subtraction'!N17*'Bg Subtraction'!B6/'Bg Subtraction'!N6 -> #VALUE! | O19: ='Bg Subtraction'!O17*'Bg Subtraction'!B6/'Bg Subtraction'!O6 -> #VALUE! | P19: ='Bg Subtraction'!P17*'Bg Subtraction'!B6/'Bg Subtraction'!P6 -> #VALUE! | Q19: ='Bg Subtraction'!Q17*'Bg Subtraction'!B6/'Bg Subtraction'!Q6 -> #VALUE! | R19: ='Bg Subtraction'!R17*'Bg Subtraction'!B6/'Bg Subtraction'!R6 -> #VALUE! | S19: ='Bg Subtraction'!S17*'Bg Subtraction'!B6/'Bg Subtraction'!S6 -> #VALUE! | T19: ='Bg Subtraction'!T17*'Bg Subtraction'!B6/'Bg Subtraction'!T6 -> #VALUE! | U19: ='Bg Subtraction'!U17*'Bg Subtraction'!B6/'Bg Subtraction'!U6 -> #VALUE! | V19: ='Bg Subtraction'!V17*'Bg Subtraction'!B6/'Bg Subtraction'!V6 -> #VALUE! | W19: ='Bg Subtraction'!W17*'Bg Subtraction'!B6/'Bg Subtraction'!W6 -> #VALUE! | X19: ='Bg Subtraction'!X17*'Bg Subtraction'!B6/'Bg Subtraction'!X6 -> #VALUE! | Y19: ='Bg Subtraction'!Y17*'Bg Subtraction'!B6/'Bg Subtraction'!Y6 -> #VALUE!
A20: ='Bg Subtraction'!A18 -> IL-6 | B20: ='Bg Subtraction'!B18*'Bg Subtraction'!B6/'Bg Subtraction'!B6 -> #DIV/0! | C20: ='Bg Subtraction'!C18*'Bg Subtraction'!B6/'Bg Subtraction'!C6 -> #VALUE! | D20: ='Bg Subtraction'!D18*'Bg Subtraction'!B6/'Bg Subtraction'!D6 -> #VALUE! | E20: ='Bg Subtraction'!E18*'Bg Subtraction'!B6/'Bg Subtraction'!E6 -> #VALUE! | F20: ='Bg Subtraction'!F18*'Bg Subtraction'!B6/'Bg Subtraction'!F6 -> #VALUE! | G20: ='Bg Subtraction'!G18*'Bg Subtraction'!B6/'Bg Subtraction'!G6 -> #VALUE! | H20: ='Bg Subtraction'!H18*'Bg Subtraction'!B6/'Bg Subtraction'!H6 -> #VALUE! | I20: ='Bg Subtraction'!I18*'Bg Subtraction'!B6/'Bg Subtraction'!I6 -> #VALUE! | J20: ='Bg Subtraction'!J18*'Bg Subtraction'!B6/'Bg Subtraction'!J6 -> #VALUE! | K20: ='Bg Subtraction'!K18*'Bg Subtraction'!B6/'Bg Subtraction'!K6 -> #VALUE! | L20: ='Bg Subtraction'!L18*'Bg Subtraction'!B6/'Bg Subtraction'!L6 -> #VALUE! | M20: ='Bg Subtraction'!M18*'Bg Subtraction'!B6/'Bg Subtraction'!M6 -> #VALUE! | N20: ='Bg Subtraction'!N18*'Bg Subtraction'!B6/'Bg Subtraction'!N6 -> #VALUE! | O20: ='Bg Subtraction'!O18*'Bg Subtraction'!B6/'Bg Subtraction'!O6 -> #VALUE! | P20: ='Bg Subtraction'!P18*'Bg Subtraction'!B6/'Bg Subtraction'!P6 -> #VALUE! | Q20: ='Bg Subtraction'!Q18*'Bg Subtraction'!B6/'Bg Subtraction'!Q6 -> #VALUE! | R20: ='Bg Subtraction'!R18*'Bg Subtraction'!B6/'Bg Subtraction'!R6 -> #VALUE! | S20: ='Bg Subtraction'!S18*'Bg Subtraction'!B6/'Bg Subtraction'!S6 -> #VALUE! | T20: ='Bg Subtraction'!T18*'Bg Subtraction'!B6/'Bg Subtraction'!T6 -> #VALUE! | U20: ='Bg Subtraction'!U18*'Bg Subtraction'!B6/'Bg Subtraction'!U6 -> #VALUE! | V20: ='Bg Subtraction'!V18*'Bg Subtraction'!B6/'Bg Subtraction'!V6 -> #VALUE! | W20: ='Bg Subtraction'!W18*'Bg Subtraction'!B6/'Bg Subtraction'!W6 -> #VALUE! | X20: ='Bg Subtraction'!X18*'Bg Subtraction'!B6/'Bg Subtraction'!X6 -> #VALUE! | Y20: ='Bg Subtraction'!Y18*'Bg Subtraction'!B6/'Bg Subtraction'!Y6 -> #VALUE!
A21: ='Bg Subtraction'!A19 -> IL-7 | B21: ='Bg Subtraction'!B19*'Bg Subtraction'!B6/'Bg Subtraction'!B6 -> #DIV/0! | C21: ='Bg Subtraction'!C19*'Bg Subtraction'!B6/'Bg Subtraction'!C6 -> #VALUE! | D21: ='Bg Subtraction'!D19*'Bg Subtraction'!B6/'Bg Subtraction'!D6 -> #VALUE! | E21: ='Bg Subtraction'!E19*'Bg Subtraction'!B6/'Bg Subtraction'!E6 -> #VALUE! | F21: ='Bg Subtraction'!F19*'Bg Subtraction'!B6/'Bg Subtraction'!F6 -> #VALUE! | G21: ='Bg Subtraction'!G19*'Bg Subtraction'!B6/'Bg Subtraction'!G6 -> #VALUE! | H21: ='Bg Subtraction'!H19*'Bg Subtraction'!B6/'Bg Subtraction'!H6 -> #VALUE! | I21: ='Bg Subtraction'!I19*'Bg Subtraction'!B6/'Bg Subtraction'!I6 -> #VALUE! | J21: ='Bg Subtraction'!J19*'Bg Subtraction'!B6/'Bg Subtraction'!J6 -> #VALUE! | K21: ='Bg Subtraction'!K19*'Bg Subtraction'!B6/'Bg Subtraction'!K6 -> #VALUE! | L21: ='Bg Subtraction'!L19*'Bg Subtraction'!B6/'Bg Subtraction'!L6 -> #VALUE! | M21: ='Bg Subtraction'!M19*'Bg Subtraction'!B6/'Bg Subtraction'!M6 -> #VALUE! | N21: ='Bg Subtraction'!N19*'Bg Subtraction'!B6/'Bg Subtraction'!N6 -> #VALUE! | O21: ='Bg Subtraction'!O19*'Bg Subtraction'!B6/'Bg Subtraction'!O6 -> #VALUE! | P21: ='Bg Subtraction'!P19*'Bg Subtraction'!B6/'Bg Subtraction'!P6 -> #VALUE! | Q21: ='Bg Subtraction'!Q19*'Bg Subtraction'!B6/'Bg Subtraction'!Q6 -> #VALUE! | R21: ='Bg Subtraction'!R19*'Bg Subtraction'!B6/'Bg Subtraction'!R6 -> #VALUE! | S21: ='Bg Subtraction'!S19*'Bg Subtraction'!B6/'Bg Subtraction'!S6 -> #VALUE! | T21: ='Bg Subtraction'!T19*'Bg Subtraction'!B6/'Bg Subtraction'!T6 -> #VALUE! | U21: ='Bg Subtraction'!U19*'Bg Subtraction'!B6/'Bg Subtraction'!U6 -> #VALUE! | V21: ='Bg Subtraction'!V19*'Bg Subtraction'!B6/'Bg Subtraction'!V6 -> #VALUE! | W21: ='Bg Subtraction'!W19*'Bg Subtraction'!B6/'Bg Subtraction'!W6 -> #VALUE! | X21: ='Bg Subtraction'!X19*'Bg Subtraction'!B6/'Bg Subtraction'!X6 -> #VALUE! | Y21: ='Bg Subtraction'!Y19*'Bg Subtraction'!B6/'Bg Subtraction'!Y6 -> #VALUE!
A22: ='Bg Subtraction'!A20 -> IL-9 | B22: ='Bg Subtraction'!B20*'Bg Subtraction'!B6/'Bg Subtraction'!B6 -> #DIV/0! | C22: ='Bg Subtraction'!C20*'Bg Subtraction'!B6/'Bg Subtraction'!C6 -> #VALUE! | D22: ='Bg Subtraction'!D20*'Bg Subtraction'!B6/'Bg Subtraction'!D6 -> #VALUE! | E22: ='Bg Subtraction'!E20*'Bg Subtraction'!B6/'Bg Subtraction'!E6 -> #VALUE! | F22: ='Bg Subtraction'!F20*'Bg Subtraction'!B6/'Bg Subtraction'!F6 -> #VALUE! | G22: ='Bg Subtraction'!G20*'Bg Subtraction'!B6/'Bg Subtraction'!G6 -> #VALUE! | H22: ='Bg Subtraction'!H20*'Bg Subtraction'!B6/'Bg Subtraction'!H6 -> #VALUE! | I22: ='Bg Subtraction'!I20*'Bg Subtraction'!B6/'Bg Subtraction'!I6 -> #VALUE! | J22: ='Bg Subtraction'!J20*'Bg Subtraction'!B6/'Bg Subtraction'!J6 -> #VALUE! | K22: ='Bg Subtraction'!K20*'Bg Subtraction'!B6/'Bg Subtraction'!K6 -> #VALUE! | L22: ='Bg Subtraction'!L20*'Bg Subtraction'!B6/'Bg Subtraction'!L6 -> #VALUE! | M22: ='Bg Subtraction'!M20*'Bg Subtraction'!B6/'Bg Subtraction'!M6 -> #VALUE! | N22: ='Bg Subtraction'!N20*'Bg Subtraction'!B6/'Bg Subtraction'!N6 -> #VALUE! | O22: ='Bg Subtraction'!O20*'Bg Subtraction'!B6/'Bg Subtraction'!O6 -> #VALUE! | P22: ='Bg Subtraction'!P20*'Bg Subtraction'!B6/'Bg Subtraction'!P6 -> #VALUE! | Q22: ='Bg Subtraction'!Q20*'Bg Subtraction'!B6/'Bg Subtraction'!Q6 -> #VALUE! | R22: ='Bg Subtraction'!R20*'Bg Subtraction'!B6/'Bg Subtraction'!R6 -> #VALUE! | S22: ='Bg Subtraction'!S20*'Bg Subtraction'!B6/'Bg Subtraction'!S6 -> #VALUE! | T22: ='Bg Subtraction'!T20*'Bg Subtraction'!B6/'Bg Subtraction'!T6 -> #VALUE! | U22: ='Bg Subtraction'!U20*'Bg Subtraction'!B6/'Bg Subtraction'!U6 -> #VALUE! | V22: ='Bg Subtraction'!V20*'Bg Subtraction'!B6/'Bg Subtraction'!V6 -> #VALUE! | W22: ='Bg Subtraction'!W20*'Bg Subtraction'!B6/'Bg Subtraction'!W6 -> #VALUE! | X22: ='Bg Subtraction'!X20*'Bg Subtraction'!B6/'Bg Subtraction'!X6 -> #VALUE! | Y22: ='Bg Subtraction'!Y20*'Bg Subtraction'!B6/'Bg Subtraction'!Y6 -> #VALUE!
A23: ='Bg Subtraction'!A21 -> TGFb | B23: ='Bg Subtraction'!B21*'Bg Subtraction'!B6/'Bg Subtraction'!B6 -> #DIV/0! | C23: ='Bg Subtraction'!C21*'Bg Subtraction'!B6/'Bg Subtraction'!C6 -> #VALUE! | D23: ='Bg Subtraction'!D21*'Bg Subtraction'!B6/'Bg Subtraction'!D6 -> #VALUE! | E23: ='Bg Subtraction'!E21*'Bg Subtraction'!B6/'Bg Subtraction'!E6 -> #VALUE! | F23: ='Bg Subtraction'!F21*'Bg Subtraction'!B6/'Bg Subtraction'!F6 -> #VALUE! | G23: ='Bg Subtraction'!G21*'Bg Subtraction'!B6/'Bg Subtraction'!G6 -> #VALUE! | H23: ='Bg Subtraction'!H21*'Bg Subtraction'!B6/'Bg Subtraction'!H6 -> #VALUE! | I23: ='Bg Subtraction'!I21*'Bg Subtraction'!B6/'Bg Subtraction'!I6 -> #VALUE! | J23: ='Bg Subtraction'!J21*'Bg Subtraction'!B6/'Bg Subtraction'!J6 -> #VALUE! | K23: ='Bg Subtraction'!K21*'Bg Subtraction'!B6/'Bg Subtraction'!K6 -> #VALUE! | L23: ='Bg Subtraction'!L21*'Bg Subtraction'!B6/'Bg Subtraction'!L6 -> #VALUE! | M23: ='Bg Subtraction'!M21*'Bg Subtraction'!B6/'Bg Subtraction'!M6 -> #VALUE! | N23: ='Bg Subtraction'!N21*'Bg Subtraction'!B6/'Bg Subtraction'!N6 -> #VALUE! | O23: ='Bg Subtraction'!O21*'Bg Subtraction'!B6/'Bg Subtraction'!O6 -> #VALUE! | P23: ='Bg Subtraction'!P21*'Bg Subtraction'!B6/'Bg Subtraction'!P6 -> #VALUE! | Q23: ='Bg Subtraction'!Q21*'Bg Subtraction'!B6/'Bg Subtraction'!Q6 -> #VALUE! | R23: ='Bg Subtraction'!R21*'Bg Subtraction'!B6/'Bg Subtraction'!R6 -> #VALUE! | S23: ='Bg Subtraction'!S21*'Bg Subtraction'!B6/'Bg Subtraction'!S6 -> #VALUE! | T23: ='Bg Subtraction'!T21*'Bg Subtraction'!B6/'Bg Subtraction'!T6 -> #VALUE! | U23: ='Bg Subtraction'!U21*'Bg Subtraction'!B6/'Bg Subtraction'!U6 -> #VALUE! | V23: ='Bg Subtraction'!V21*'Bg Subtraction'!B6/'Bg Subtraction'!V6 -> #VALUE! | W23: ='Bg Subtraction'!W21*'Bg Subtraction'!B6/'Bg Subtraction'!W6 -> #VALUE! | X23: ='Bg Subtraction'!X21*'Bg Subtraction'!B6/'Bg Subtraction'!X6 -> #VALUE! | Y23: ='Bg Subtraction'!Y21*'Bg Subtraction'!B6/'Bg Subtraction'!Y6 -> #VALUE!
A24: ='Bg Subtraction'!A22 -> TNFa | B24: ='Bg Subtraction'!B22*'Bg Subtraction'!B6/'Bg Subtraction'!B6 -> #DIV/0! | C24: ='Bg Subtraction'!C22*'Bg Subtraction'!B6/'Bg Subtraction'!C6 -> #VALUE! | D24: ='Bg Subtraction'!D22*'Bg Subtraction'!B6/'Bg Subtraction'!D6 -> #VALUE! | E24: ='Bg Subtraction'!E22*'Bg Subtraction'!B6/'Bg Subtraction'!E6 -> #VALUE! | F24: ='Bg Subtraction'!F22*'Bg Subtraction'!B6/'Bg Subtraction'!F6 -> #VALUE! | G24: ='Bg Subtraction'!G22*'Bg Subtraction'!B6/'Bg Subtraction'!G6 -> #VALUE! | H24: ='Bg Subtraction'!H22*'Bg Subtraction'!B6/'Bg Subtraction'!H6 -> #VALUE! | I24: ='Bg Subtraction'!I22*'Bg Subtraction'!B6/'Bg Subtraction'!I6 -> #VALUE! | J24: ='Bg Subtraction'!J22*'Bg Subtraction'!B6/'Bg Subtraction'!J6 -> #VALUE! | K24: ='Bg Subtraction'!K22*'Bg Subtraction'!B6/'Bg Subtraction'!K6 -> #VALUE! | L24: ='Bg Subtraction'!L22*'Bg Subtraction'!B6/'Bg Subtraction'!L6 -> #VALUE! | M24: ='Bg Subtraction'!M22*'Bg Subtraction'!B6/'Bg Subtraction'!M6 -> #VALUE! | N24: ='Bg Subtraction'!N22*'Bg Subtraction'!B6/'Bg Subtraction'!N6 -> #VALUE! | O24: ='Bg Subtraction'!O22*'Bg Subtraction'!B6/'Bg Subtraction'!O6 -> #VALUE! | P24: ='Bg Subtraction'!P22*'Bg Subtraction'!B6/'Bg Subtraction'!P6 -> #VALUE! | Q24: ='Bg Subtraction'!Q22*'Bg Subtraction'!B6/'Bg Subtraction'!Q6 -> #VALUE! | R24: ='Bg Subtraction'!R22*'Bg Subtraction'!B6/'Bg Subtraction'!R6 -> #VALUE! | S24: ='Bg Subtraction'!S22*'Bg Subtraction'!B6/'Bg Subtraction'!S6 -> #VALUE! | T24: ='Bg Subtraction'!T22*'Bg Subtraction'!B6/'Bg Subtraction'!T6 -> #VALUE! | U24: ='Bg Subtraction'!U22*'Bg Subtraction'!B6/'Bg Subtraction'!U6 -> #VALUE! | V24: ='Bg Subtraction'!V22*'Bg Subtraction'!B6/'Bg Subtraction'!V6 -> #VALUE! | W24: ='Bg Subtraction'!W22*'Bg Subtraction'!B6/'Bg Subtraction'!W6 -> #VALUE! | X24: ='Bg Subtraction'!X22*'Bg Subtraction'!B6/'Bg Subtraction'!X6 -> #VALUE! | Y24: ='Bg Subtraction'!Y22*'Bg Subtraction'!B6/'Bg Subtraction'!Y6 -> #VALUE!
A25: ='Bg Subtraction'!A23 -> BLANK | B25: ='Bg Subtraction'!B23*'Bg Subtraction'!B6/'Bg Subtraction'!B6 -> #DIV/0! | C25: ='Bg Subtraction'!C23*'Bg Subtraction'!B6/'Bg Subtraction'!C6 -> #VALUE! | D25: ='Bg Subtraction'!D23*'Bg Subtraction'!B6/'Bg Subtraction'!D6 -> #VALUE! | E25: ='Bg Subtraction'!E23*'Bg Subtraction'!B6/'Bg Subtraction'!E6 -> #VALUE! | F25: ='Bg Subtraction'!F23*'Bg Subtraction'!B6/'Bg Subtraction'!F6 -> #VALUE! | G25: ='Bg Subtraction'!G23*'Bg Subtraction'!B6/'Bg Subtraction'!G6 -> #VALUE! | H25: ='Bg Subtraction'!H23*'Bg Subtraction'!B6/'Bg Subtraction'!H6 -> #VALUE! | I25: ='Bg Subtraction'!I23*'Bg Subtraction'!B6/'Bg Subtraction'!I6 -> #VALUE! | J25: ='Bg Subtraction'!J23*'Bg Subtraction'!B6/'Bg Subtraction'!J6 -> #VALUE! | K25: ='Bg Subtraction'!K23*'Bg Subtraction'!B6/'Bg Subtraction'!K6 -> #VALUE! | L25: ='Bg Subtraction'!L23*'Bg Subtraction'!B6/'Bg Subtraction'!L6 -> #VALUE! | M25: ='Bg Subtraction'!M23*'Bg Subtraction'!B6/'Bg Subtraction'!M6 -> #VALUE! | N25: ='Bg Subtraction'!N23*'Bg Subtraction'!B6/'Bg Subtraction'!N6 -> #VALUE! | O25: ='Bg Subtraction'!O23*'Bg Subtraction'!B6/'Bg Subtraction'!O6 -> #VALUE! | P25: ='Bg Subtraction'!P23*'Bg Subtraction'!B6/'Bg Subtraction'!P6 -> #VALUE! | Q25: ='Bg Subtraction'!Q23*'Bg Subtraction'!B6/'Bg Subtraction'!Q6 -> #VALUE! | R25: ='Bg Subtraction'!R23*'Bg Subtraction'!B6/'Bg Subtraction'!R6 -> #VALUE! | S25: ='Bg Subtraction'!S23*'Bg Subtraction'!B6/'Bg Subtraction'!S6 -> #VALUE! | T25: ='Bg Subtraction'!T23*'Bg Subtraction'!B6/'Bg Subtraction'!T6 -> #VALUE! | U25: ='Bg Subtraction'!U23*'Bg Subtraction'!B6/'Bg Subtraction'!U6 -> #VALUE! | V25: ='Bg Subtraction'!V23*'Bg Subtraction'!B6/'Bg Subtraction'!V6 -> #VALUE! | W25: ='Bg Subtraction'!W23*'Bg Subtraction'!B6/'Bg Subtraction'!W6 -> #VALUE! | X25: ='Bg Subtraction'!X23*'Bg Subtraction'!B6/'Bg Subtraction'!X6 -> #VALUE! | Y25: ='Bg Subtraction'!Y23*'Bg Subtraction'!B6/'Bg Subtraction'!Y6 -> #VALUE!
A26: ='Bg Subtraction'!A24 -> BLANK | B26: ='Bg Subtraction'!B24*'Bg Subtraction'!B6/'Bg Subtraction'!B6 -> #DIV/0! | C26: ='Bg Subtraction'!C24*'Bg Subtraction'!B6/'Bg Subtraction'!C6 -> #VALUE! | D26: ='Bg Subtraction'!D24*'Bg Subtraction'!B6/'Bg Subtraction'!D6 -> #VALUE! | E26: ='Bg Subtraction'!E24*'Bg Subtraction'!B6/'Bg Subtraction'!E6 -> #VALUE! | F26: ='Bg Subtraction'!F24*'Bg Subtraction'!B6/'Bg Subtraction'!F6 -> #VALUE! | G26: ='Bg Subtraction'!G24*'Bg Subtraction'!B6/'Bg Subtraction'!G6 -> #VALUE! | H26: ='Bg Subtraction'!H24*'Bg Subtraction'!B6/'Bg Subtraction'!H6 -> #VALUE! | I26: ='Bg Subtraction'!I24*'Bg Subtraction'!B6/'Bg Subtraction'!I6 -> #VALUE! | J26: ='Bg Subtraction'!J24*'Bg Subtraction'!B6/'Bg Subtraction'!J6 -> #VALUE! | K26: ='Bg Subtraction'!K24*'Bg Subtraction'!B6/'Bg Subtraction'!K6 -> #VALUE! | L26: ='Bg Subtraction'!L24*'Bg Subtraction'!B6/'Bg Subtraction'!L6 -> #VALUE! | M26: ='Bg Subtraction'!M24*'Bg Subtraction'!B6/'Bg Subtraction'!M6 -> #VALUE! | N26: ='Bg Subtraction'!N24*'Bg Subtraction'!B6/'Bg Subtraction'!N6 -> #VALUE! | O26: ='Bg Subtraction'!O24*'Bg Subtraction'!B6/'Bg Subtraction'!O6 -> #VALUE! | P26: ='Bg Subtraction'!P24*'Bg Subtraction'!B6/'Bg Subtraction'!P6 -> #VALUE! | Q26: ='Bg Subtraction'!Q24*'Bg Subtraction'!B6/'Bg Subtraction'!Q6 -> #VALUE! | R26: ='Bg Subtraction'!R24*'Bg Subtraction'!B6/'Bg Subtraction'!R6 -> #VALUE! | S26: ='Bg Subtraction'!S24*'Bg Subtraction'!B6/'Bg Subtraction'!S6 -> #VALUE! | T26: ='Bg Subtraction'!T24*'Bg Subtraction'!B6/'Bg Subtraction'!T6 -> #VALUE! | U26: ='Bg Subtraction'!U24*'Bg Subtraction'!B6/'Bg Subtraction'!U6 -> #VALUE! | V26: ='Bg Subtraction'!V24*'Bg Subtraction'!B6/'Bg Subtraction'!V6 -> #VALUE! | W26: ='Bg Subtraction'!W24*'Bg Subtraction'!B6/'Bg Subtraction'!W6 -> #VALUE! | X26: ='Bg Subtraction'!X24*'Bg Subtraction'!B6/'Bg Subtraction'!X6 -> #VALUE! | Y26: ='Bg Subtraction'!Y24*'Bg Subtraction'!B6/'Bg Subtraction'!Y6 -> #VALUE!
A27: ='Bg Subtraction'!A25 -> BLANK | B27: ='Bg Subtraction'!B25*'Bg Subtraction'!B6/'Bg Subtraction'!B6 -> #DIV/0! | C27: ='Bg Subtraction'!C25*'Bg Subtraction'!B6/'Bg Subtraction'!C6 -> #VALUE! | D27: ='Bg Subtraction'!D25*'Bg Subtraction'!B6/'Bg Subtraction'!D6 -> #VALUE! | E27: ='Bg Subtraction'!E25*'Bg Subtraction'!B6/'Bg Subtraction'!E6 -> #VALUE! | F27: ='Bg Subtraction'!F25*'Bg Subtraction'!B6/'Bg Subtraction'!F6 -> #VALUE! | G27: ='Bg Subtraction'!G25*'Bg Subtraction'!B6/'Bg Subtraction'!G6 -> #VALUE! | H27: ='Bg Subtraction'!H25*'Bg Subtraction'!B6/'Bg Subtraction'!H6 -> #VALUE! | I27: ='Bg Subtraction'!I25*'Bg Subtraction'!B6/'Bg Subtraction'!I6 -> #VALUE! | J27: ='Bg Subtraction'!J25*'Bg Subtraction'!B6/'Bg Subtraction'!J6 -> #VALUE! | K27: ='Bg Subtraction'!K25*'Bg Subtraction'!B6/'Bg Subtraction'!K6 -> #VALUE! | L27: ='Bg Subtraction'!L25*'Bg Subtraction'!B6/'Bg Subtraction'!L6 -> #VALUE! | M27: ='Bg Subtraction'!M25*'Bg Subtraction'!B6/'Bg Subtraction'!M6 -> #VALUE! | N27: ='Bg Subtraction'!N25*'Bg Subtraction'!B6/'Bg Subtraction'!N6 -> #VALUE! | O27: ='Bg Subtraction'!O25*'Bg Subtraction'!B6/'Bg Subtraction'!O6 -> #VALUE! | P27: ='Bg Subtraction'!P25*'Bg Subtraction'!B6/'Bg Subtraction'!P6 -> #VALUE! | Q27: ='Bg Subtraction'!Q25*'Bg Subtraction'!B6/'Bg Subtraction'!Q6 -> #VALUE! | R27: ='Bg Subtraction'!R25*'Bg Subtraction'!B6/'Bg Subtraction'!R6 -> #VALUE! | S27: ='Bg Subtraction'!S25*'Bg Subtraction'!B6/'Bg Subtraction'!S6 -> #VALUE! | T27: ='Bg Subtraction'!T25*'Bg Subtraction'!B6/'Bg Subtraction'!T6 -> #VALUE! | U27: ='Bg Subtraction'!U25*'Bg Subtraction'!B6/'Bg Subtraction'!U6 -> #VALUE! | V27: ='Bg Subtraction'!V25*'Bg Subtraction'!B6/'Bg Subtraction'!V6 -> #VALUE! | W27: ='Bg Subtraction'!W25*'Bg Subtraction'!B6/'Bg Subtraction'!W6 -> #VALUE! | X27: ='Bg Subtraction'!X25*'Bg Subtraction'!B6/'Bg Subtraction'!X6 -> #VALUE! | Y27: ='Bg Subtraction'!Y25*'Bg Subtraction'!B6/'Bg Subtraction'!Y6 -> #VALUE!

Sheet Chart 1
A2: ='Aligning data'!A1 -> RayBio® Cytokine Antibody Arrays --AAM-TCR-1
A3: With Background Subtraction
A4: ='Normalization 1'!A8 -> POS | G4: ='Normalization 1'!A10 -> IFNg | M4: ='Normalization 1'!A11 -> IL-10
A24: ='Normalization 1'!A12 -> IL-12p70 | G24: ='Normalization 1'!A13 -> IL-13 | M24: ='Normalization 1'!A14 -> IL-17
A44: ='Normalization 1'!A15 -> IL-17F | G44: ='Normalization 1'!A16 -> IL-18 | M44: ='Normalization 1'!A17 -> IL-2
A64: ='Normalization 1'!A18 -> IL-4 | G64: ='Normalization 1'!A19 -> IL-5 | M64: ='Normalization 1'!A20 -> IL-6
A85: ='Normalization 1'!A21 -> IL-7 | G85: ='Normalization 1'!A22 -> IL-9 | M85: ='Normalization 1'!A23 -> TGFb
A105: ='Normalization 1'!A24 -> TNFa | G105: ='Normalization 1'!A25 -> BLANK | M105: ='Normalization 1'!A26 -> BLANK
A125: ='Normalization 1'!A27 -> BLANK

Sheet Background (2)
A2: ='Aligning data'!A1 -> RayBio® Cytokine Antibody Arrays --AAM-TCR-1
B4: =Averages!B4 -> Sample 1 | C4: =Averages!C4 -> Sample 2 | D4: =Averages!D4 -> Sample 3 | E4: =Averages!E4 -> Sample 4 | F4: =Averages!F4 -> Sample 5 | G4: =Averages!G4 -> Sample 6 | H4: =Averages!H4 -> Sample 7 | I4: =Averages!I4 -> Sample 8 | ... Y4: =Averages!Y4 -> SAMPLE 24
A6: =Averages!A6 -> POS | B6: =Averages!B6-Averages!B31 -> 0 | C6: =Averages!C6-Averages!C31 -> #VALUE! | D6: =Averages!D6-Averages!D31 -> #VALUE! | E6: =Averages!E6-Averages!E31 -> #VALUE! | F6: =Averages!F6-Averages!F31 -> #VALUE! | G6: =Averages!G6-Averages!G31 -> #VALUE! | H6: =Averages!H6-Averages!H31 -> #VALUE! | I6: =Averages!I6-Averages!I31 -> #VALUE! | ... Y6: =Averages!Y6-Averages!Y31 -> #VALUE!
A7: =Averages!A7 -> NEG | B7: =Averages!B7-Averages!B31 -> 0 | C7: =Averages!C7-Averages!C31 -> #VALUE! | D7: =Averages!D7-Averages!D31 -> #VALUE! | E7: =Averages!E7-Averages!E31 -> #VALUE! | F7: =Averages!F7-Averages!F31 -> #VALUE! | G7: =Averages!G7-Averages!G31 -> #VALUE! | H7: =Averages!H7-Averages!H31 -> #VALUE! | I7: =Averages!I7-Averages!I31 -> #VALUE! | ... Y7: =Averages!Y7-Averages!Y31 -> #VALUE!
A8: =Averages!A8 -> IFNg | B8: =Averages!B8-Averages!B32 -> 0 | C8: =Averages!C8-Averages!C32 -> #VALUE! | D8: =Averages!D8-Averages!D32 -> #VALUE! | E8: =Averages!E8-Averages!E32 -> #VALUE! | F8: =Averages!F8-Averages!F32 -> #VALUE! | G8: =Averages!G8-Averages!G32 -> #VALUE! | H8: =Averages!H8-Averages!H32 -> #VALUE! | I8: =Averages!I8-Averages!I32 -> #VALUE! | ... Y8: =Averages!Y8-Averages!Y32 -> #VALUE!
A9: =Averages!A9 -> IL-10 | B9: =Averages!B9-Averages!B31 -> 0 | C9: =Averages!C9-Averages!C31 -> #VALUE! | D9: =Averages!D9-Averages!D31 -> #VALUE! | E9: =Averages!E9-Averages!E31 -> #VALUE! | F9: =Averages!F9-Averages!F31 -> #VALUE! | G9: =Averages!G9-Averages!G31 -> #VALUE! | H9: =Averages!H9-Averages!H31 -> #VALUE! | I9: =Averages!I9-Averages!I31 -> #VALUE! | ... Y9: =Averages!Y9-Averages!Y31 -> #VALUE!
A10: =Averages!A10 -> IL-12p70 | B10: =Averages!B10-Averages!B31 -> 0 | C10: =Averages!C10-Averages!C31 -> #VALUE! | D10: =Averages!D10-Averages!D31 -> #VALUE! | E10: =Averages!E10-Averages!E31 -> #VALUE! | F10: =Averages!F10-Averages!F31 -> #VALUE! | G10: =Averages!G10-Averages!G31 -> #VALUE! | H10: =Averages!H10-Averages!H31 -> #VALUE! | I10: =Averages!I10-Averages!I31 -> #VALUE! | ... Y10: =Averages!Y10-Averages!Y31 -> #VALUE!
A11: =Averages!A11 -> IL-13 | B11: =Averages!B11-Averages!B31 -> 0 | C11: =Averages!C11-Averages!C31 -> #VALUE! | D11: =Averages!D11-Averages!D31 -> #VALUE! | E11: =Averages!E11-Averages!E31 -> #VALUE! | F11: =Averages!F11-Averages!F31 -> #VALUE! | G11: =Averages!G11-Averages!G31 -> #VALUE! | H11: =Averages!H11-Averages!H31 -> #VALUE! | I11: =Averages!I11-Averages!I31 -> #VALUE! | ... Y11: =Averages!Y11-Averages!Y31 -> #VALUE!
A12: =Averages!A12 -> IL-17 | B12: =Averages!B12-Averages!B31 -> 0 | C12: =Averages!C12-Averages!C31 -> #VALUE! | D12: =Averages!D12-Averages!D31 -> #VALUE! | E12: =Averages!E12-Averages!E31 -> #VALUE! | F12: =Averages!F12-Averages!F31 -> #VALUE! | G12: =Averages!G12-Averages!G31 -> #VALUE! | H12: =Averages!H12-Averages!H31 -> #VALUE! | I12: =Averages!I12-Averages!I31 -> #VALUE! | ... Y12: =Averages!Y12-Averages!Y31 -> #VALUE!
A13: =Averages!A13 -> IL-17F | B13: =Averages!B13-Averages!B31 -> 0 | C13: =Averages!C13-Averages!C31 -> #VALUE! | D13: =Averages!D13-Averages!D31 -> #VALUE! | E13: =Averages!E13-Averages!E31 -> #VALUE! | F13: =Averages!F13-Averages!F31 -> #VALUE! | G13: =Averages!G13-Averages!G31 -> #VALUE! | H13: =Averages!H13-Averages!H31 -> #VALUE! | I13: =Averages!I13-Averages!I31 -> #VALUE! | ... Y13: =Averages!Y13-Averages!Y31 -> #VALUE!
A14: =Averages!A14 -> IL-18 | B14: =Averages!B14-Averages!B31 -> 0 | C14: =Averages!C14-Averages!C31 -> #VALUE! | D14: =Averages!D14-Averages!D31 -> #VALUE! | E14: =Averages!E14-Averages!E31 -> #VALUE! | F14: =Averages!F14-Averages!F31 -> #VALUE! | G14: =Averages!G14-Averages!G31 -> #VALUE! | H14: =Averages!H14-Averages!H31 -> #VALUE! | I14: =Averages!I14-Averages!I31 -> #VALUE! | ... Y14: =Averages!Y14-Averages!Y31 -> #VALUE!
A15: =Averages!A15 -> IL-2 | B15: =Averages!B15-Averages!B31 -> 0 | C15: =Averages!C15-Averages!C31 -> #VALUE! | D15: =Averages!D15-Averages!D31 -> #VALUE! | E15: =Averages!E15-Averages!E31 -> #VALUE! | F15: =Averages!F15-Averages!F31 -> #VALUE! | G15: =Averages!G15-Averages!G31 -> #VALUE! | H15: =Averages!H15-Averages!H31 -> #VALUE! | I15: =Averages!I15-Averages!I31 -> #VALUE! | ... Y15: =Averages!Y15-Averages!Y31 -> #VALUE!
A16: =Averages!A16 -> IL-4 | B16: =Averages!B16-Averages!B31 -> 0 | C16: =Averages!C16-Averages!C31 -> #VALUE! | D16: =Averages!D16-Averages!D31 -> #VALUE! | E16: =Averages!E16-Averages!E31 -> #VALUE! | F16: =Averages!F16-Averages!F31 -> #VALUE! | G16: =Averages!G16-Averages!G31 -> #VALUE! | H16: =Averages!H16-Averages!H31 -> #VALUE! | I16: =Averages!I16-Averages!I31 -> #VALUE! | ... Y16: =Averages!Y16-Averages!Y31 -> #VALUE!
A17: =Averages!A17 -> IL-5 | B17: =Averages!B17-Averages!B31 -> 0 | C17: =Averages!C17-Averages!C31 -> #VALUE! | D17: =Averages!D17-Averages!D31 -> #VALUE! | E17: =Averages!E17-Averages!E31 -> #VALUE! | F17: =Averages!F17-Averages!F31 -> #VALUE! | G17: =Averages!G17-Averages!G31 -> #VALUE! | H17: =Averages!H17-Averages!H31 -> #VALUE! | I17: =Averages!I17-Averages!I31 -> #VALUE! | ... Y17: =Averages!Y17-Averages!Y31 -> #VALUE!
A18: =Averages!A18 -> IL-6 | B18: =Averages!B18-Averages!B31 -> 0 | C18: =Averages!C18-Averages!C31 -> #VALUE! | D18: =Averages!D18-Averages!D31 -> #VALUE! | E18: =Averages!E18-Averages!E31 -> #VALUE! | F18: =Averages!F18-Averages!F31 -> #VALUE! | G18: =Averages!G18-Averages!G31 -> #VALUE! | H18: =Averages!H18-Averages!H31 -> #VALUE! | I18: =Averages!I18-Averages!I31 -> #VALUE! | ... Y18: =Averages!Y18-Averages!Y31 -> #VALUE!
A19: =Averages!A19 -> IL-7 | B19: =Averages!B19-Averages!B31 -> 0 | C19: =Averages!C19-Averages!C31 -> #VALUE! | D19: =Averages!D19-Averages!D31 -> #VALUE! | E19: =Averages!E19-Averages!E31 -> #VALUE! | F19: =Averages!F19-Averages!F31 -> #VALUE! | G19: =Averages!G19-Averages!G31 -> #VALUE! | H19: =Averages!H19-Averages!H31 -> #VALUE! | I19: =Averages!I19-Averages!I31 -> #VALUE! | ... Y19: =Averages!Y19-Averages!Y31 -> #VALUE!
A20: =Averages!A20 -> IL-9 | B20: =Averages!B20-Averages!B31 -> 0 | C20: =Averages!C20-Averages!C31 -> #VALUE! | D20: =Averages!D20-Averages!D31 -> #VALUE! | E20: =Averages!E20-Averages!E31 -> #VALUE! | F20: =Averages!F20-Averages!F31 -> #VALUE! | G20: =Averages!G20-Averages!G31 -> #VALUE! | H20: =Averages!H20-Averages!H31 -> #VALUE! | I20: =Averages!I20-Averages!I31 -> #VALUE! | ... Y20: =Averages!Y20-Averages!Y31 -> #VALUE!
A21: =Averages!A21 -> TGFb | B21: =Averages!B21-Averages!B31 -> 0 | C21: =Averages!C21-Averages!C31 -> #VALUE! | D21: =Averages!D21-Averages!D31 -> #VALUE! | E21: =Averages!E21-Averages!E31 -> #VALUE! | F21: =Averages!F21-Averages!F31 -> #VALUE! | G21: =Averages!G21-Averages!G31 -> #VALUE! | H21: =Averages!H21-Averages!H31 -> #VALUE! | I21: =Averages!I21-Averages!I31 -> #VALUE! | ... Y21: =Averages!Y21-Averages!Y31 -> #VALUE!
A22: =Averages!A22 -> TNFa | B22: =Averages!B22-Averages!B31 -> 0 | C22: =Averages!C22-Averages!C31 -> #VALUE! | D22: =Averages!D22-Averages!D31 -> #VALUE! | E22: =Averages!E22-Averages!E31 -> #VALUE! | F22: =Averages!F22-Averages!F31 -> #VALUE! | G22: =Averages!G22-Averages!G31 -> #VALUE! | H22: =Averages!H22-Averages!H31 -> #VALUE! | I22: =Averages!I22-Averages!I31 -> #VALUE! | ... Y22: =Averages!Y22-Averages!Y31 -> #VALUE!
A23: =Averages!A23 -> BLANK | B23: =Averages!B23-Averages!B31 -> 0 | C23: =Averages!C23-Averages!C31 -> #VALUE! | D23: =Averages!D23-Averages!D31 -> #VALUE! | E23: =Averages!E23-Averages!E31 -> #VALUE! | F23: =Averages!F23-Averages!F31 -> #VALUE! | G23: =Averages!G23-Averages!G31 -> #VALUE! | H23: =Averages!H23-Averages!H31 -> #VALUE! | I23: =Averages!I23-Averages!I31 -> #VALUE! | ... Y23: =Averages!Y23-Averages!Y31 -> #VALUE!
A24: =Averages!A24 -> BLANK | B24: =Averages!B24-Averages!B31 -> 0 | C24: =Averages!C24-Averages!C31 -> #VALUE! | D24: =Averages!D24-Averages!D31 -> #VALUE! | E24: =Averages!E24-Averages!E31 -> #VALUE! | F24: =Averages!F24-Averages!F31 -> #VALUE! | G24: =Averages!G24-Averages!G31 -> #VALUE! | H24: =Averages!H24-Averages!H31 -> #VALUE! | I24: =Averages!I24-Averages!I31 -> #VALUE! | ... Y24: =Averages!Y24-Averages!Y31 -> #VALUE!
A25: =Averages!A25 -> BLANK | B25: =Averages!B25-Averages!B31 -> 0 | C25: =Averages!C25-Averages!C31 -> #VALUE! | D25: =Averages!D25-Averages!D31 -> #VALUE! | E25: =Averages!E25-Averages!E31 -> #VALUE! | F25: =Averages!F25-Averages!F31 -> #VALUE! | G25: =Averages!G25-Averages!G31 -> #VALUE! | H25: =Averages!H25-Averages!H31 -> #VALUE! | I25: =Averages!I25-Averages!I31 -> #VALUE! | ... Y25: =Averages!Y25-Averages!Y31 -> #VALUE!
A26: =Averages!#REF! -> #REF! | B26: =Averages!#REF!-Averages!B31 -> #REF! | C26: =Averages!#REF!-Averages!C31 -> #REF! | D26: =Averages!#REF!-Averages!D31 -> #REF! | E26: =Averages!#REF!-Averages!E31 -> #REF! | F26: =Averages!#REF!-Averages!F31 -> #REF! | G26: =Averages!#REF!-Averages!G31 -> #REF! | H26: =Averages!#REF!-Averages!H31 -> #REF! | I26: =Averages!#REF!-Averages!I31 -> #REF! | ... Y26: =Averages!#REF!-Averages!Y31 -> #REF!
A27: =Averages!#REF! -> #REF! | B27: =Averages!#REF!-Averages!B31 -> #REF! | C27: =Averages!#REF!-Averages!C31 -> #REF! | D27: =Averages!#REF!-Averages!D31 -> #REF! | E27: =Averages!#REF!-Averages!E31 -> #REF! | F27: =Averages!#REF!-Averages!F31 -> #REF! | G27: =Averages!#REF!-Averages!G31 -> #REF! | H27: =Averages!#REF!-Averages!H31 -> #REF! | I27: =Averages!#REF!-Averages!I31 -> #REF! | ... Y27: =Averages!#REF!-Averages!Y31 -> #REF!

Sheet Bg Substraction (2)
A2: ='Aligning data'!A1 -> RayBio® Cytokine Antibody Arrays --AAM-TCR-1
B4: =Averages!B4 -> Sample 1 | C4: =Averages!C4 -> Sample 2 | D4: =Averages!D4 -> Sample 3 | E4: =Averages!E4 -> Sample 4 | F4: =Averages!F4 -> Sample 5 | G4: =Averages!G4 -> Sample 6 | H4: =Averages!H4 -> Sample 7 | I4: =Averages!I4 -> Sample 8 | ... Y4: =Averages!Y4 -> SAMPLE 24
A6: =Averages!A6 -> POS | B6: =IF(('Background (2)'!B6)<0, "0", ('Background (2)'!B6)) -> 0 | C6: =IF(('Background (2)'!C6)<0, "0", ('Background (2)'!C6)) -> #VALUE! | D6: =IF(('Background (2)'!D6)<0, "0", ('Background (2)'!D6)) -> #VALUE! | E6: =IF(('Background (2)'!E6)<0, "0", ('Background (2)'!E6)) -> #VALUE! | F6: =IF(('Background (2)'!F6)<0, "0", ('Background (2)'!F6)) -> #VALUE! | G6: =IF(('Background (2)'!G6)<0, "0", ('Background (2)'!G6)) -> #VALUE! | H6: =IF(('Background (2)'!H6)<0, "0", ('Background (2)'!H6)) -> #VALUE! | I6: =IF(('Background (2)'!I6)<0, "0", ('Background (2)'!I6)) -> #VALUE! | ... Y6: =IF(('Background (2)'!Y6)<0, "0", ('Background (2)'!Y6)) -> #VALUE!
A7: =Averages!A7 -> NEG | B7: =IF(('Background (2)'!B7)<0, "0", ('Background (2)'!B7)) -> 0 | C7: =IF(('Background (2)'!C7)<0, "0", ('Background (2)'!C7)) -> #VALUE! | D7: =IF(('Background (2)'!D7)<0, "0", ('Background (2)'!D7)) -> #VALUE! | E7: =IF(('Background (2)'!E7)<0, "0", ('Background (2)'!E7)) -> #VALUE! | F7: =IF(('Background (2)'!F7)<0, "0", ('Background (2)'!F7)) -> #VALUE! | G7: =IF(('Background (2)'!G7)<0, "0", ('Background (2)'!G7)) -> #VALUE! | H7: =IF(('Background (2)'!H7)<0, "0", ('Background (2)'!H7)) -> #VALUE! | I7: =IF(('Background (2)'!I7)<0, "0", ('Background (2)'!I7)) -> #VALUE! | ... Y7: =IF(('Background (2)'!Y7)<0, "0", ('Background (2)'!Y7)) -> #VALUE!
A8: =Averages!A8 -> IFNg | B8: =IF(('Background (2)'!B8)<0, "0", ('Background (2)'!B8)) -> 0 | C8: =IF(('Background (2)'!C8)<0, "0", ('Background (2)'!C8)) -> #VALUE! | D8: =IF(('Background (2)'!D8)<0, "0", ('Background (2)'!D8)) -> #VALUE! | E8: =IF(('Background (2)'!E8)<0, "0", ('Background (2)'!E8)) -> #VALUE! | F8: =IF(('Background (2)'!F8)<0, "0", ('Background (2)'!F8)) -> #VALUE! | G8: =IF(('Background (2)'!G8)<0, "0", ('Background (2)'!G8)) -> #VALUE! | H8: =IF(('Background (2)'!H8)<0, "0", ('Background (2)'!H8)) -> #VALUE! | I8: =IF(('Background (2)'!I8)<0, "0", ('Background (2)'!I8)) -> #VALUE! | ... Y8: =IF(('Background (2)'!Y8)<0, "0", ('Background (2)'!Y8)) -> #VALUE!
A9: =Averages!A9 -> IL-10 | B9: =IF(('Background (2)'!B9)<0, "0", ('Background (2)'!B9)) -> 0 | C9: =IF(('Background (2)'!C9)<0, "0", ('Background (2)'!C9)) -> #VALUE! | D9: =IF(('Background (2)'!D9)<0, "0", ('Background (2)'!D9)) -> #VALUE! | E9: =IF(('Background (2)'!E9)<0, "0", ('Background (2)'!E9)) -> #VALUE! | F9: =IF(('Background (2)'!F9)<0, "0", ('Background (2)'!F9)) -> #VALUE! | G9: =IF(('Background (2)'!G9)<0, "0", ('Background (2)'!G9)) -> #VALUE! | H9: =IF(('Background (2)'!H9)<0, "0", ('Background (2)'!H9)) -> #VALUE! | I9: =IF(('Background (2)'!I9)<0, "0", ('Background (2)'!I9)) -> #VALUE! | ... Y9: =IF(('Background (2)'!Y9)<0, "0", ('Background (2)'!Y9)) -> #VALUE!
A10: =Averages!A10 -> IL-12p70 | B10: =IF(('Background (2)'!B10)<0, "0", ('Background (2)'!B10)) -> 0 | C10: =IF(('Background (2)'!C10)<0, "0", ('Background (2)'!C10)) -> #VALUE! | D10: =IF(('Background (2)'!D10)<0, "0", ('Background (2)'!D10)) -> #VALUE! | E10: =IF(('Background (2)'!E10)<0, "0", ('Background (2)'!E10)) -> #VALUE! | F10: =IF(('Background (2)'!F10)<0, "0", ('Background (2)'!F10)) -> #VALUE! | G10: =IF(('Background (2)'!G10)<0, "0", ('Background (2)'!G10)) -> #VALUE! | H10: =IF(('Background (2)'!H10)<0, "0", ('Background (2)'!H10)) -> #VALUE! | I10: =IF(('Background (2)'!I10)<0, "0", ('Background (2)'!I10)) -> #VALUE! | ... Y10: =IF(('Background (2)'!Y10)<0, "0", ('Background (2)'!Y10)) -> #VALUE!
A11: =Averages!A11 -> IL-13 | B11: =IF(('Background (2)'!B11)<0, "0", ('Background (2)'!B11)) -> 0 | C11: =IF(('Background (2)'!C11)<0, "0", ('Background (2)'!C11)) -> #VALUE! | D11: =IF(('Background (2)'!D11)<0, "0", ('Background (2)'!D11)) -> #VALUE! | E11: =IF(('Background (2)'!E11)<0, "0", ('Background (2)'!E11)) -> #VALUE! | F11: =IF(('Background (2)'!F11)<0, "0", ('Background (2)'!F11)) -> #VALUE! | G11: =IF(('Background (2)'!G11)<0, "0", ('Background (2)'!G11)) -> #VALUE! | H11: =IF(('Background (2)'!H11)<0, "0", ('Background (2)'!H11)) -> #VALUE! | I11: =IF(('Background (2)'!I11)<0, "0", ('Background (2)'!I11)) -> #VALUE! | ... Y11: =IF(('Background (2)'!Y11)<0, "0", ('Background (2)'!Y11)) -> #VALUE!
A12: =Averages!A12 -> IL-17 | B12: =IF(('Background (2)'!B12)<0, "0", ('Background (2)'!B12)) -> 0 | C12: =IF(('Background (2)'!C12)<0, "0", ('Background (2)'!C12)) -> #VALUE! | D12: =IF(('Background (2)'!D12)<0, "0", ('Background (2)'!D12)) -> #VALUE! | E12: =IF(('Background (2)'!E12)<0, "0", ('Background (2)'!E12)) -> #VALUE! | F12: =IF(('Background (2)'!F12)<0, "0", ('Background (2)'!F12)) -> #VALUE! | G12: =IF(('Background (2)'!G12)<0, "0", ('Background (2)'!G12)) -> #VALUE! | H12: =IF(('Background (2)'!H12)<0, "0", ('Background (2)'!H12)) -> #VALUE! | I12: =IF(('Background (2)'!I12)<0, "0", ('Background (2)'!I12)) -> #VALUE! | ... Y12: =IF(('Background (2)'!Y12)<0, "0", ('Background (2)'!Y12)) -> #VALUE!
A13: =Averages!A13 -> IL-17F | B13: =IF(('Background (2)'!B13)<0, "0", ('Background (2)'!B13)) -> 0 | C13: =IF(('Background (2)'!C13)<0, "0", ('Background (2)'!C13)) -> #VALUE! | D13: =IF(('Background (2)'!D13)<0, "0", ('Background (2)'!D13)) -> #VALUE! | E13: =IF(('Background (2)'!E13)<0, "0", ('Background (2)'!E13)) -> #VALUE! | F13: =IF(('Background (2)'!F13)<0, "0", ('Background (2)'!F13)) -> #VALUE! | G13: =IF(('Background (2)'!G13)<0, "0", ('Background (2)'!G13)) -> #VALUE! | H13: =IF(('Background (2)'!H13)<0, "0", ('Background (2)'!H13)) -> #VALUE! | I13: =IF(('Background (2)'!I13)<0, "0", ('Background (2)'!I13)) -> #VALUE! | ... Y13: =IF(('Background (2)'!Y13)<0, "0", ('Background (2)'!Y13)) -> #VALUE!
A14: =Averages!A14 -> IL-18 | B14: =IF(('Background (2)'!B14)<0, "0", ('Background (2)'!B14)) -> 0 | C14: =IF(('Background (2)'!C14)<0, "0", ('Background (2)'!C14)) -> #VALUE! | D14: =IF(('Background (2)'!D14)<0, "0", ('Background (2)'!D14)) -> #VALUE! | E14: =IF(('Background (2)'!E14)<0, "0", ('Background (2)'!E14)) -> #VALUE! | F14: =IF(('Background (2)'!F14)<0, "0", ('Background (2)'!F14)) -> #VALUE! | G14: =IF(('Background (2)'!G14)<0, "0", ('Background (2)'!G14)) -> #VALUE! | H14: =IF(('Background (2)'!H14)<0, "0", ('Background (2)'!H14)) -> #VALUE! | I14: =IF(('Background (2)'!I14)<0, "0", ('Background (2)'!I14)) -> #VALUE! | ... Y14: =IF(('Background (2)'!Y14)<0, "0", ('Background (2)'!Y14)) -> #VALUE!
A15: =Averages!A15 -> IL-2 | B15: =IF(('Background (2)'!B15)<0, "0", ('Background (2)'!B15)) -> 0 | C15: =IF(('Background (2)'!C15)<0, "0", ('Background (2)'!C15)) -> #VALUE! | D15: =IF(('Background (2)'!D15)<0, "0", ('Background (2)'!D15)) -> #VALUE! | E15: =IF(('Background (2)'!E15)<0, "0", ('Background (2)'!E15)) -> #VALUE! | F15: =IF(('Background (2)'!F15)<0, "0", ('Background (2)'!F15)) -> #VALUE! | G15: =IF(('Background (2)'!G15)<0, "0", ('Background (2)'!G15)) -> #VALUE! | H15: =IF(('Background (2)'!H15)<0, "0", ('Background (2)'!H15)) -> #VALUE! | I15: =IF(('Background (2)'!I15)<0, "0", ('Background (2)'!I15)) -> #VALUE! | ... Y15: =IF(('Background (2)'!Y15)<0, "0", ('Background (2)'!Y15)) -> #VALUE!
A16: =Averages!A16 -> IL-4 | B16: =IF(('Background (2)'!B16)<0, "0", ('Background (2)'!B16)) -> 0 | C16: =IF(('Background (2)'!C16)<0, "0", ('Background (2)'!C16)) -> #VALUE! | D16: =IF(('Background (2)'!D16)<0, "0", ('Background (2)'!D16)) -> #VALUE! | E16: =IF(('Background (2)'!E16)<0, "0", ('Background (2)'!E16)) -> #VALUE! | F16: =IF(('Background (2)'!F16)<0, "0", ('Background (2)'!F16)) -> #VALUE! | G16: =IF(('Background (2)'!G16)<0, "0", ('Background (2)'!G16)) -> #VALUE! | H16: =IF(('Background (2)'!H16)<0, "0", ('Background (2)'!H16)) -> #VALUE! | I16: =IF(('Background (2)'!I16)<0, "0", ('Background (2)'!I16)) -> #VALUE! | ... Y16: =IF(('Background (2)'!Y16)<0, "0", ('Background (2)'!Y16)) -> #VALUE!
A17: =Averages!A17 -> IL-5 | B17: =IF(('Background (2)'!B17)<0, "0", ('Background (2)'!B17)) -> 0 | C17: =IF(('Background (2)'!C17)<0, "0", ('Background (2)'!C17)) -> #VALUE! | D17: =IF(('Background (2)'!D17)<0, "0", ('Background (2)'!D17)) -> #VALUE! | E17: =IF(('Background (2)'!E17)<0, "0", ('Background (2)'!E17)) -> #VALUE! | F17: =IF(('Background (2)'!F17)<0, "0", ('Background (2)'!F17)) -> #VALUE! | G17: =IF(('Background (2)'!G17)<0, "0", ('Background (2)'!G17)) -> #VALUE! | H17: =IF(('Background (2)'!H17)<0, "0", ('Background (2)'!H17)) -> #VALUE! | I17: =IF(('Background (2)'!I17)<0, "0", ('Background (2)'!I17)) -> #VALUE! | ... Y17: =IF(('Background (2)'!Y17)<0, "0", ('Background (2)'!Y17)) -> #VALUE!
... A25: =Averages!A25 -> BLANK | B25: =IF(('Background (2)'!B25)<0, "0", ('Background (2)'!B25)) -> 0 | C25: =IF(('Background (2)'!C25)<0, "0", ('Background (2)'!C25)) -> #VALUE! | D25: =IF(('Background (2)'!D25)<0, "0", ('Background (2)'!D25)) -> #VALUE! | E25: =IF(('Background (2)'!E25)<0, "0", ('Background (2)'!E25)) -> #VALUE! | F25: =IF(('Background (2)'!F25)<0, "0", ('Background (2)'!F25)) -> #VALUE! | G25: =IF(('Background (2)'!G25)<0, "0", ('Background (2)'!G25)) -> #VALUE! | H25: =IF(('Background (2)'!H25)<0, "0", ('Background (2)'!H25)) -> #VALUE! | I25: =IF(('Background (2)'!I25)<0, "0", ('Background (2)'!I25)) -> #VALUE! | ... Y25: =IF(('Background (2)'!Y25)<0, "0", ('Background (2)'!Y25)) -> #VALUE!
A26: =Averages!#REF! -> #REF! | B26: =IF(('Background (2)'!B26)<0, "0", ('Background (2)'!B26)) -> #REF! | C26: =IF(('Background (2)'!C26)<0, "0", ('Background (2)'!C26)) -> #REF! | D26: =IF(('Background (2)'!D26)<0, "0", ('Background (2)'!D26)) -> #REF! | E26: =IF(('Background (2)'!E26)<0, "0", ('Background (2)'!E26)) -> #REF! | F26: =IF(('Background (2)'!F26)<0, "0", ('Background (2)'!F26)) -> #REF! | G26: =IF(('Background (2)'!G26)<0, "0", ('Background (2)'!G26)) -> #REF! | H26: =IF(('Background (2)'!H26)<0, "0", ('Background (2)'!H26)) -> #REF! | I26: =IF(('Background (2)'!I26)<0, "0", ('Background (2)'!I26)) -> #REF! | ... Y26: =IF(('Background (2)'!Y26)<0, "0", ('Background (2)'!Y26)) -> #REF!
A27: =Averages!#REF! -> #REF! | B27: =IF(('Background (2)'!B27)<0, "0", ('Background (2)'!B27)) -> #REF! | C27: =IF(('Background (2)'!C27)<0, "0", ('Background (2)'!C27)) -> #REF! | D27: =IF(('Background (2)'!D27)<0, "0", ('Background (2)'!D27)) -> #REF! | E27: =IF(('Background (2)'!E27)<0, "0", ('Background (2)'!E27)) -> #REF! | F27: =IF(('Background (2)'!F27)<0, "0", ('Background (2)'!F27)) -> #REF! | G27: =IF(('Background (2)'!G27)<0, "0", ('Background (2)'!G27)) -> #REF! | H27: =IF(('Background (2)'!H27)<0, "0", ('Background (2)'!H27)) -> #REF! | I27: =IF(('Background (2)'!I27)<0, "0", ('Background (2)'!I27)) -> #REF! | ... Y27: =IF(('Background (2)'!Y27)<0, "0", ('Background (2)'!Y27)) -> #REF!

Sheet Normalization 2
A2: ='Aligning data'!A1 -> RayBio® Cytokine Antibody Arrays --AAM-TCR-1
A4: Normalization (without Background Subtraction)
B6: ='Bg Substraction (2)'!B4 -> Sample 1 | C6: ='Bg Substraction (2)'!C4 -> Sample 2 | D6: ='Bg Substraction (2)'!D4 -> Sample 3 | E6: ='Bg Substraction (2)'!E4 -> Sample 4 | F6: ='Bg Substraction (2)'!F4 -> Sample 5 | G6: ='Bg Substraction (2)'!G4 -> Sample 6 | H6: ='Bg Substraction (2)'!H4 -> Sample 7 | I6: ='Bg Substraction (2)'!I4 -> Sample 8 | ... Y6: ='Bg Substraction (2)'!Y4 -> SAMPLE 24
A8: ='Bg Substraction (2)'!A6 -> POS | B8: ='Bg Substraction (2)'!B6*'Bg Substraction (2)'!B6/'Bg Substraction (2)'!B6 -> #DIV/0! | C8: ='Bg Substraction (2)'!C6*'Bg Substraction (2)'!B6/'Bg Substraction (2)'!C6 -> #VALUE! | D8: ='Bg Substraction (2)'!D6*'Bg Substraction (2)'!B6/'Bg Substraction (2)'!D6 -> #VALUE! | E8: ='Bg Substraction (2)'!E6*'Bg Substraction (2)'!B6/'Bg Substraction (2)'!E6 -> #VALUE! | F8: ='Bg Substraction (2)'!F6*'Bg Substraction (2)'!B6/'Bg Substraction (2)'!F6 -> #VALUE! | G8: ='Bg Substraction (2)'!G6*'Bg Substraction (2)'!B6/'Bg Substraction (2)'!G6 -> #VALUE! | H8: ='Bg Substraction (2)'!H6*'Bg Substraction (2)'!B6/'Bg Substraction (2)'!H6 -> #VALUE! | I8: ='Bg Substraction (2)'!I6*'Bg Substraction (2)'!B6/'Bg Substraction (2)'!I6 -> #VALUE! | J8: ='Bg Substraction (2)'!J6*'Bg Substraction (2)'!B6/'Bg Substraction (2)'!J6 -> #VALUE! | K8: ='Bg Substraction (2)'!K6*'Bg Substraction (2)'!B6/'Bg Substraction (2)'!K6 -> #VALUE! | L8: ='Bg Substraction (2)'!L6*'Bg Substraction (2)'!B6/'Bg Substraction (2)'!L6 -> #VALUE! | M8: ='Bg Substraction (2)'!M6*'Bg Substraction (2)'!B6/'Bg Substraction (2)'!M6 -> #VALUE! | N8: ='Bg Substraction (2)'!N6*'Bg Substraction (2)'!B6/'Bg Substraction (2)'!N6 -> #VALUE! | O8: ='Bg Substraction (2)'!O6*'Bg Substraction (2)'!B6/'Bg Substraction (2)'!O6 -> #VALUE! | P8: ='Bg Substraction (2)'!P6*'Bg Substraction (2)'!B6/'Bg Substraction (2)'!P6 -> #VALUE! | Q8: ='Bg Substraction (2)'!Q6*'Bg Substraction (2)'!B6/'Bg Substraction (2)'!Q6 -> #VALUE! | R8: ='Bg Substraction (2)'!R6*'Bg Substraction (2)'!B6/'Bg Substraction (2)'!R6 -> #VALUE! | S8: ='Bg Substraction (2)'!S6*'Bg Substraction (2)'!B6/'Bg Substraction (2)'!S6 -> #VALUE! | T8: ='Bg Substraction (2)'!T6*'Bg Substraction (2)'!B6/'Bg Substraction (2)'!T6 -> #VALUE! | U8: ='Bg Substraction (2)'!U6*'Bg Substraction (2)'!B6/'Bg Substraction (2)'!U6 -> #VALUE! | V8: ='Bg Substraction (2)'!V6*'Bg Substraction (2)'!B6/'Bg Substraction (2)'!V6 -> #VALUE! | W8: ='Bg Substraction (2)'!W6*'Bg Substraction (2)'!B6/'Bg Substraction (2)'!W6 -> #VALUE! | X8: ='Bg Substraction (2)'!X6*'Bg Substraction (2)'!B6/'Bg Substraction (2)'!X6 -> #VALUE! | Y8: ='Bg Substraction (2)'!Y6*'Bg Substraction (2)'!B6/'Bg Substraction (2)'!Y6 -> #VALUE!
A9: ='Bg Substraction (2)'!A7 -> NEG | B9: ='Bg Substraction (2)'!B7*'Bg Substraction (2)'!B6/'Bg Substraction (2)'!B6 -> #DIV/0! | C9: ='Bg Substraction (2)'!C7*'Bg Substraction (2)'!B6/'Bg Substraction (2)'!C6 -> #VALUE! | D9: ='Bg Substraction (2)'!D7*'Bg Substraction (2)'!B6/'Bg Substraction (2)'!D6 -> #VALUE! | E9: ='Bg Substraction (2)'!E7*'Bg Substraction (2)'!B6/'Bg Substraction (2)'!E6 -> #VALUE! | F9: ='Bg Substraction (2)'!F7*'Bg Substraction (2)'!B6/'Bg Substraction (2)'!F6 -> #VALUE! | G9: ='Bg Substraction (2)'!G7*'Bg Substraction (2)'!B6/'Bg Substraction (2)'!G6 -> #VALUE! | H9: ='Bg Substraction (2)'!H7*'Bg Substraction (2)'!B6/'Bg Substraction (2)'!H6 -> #VALUE! | I9: ='Bg Substraction (2)'!I7*'Bg Substraction (2)'!B6/'Bg Substraction (2)'!I6 -> #VALUE! | J9: ='Bg Substraction (2)'!J7*'Bg Substraction (2)'!B6/'Bg Substraction (2)'!J6 -> #VALUE! | K9: ='Bg Substraction (2)'!K7*'Bg Substraction (2)'!B6/'Bg Substraction (2)'!K6 -> #VALUE! | L9: ='Bg Substraction (2)'!L7*'Bg Substraction (2)'!B6/'Bg Substraction (2)'!L6 -> #VALUE! | M9: ='Bg Substraction (2)'!M7*'Bg Substraction (2)'!B6/'Bg Substraction (2)'!M6 -> #VALUE! | N9: ='Bg Substraction (2)'!N7*'Bg Substraction (2)'!B6/'Bg Substraction (2)'!N6 -> #VALUE! | O9: ='Bg Substraction (2)'!O7*'Bg Substraction (2)'!B6/'Bg Substraction (2)'!O6 -> #VALUE! | P9: ='Bg Substraction (2)'!P7*'Bg Substraction (2)'!B6/'Bg Substraction (2)'!P6 -> #VALUE! | Q9: ='Bg Substraction (2)'!Q7*'Bg Substraction (2)'!B6/'Bg Substraction (2)'!Q6 -> #VALUE! | R9: ='Bg Substraction (2)'!R7*'Bg Substraction (2)'!B6/'Bg Substraction (2)'!R6 -> #VALUE! | S9: ='Bg Substraction (2)'!S7*'Bg Substraction (2)'!B6/'Bg Substraction (2)'!S6 -> #VALUE! | T9: ='Bg Substraction (2)'!T7*'Bg Substraction (2)'!B6/'Bg Substraction (2)'!T6 -> #VALUE! | U9: ='Bg Substraction (2)'!U7*'Bg Substraction (2)'!B6/'Bg Substraction (2)'!U6 -> #VALUE! | V9: ='Bg Substraction (2)'!V7*'Bg Substraction (2)'!B6/'Bg Substraction (2)'!V6 -> #VALUE! | W9: ='Bg Substraction (2)'!W7*'Bg Substraction (2)'!B6/'Bg Substraction (2)'!W6 -> #VALUE! | X9: ='Bg Substraction (2)'!X7*'Bg Substraction (2)'!B6/'Bg Substraction (2)'!X6 -> #VALUE! | Y9: ='Bg Substraction (2)'!Y7*'Bg Substraction (2)'!B6/'Bg Substraction (2)'!Y6 -> #VALUE!
A10: ='Bg Substraction (2)'!A8 -> IFNg | B10: ='Bg Substraction (2)'!B8*'Bg Substraction (2)'!B6/'Bg Substraction (2)'!B6 -> #DIV/0! | C10: ='Bg Substraction (2)'!C8*'Bg Substraction (2)'!B6/'Bg Substraction (2)'!C6 -> #VALUE! | D10: ='Bg Substraction (2)'!D8*'Bg Substraction (2)'!B6/'Bg Substraction (2)'!D6 -> #VALUE! | E10: ='Bg Substraction (2)'!E8*'Bg Substraction (2)'!B6/'Bg Substraction (2)'!E6 -> #VALUE! | F10: ='Bg Substraction (2)'!F8*'Bg Substraction (2)'!B6/'Bg Substraction (2)'!F6 -> #VALUE! | G10: ='Bg Substraction (2)'!G8*'Bg Substraction (2)'!B6/'Bg Substraction (2)'!G6 -> #VALUE! | H10: ='Bg Substraction (2)'!H8*'Bg Substraction (2)'!B6/'Bg Substraction (2)'!H6 -> #VALUE! | I10: ='Bg Substraction (2)'!I8*'Bg Substraction (2)'!B6/'Bg Substraction (2)'!I6 -> #VALUE! | J10: ='Bg Substraction (2)'!J8*'Bg Substraction (2)'!B6/'Bg Substraction (2)'!J6 -> #VALUE! | K10: ='Bg Substraction (2)'!K8*'Bg Substraction (2)'!B6/'Bg Substraction (2)'!K6 -> #VALUE! | L10: ='Bg Substraction (2)'!L8*'Bg Substraction (2)'!B6/'Bg Substraction (2)'!L6 -> #VALUE! | M10: ='Bg Substraction (2)'!M8*'Bg Substraction (2)'!B6/'Bg Substraction (2)'!M6 -> #VALUE! | N10: ='Bg Substraction (2)'!N8*'Bg Substraction (2)'!B6/'Bg Substraction (2)'!N6 -> #VALUE! | O10: ='Bg Substraction (2)'!O8*'Bg Substraction (2)'!B6/'Bg Substraction (2)'!O6 -> #VALUE! | P10: ='Bg Substraction (2)'!P8*'Bg Substraction (2)'!B6/'Bg Substraction (2)'!P6 -> #VALUE! | Q10: ='Bg Substraction (2)'!Q8*'Bg Substraction (2)'!B6/'Bg Substraction (2)'!Q6 -> #VALUE! | R10: ='Bg Substraction (2)'!R8*'Bg Substraction (2)'!B6/'Bg Substraction (2)'!R6 -> #VALUE! | S10: ='Bg Substraction (2)'!S8*'Bg Substraction (2)'!B6/'Bg Substraction (2)'!S6 -> #VALUE! | T10: ='Bg Substraction (2)'!T8*'Bg Substraction (2)'!B6/'Bg Substraction (2)'!T6 -> #VALUE! | U10: ='Bg Substraction (2)'!U8*'Bg Substraction (2)'!B6/'Bg Substraction (2)'!U6 -> #VALUE! | V10: ='Bg Substraction (2)'!V8*'Bg Substraction (2)'!B6/'Bg Substraction (2)'!V6 -> #VALUE! | W10: ='Bg Substraction (2)'!W8*'Bg Substraction (2)'!B6/'Bg Substraction (2)'!W6 -> #VALUE! | X10: ='Bg Substraction (2)'!X8*'Bg Substraction (2)'!B6/'Bg Substraction (2)'!X6 -> #VALUE! | Y10: ='Bg Substraction (2)'!Y8*'Bg Substraction (2)'!B6/'Bg Substraction (2)'!Y6 -> #VALUE!
A11: ='Bg Substraction (2)'!A9 -> IL-10 | B11: ='Bg Substraction (2)'!B9*'Bg Substraction (2)'!B6/'Bg Substraction (2)'!B6 -> #DIV/0! | C11: ='Bg Substraction (2)'!C9*'Bg Substraction (2)'!B6/'Bg Substraction (2)'!C6 -> #VALUE! | D11: ='Bg Substraction (2)'!D9*'Bg Substraction (2)'!B6/'Bg Substraction (2)'!D6 -> #VALUE! | E11: ='Bg Substraction (2)'!E9*'Bg Substraction (2)'!B6/'Bg Substraction (2)'!E6 -> #VALUE! | F11: ='Bg Substraction (2)'!F9*'Bg Substraction (2)'!B6/'Bg Substraction (2)'!F6 -> #VALUE! | G11: ='Bg Substraction (2)'!G9*'Bg Substraction (2)'!B6/'Bg Substraction (2)'!G6 -> #VALUE! | H11: ='Bg Substraction (2)'!H9*'Bg Substraction (2)'!B6/'Bg Substraction (2)'!H6 -> #VALUE! | I11: ='Bg Substraction (2)'!I9*'Bg Substraction (2)'!B6/'Bg Substraction (2)'!I6 -> #VALUE! | J11: ='Bg Substraction (2)'!J9*'Bg Substraction (2)'!B6/'Bg Substraction (2)'!J6 -> #VALUE! | K11: ='Bg Substraction (2)'!K9*'Bg Substraction (2)'!B6/'Bg Substraction (2)'!K6 -> #VALUE! | L11: ='Bg Substraction (2)'!L9*'Bg Substraction (2)'!B6/'Bg Substraction (2)'!L6 -> #VALUE! | M11: ='Bg Substraction (2)'!M9*'Bg Substraction (2)'!B6/'Bg Substraction (2)'!M6 -> #VALUE! | N11: ='Bg Substraction (2)'!N9*'Bg Substraction (2)'!B6/'Bg Substraction (2)'!N6 -> #VALUE! | O11: ='Bg Substraction (2)'!O9*'Bg Substraction (2)'!B6/'Bg Substraction (2)'!O6 -> #VALUE! | P11: ='Bg Substraction (2)'!P9*'Bg Substraction (2)'!B6/'Bg Substraction (2)'!P6 -> #VALUE! | Q11: ='Bg Substraction (2)'!Q9*'Bg Substraction (2)'!B6/'Bg Substraction (2)'!Q6 -> #VALUE! | R11: ='Bg Substraction (2)'!R9*'Bg Substraction (2)'!B6/'Bg Substraction (2)'!R6 -> #VALUE! | S11: ='Bg Substraction (2)'!S9*'Bg Substraction (2)'!B6/'Bg Substraction (2)'!S6 -> #VALUE! | T11: ='Bg Substraction (2)'!T9*'Bg Substraction (2)'!B6/'Bg Substraction (2)'!T6 -> #VALUE! | U11: ='Bg Substraction (2)'!U9*'Bg Substraction (2)'!B6/'Bg Substraction (2)'!U6 -> #VALUE! | V11: ='Bg Substraction (2)'!V9*'Bg Substraction (2)'!B6/'Bg Substraction (2)'!V6 -> #VALUE! | W11: ='Bg Substraction (2)'!W9*'Bg Substraction (2)'!B6/'Bg Substraction (2)'!W6 -> #VALUE! | X11: ='Bg Substraction (2)'!X9*'Bg Substraction (2)'!B6/'Bg Substraction (2)'!X6 -> #VALUE! | Y11: ='Bg Substraction (2)'!Y9*'Bg Substraction (2)'!B6/'Bg Substraction (2)'!Y6 -> #VALUE!
A12: ='Bg Substraction (2)'!A10 -> IL-12p70 | B12: ='Bg Substraction (2)'!B10*'Bg Substraction (2)'!B6/'Bg Substraction (2)'!B6 -> #DIV/0! | C12: ='Bg Substraction (2)'!C10*'Bg Substraction (2)'!B6/'Bg Substraction (2)'!C6 -> #VALUE! | D12: ='Bg Substraction (2)'!D10*'Bg Substraction (2)'!B6/'Bg Substraction (2)'!D6 -> #VALUE! | E12: ='Bg Substraction (2)'!E10*'Bg Substraction (2)'!B6/'Bg Substraction (2)'!E6 -> #VALUE! | F12: ='Bg Substraction (2)'!F10*'Bg Substraction (2)'!B6/'Bg Substraction (2)'!F6 -> #VALUE! | G12: ='Bg Substraction (2)'!G10*'Bg Substraction (2)'!B6/'Bg Substraction (2)'!G6 -> #VALUE! | H12: ='Bg Substraction (2)'!H10*'Bg Substraction (2)'!B6/'Bg Substraction (2)'!H6 -> #VALUE! | I12: ='Bg Substraction (2)'!I10*'Bg Substraction (2)'!B6/'Bg Substraction (2)'!I6 -> #VALUE! | J12: ='Bg Substraction (2)'!J10*'Bg Substraction (2)'!B6/'Bg Substraction (2)'!J6 -> #VALUE! | K12: ='Bg Substraction (2)'!K10*'Bg Substraction (2)'!B6/'Bg Substraction (2)'!K6 -> #VALUE! | L12: ='Bg Substraction (2)'!L10*'Bg Substraction (2)'!B6/'Bg Substraction (2)'!L6 -> #VALUE! | M12: ='Bg Substraction (2)'!M10*'Bg Substraction (2)'!B6/'Bg Substraction (2)'!M6 -> #VALUE! | N12: ='Bg Substraction (2)'!N10*'Bg Substraction (2)'!B6/'Bg Substraction (2)'!N6 -> #VALUE! | O12: ='Bg Substraction (2)'!O10*'Bg Substraction (2)'!B6/'Bg Substraction (2)'!O6 -> #VALUE! | P12: ='Bg Substraction (2)'!P10*'Bg Substraction (2)'!B6/'Bg Substraction (2)'!P6 -> #VALUE! | Q12: ='Bg Substraction (2)'!Q10*'Bg Substraction (2)'!B6/'Bg Substraction (2)'!Q6 -> #VALUE! | R12: ='Bg Substraction (2)'!R10*'Bg Substraction (2)'!B6/'Bg Substraction (2)'!R6 -> #VALUE! | S12: ='Bg Substraction (2)'!S10*'Bg Substraction (2)'!B6/'Bg Substraction (2)'!S6 -> #VALUE! | T12: ='Bg Substraction (2)'!T10*'Bg Substraction (2)'!B6/'Bg Substraction (2)'!T6 -> #VALUE! | U12: ='Bg Substraction (2)'!U10*'Bg Substraction (2)'!B6/'Bg Substraction (2)'!U6 -> #VALUE! | V12: ='Bg Substraction (2)'!V10*'Bg Substraction (2)'!B6/'Bg Substraction (2)'!V6 -> #VALUE! | W12: ='Bg Substraction (2)'!W10*'Bg Substraction (2)'!B6/'Bg Substraction (2)'!W6 -> #VALUE! | X12: ='Bg Substraction (2)'!X10*'Bg Substraction (2)'!B6/'Bg Substraction (2)'!X6 -> #VALUE! | Y12: ='Bg Substraction (2)'!Y10*'Bg Substraction (2)'!B6/'Bg Substraction (2)'!Y6 -> #VALUE!
A13: ='Bg Substraction (2)'!A11 -> IL-13 | B13: ='Bg Substraction (2)'!B11*'Bg Substraction (2)'!B6/'Bg Substraction (2)'!B6 -> #DIV/0! | C13: ='Bg Substraction (2)'!C11*'Bg Substraction (2)'!B6/'Bg Substraction (2)'!C6 -> #VALUE! | D13: ='Bg Substraction (2)'!D11*'Bg Substraction (2)'!B6/'Bg Substraction (2)'!D6 -> #VALUE! | E13: ='Bg Substraction (2)'!E11*'Bg Substraction (2)'!B6/'Bg Substraction (2)'!E6 -> #VALUE! | F13: ='Bg Substraction (2)'!F11*'Bg Substraction (2)'!B6/'Bg Substraction (2)'!F6 -> #VALUE! | G13: ='Bg Substraction (2)'!G11*'Bg Substraction (2)'!B6/'Bg Substraction (2)'!G6 -> #VALUE! | H13: ='Bg Substraction (2)'!H11*'Bg Substraction (2)'!B6/'Bg Substraction (2)'!H6 -> #VALUE! | I13: ='Bg Substraction (2)'!I11*'Bg Substraction (2)'!B6/'Bg Substraction (2)'!I6 -> #VALUE! | J13: ='Bg Substraction (2)'!J11*'Bg Substraction (2)'!B6/'Bg Substraction (2)'!J6 -> #VALUE! | K13: ='Bg Substraction (2)'!K11*'Bg Substraction (2)'!B6/'Bg Substraction (2)'!K6 -> #VALUE! | L13: ='Bg Substraction (2)'!L11*'Bg Substraction (2)'!B6/'Bg Substraction (2)'!L6 -> #VALUE! | M13: ='Bg Substraction (2)'!M11*'Bg Substraction (2)'!B6/'Bg Substraction (2)'!M6 -> #VALUE! | N13: ='Bg Substraction (2)'!N11*'Bg Substraction (2)'!B6/'Bg Substraction (2)'!N6 -> #VALUE! | O13: ='Bg Substraction (2)'!O11*'Bg Substraction (2)'!B6/'Bg Substraction (2)'!O6 -> #VALUE! | P13: ='Bg Substraction (2)'!P11*'Bg Substraction (2)'!B6/'Bg Substraction (2)'!P6 -> #VALUE! | Q13: ='Bg Substraction (2)'!Q11*'Bg Substraction (2)'!B6/'Bg Substraction (2)'!Q6 -> #VALUE! | R13: ='Bg Substraction (2)'!R11*'Bg Substraction (2)'!B6/'Bg Substraction (2)'!R6 -> #VALUE! | S13: ='Bg Substraction (2)'!S11*'Bg Substraction (2)'!B6/'Bg Substraction (2)'!S6 -> #VALUE! | T13: ='Bg Substraction (2)'!T11*'Bg Substraction (2)'!B6/'Bg Substraction (2)'!T6 -> #VALUE! | U13: ='Bg Substraction (2)'!U11*'Bg Substraction (2)'!B6/'Bg Substraction (2)'!U6 -> #VALUE! | V13: ='Bg Substraction (2)'!V11*'Bg Substraction (2)'!B6/'Bg Substraction (2)'!V6 -> #VALUE! | W13: ='Bg Substraction (2)'!W11*'Bg Substraction (2)'!B6/'Bg Substraction (2)'!W6 -> #VALUE! | X13: ='Bg Substraction (2)'!X11*'Bg Substraction (2)'!B6/'Bg Substraction (2)'!X6 -> #VALUE! | Y13: ='Bg Substraction (2)'!Y11*'Bg Substraction (2)'!B6/'Bg Substraction (2)'!Y6 -> #VALUE!
A14: ='Bg Substraction (2)'!A12 -> IL-17 | B14: ='Bg Substraction (2)'!B12*'Bg Substraction (2)'!B6/'Bg Substraction (2)'!B6 -> #DIV/0! | C14: ='Bg Substraction (2)'!C12*'Bg Substraction (2)'!B6/'Bg Substraction (2)'!C6 -> #VALUE! | D14: ='Bg Substraction (2)'!D12*'Bg Substraction (2)'!B6/'Bg Substraction (2)'!D6 -> #VALUE! | E14: ='Bg Substraction (2)'!E12*'Bg Substraction (2)'!B6/'Bg Substraction (2)'!E6 -> #VALUE! | F14: ='Bg Substraction (2)'!F12*'Bg Substraction (2)'!B6/'Bg Substraction (2)'!F6 -> #VALUE! | G14: ='Bg Substraction (2)'!G12*'Bg Substraction (2)'!B6/'Bg Substraction (2)'!G6 -> #VALUE! | H14: ='Bg Substraction (2)'!H12*'Bg Substraction (2)'!B6/'Bg Substraction (2)'!H6 -> #VALUE! | I14: ='Bg Substraction (2)'!I12*'Bg Substraction (2)'!B6/'Bg Substraction (2)'!I6 -> #VALUE! | J14: ='Bg Substraction (2)'!J12*'Bg Substraction (2)'!B6/'Bg Substraction (2)'!J6 -> #VALUE! | K14: ='Bg Substraction (2)'!K12*'Bg Substraction (2)'!B6/'Bg Substraction (2)'!K6 -> #VALUE! | L14: ='Bg Substraction (2)'!L12*'Bg Substraction (2)'!B6/'Bg Substraction (2)'!L6 -> #VALUE! | M14: ='Bg Substraction (2)'!M12*'Bg Substraction (2)'!B6/'Bg Substraction (2)'!M6 -> #VALUE! | N14: ='Bg Substraction (2)'!N12*'Bg Substraction (2)'!B6/'Bg Substraction (2)'!N6 -> #VALUE! | O14: ='Bg Substraction (2)'!O12*'Bg Substraction (2)'!B6/'Bg Substraction (2)'!O6 -> #VALUE! | P14: ='Bg Substraction (2)'!P12*'Bg Substraction (2)'!B6/'Bg Substraction (2)'!P6 -> #VALUE! | Q14: ='Bg Substraction (2)'!Q12*'Bg Substraction (2)'!B6/'Bg Substraction (2)'!Q6 -> #VALUE! | R14: ='Bg Substraction (2)'!R12*'Bg Substraction (2)'!B6/'Bg Substraction (2)'!R6 -> #VALUE! | S14: ='Bg Substraction (2)'!S12*'Bg Substraction (2)'!B6/'Bg Substraction (2)'!S6 -> #VALUE! | T14: ='Bg Substraction (2)'!T12*'Bg Substraction (2)'!B6/'Bg Substraction (2)'!T6 -> #VALUE! | U14: ='Bg Substraction (2)'!U12*'Bg Substraction (2)'!B6/'Bg Substraction (2)'!U6 -> #VALUE! | V14: ='Bg Substraction (2)'!V12*'Bg Substraction (2)'!B6/'Bg Substraction (2)'!V6 -> #VALUE! | W14: ='Bg Substraction (2)'!W12*'Bg Substraction (2)'!B6/'Bg Substraction (2)'!W6 -> #VALUE! | X14: ='Bg Substraction (2)'!X12*'Bg Substraction (2)'!B6/'Bg Substraction (2)'!X6 -> #VALUE! | Y14: ='Bg Substraction (2)'!Y12*'Bg Substraction (2)'!B6/'Bg Substraction (2)'!Y6 -> #VALUE!
A15: ='Bg Substraction (2)'!A13 -> IL-17F | B15: ='Bg Substraction (2)'!B13*'Bg Substraction (2)'!B6/'Bg Substraction (2)'!B6 -> #DIV/0! | C15: ='Bg Substraction (2)'!C13*'Bg Substraction (2)'!B6/'Bg Substraction (2)'!C6 -> #VALUE! | D15: ='Bg Substraction (2)'!D13*'Bg Substraction (2)'!B6/'Bg Substraction (2)'!D6 -> #VALUE! | E15: ='Bg Substraction (2)'!E13*'Bg Substraction (2)'!B6/'Bg Substraction (2)'!E6 -> #VALUE! | F15: ='Bg Substraction (2)'!F13*'Bg Substraction (2)'!B6/'Bg Substraction (2)'!F6 -> #VALUE! | G15: ='Bg Substraction (2)'!G13*'Bg Substraction (2)'!B6/'Bg Substraction (2)'!G6 -> #VALUE! | H15: ='Bg Substraction (2)'!H13*'Bg Substraction (2)'!B6/'Bg Substraction (2)'!H6 -> #VALUE! | I15: ='Bg Substraction (2)'!I13*'Bg Substraction (2)'!B6/'Bg Substraction (2)'!I6 -> #VALUE! | J15: ='Bg Substraction (2)'!J13*'Bg Substraction (2)'!B6/'Bg Substraction (2)'!J6 -> #VALUE! | K15: ='Bg Substraction (2)'!K13*'Bg Substraction (2)'!B6/'Bg Substraction (2)'!K6 -> #VALUE! | L15: ='Bg Substraction (2)'!L13*'Bg Substraction (2)'!B6/'Bg Substraction (2)'!L6 -> #VALUE! | M15: ='Bg Substraction (2)'!M13*'Bg Substraction (2)'!B6/'Bg Substraction (2)'!M6 -> #VALUE! | N15: ='Bg Substraction (2)'!N13*'Bg Substraction (2)'!B6/'Bg Substraction (2)'!N6 -> #VALUE! | O15: ='Bg Substraction (2)'!O13*'Bg Substraction (2)'!B6/'Bg Substraction (2)'!O6 -> #VALUE! | P15: ='Bg Substraction (2)'!P13*'Bg Substraction (2)'!B6/'Bg Substraction (2)'!P6 -> #VALUE! | Q15: ='Bg Substraction (2)'!Q13*'Bg Substraction (2)'!B6/'Bg Substraction (2)'!Q6 -> #VALUE! | R15: ='Bg Substraction (2)'!R13*'Bg Substraction (2)'!B6/'Bg Substraction (2)'!R6 -> #VALUE! | S15: ='Bg Substraction (2)'!S13*'Bg Substraction (2)'!B6/'Bg Substraction (2)'!S6 -> #VALUE! | T15: ='Bg Substraction (2)'!T13*'Bg Substraction (2)'!B6/'Bg Substraction (2)'!T6 -> #VALUE! | U15: ='Bg Substraction (2)'!U13*'Bg Substraction (2)'!B6/'Bg Substraction (2)'!U6 -> #VALUE! | V15: ='Bg Substraction (2)'!V13*'Bg Substraction (2)'!B6/'Bg Substraction (2)'!V6 -> #VALUE! | W15: ='Bg Substraction (2)'!W13*'Bg Substraction (2)'!B6/'Bg Substraction (2)'!W6 -> #VALUE! | X15: ='Bg Substraction (2)'!X13*'Bg Substraction (2)'!B6/'Bg Substraction (2)'!X6 -> #VALUE! | Y15: ='Bg Substraction (2)'!Y13*'Bg Substraction (2)'!B6/'Bg Substraction (2)'!Y6 -> #VALUE!
A16: ='Bg Substraction (2)'!A14 -> IL-18 | B16: ='Bg Substraction (2)'!B14*'Bg Substraction (2)'!B6/'Bg Substraction (2)'!B6 -> #DIV/0! | C16: ='Bg Substraction (2)'!C14*'Bg Substraction (2)'!B6/'Bg Substraction (2)'!C6 -> #VALUE! | D16: ='Bg Substraction (2)'!D14*'Bg Substraction (2)'!B6/'Bg Substraction (2)'!D6 -> #VALUE! | E16: ='Bg Substraction (2)'!E14*'Bg Substraction (2)'!B6/'Bg Substraction (2)'!E6 -> #VALUE! | F16: ='Bg Substraction (2)'!F14*'Bg Substraction (2)'!B6/'Bg Substraction (2)'!F6 -> #VALUE! | G16: ='Bg Substraction (2)'!G14*'Bg Substraction (2)'!B6/'Bg Substraction (2)'!G6 -> #VALUE! | H16: ='Bg Substraction (2)'!H14*'Bg Substraction (2)'!B6/'Bg Substraction (2)'!H6 -> #VALUE! | I16: ='Bg Substraction (2)'!I14*'Bg Substraction (2)'!B6/'Bg Substraction (2)'!I6 -> #VALUE! | J16: ='Bg Substraction (2)'!J14*'Bg Substraction (2)'!B6/'Bg Substraction (2)'!J6 -> #VALUE! | K16: ='Bg Substraction (2)'!K14*'Bg Substraction (2)'!B6/'Bg Substraction (2)'!K6 -> #VALUE! | L16: ='Bg Substraction (2)'!L14*'Bg Substraction (2)'!B6/'Bg Substraction (2)'!L6 -> #VALUE! | M16: ='Bg Substraction (2)'!M14*'Bg Substraction (2)'!B6/'Bg Substraction (2)'!M6 -> #VALUE! | N16: ='Bg Substraction (2)'!N14*'Bg Substraction (2)'!B6/'Bg Substraction (2)'!N6 -> #VALUE! | O16: ='Bg Substraction (2)'!O14*'Bg Substraction (2)'!B6/'Bg Substraction (2)'!O6 -> #VALUE! | P16: ='Bg Substraction (2)'!P14*'Bg Substraction (2)'!B6/'Bg Substraction (2)'!P6 -> #VALUE! | Q16: ='Bg Substraction (2)'!Q14*'Bg Substraction (2)'!B6/'Bg Substraction (2)'!Q6 -> #VALUE! | R16: ='Bg Substraction (2)'!R14*'Bg Substraction (2)'!B6/'Bg Substraction (2)'!R6 -> #VALUE! | S16: ='Bg Substraction (2)'!S14*'Bg Substraction (2)'!B6/'Bg Substraction (2)'!S6 -> #VALUE! | T16: ='Bg Substraction (2)'!T14*'Bg Substraction (2)'!B6/'Bg Substraction (2)'!T6 -> #VALUE! | U16: ='Bg Substraction (2)'!U14*'Bg Substraction (2)'!B6/'Bg Substraction (2)'!U6 -> #VALUE! | V16: ='Bg Substraction (2)'!V14*'Bg Substraction (2)'!B6/'Bg Substraction (2)'!V6 -> #VALUE! | W16: ='Bg Substraction (2)'!W14*'Bg Substraction (2)'!B6/'Bg Substraction (2)'!W6 -> #VALUE! | X16: ='Bg Substraction (2)'!X14*'Bg Substraction (2)'!B6/'Bg Substraction (2)'!X6 -> #VALUE! | Y16: ='Bg Substraction (2)'!Y14*'Bg Substraction (2)'!B6/'Bg Substraction (2)'!Y6 -> #VALUE!
A17: ='Bg Substraction (2)'!A15 -> IL-2 | B17: ='Bg Substraction (2)'!B15*'Bg Substraction (2)'!B6/'Bg Substraction (2)'!B6 -> #DIV/0! | C17: ='Bg Substraction (2)'!C15*'Bg Substraction (2)'!B6/'Bg Substraction (2)'!C6 -> #VALUE! | D17: ='Bg Substraction (2)'!D15*'Bg Substraction (2)'!B6/'Bg Substraction (2)'!D6 -> #VALUE! | E17: ='Bg Substraction (2)'!E15*'Bg Substraction (2)'!B6/'Bg Substraction (2)'!E6 -> #VALUE! | F17: ='Bg Substraction (2)'!F15*'Bg Substraction (2)'!B6/'Bg Substraction (2)'!F6 -> #VALUE! | G17: ='Bg Substraction (2)'!G15*'Bg Substraction (2)'!B6/'Bg Substraction (2)'!G6 -> #VALUE! | H17: ='Bg Substraction (2)'!H15*'Bg Substraction (2)'!B6/'Bg Substraction (2)'!H6 -> #VALUE! | I17: ='Bg Substraction (2)'!I15*'Bg Substraction (2)'!B6/'Bg Substraction (2)'!I6 -> #VALUE! | J17: ='Bg Substraction (2)'!J15*'Bg Substraction (2)'!B6/'Bg Substraction (2)'!J6 -> #VALUE! | K17: ='Bg Substraction (2)'!K15*'Bg Substraction (2)'!B6/'Bg Substraction (2)'!K6 -> #VALUE! | L17: ='Bg Substraction (2)'!L15*'Bg Substraction (2)'!B6/'Bg Substraction (2)'!L6 -> #VALUE! | M17: ='Bg Substraction (2)'!M15*'Bg Substraction (2)'!B6/'Bg Substraction (2)'!M6 -> #VALUE! | N17: ='Bg Substraction (2)'!N15*'Bg Substraction (2)'!B6/'Bg Substraction (2)'!N6 -> #VALUE! | O17: ='Bg Substraction (2)'!O15*'Bg Substraction (2)'!B6/'Bg Substraction (2)'!O6 -> #VALUE! | P17: ='Bg Substraction (2)'!P15*'Bg Substraction (2)'!B6/'Bg Substraction (2)'!P6 -> #VALUE! | Q17: ='Bg Substraction (2)'!Q15*'Bg Substraction (2)'!B6/'Bg Substraction (2)'!Q6 -> #VALUE! | R17: ='Bg Substraction (2)'!R15*'Bg Substraction (2)'!B6/'Bg Substraction (2)'!R6 -> #VALUE! | S17: ='Bg Substraction (2)'!S15*'Bg Substraction (2)'!B6/'Bg Substraction (2)'!S6 -> #VALUE! | T17: ='Bg Substraction (2)'!T15*'Bg Substraction (2)'!B6/'Bg Substraction (2)'!T6 -> #VALUE! | U17: ='Bg Substraction (2)'!U15*'Bg Substraction (2)'!B6/'Bg Substraction (2)'!U6 -> #VALUE! | V17: ='Bg Substraction (2)'!V15*'Bg Substraction (2)'!B6/'Bg Substraction (2)'!V6 -> #VALUE! | W17: ='Bg Substraction (2)'!W15*'Bg Substraction (2)'!B6/'Bg Substraction (2)'!W6 -> #VALUE! | X17: ='Bg Substraction (2)'!X15*'Bg Substraction (2)'!B6/'Bg Substraction (2)'!X6 -> #VALUE! | Y17: ='Bg Substraction (2)'!Y15*'Bg Substraction (2)'!B6/'Bg Substraction (2)'!Y6 -> #VALUE!
A18: ='Bg Substraction (2)'!A16 -> IL-4 | B18: ='Bg Substraction (2)'!B16*'Bg Substraction (2)'!B6/'Bg Substraction (2)'!B6 -> #DIV/0! | C18: ='Bg Substraction (2)'!C16*'Bg Substraction (2)'!B6/'Bg Substraction (2)'!C6 -> #VALUE! | D18: ='Bg Substraction (2)'!D16*'Bg Substraction (2)'!B6/'Bg Substraction (2)'!D6 -> #VALUE! | E18: ='Bg Substraction (2)'!E16*'Bg Substraction (2)'!B6/'Bg Substraction (2)'!E6 -> #VALUE! | F18: ='Bg Substraction (2)'!F16*'Bg Substraction (2)'!B6/'Bg Substraction (2)'!F6 -> #VALUE! | G18: ='Bg Substraction (2)'!G16*'Bg Substraction (2)'!B6/'Bg Substraction (2)'!G6 -> #VALUE! | H18: ='Bg Substraction (2)'!H16*'Bg Substraction (2)'!B6/'Bg Substraction (2)'!H6 -> #VALUE! | I18: ='Bg Substraction (2)'!I16*'Bg Substraction (2)'!B6/'Bg Substraction (2)'!I6 -> #VALUE! | J18: ='Bg Substraction (2)'!J16*'Bg Substraction (2)'!B6/'Bg Substraction (2)'!J6 -> #VALUE! | K18: ='Bg Substraction (2)'!K16*'Bg Substraction (2)'!B6/'Bg Substraction (2)'!K6 -> #VALUE! | L18: ='Bg Substraction (2)'!L16*'Bg Substraction (2)'!B6/'Bg Substraction (2)'!L6 -> #VALUE! | M18: ='Bg Substraction (2)'!M16*'Bg Substraction (2)'!B6/'Bg Substraction (2)'!M6 -> #VALUE! | N18: ='Bg Substraction (2)'!N16*'Bg Substraction (2)'!B6/'Bg Substraction (2)'!N6 -> #VALUE! | O18: ='Bg Substraction (2)'!O16*'Bg Substraction (2)'!B6/'Bg Substraction (2)'!O6 -> #VALUE! | P18: ='Bg Substraction (2)'!P16*'Bg Substraction (2)'!B6/'Bg Substraction (2)'!P6 -> #VALUE! | Q18: ='Bg Substraction (2)'!Q16*'Bg Substraction (2)'!B6/'Bg Substraction (2)'!Q6 -> #VALUE! | R18: ='Bg Substraction (2)'!R16*'Bg Substraction (2)'!B6/'Bg Substraction (2)'!R6 -> #VALUE! | S18: ='Bg Substraction (2)'!S16*'Bg Substraction (2)'!B6/'Bg Substraction (2)'!S6 -> #VALUE! | T18: ='Bg Substraction (2)'!T16*'Bg Substraction (2)'!B6/'Bg Substraction (2)'!T6 -> #VALUE! | U18: ='Bg Substraction (2)'!U16*'Bg Substraction (2)'!B6/'Bg Substraction (2)'!U6 -> #VALUE! | V18: ='Bg Substraction (2)'!V16*'Bg Substraction (2)'!B6/'Bg Substraction (2)'!V6 -> #VALUE! | W18: ='Bg Substraction (2)'!W16*'Bg Substraction (2)'!B6/'Bg Substraction (2)'!W6 -> #VALUE! | X18: ='Bg Substraction (2)'!X16*'Bg Substraction (2)'!B6/'Bg Substraction (2)'!X6 -> #VALUE! | Y18: ='Bg Substraction (2)'!Y16*'Bg Substraction (2)'!B6/'Bg Substraction (2)'!Y6 -> #VALUE!
