Workbook
Name _A1: 'Aligning data'!#REF!
Name OLE_LINK1: Guide!$B$3

Sheet Guide

Sheet Importing data
A2: RayBio® Cytokine Antibody Arrays --AAM-TCR-1

Sheet Aligning data
A1: ='Importing data'!A2 -> RayBio® Cytokine Antibody Arrays --AAM-TCR-1
A3: Sample 1
B4: A | C4: B | D4: C | E4: D | F4: E | G4: F | H4: G | I4: H | K4: Background
A5: 1 | B5: A1 | C5: B1 | D5: C1 | E5: D1 | F5: E1 | G5: F1 | H5: G1 | I5: H1
A6: 2 | B6: A2 | C6: B2 | D6: C2 | E6: D2 | F6: E2 | G6: F2 | H6: G2 | I6: H2
A7: 3 | B7: A3 | C7: B3 | D7: C3 | E7: D3 | F7: E3 | G7: F3 | H7: G3 | I7: H3
A8: 4 | B8: A4 | C8: B4 | D8: C4 | E8: D4 | F8: E4 | G8: F4 | H8: G4 | I8: H4
A9: 5 | B9: A5 | C9: B5 | D9: C5 | E9: D5 | F9: E5 | G9: F5 | H9: G5 | I9: H5
A10: 6 | B10: A6 | C10: B6 | D10: C6 | E10: D6 | F10: E6 | G10: F6 | H10: G6 | I10: H6
A12: Sample 2
B13: A | C13: B | D13: C | E13: D | F13: E | G13: F | H13: G | I13: H | K13: Background
A14: 1 | B14: A1 | C14: B1 | D14: C1 | E14: D1 | F14: E1 | G14: F1 | H14: G1 | I14: H1
A15: 2 | B15: A2 | C15: B2 | D15: C2 | E15: D2 | F15: E2 | G15: F2 | H15: G2 | I15: H2
A16: 3 | B16: A3 | C16: B3 | D16: C3 | E16: D3 | F16: E3 | G16: F3 | H16: G3 | I16: H3
A17: 4 | B17: A4 | C17: B4 | D17: C4 | E17: D4 | F17: E4 | G17: F4 | H17: G4 | I17: H4
A18: 5 | B18: A5 | C18: B5 | D18: C5 | E18: D5 | F18: E5 | G18: F5 | H18: G5 | I18: H5
A19: 6 | B19: A6 | C19: B6 | D19: C6 | E19: D6 | F19: E6 | G19: F6 | H19: G6 | I19: H6
A21: Sample 3
B22: A | C22: B | D22: C | E22: D | F22: E | G22: F | H22: G | I22: H | K22: Background
A23: 1 | B23: A1 | C23: B1 | D23: C1 | E23: D1 | F23: E1 | G23: F1 | H23: G1 | I23: H1
A24: 2 | B24: A2 | C24: B2 | D24: C2 | E24: D2 | F24: E2 | G24: F2 | H24: G2 | I24: H2
A25: 3 | B25: A3 | C25: B3 | D25: C3 | E25: D3 | F25: E3 | G25: F3 | H25: G3 | I25: H3
A26: 4 | B26: A4 | C26: B4 | D26: C4 | E26: D4 | F26: E4 | G26: F4 | H26: G4 | I26: H4
A27: 5 | B27: A5 | C27: B5 | D27: C5 | E27: D5 | F27: E5 | G27: F5 | H27: G5 | I27: H5
A28: 6 | B28: A6 | C28: B6 | D28: C6 | E28: D6 | F28: E6 | G28: F6 | H28: G6 | I28: H6
A30: Sample 4
B31: A | C31: B | D31: C | E31: D | F31: E | G31: F | H31: G | I31: H | K31: Background
A32: 1 | B32: A1 | C32: B1 | D32: C1 | E32: D1 | F32: E1 | G32: F1 | H32: G1 | I32: H1
A33: 2 | B33: A2 | C33: B2 | D33: C2 | E33: D2 | F33: E2 | G33: F2 | H33: G2 | I33: H2
A34: 3 | B34: A3 | C34: B3 | D34: C3 | E34: D3 | F34: E3 | G34: F3 | H34: G3 | I34: H3
A35: 4 | B35: A4 | C35: B4 | D35: C4 | E35: D4 | F35: E4 | G35: F4 | H35: G4 | I35: H4
A36: 5 | B36: A5 | C36: B5 | D36: C5 | E36: D5 | F36: E5 | G36: F5 | H36: G5 | I36: H5
A37: 6 | B37: A6 | C37: B6 | D37: C6 | E37: D6 | F37: E6 | G37: F6 | H37: G6 | I37: H6
A39: Sample 5
B40: A | C40: B | D40: C | E40: D | F40: E | G40: F | H40: G | I40: H | K40: Background
A41: 1 | B41: A1 | C41: B1 | D41: C1 | E41: D1 | F41: E1 | G41: F1 | H41: G1 | I41: H1
A42: 2 | B42: A2 | C42: B2 | D42: C2 | E42: D2 | F42: E2 | G42: F2 | H42: G2 | I42: H2
A43: 3 | B43: A3 | C43: B3 | D43: C3 | E43: D3 | F43: E3 | G43: F3 | H43: G3 | I43: H3
A44: 4 | B44: A4 | C44: B4 | D44: C4 | E44: D4 | F44: E4 | G44: F4 | H44: G4 | I44: H4
A45: 5 | B45: A5 | C45: B5 | D45: C5 | E45: D5 | F45: E5 | G45: F5 | H45: G5 | I45: H5
...

Sheet Map and Ab list
A1: ='Aligning data'!A1 -> RayBio® Cytokine Antibody Arrays --AAM-TCR-1
A3: ='Aligning data'!A3:B3 -> Sample 1
B4: A | C4: B | D4: C | E4: D | F4: E | G4: F | H4: G | I4: H | K4: Background
A5: 1 | B5: POS | C5: POS | D5: NEG | E5: NEG | F5: IFNg | G5: IL-10 | H5: IL-12p70 | I5: IL-13
K6: ='Aligning data'!K5 -> 0
A7: 2 | B7: POS | C7: POS | D7: NEG | E7: NEG | F7: IFNg | G7: IL-10 | H7: IL-12p70 | I7: IL-13
K8: ='Aligning data'!K6 -> 0
A9: 3 | B9: IL-17 | C9: IL-17F | D9: IL-18 | E9: IL-2 | F9: IL-4 | G9: IL-5 | H9: IL-6 | I9: IL-7
K10: ='Aligning data'!K7 -> 0
A11: 4 | B11: IL-17 | C11: IL-17F | D11: IL-18 | E11: IL-2 | F11: IL-4 | G11: IL-5 | H11: IL-6 | I11: IL-7
K12: ='Aligning data'!K8 -> 0
A13: 5 | B13: IL-9 | C13: TGFb | D13: TNFa | E13: BLANK | F13: BLANK | G13: BLANK | H13: BLANK | I13: POS
A15: 6 | B15: IL-9 | C15: TGFb | D15: TNFa | E15: BLANK | F15: BLANK | G15: BLANK | H15: BLANK | I15: POS
A18: ='Aligning data'!A12:B12 -> Sample 2
B19: A | C19: B | D19: C | E19: D | F19: E | G19: F | H19: G | I19: H | K19: Background
A20: 1 | B20: =B5 -> POS | C20: =C5 -> POS | D20: =D5 -> NEG | E20: =E5 -> NEG | F20: =F5 -> IFNg | G20: =G5 -> IL-10 | H20: =H5 -> IL-12p70 | I20: =I5 -> IL-13
B21: ='Aligning data'!B14 -> A1 | C21: ='Aligning data'!C14 -> B1 | D21: ='Aligning data'!D14 -> C1 | E21: ='Aligning data'!E14 -> D1 | F21: ='Aligning data'!F14 -> E1 | G21: ='Aligning data'!G14 -> F1 | H21: ='Aligning data'!H14 -> G1 | I21: ='Aligning data'!I14 -> H1 | K21: ='Aligning data'!K14 -> 0
A22: 2 | B22: =B5 -> POS | C22: =C5 -> POS | D22: =D5 -> NEG | E22: =E5 -> NEG | F22: =F5 -> IFNg | G22: =G5 -> IL-10 | H22: =H5 -> IL-12p70 | I22: =I5 -> IL-13
B23: ='Aligning data'!B15 -> A2 | C23: ='Aligning data'!C15 -> B2 | D23: ='Aligning data'!D15 -> C2 | E23: ='Aligning data'!E15 -> D2 | F23: ='Aligning data'!F15 -> E2 | G23: ='Aligning data'!G15 -> F2 | H23: ='Aligning data'!H15 -> G2 | I23: ='Aligning data'!I15 -> H2 | K23: ='Aligning data'!K15 -> 0
A24: 3 | B24: =B9 -> IL-17 | C24: =C9 -> IL-17F | D24: =D9 -> IL-18 | E24: =E9 -> IL-2 | F24: =F9 -> IL-4 | G24: =G9 -> IL-5 | H24: =H9 -> IL-6 | I24: =I9 -> IL-7
B25: ='Aligning data'!B16 -> A3 | C25: ='Aligning data'!C16 -> B3 | D25: ='Aligning data'!D16 -> C3 | E25: ='Aligning data'!E16 -> D3 | F25: ='Aligning data'!F16 -> E3 | G25: ='Aligning data'!G16 -> F3 | H25: ='Aligning data'!H16 -> G3 | I25: ='Aligning data'!I16 -> H3 | K25: ='Aligning data'!K16 -> 0
A26: 4 | B26: =B9 -> IL-17 | C26: =C9 -> IL-17F | D26: =D9 -> IL-18 | E26: =E9 -> IL-2 | F26: =F9 -> IL-4 | G26: =G9 -> IL-5 | H26: =H9 -> IL-6 | I26: =I9 -> IL-7
B27: ='Aligning data'!B17 -> A4 | C27: ='Aligning data'!C17 -> B4 | D27: ='Aligning data'!D17 -> C4 | E27: ='Aligning data'!E17 -> D4 | F27: ='Aligning data'!F17 -> E4 | G27: ='Aligning data'!G17 -> F4 | H27: ='Aligning data'!H17 -> G4 | I27: ='Aligning data'!I17 -> H4 | K27: ='Aligning data'!K17 -> 0
A28: 5 | B28: =B13 -> IL-9 | C28: =C13 -> TGFb | D28: =D13 -> TNFa | E28: =E13 -> BLANK | F28: =F13 -> BLANK | G28: =G13 -> BLANK | H28: =H13 -> BLANK | I28: =I13 -> POS
B29: ='Aligning data'!B18 -> A5 | C29: ='Aligning data'!C18 -> B5 | D29: ='Aligning data'!D18 -> C5 | E29: ='Aligning data'!E18 -> D5 | F29: ='Aligning data'!F18 -> E5 | G29: ='Aligning data'!G18 -> F5 | H29: ='Aligning data'!H18 -> G5 | I29: ='Aligning data'!I18 -> H5
A30: 6 | B30: =B13 -> IL-9 | C30: =C13 -> TGFb | D30: =D13 -> TNFa | E30: =E13 -> BLANK | F30: =F13 -> BLANK | G30: =G13 -> BLANK | H30: =H13 -> BLANK | I30: =I13 -> POS
B31: ='Aligning data'!B19 -> A6 | C31: ='Aligning data'!C19 -> B6 | D31: ='Aligning data'!D19 -> C6 | E31: ='Aligning data'!E19 -> D6 | F31: ='Aligning data'!F19 -> E6 | G31: ='Aligning data'!G19 -> F6 | H31: ='Aligning data'!H19 -> G6 | I31: ='Aligning data'!I19 -> H6
A33: ='Aligning data'!A21:B21 -> Sample 3
B34: A | C34: B | D34: C | E34: D | F34: E | G34: F | H34: G | I34: H | K34: Background
A35: 1 | B35: =B20 -> POS | C35: =C20 -> POS | D35: =D20 -> NEG | E35: =E20 -> NEG | F35: =F20 -> IFNg | G35: =G20 -> IL-10 | H35: =H20 -> IL-12p70 | I35: =I20 -> IL-13
B36: ='Aligning data'!B23 -> A1 | C36: ='Aligning data'!C23 -> B1 | D36: ='Aligning data'!D23 -> C1 | E36: ='Aligning data'!E23 -> D1 | F36: ='Aligning data'!F23 -> E1 | G36: ='Aligning data'!G23 -> F1 | H36: ='Aligning data'!H23 -> G1 | I36: ='Aligning data'!I23 -> H1 | K36: ='Aligning data'!K23 -> 0
A37: 2 | B37: =B22 -> POS | C37: =C22 -> POS | D37: =D22 -> NEG | E37: =E22 -> NEG | F37: =F22 -> IFNg | G37: =G22 -> IL-10 | H37: =H22 -> IL-12p70 | I37: =I22 -> IL-13
B38: ='Aligning data'!B24 -> A2 | C38: ='Aligning data'!C24 -> B2 | D38: ='Aligning data'!D24 -> C2 | E38: ='Aligning data'!E24 -> D2 | F38: ='Aligning data'!F24 -> E2 | G38: ='Aligning data'!G24 -> F2 | H38: ='Aligning data'!H24 -> G2 | I38: ='Aligning data'!I24 -> H2 | K38: ='Aligning data'!K24 -> 0
A39: 3 | B39: =B24 -> IL-17 | C39: =C24 -> IL-17F | D39: =D24 -> IL-18 | E39: =E24 -> IL-2 | F39: =F24 -> IL-4 | G39: =G24 -> IL-5 | H39: =H24 -> IL-6 | I39: =I24 -> IL-7
B40: ='Aligning data'!B25 -> A3 | C40: ='Aligning data'!C25 -> B3 | D40: ='Aligning data'!D25 -> C3 | E40: ='Aligning data'!E25 -> D3 | F40: ='Aligning data'!F25 -> E3 | G40: ='Aligning data'!G25 -> F3 | H40: ='Aligning data'!H25 -> G3 | I40: ='Aligning data'!I25 -> H3 | K40: ='Aligning data'!K25 -> 0
A41: 4 | B41: =B26 -> IL-17 | C41: =C26 -> IL-17F | D41: =D26 -> IL-18 | E41: =E26 -> IL-2 | F41: =F26 -> IL-4 | G41: =G26 -> IL-5 | H41: =H26 -> IL-6 | I41: =I26 -> IL-7
B42: ='Aligning data'!B26 -> A4 | C42: ='Aligning data'!C26 -> B4 | D42: ='Aligning data'!D26 -> C4 | E42: ='Aligning data'!E26 -> D4 | F42: ='Aligning data'!F26 -> E4 | G42: ='Aligning data'!G26 -> F4 | H42: ='Aligning data'!H26 -> G4 | I42: ='Aligning data'!I26 -> H4 | K42: ='Aligning data'!K26 -> 0
A43: 5 | B43: =B28 -> IL-9 | C43: =C28 -> TGFb | D43: =D28 -> TNFa | E43: =E28 -> BLANK | F43: =F28 -> BLANK | G43: =G28 -> BLANK | H43: =H28 -> BLANK | I43: =I28 -> POS
B44: ='Aligning data'!B27 -> A5 | C44: ='Aligning data'!C27 -> B5 | D44: ='Aligning data'!D27 -> C5 | E44: ='Aligning data'!E27 -> D5 | F44: ='Aligning data'!F27 -> E5 | G44: ='Aligning data'!G27 -> F5 | H44: ='Aligning data'!H27 -> G5 | I44: ='Aligning data'!I27 -> H5
A45: 6 | B45: =B30 -> IL-9 | C45: =C30 -> TGFb | D45: =D30 -> TNFa | E45: =E30 -> BLANK | F45: =F30 -> BLANK | G45: =G30 -> BLANK | H45: =H30 -> BLANK | I45: =I30 -> POS
...

Sheet Sorting
A2: ='Map and Ab list'!A1 -> RayBio® Cytokine Antibody Arrays --AAM-TCR-1
C4: ='Aligning data'!A3 -> Sample 1 | G4: ='Aligning data'!A12 -> Sample 2 | K4: ='Aligning data'!A21 -> Sample 3 | O4: ='Aligning data'!A30 -> Sample 4 | S4: ='Aligning data'!A39 -> Sample 5 | W4: ='Aligning data'!A48 -> Sample 6 | AA4: ='Aligning data'!A57 -> Sample 7 | AE4: ='Aligning data'!A66 -> Sample 8 | AI4: ='Aligning data'!A75 -> Sample 9 | AM4: ='Aligning data'!A84 -> Sample 10 | AQ4: ='Aligning data'!A93 -> Sample 11 | AU4: ='Aligning data'!A102 -> Sample 12 | AY4: ='Aligning data'!A111 -> Sample 13 | BC4: ='Aligning data'!A120 -> Sample 14 | BG4: ='Aligning data'!A129 -> Sample 15 | BK4: ='Aligning data'!A138 -> SAMPLE 16 | BO4: ='Aligning data'!A147 -> SAMPLE 17 | BS4: ='Aligning data'!A156 -> SAMPLE 18 | BW4: ='Aligning data'!A165 -> SAMPLE 19 | CA4: ='Aligning data'!A174 -> SAMPLE 20 | CE4: ='Aligning data'!A183 -> SAMPLE 21 | CI4: ='Aligning data'!A192 -> SAMPLE 22 | CM4: ='Aligning data'!A201 -> SAMPLE 23 | CQ4: ='Aligning data'!A210 -> SAMPLE 24
C5: 1 | D5: 2 | E5: AVERAGE | G5: 1 | H5: 2 | I5: AVERAGE | K5: 1 | L5: 2 | M5: AVERAGE | O5: 1 | P5: 2 | Q5: AVERAGE | S5: 1 | T5: 2 | U5: AVERAGE | W5: 1 | X5: 2 | Y5: AVERAGE | AA5: 1 | AB5: 2 | AC5: AVERAGE | AE5: 1 | AF5: 2 | AG5: AVERAGE | AI5: 1 | AJ5: 2 | AK5: AVERAGE | AM5: 1 | AN5: 2 | AO5: AVERAGE | AQ5: 1 | AR5: 2 | AS5: AVERAGE | AU5: 1 | AV5: 2 | AW5: AVERAGE | AY5: 1 | AZ5: 2 | BA5: AVERAGE | BC5: 1 | BD5: 2 | BE5: AVERAGE | BG5: 1 | BH5: 2 | BI5: AVERAGE | BK5: 1 | BL5: 2 | BM5: AVERAGE | BO5: 1 | BP5: 2 | BQ5: AVERAGE | BS5: 1 | BT5: 2 | BU5: AVERAGE | BW5: 1 | BX5: 2 | BY5: AVERAGE | CA5: 1 | CB5: 2 | CC5: AVERAGE | CE5: 1 | CF5: 2 | CG5: AVERAGE | CI5: 1 | CJ5: 2 | CK5: AVERAGE | CM5: 1 | CN5: 2 | CO5: AVERAGE | CQ5: 1 | CR5: 2 | CS5: AVERAGE
A6: ='Map and Ab list'!B5 -> POS | E6: =('Map and Ab list'!B6+'Map and Ab list'!C6+'Map and Ab list'!B8+'Map and Ab list'!C8)/4 -> 0 | I6: =('Map and Ab list'!B21+'Map and Ab list'!C21+'Map and Ab list'!B23+'Map and Ab list'!C23)/4 -> #VALUE! | M6: =('Map and Ab list'!B36+'Map and Ab list'!C36+'Map and Ab list'!B38+'Map and Ab list'!C38)/4 -> #VALUE! | Q6: =('Map and Ab list'!B51+'Map and Ab list'!C51+'Map and Ab list'!B53+'Map and Ab list'!C53)/4 -> #VALUE! | U6: =('Map and Ab list'!B66+'Map and Ab list'!C66+'Map and Ab list'!B68+'Map and Ab list'!C68)/4 -> #VALUE! | Y6: =('Map and Ab list'!B81+'Map and Ab list'!C81+'Map and Ab list'!B83+'Map and Ab list'!C83)/4 -> #VALUE! | AC6: =('Map and Ab list'!B96+'Map and Ab list'!C96+'Map and Ab list'!B98+'Map and Ab list'!C98)/4 -> #VALUE! | AG6: =('Map and Ab list'!B111+'Map and Ab list'!C111+'Map and Ab list'!B113+'Map and Ab list'!C113)/4 -> #VALUE! | AK6: =('Map and Ab list'!B126+'Map and Ab list'!C126+'Map and Ab list'!B128+'Map and Ab list'!C128)/4 -> #VALUE! | AO6: =('Map and Ab list'!B141+'Map and Ab list'!C141+'Map and Ab list'!B143+'Map and Ab list'!C143)/4 -> #VALUE! | AS6: =('Map and Ab list'!B156+'Map and Ab list'!C156+'Map and Ab list'!B158+'Map and Ab list'!C158)/4 -> #VALUE! | AW6: =('Map and Ab list'!B171+'Map and Ab list'!C171+'Map and Ab list'!B173+'Map and Ab list'!C173)/4 -> #VALUE! | BA6: =('Map and Ab list'!B186+'Map and Ab list'!C186+'Map and Ab list'!B188+'Map and Ab list'!C188)/4 -> #VALUE! | BE6: =('Map and Ab list'!B201+'Map and Ab list'!C201+'Map and Ab list'!B203+'Map and Ab list'!C203)/4 -> #VALUE! | BI6: =('Map and Ab list'!B216+'Map and Ab list'!C216+'Map and Ab list'!B218+'Map and Ab list'!C218)/4 -> #VALUE! | BM6: =('Map and Ab list'!B231+'Map and Ab list'!C231+'Map and Ab list'!B233+'Map and Ab list'!C233)/4 -> #VALUE! | BQ6: =('Map and Ab list'!B246+'Map and Ab list'!C246+'Map and Ab list'!B248+'Map and Ab list'!C248)/4 -> #VALUE! | BU6: =('Map and Ab list'!B261+'Map and Ab list'!C261+'Map and Ab list'!B263+'Map and Ab list'!C263)/4 -> #VALUE! | BY6: =('Map and Ab list'!B276+'Map and Ab list'!C276+'Map and Ab list'!B278+'Map and Ab list'!C278)/4 -> #VALUE! | CC6: =('Map and Ab list'!B291+'Map and Ab list'!C291+'Map and Ab list'!B293+'Map and Ab list'!C293)/4 -> #VALUE! | CG6: =('Map and Ab list'!B306+'Map and Ab list'!C306+'Map and Ab list'!B308+'Map and Ab list'!C308)/4 -> #VALUE! | CK6: =('Map and Ab list'!B321+'Map and Ab list'!C321+'Map and Ab list'!B323+'Map and Ab list'!C323)/4 -> #VALUE! | CO6: =('Map and Ab list'!B336+'Map and Ab list'!C336+'Map and Ab list'!B338+'Map and Ab list'!C338)/4 -> #VALUE! | CS6: =('Map and Ab list'!B351+'Map and Ab list'!C351+'Map and Ab list'!B353+'Map and Ab list'!C353)/4 -> #VALUE!
A7: ='Map and Ab list'!E5 -> NEG | E7: =('Map and Ab list'!D6+'Map and Ab list'!E6+'Map and Ab list'!D8+'Map and Ab list'!E8)/4 -> 0 | I7: =('Map and Ab list'!D21+'Map and Ab list'!E21+'Map and Ab list'!D23+'Map and Ab list'!E23)/4 -> #VALUE! | M7: =('Map and Ab list'!D36+'Map and Ab list'!E36+'Map and Ab list'!D38+'Map and Ab list'!E38)/4 -> #VALUE! | Q7: =('Map and Ab list'!D51+'Map and Ab list'!E51+'Map and Ab list'!D53+'Map and Ab list'!E53)/4 -> #VALUE! | U7: =('Map and Ab list'!D66+'Map and Ab list'!E66+'Map and Ab list'!D68+'Map and Ab list'!E68)/4 -> #VALUE! | Y7: =('Map and Ab list'!D81+'Map and Ab list'!E81+'Map and Ab list'!D83+'Map and Ab list'!E83)/4 -> #VALUE! | AC7: =('Map and Ab list'!D96+'Map and Ab list'!E96+'Map and Ab list'!D98+'Map and Ab list'!E98)/4 -> #VALUE! | AG7: =('Map and Ab list'!D111+'Map and Ab list'!E111+'Map and Ab list'!D113+'Map and Ab list'!E113)/4 -> #VALUE! | AK7: =('Map and Ab list'!D126+'Map and Ab list'!E126+'Map and Ab list'!D128+'Map and Ab list'!E128)/4 -> #VALUE! | AO7: =('Map and Ab list'!D141+'Map and Ab list'!E141+'Map and Ab list'!D143+'Map and Ab list'!E143)/4 -> #VALUE! | AS7: =('Map and Ab list'!D156+'Map and Ab list'!E156+'Map and Ab list'!D158+'Map and Ab list'!E158)/4 -> #VALUE! | AW7: =('Map and Ab list'!D171+'Map and Ab list'!E171+'Map and Ab list'!D173+'Map and Ab list'!E173)/4 -> #VALUE! | BA7: =('Map and Ab list'!D186+'Map and Ab list'!E186+'Map and Ab list'!D188+'Map and Ab list'!E188)/4 -> #VALUE! | BE7: =('Map and Ab list'!D201+'Map and Ab list'!E201+'Map and Ab list'!D203+'Map and Ab list'!E203)/4 -> #VALUE! | BI7: =('Map and Ab list'!D216+'Map and Ab list'!E216+'Map and Ab list'!D218+'Map and Ab list'!E218)/4 -> #VALUE! | BM7: =('Map and Ab list'!D231+'Map and Ab list'!E231+'Map and Ab list'!D233+'Map and Ab list'!E233)/4 -> #VALUE! | BQ7: =('Map and Ab list'!D246+'Map and Ab list'!E246+'Map and Ab list'!D248+'Map and Ab list'!E248)/4 -> #VALUE! | BU7: =('Map and Ab list'!D261+'Map and Ab list'!E261+'Map and Ab list'!D263+'Map and Ab list'!E263)/4 -> #VALUE! | BY7: =('Map and Ab list'!D276+'Map and Ab list'!E276+'Map and Ab list'!D278+'Map and Ab list'!E278)/4 -> #VALUE! | CC7: =('Map and Ab list'!D291+'Map and Ab list'!E291+'Map and Ab list'!D293+'Map and Ab list'!E293)/4 -> #VALUE! | CG7: =('Map and Ab list'!D306+'Map and Ab list'!E306+'Map and Ab list'!D308+'Map and Ab list'!E308)/4 -> #VALUE! | CK7: =('Map and Ab list'!D321+'Map and Ab list'!E321+'Map and Ab list'!D323+'Map and Ab list'!E323)/4 -> #VALUE! | CO7: =('Map and Ab list'!D336+'Map and Ab list'!E336+'Map and Ab list'!D338+'Map and Ab list'!E338)/4 -> #VALUE! | CS7: =('Map and Ab list'!D351+'Map and Ab list'!E351+'Map and Ab list'!D353+'Map and Ab list'!E353)/4 -> #VALUE!
A8: ='Map and Ab list'!F5 -> IFNg | C8: ='Map and Ab list'!F6 -> 0 | D8: ='Map and Ab list'!F8 -> 0 | E8: =(C8+D8)/2 -> 0 | G8: ='Map and Ab list'!F21 -> E1 | H8: ='Map and Ab list'!F23 -> E2 | I8: =(G8+H8)/2 -> #VALUE! | K8: ='Map and Ab list'!F36 -> E1 | L8: ='Map and Ab list'!F38 -> E2 | M8: =(K8+L8)/2 -> #VALUE! | O8: ='Map and Ab list'!F51 -> E1 | P8: ='Map and Ab list'!F53 -> E2 | Q8: =(O8+P8)/2 -> #VALUE! | S8: ='Map and Ab list'!F66 -> E1 | T8: ='Map and Ab list'!F68 -> E2 | U8: =(S8+T8)/2 -> #VALUE! | W8: ='Map and Ab list'!F81 -> E1 | X8: ='Map and Ab list'!F83 -> E2 | Y8: =(W8+X8)/2 -> #VALUE! | AA8: ='Map and Ab list'!F96 -> E1 | AB8: ='Map and Ab list'!F98 -> E2 | AC8: =(AA8+AB8)/2 -> #VALUE! | AE8: ='Map and Ab list'!F111 -> E1 | AF8: ='Map and Ab list'!F113 -> E2 | AG8: =(AE8+AF8)/2 -> #VALUE! | AI8: ='Map and Ab list'!F126 -> E1 | AJ8: ='Map and Ab list'!F128 -> E2 | AK8: =(AI8+AJ8)/2 -> #VALUE! | AM8: ='Map and Ab list'!F141 -> E1 | AN8: ='Map and Ab list'!F143 -> E2 | AO8: =(AM8+AN8)/2 -> #VALUE! | AQ8: ='Map and Ab list'!F156 -> E1 | AR8: ='Map and Ab list'!F158 -> E2 | AS8: =(AQ8+AR8)/2 -> #VALUE! | AU8: ='Map and Ab list'!F171 -> E1 | AV8: ='Map and Ab list'!F173 -> E2 | AW8: =(AU8+AV8)/2 -> #VALUE! | AY8: ='Map and Ab list'!F186 -> E1 | AZ8: ='Map and Ab list'!F188 -> E2 | BA8: =(AY8+AZ8)/2 -> #VALUE! | BC8: ='Map and Ab list'!F201 -> E1 | BD8: ='Map and Ab list'!F203 -> E2 | BE8: =(BC8+BD8)/2 -> #VALUE! | BG8: ='Map and Ab list'!F216 -> E1 | BH8: ='Map and Ab list'!F218 -> E2 | BI8: =(BG8+BH8)/2 -> #VALUE! | BK8: ='Map and Ab list'!F231 -> E1 | BL8: ='Map and Ab list'!F233 -> E2 | BM8: =(BK8+BL8)/2 -> #VALUE! | BO8: ='Map and Ab list'!F246 -> E1 | BP8: ='Map and Ab list'!F248 -> E2 | BQ8: =(BO8+BP8)/2 -> #VALUE! | BS8: ='Map and Ab list'!F261 -> E1 | BT8: ='Map and Ab list'!F263 -> E2 | BU8: =(BS8+BT8)/2 -> #VALUE! | BW8: ='Map and Ab list'!F276 -> E1 | BX8: ='Map and Ab list'!F278 -> E2 | BY8: =(BW8+BX8)/2 -> #VALUE! | CA8: ='Map and Ab list'!F291 -> E1 | CB8: ='Map and Ab list'!F293 -> E2 | CC8: =(CA8+CB8)/2 -> #VALUE! | CE8: ='Map and Ab list'!F306 -> E1 | CF8: ='Map and Ab list'!F308 -> E2 | CG8: =(CE8+CF8)/2 -> #VALUE! | CI8: ='Map and Ab list'!F321 -> E1 | CJ8: ='Map and Ab list'!F323 -> E2 | CK8: =(CI8+CJ8)/2 -> #VALUE! | CM8: ='Map and Ab list'!F336 -> E1 | CN8: ='Map and Ab list'!F338 -> E2 | CO8: =(CM8+CN8)/2 -> #VALUE! | CQ8: ='Map and Ab list'!F351 -> E1 | CR8: ='Map and Ab list'!F353 -> E2 | CS8: =(CQ8+CR8)/2 -> #VALUE!
A9: ='Map and Ab list'!G5 -> IL-10 | C9: ='Map and Ab list'!G6 -> 0 | D9: ='Map and Ab list'!G8 -> 0 | E9: =(C9+D9)/2 -> 0 | G9: ='Map and Ab list'!G21 -> F1 | H9: ='Map and Ab list'!G23 -> F2 | I9: =(G9+H9)/2 -> #VALUE! | K9: ='Map and Ab list'!G36 -> F1 | L9: ='Map and Ab list'!G38 -> F2 | M9: =(K9+L9)/2 -> #VALUE! | O9: ='Map and Ab list'!G51 -> F1 | P9: ='Map and Ab list'!G53 -> F2 | Q9: =(O9+P9)/2 -> #VALUE! | S9: ='Map and Ab list'!G66 -> F1 | T9: ='Map and Ab list'!G68 -> F2 | U9: =(S9+T9)/2 -> #VALUE! | W9: ='Map and Ab list'!G81 -> F1 | X9: ='Map and Ab list'!G83 -> F2 | Y9: =(W9+X9)/2 -> #VALUE! | AA9: ='Map and Ab list'!G96 -> F1 | AB9: ='Map and Ab list'!G98 -> F2 | AC9: =(AA9+AB9)/2 -> #VALUE! | AE9: ='Map and Ab list'!G111 -> F1 | AF9: ='Map and Ab list'!G113 -> F2 | AG9: =(AE9+AF9)/2 -> #VALUE! | AI9: ='Map and Ab list'!G126 -> F1 | AJ9: ='Map and Ab list'!G128 -> F2 | AK9: =(AI9+AJ9)/2 -> #VALUE! | AM9: ='Map and Ab list'!G141 -> F1 | AN9: ='Map and Ab list'!G143 -> F2 | AO9: =(AM9+AN9)/2 -> #VALUE! | AQ9: ='Map and Ab list'!G156 -> F1 | AR9: ='Map and Ab list'!G158 -> F2 | AS9: =(AQ9+AR9)/2 -> #VALUE! | AU9: ='Map and Ab list'!G171 -> F1 | AV9: ='Map and Ab list'!G173 -> F2 | AW9: =(AU9+AV9)/2 -> #VALUE! | AY9: ='Map and Ab list'!G186 -> F1 | AZ9: ='Map and Ab list'!G188 -> F2 | BA9: =(AY9+AZ9)/2 -> #VALUE! | BC9: ='Map and Ab list'!G201 -> F1 | BD9: ='Map and Ab list'!G203 -> F2 | BE9: =(BC9+BD9)/2 -> #VALUE! | BG9: ='Map and Ab list'!G216 -> F1 | BH9: ='Map and Ab list'!G218 -> F2 | BI9: =(BG9+BH9)/2 -> #VALUE! | BK9: ='Map and Ab list'!G231 -> F1 | BL9: ='Map and Ab list'!G233 -> F2 | BM9: =(BK9+BL9)/2 -> #VALUE! | BO9: ='Map and Ab list'!G246 -> F1 | BP9: ='Map and Ab list'!G248 -> F2 | BQ9: =(BO9+BP9)/2 -> #VALUE! | BS9: ='Map and Ab list'!G261 -> F1 | BT9: ='Map and Ab list'!G263 -> F2 | BU9: =(BS9+BT9)/2 -> #VALUE! | BW9: ='Map and Ab list'!G276 -> F1 | BX9: ='Map and Ab list'!G278 -> F2 | BY9: =(BW9+BX9)/2 -> #VALUE! | CA9: ='Map and Ab list'!G291 -> F1 | CB9: ='Map and Ab list'!G293 -> F2 | CC9: =(CA9+CB9)/2 -> #VALUE! | CE9: ='Map and Ab list'!G306 -> F1 | CF9: ='Map and Ab list'!G308 -> F2 | CG9: =(CE9+CF9)/2 -> #VALUE! | CI9: ='Map and Ab list'!G321 -> F1 | CJ9: ='Map and Ab list'!G323 -> F2 | CK9: =(CI9+CJ9)/2 -> #VALUE! | CM9: ='Map and Ab list'!G336 -> F1 | CN9: ='Map and Ab list'!G338 -> F2 | CO9: =(CM9+CN9)/2 -> #VALUE! | CQ9: ='Map and Ab list'!G351 -> F1 | CR9: ='Map and Ab list'!G353 -> F2 | CS9: =(CQ9+CR9)/2 -> #VALUE!
A10: ='Map and Ab list'!H5 -> IL-12p70 | C10: ='Map and Ab list'!H6 -> 0 | D10: ='Map and Ab list'!H8 -> 0 | E10: =(C10+D10)/2 -> 0 | G10: ='Map and Ab list'!H21 -> G1 | H10: ='Map and Ab list'!H23 -> G2 | I10: =(G10+H10)/2 -> #VALUE! | K10: ='Map and Ab list'!H36 -> G1 | L10: ='Map and Ab list'!H38 -> G2 | M10: =(K10+L10)/2 -> #VALUE! | O10: ='Map and Ab list'!H51 -> G1 | P10: ='Map and Ab list'!H53 -> G2 | Q10: =(O10+P10)/2 -> #VALUE! | S10: ='Map and Ab list'!H66 -> G1 | T10: ='Map and Ab list'!H68 -> G2 | U10: =(S10+T10)/2 -> #VALUE! | W10: ='Map and Ab list'!H81 -> G1 | X10: ='Map and Ab list'!H83 -> G2 | Y10: =(W10+X10)/2 -> #VALUE! | AA10: ='Map and Ab list'!H96 -> G1 | AB10: ='Map and Ab list'!H98 -> G2 | AC10: =(AA10+AB10)/2 -> #VALUE! | AE10: ='Map and Ab list'!H111 -> G1 | AF10: ='Map and Ab list'!H113 -> G2 | AG10: =(AE10+AF10)/2 -> #VALUE! | AI10: ='Map and Ab list'!H126 -> G1 | AJ10: ='Map and Ab list'!H128 -> G2 | AK10: =(AI10+AJ10)/2 -> #VALUE! | AM10: ='Map and Ab list'!H141 -> G1 | AN10: ='Map and Ab list'!H143 -> G2 | AO10: =(AM10+AN10)/2 -> #VALUE! | AQ10: ='Map and Ab list'!H156 -> G1 | AR10: ='Map and Ab list'!H158 -> G2 | AS10: =(AQ10+AR10)/2 -> #VALUE! | AU10: ='Map and Ab list'!H171 -> G1 | AV10: ='Map and Ab list'!H173 -> G2 | AW10: =(AU10+AV10)/2 -> #VALUE! | AY10: ='Map and Ab list'!H186 -> G1 | AZ10: ='Map and Ab list'!H188 -> G2 | BA10: =(AY10+AZ10)/2 -> #VALUE! | BC10: ='Map and Ab list'!H201 -> G1 | BD10: ='Map and Ab list'!H203 -> G2 | BE10: =(BC10+BD10)/2 -> #VALUE! | BG10: ='Map and Ab list'!H216 -> G1 | BH10: ='Map and Ab list'!H218 -> G2 | BI10: =(BG10+BH10)/2 -> #VALUE! | BK10: ='Map and Ab list'!H231 -> G1 | BL10: ='Map and Ab list'!H233 -> G2 | BM10: =(BK10+BL10)/2 -> #VALUE! | BO10: ='Map and Ab list'!H246 -> G1 | BP10: ='Map and Ab list'!H248 -> G2 | BQ10: =(BO10+BP10)/2 -> #VALUE! | BS10: ='Map and Ab list'!H261 -> G1 | BT10: ='Map and Ab list'!H263 -> G2 | BU10: =(BS10+BT10)/2 -> #VALUE! | BW10: ='Map and Ab list'!H276 -> G1 | BX10: ='Map and Ab list'!H278 -> G2 | BY10: =(BW10+BX10)/2 -> #VALUE! | CA10: ='Map and Ab list'!H291 -> G1 | CB10: ='Map and Ab list'!H293 -> G2 | CC10: =(CA10+CB10)/2 -> #VALUE! | CE10: ='Map and Ab list'!H306 -> G1 | CF10: ='Map and Ab list'!H308 -> G2 | CG10: =(CE10+CF10)/2 -> #VALUE! | CI10: ='Map and Ab list'!H321 -> G1 | CJ10: ='Map and Ab list'!H323 -> G2 | CK10: =(CI10+CJ10)/2 -> #VALUE! | CM10: ='Map and Ab list'!H336 -> G1 | CN10: ='Map and Ab list'!H338 -> G2 | CO10: =(CM10+CN10)/2 -> #VALUE! | CQ10: ='Map and Ab list'!H351 -> G1 | CR10: ='Map and Ab list'!H353 -> G2 | CS10: =(CQ10+CR10)/2 -> #VALUE!
A11: ='Map and Ab list'!I5 -> IL-13 | C11: ='Map and Ab list'!I6 -> 0 | D11: ='Map and Ab list'!I8 -> 0 | E11: =(C11+D11)/2 -> 0 | G11: ='Map and Ab list'!I21 -> H1 | H11: ='Map and Ab list'!I23 -> H2 | I11: =(G11+H11)/2 -> #VALUE! | K11: ='Map and Ab list'!I36 -> H1 | L11: ='Map and Ab list'!I38 -> H2 | M11: =(K11+L11)/2 -> #VALUE! | O11: ='Map and Ab list'!I51 -> H1 | P11: ='Map and Ab list'!I53 -> H2 | Q11: =(O11+P11)/2 -> #VALUE! | S11: ='Map and Ab list'!I66 -> H1 | T11: ='Map and Ab list'!I68 -> H2 | U11: =(S11+T11)/2 -> #VALUE! | W11: ='Map and Ab list'!I81 -> H1 | X11: ='Map and Ab list'!I83 -> H2 | Y11: =(W11+X11)/2 -> #VALUE! | AA11: ='Map and Ab list'!I96 -> H1 | AB11: ='Map and Ab list'!I98 -> H2 | AC11: =(AA11+AB11)/2 -> #VALUE! | AE11: ='Map and Ab list'!I111 -> H1 | AF11: ='Map and Ab list'!I113 -> H2 | AG11: =(AE11+AF11)/2 -> #VALUE! | AI11: ='Map and Ab list'!I126 -> H1 | AJ11: ='Map and Ab list'!I128 -> H2 | AK11: =(AI11+AJ11)/2 -> #VALUE! | AM11: ='Map and Ab list'!I141 -> H1 | AN11: ='Map and Ab list'!I143 -> H2 | AO11: =(AM11+AN11)/2 -> #VALUE! | AQ11: ='Map and Ab list'!I156 -> H1 | AR11: ='Map and Ab list'!I158 -> H2 | AS11: =(AQ11+AR11)/2 -> #VALUE! | AU11: ='Map and Ab list'!I171 -> H1 | AV11: ='Map and Ab list'!I173 -> H2 | AW11: =(AU11+AV11)/2 -> #VALUE! | AY11: ='Map and Ab list'!I186 -> H1 | AZ11: ='Map and Ab list'!I188 -> H2 | BA11: =(AY11+AZ11)/2 -> #VALUE! | BC11: ='Map and Ab list'!I201 -> H1 | BD11: ='Map and Ab list'!I203 -> H2 | BE11: =(BC11+BD11)/2 -> #VALUE! | BG11: ='Map and Ab list'!I216 -> H1 | BH11: ='Map and Ab list'!I218 -> H2 | BI11: =(BG11+BH11)/2 -> #VALUE! | BK11: ='Map and Ab list'!I231 -> H1 | BL11: ='Map and Ab list'!I233 -> H2 | BM11: =(BK11+BL11)/2 -> #VALUE! | BO11: ='Map and Ab list'!I246 -> H1 | BP11: ='Map and Ab list'!I248 -> H2 | BQ11: =(BO11+BP11)/2 -> #VALUE! | BS11: ='Map and Ab list'!I261 -> H1 | BT11: ='Map and Ab list'!I263 -> H2 | BU11: =(BS11+BT11)/2 -> #VALUE! | BW11: ='Map and Ab list'!I276 -> H1 | BX11: ='Map and Ab list'!I278 -> H2 | BY11: =(BW11+BX11)/2 -> #VALUE! | CA11: ='Map and Ab list'!I291 -> H1 | CB11: ='Map and Ab list'!I293 -> H2 | CC11: =(CA11+CB11)/2 -> #VALUE! | CE11: ='Map and Ab list'!I306 -> H1 | CF11: ='Map and Ab list'!I308 -> H2 | CG11: =(CE11+CF11)/2 -> #VALUE! | CI11: ='Map and Ab list'!I321 -> H1 | CJ11: ='Map and Ab list'!I323 -> H2 | CK11: =(CI11+CJ11)/2 -> #VALUE! | CM11: ='Map and Ab list'!I336 -> H1 | CN11: ='Map and Ab list'!I338 -> H2 | CO11: =(CM11+CN11)/2 -> #VALUE! | CQ11: ='Map and Ab list'!I351 -> H1 | CR11: ='Map and Ab list'!I353 -> H2 | CS11: =(CQ11+CR11)/2 -> #VALUE!
A12: ='Map and Ab list'!B9 -> IL-17 | C12: ='Map and Ab list'!B10 -> 0 | D12: ='Map and Ab list'!B12 -> 0 | E12: =(C12+D12)/2 -> 0 | G12: ='Map and Ab list'!B25 -> A3 | H12: ='Map and Ab list'!B27 -> A4 | I12: =(G12+H12)/2 -> #VALUE! | K12: ='Map and Ab list'!B40 -> A3 | L12: ='Map and Ab list'!B42 -> A4 | M12: =(K12+L12)/2 -> #VALUE! | O12: ='Map and Ab list'!B55 -> A3 | P12: ='Map and Ab list'!B57 -> A4 | Q12: =(O12+P12)/2 -> #VALUE! | S12: ='Map and Ab list'!B70 -> A3 | T12: ='Map and Ab list'!B72 -> A4 | U12: =(S12+T12)/2 -> #VALUE! | W12: ='Map and Ab list'!B85 -> A3 | X12: ='Map and Ab list'!B87 -> A4 | Y12: =(W12+X12)/2 -> #VALUE! | AA12: ='Map and Ab list'!B100 -> A3 | AB12: ='Map and Ab list'!B102 -> A4 | AC12: =(AA12+AB12)/2 -> #VALUE! | AE12: ='Map and Ab list'!B115 -> A3 | AF12: ='Map and Ab list'!B117 -> A4 | AG12: =(AE12+AF12)/2 -> #VALUE! | AI12: ='Map and Ab list'!B130 -> A3 | AJ12: ='Map and Ab list'!B132 -> A4 | AK12: =(AI12+AJ12)/2 -> #VALUE! | AM12: ='Map and Ab list'!B145 -> A3 | AN12: ='Map and Ab list'!B147 -> A4 | AO12: =(AM12+AN12)/2 -> #VALUE! | AQ12: ='Map and Ab list'!B160 -> A3 | AR12: ='Map and Ab list'!B162 -> A4 | AS12: =(AQ12+AR12)/2 -> #VALUE! | AU12: ='Map and Ab list'!B175 -> A3 | AV12: ='Map and Ab list'!B177 -> A4 | AW12: =(AU12+AV12)/2 -> #VALUE! | AY12: ='Map and Ab list'!B190 -> A3 | AZ12: ='Map and Ab list'!B192 -> A4 | BA12: =(AY12+AZ12)/2 -> #VALUE! | BC12: ='Map and Ab list'!B205 -> A3 | BD12: ='Map and Ab list'!B207 -> A4 | BE12: =(BC12+BD12)/2 -> #VALUE! | BG12: ='Map and Ab list'!B220 -> A3 | BH12: ='Map and Ab list'!B222 -> A4 | BI12: =(BG12+BH12)/2 -> #VALUE! | BK12: ='Map and Ab list'!B235 -> A3 | BL12: ='Map and Ab list'!B237 -> A4 | BM12: =(BK12+BL12)/2 -> #VALUE! | BO12: ='Map and Ab list'!B250 -> A3 | BP12: ='Map and Ab list'!B252 -> A4 | BQ12: =(BO12+BP12)/2 -> #VALUE! | BS12: ='Map and Ab list'!B265 -> A3 | BT12: ='Map and Ab list'!B267 -> A4 | BU12: =(BS12+BT12)/2 -> #VALUE! | BW12: ='Map and Ab list'!B280 -> A3 | BX12: ='Map and Ab list'!B282 -> A4 | BY12: =(BW12+BX12)/2 -> #VALUE! | CA12: ='Map and Ab list'!B295 -> A3 | CB12: ='Map and Ab list'!B297 -> A4 | CC12: =(CA12+CB12)/2 -> #VALUE! | CE12: ='Map and Ab list'!B310 -> A3 | CF12: ='Map and Ab list'!B312 -> A4 | CG12: =(CE12+CF12)/2 -> #VALUE! | CI12: ='Map and Ab list'!B325 -> A3 | CJ12: ='Map and Ab list'!B327 -> A4 | CK12: =(CI12+CJ12)/2 -> #VALUE! | CM12: ='Map and Ab list'!B340 -> A3 | CN12: ='Map and Ab list'!B342 -> A4 | CO12: =(CM12+CN12)/2 -> #VALUE! | CQ12: ='Map and Ab list'!B355 -> A3 | CR12: ='Map and Ab list'!B357 -> A4 | CS12: =(CQ12+CR12)/2 -> #VALUE!
A13: ='Map and Ab list'!C9 -> IL-17F | C13: ='Map and Ab list'!C10 -> 0 | D13: ='Map and Ab list'!C12 -> 0 | E13: =(C13+D13)/2 -> 0 | G13: ='Map and Ab list'!C25 -> B3 | H13: ='Map and Ab list'!C27 -> B4 | I13: =(G13+H13)/2 -> #VALUE! | K13: ='Map and Ab list'!C40 -> B3 | L13: ='Map and Ab list'!C42 -> B4 | M13: =(K13+L13)/2 -> #VALUE! | O13: ='Map and Ab list'!C55 -> B3 | P13: ='Map and Ab list'!C57 -> B4 | Q13: =(O13+P13)/2 -> #VALUE! | S13: ='Map and Ab list'!C70 -> B3 | T13: ='Map and Ab list'!C72 -> B4 | U13: =(S13+T13)/2 -> #VALUE! | W13: ='Map and Ab list'!C85 -> B3 | X13: ='Map and Ab list'!C87 -> B4 | Y13: =(W13+X13)/2 -> #VALUE! | AA13: ='Map and Ab list'!C100 -> B3 | AB13: ='Map and Ab list'!C102 -> B4 | AC13: =(AA13+AB13)/2 -> #VALUE! | AE13: ='Map and Ab list'!C115 -> B3 | AF13: ='Map and Ab list'!C117 -> B4 | AG13: =(AE13+AF13)/2 -> #VALUE! | AI13: ='Map and Ab list'!C130 -> B3 | AJ13: ='Map and Ab list'!C132 -> B4 | AK13: =(AI13+AJ13)/2 -> #VALUE! | AM13: ='Map and Ab list'!C145 -> B3 | AN13: ='Map and Ab list'!C147 -> B4 | AO13: =(AM13+AN13)/2 -> #VALUE! | AQ13: ='Map and Ab list'!C160 -> B3 | AR13: ='Map and Ab list'!C162 -> B4 | AS13: =(AQ13+AR13)/2 -> #VALUE! | AU13: ='Map and Ab list'!C175 -> B3 | AV13: ='Map and Ab list'!C177 -> B4 | AW13: =(AU13+AV13)/2 -> #VALUE! | AY13: ='Map and Ab list'!C190 -> B3 | AZ13: ='Map and Ab list'!C192 -> B4 | BA13: =(AY13+AZ13)/2 -> #VALUE! | BC13: ='Map and Ab list'!C205 -> B3 | BD13: ='Map and Ab list'!C207 -> B4 | BE13: =(BC13+BD13)/2 -> #VALUE! | BG13: ='Map and Ab list'!C220 -> B3 | BH13: ='Map and Ab list'!C222 -> B4 | BI13: =(BG13+BH13)/2 -> #VALUE! | BK13: ='Map and Ab list'!C235 -> B3 | BL13: ='Map and Ab list'!C237 -> B4 | BM13: =(BK13+BL13)/2 -> #VALUE! | BO13: ='Map and Ab list'!C250 -> B3 | BP13: ='Map and Ab list'!C252 -> B4 | BQ13: =(BO13+BP13)/2 -> #VALUE! | BS13: ='Map and Ab list'!C265 -> B3 | BT13: ='Map and Ab list'!C267 -> B4 | BU13: =(BS13+BT13)/2 -> #VALUE! | BW13: ='Map and Ab list'!C280 -> B3 | BX13: ='Map and Ab list'!C282 -> B4 | BY13: =(BW13+BX13)/2 -> #VALUE! | CA13: ='Map and Ab list'!C295 -> B3 | CB13: ='Map and Ab list'!C297 -> B4 | CC13: =(CA13+CB13)/2 -> #VALUE! | CE13: ='Map and Ab list'!C310 -> B3 | CF13: ='Map and Ab list'!C312 -> B4 | CG13: =(CE13+CF13)/2 -> #VALUE! | CI13: ='Map and Ab list'!C325 -> B3 | CJ13: ='Map and Ab list'!C327 -> B4 | CK13: =(CI13+CJ13)/2 -> #VALUE! | CM13: ='Map and Ab list'!C340 -> B3 | CN13: ='Map and Ab list'!C342 -> B4 | CO13: =(CM13+CN13)/2 -> #VALUE! | CQ13: ='Map and Ab list'!C355 -> B3 | CR13: ='Map and Ab list'!C357 -> B4 | CS13: =(CQ13+CR13)/2 -> #VALUE!
A14: ='Map and Ab list'!D9 -> IL-18 | C14: ='Map and Ab list'!D10 -> 0 | D14: ='Map and Ab list'!D12 -> 0 | E14: =(C14+D14)/2 -> 0 | G14: ='Map and Ab list'!D25 -> C3 | H14: ='Map and Ab list'!D27 -> C4 | I14: =(G14+H14)/2 -> #VALUE! | K14: ='Map and Ab list'!D40 -> C3 | L14: ='Map and Ab list'!D42 -> C4 | M14: =(K14+L14)/2 -> #VALUE! | O14: ='Map and Ab list'!D55 -> C3 | P14: ='Map and Ab list'!D57 -> C4 | Q14: =(O14+P14)/2 -> #VALUE! | S14: ='Map and Ab list'!D70 -> C3 | T14: ='Map and Ab list'!D72 -> C4 | U14: =(S14+T14)/2 -> #VALUE! | W14: ='Map and Ab list'!D85 -> C3 | X14: ='Map and Ab list'!D87 -> C4 | Y14: =(W14+X14)/2 -> #VALUE! | AA14: ='Map and Ab list'!D100 -> C3 | AB14: ='Map and Ab list'!D102 -> C4 | AC14: =(AA14+AB14)/2 -> #VALUE! | AE14: ='Map and Ab list'!D115 -> C3 | AF14: ='Map and Ab list'!D117 -> C4 | AG14: =(AE14+AF14)/2 -> #VALUE! | AI14: ='Map and Ab list'!D130 -> C3 | AJ14: ='Map and Ab list'!D132 -> C4 | AK14: =(AI14+AJ14)/2 -> #VALUE! | AM14: ='Map and Ab list'!D145 -> C3 | AN14: ='Map and Ab list'!D147 -> C4 | AO14: =(AM14+AN14)/2 -> #VALUE! | AQ14: ='Map and Ab list'!D160 -> C3 | AR14: ='Map and Ab list'!D162 -> C4 | AS14: =(AQ14+AR14)/2 -> #VALUE! | AU14: ='Map and Ab list'!D175 -> C3 | AV14: ='Map and Ab list'!D177 -> C4 | AW14: =(AU14+AV14)/2 -> #VALUE! | AY14: ='Map and Ab list'!D190 -> C3 | AZ14: ='Map and Ab list'!D192 -> C4 | BA14: =(AY14+AZ14)/2 -> #VALUE! | BC14: ='Map and Ab list'!D205 -> C3 | BD14: ='Map and Ab list'!D207 -> C4 | BE14: =(BC14+BD14)/2 -> #VALUE! | BG14: ='Map and Ab list'!D220 -> C3 | BH14: ='Map and Ab list'!D222 -> C4 | BI14: =(BG14+BH14)/2 -> #VALUE! | BK14: ='Map and Ab list'!D235 -> C3 | BL14: ='Map and Ab list'!D237 -> C4 | BM14: =(BK14+BL14)/2 -> #VALUE! | BO14: ='Map and Ab list'!D250 -> C3 | BP14: ='Map and Ab list'!D252 -> C4 | BQ14: =(BO14+BP14)/2 -> #VALUE! | BS14: ='Map and Ab list'!D265 -> C3 | BT14: ='Map and Ab list'!D267 -> C4 | BU14: =(BS14+BT14)/2 -> #VALUE! | BW14: ='Map and Ab list'!D280 -> C3 | BX14: ='Map and Ab list'!D282 -> C4 | BY14: =(BW14+BX14)/2 -> #VALUE! | CA14: ='Map and Ab list'!D295 -> C3 | CB14: ='Map and Ab list'!D297 -> C4 | CC14: =(CA14+CB14)/2 -> #VALUE! | CE14: ='Map and Ab list'!D310 -> C3 | CF14: ='Map and Ab list'!D312 -> C4 | CG14: =(CE14+CF14)/2 -> #VALUE! | CI14: ='Map and Ab list'!D325 -> C3 | CJ14: ='Map and Ab list'!D327 -> C4 | CK14: =(CI14+CJ14)/2 -> #VALUE! | CM14: ='Map and Ab list'!D340 -> C3 | CN14: ='Map and Ab list'!D342 -> C4 | CO14: =(CM14+CN14)/2 -> #VALUE! | CQ14: ='Map and Ab list'!D355 -> C3 | CR14: ='Map and Ab list'!D357 -> C4 | CS14: =(CQ14+CR14)/2 -> #VALUE!
A15: ='Map and Ab list'!E9 -> IL-2 | C15: ='Map and Ab list'!E10 -> 0 | D15: ='Map and Ab list'!E12 -> 0 | E15: =(C15+D15)/2 -> 0 | G15: ='Map and Ab list'!E25 -> D3 | H15: ='Map and Ab list'!E27 -> D4 | I15: =(G15+H15)/2 -> #VALUE! | K15: ='Map and Ab list'!E40 -> D3 | L15: ='Map and Ab list'!E42 -> D4 | M15: =(K15+L15)/2 -> #VALUE! | O15: ='Map and Ab list'!E55 -> D3 | P15: ='Map and Ab list'!E57 -> D4 | Q15: =(O15+P15)/2 -> #VALUE! | S15: ='Map and Ab list'!E70 -> D3 | T15: ='Map and Ab list'!E72 -> D4 | U15: =(S15+T15)/2 -> #VALUE! | W15: ='Map and Ab list'!E85 -> D3 | X15: ='Map and Ab list'!E87 -> D4 | Y15: =(W15+X15)/2 -> #VALUE! | AA15: ='Map and Ab list'!E100 -> D3 | AB15: ='Map and Ab list'!E102 -> D4 | AC15: =(AA15+AB15)/2 -> #VALUE! | AE15: ='Map and Ab list'!E115 -> D3 | AF15: ='Map and Ab list'!E117 -> D4 | AG15: =(AE15+AF15)/2 -> #VALUE! | AI15: ='Map and Ab list'!E130 -> D3 | AJ15: ='Map and Ab list'!E132 -> D4 | AK15: =(AI15+AJ15)/2 -> #VALUE! | AM15: ='Map and Ab list'!E145 -> D3 | AN15: ='Map and Ab list'!E147 -> D4 | AO15: =(AM15+AN15)/2 -> #VALUE! | AQ15: ='Map and Ab list'!E160 -> D3 | AR15: ='Map and Ab list'!E162 -> D4 | AS15: =(AQ15+AR15)/2 -> #VALUE! | AU15: ='Map and Ab list'!E175 -> D3 | AV15: ='Map and Ab list'!E177 -> D4 | AW15: =(AU15+AV15)/2 -> #VALUE! | AY15: ='Map and Ab list'!E190 -> D3 | AZ15: ='Map and Ab list'!E192 -> D4 | BA15: =(AY15+AZ15)/2 -> #VALUE! | BC15: ='Map and Ab list'!E205 -> D3 | BD15: ='Map and Ab list'!E207 -> D4 | BE15: =(BC15+BD15)/2 -> #VALUE! | BG15: ='Map and Ab list'!E220 -> D3 | BH15: ='Map and Ab list'!E222 -> D4 | BI15: =(BG15+BH15)/2 -> #VALUE! | BK15: ='Map and Ab list'!E235 -> D3 | BL15: ='Map and Ab list'!E237 -> D4 | BM15: =(BK15+BL15)/2 -> #VALUE! | BO15: ='Map and Ab list'!E250 -> D3 | BP15: ='Map and Ab list'!E252 -> D4 | BQ15: =(BO15+BP15)/2 -> #VALUE! | BS15: ='Map and Ab list'!E265 -> D3 | BT15: ='Map and Ab list'!E267 -> D4 | BU15: =(BS15+BT15)/2 -> #VALUE! | BW15: ='Map and Ab list'!E280 -> D3 | BX15: ='Map and Ab list'!E282 -> D4 | BY15: =(BW15+BX15)/2 -> #VALUE! | CA15: ='Map and Ab list'!E295 -> D3 | CB15: ='Map and Ab list'!E297 -> D4 | CC15: =(CA15+CB15)/2 -> #VALUE! | CE15: ='Map and Ab list'!E310 -> D3 | CF15: ='Map and Ab list'!E312 -> D4 | CG15: =(CE15+CF15)/2 -> #VALUE! | CI15: ='Map and Ab list'!E325 -> D3 | CJ15: ='Map and Ab list'!E327 -> D4 | CK15: =(CI15+CJ15)/2 -> #VALUE! | CM15: ='Map and Ab list'!E340 -> D3 | CN15: ='Map and Ab list'!E342 -> D4 | CO15: =(CM15+CN15)/2 -> #VALUE! | CQ15: ='Map and Ab list'!E355 -> D3 | CR15: ='Map and Ab list'!E357 -> D4 | CS15: =(CQ15+CR15)/2 -> #VALUE!
A16: ='Map and Ab list'!F9 -> IL-4 | C16: ='Map and Ab list'!F10 -> 0 | D16: ='Map and Ab list'!F12 -> 0 | E16: =(C16+D16)/2 -> 0 | G16: ='Map and Ab list'!F25 -> E3 | H16: ='Map and Ab list'!F27 -> E4 | I16: =(G16+H16)/2 -> #VALUE! | K16: ='Map and Ab list'!F40 -> E3 | L16: ='Map and Ab list'!F42 -> E4 | M16: =(K16+L16)/2 -> #VALUE! | O16: ='Map and Ab list'!F55 -> E3 | P16: ='Map and Ab list'!F57 -> E4 | Q16: =(O16+P16)/2 -> #VALUE! | S16: ='Map and Ab list'!F70 -> E3 | T16: ='Map and Ab list'!F72 -> E4 | U16: =(S16+T16)/2 -> #VALUE! | W16: ='Map and Ab list'!F85 -> E3 | X16: ='Map and Ab list'!F87 -> E4 | Y16: =(W16+X16)/2 -> #VALUE! | AA16: ='Map and Ab list'!F100 -> E3 | AB16: ='Map and Ab list'!F102 -> E4 | AC16: =(AA16+AB16)/2 -> #VALUE! | AE16: ='Map and Ab list'!F115 -> E3 | AF16: ='Map and Ab list'!F117 -> E4 | AG16: =(AE16+AF16)/2 -> #VALUE! | AI16: ='Map and Ab list'!F130 -> E3 | AJ16: ='Map and Ab list'!F132 -> E4 | AK16: =(AI16+AJ16)/2 -> #VALUE! | AM16: ='Map and Ab list'!F145 -> E3 | AN16: ='Map and Ab list'!F147 -> E4 | AO16: =(AM16+AN16)/2 -> #VALUE! | AQ16: ='Map and Ab list'!F160 -> E3 | AR16: ='Map and Ab list'!F162 -> E4 | AS16: =(AQ16+AR16)/2 -> #VALUE! | AU16: ='Map and Ab list'!F175 -> E3 | AV16: ='Map and Ab list'!F177 -> E4 | AW16: =(AU16+AV16)/2 -> #VALUE! | AY16: ='Map and Ab list'!F190 -> E3 | AZ16: ='Map and Ab list'!F192 -> E4 | BA16: =(AY16+AZ16)/2 -> #VALUE! | BC16: ='Map and Ab list'!F205 -> E3 | BD16: ='Map and Ab list'!F207 -> E4 | BE16: =(BC16+BD16)/2 -> #VALUE! | BG16: ='Map and Ab list'!F220 -> E3 | BH16: ='Map and Ab list'!F222 -> E4 | BI16: =(BG16+BH16)/2 -> #VALUE! | BK16: ='Map and Ab list'!F235 -> E3 | BL16: ='Map and Ab list'!F237 -> E4 | BM16: =(BK16+BL16)/2 -> #VALUE! | BO16: ='Map and Ab list'!F250 -> E3 | BP16: ='Map and Ab list'!F252 -> E4 | BQ16: =(BO16+BP16)/2 -> #VALUE! | BS16: ='Map and Ab list'!F265 -> E3 | BT16: ='Map and Ab list'!F267 -> E4 | BU16: =(BS16+BT16)/2 -> #VALUE! | BW16: ='Map and Ab list'!F280 -> E3 | BX16: ='Map and Ab list'!F282 -> E4 | BY16: =(BW16+BX16)/2 -> #VALUE! | CA16: ='Map and Ab list'!F295 -> E3 | CB16: ='Map and Ab list'!F297 -> E4 | CC16: =(CA16+CB16)/2 -> #VALUE! | CE16: ='Map and Ab list'!F310 -> E3 | CF16: ='Map and Ab list'!F312 -> E4 | CG16: =(CE16+CF16)/2 -> #VALUE! | CI16: ='Map and Ab list'!F325 -> E3 | CJ16: ='Map and Ab list'!F327 -> E4 | CK16: =(CI16+CJ16)/2 -> #VALUE! | CM16: ='Map and Ab list'!F340 -> E3 | CN16: ='Map and Ab list'!F342 -> E4 | CO16: =(CM16+CN16)/2 -> #VALUE! | CQ16: ='Map and Ab list'!F355 -> E3 | CR16: ='Map and Ab list'!F357 -> E4 | CS16: =(CQ16+CR16)/2 -> #VALUE!
A17: ='Map and Ab list'!G9 -> IL-5 | C17: ='Map and Ab list'!G10 -> 0 | D17: ='Map and Ab list'!G12 -> 0 | E17: =(C17+D17)/2 -> 0 | G17: ='Map and Ab list'!G25 -> F3 | H17: ='Map and Ab list'!G27 -> F4 | I17: =(G17+H17)/2 -> #VALUE! | K17: ='Map and Ab list'!G40 -> F3 | L17: ='Map and Ab list'!G42 -> F4 | M17: =(K17+L17)/2 -> #VALUE! | O17: ='Map and Ab list'!G55 -> F3 | P17: ='Map and Ab list'!G57 -> F4 | Q17: =(O17+P17)/2 -> #VALUE! | S17: ='Map and Ab list'!G70 -> F3 | T17: ='Map and Ab list'!G72 -> F4 | U17: =(S17+T17)/2 -> #VALUE! | W17: ='Map and Ab list'!G85 -> F3 | X17: ='Map and Ab list'!G87 -> F4 | Y17: =(W17+X17)/2 -> #VALUE! | AA17: ='Map and Ab list'!G100 -> F3 | AB17: ='Map and Ab list'!G102 -> F4 | AC17: =(AA17+AB17)/2 -> #VALUE! | AE17: ='Map and Ab list'!G115 -> F3 | AF17: ='Map and Ab list'!G117 -> F4 | AG17: =(AE17+AF17)/2 -> #VALUE! | AI17: ='Map and Ab list'!G130 -> F3 | AJ17: ='Map and Ab list'!G132 -> F4 | AK17: =(AI17+AJ17)/2 -> #VALUE! | AM17: ='Map and Ab list'!G145 -> F3 | AN17: ='Map and Ab list'!G147 -> F4 | AO17: =(AM17+AN17)/2 -> #VALUE! | AQ17: ='Map and Ab list'!G160 -> F3 | AR17: ='Map and Ab list'!G162 -> F4 | AS17: =(AQ17+AR17)/2 -> #VALUE! | AU17: ='Map and Ab list'!G175 -> F3 | AV17: ='Map and Ab list'!G177 -> F4 | AW17: =(AU17+AV17)/2 -> #VALUE! | AY17: ='Map and Ab list'!G190 -> F3 | AZ17: ='Map and Ab list'!G192 -> F4 | BA17: =(AY17+AZ17)/2 -> #VALUE! | BC17: ='Map and Ab list'!G205 -> F3 | BD17: ='Map and Ab list'!G207 -> F4 | BE17: =(BC17+BD17)/2 -> #VALUE! | BG17: ='Map and Ab list'!G220 -> F3 | BH17: ='Map and Ab list'!G222 -> F4 | BI17: =(BG17+BH17)/2 -> #VALUE! | BK17: ='Map and Ab list'!G235 -> F3 | BL17: ='Map and Ab list'!G237 -> F4 | BM17: =(BK17+BL17)/2 -> #VALUE! | BO17: ='Map and Ab list'!G250 -> F3 | BP17: ='Map and Ab list'!G252 -> F4 | BQ17: =(BO17+BP17)/2 -> #VALUE! | BS17: ='Map and Ab list'!G265 -> F3 | BT17: ='Map and Ab list'!G267 -> F4 | BU17: =(BS17+BT17)/2 -> #VALUE! | BW17: ='Map and Ab list'!G280 -> F3 | BX17: ='Map and Ab list'!G282 -> F4 | BY17: =(BW17+BX17)/2 -> #VALUE! | CA17: ='Map and Ab list'!G295 -> F3 | CB17: ='Map and Ab list'!G297 -> F4 | CC17: =(CA17+CB17)/2 -> #VALUE! | CE17: ='Map and Ab list'!G310 -> F3 | CF17: ='Map and Ab list'!G312 -> F4 | CG17: =(CE17+CF17)/2 -> #VALUE! | CI17: ='Map and Ab list'!G325 -> F3 | CJ17: ='Map and Ab list'!G327 -> F4 | CK17: =(CI17+CJ17)/2 -> #VALUE! | CM17: ='Map and Ab list'!G340 -> F3 | CN17: ='Map and Ab list'!G342 -> F4 | CO17: =(CM17+CN17)/2 -> #VALUE! | CQ17: ='Map and Ab list'!G355 -> F3 | CR17: ='Map and Ab list'!G357 -> F4 | CS17: =(CQ17+CR17)/2 -> #VALUE!
A18: ='Map and Ab list'!H9 -> IL-6 | C18: ='Map and Ab list'!H10 -> 0 | D18: ='Map and Ab list'!H12 -> 0 | E18: =(C18+D18)/2 -> 0 | G18: ='Map and Ab list'!H25 -> G3 | H18: ='Map and Ab list'!H27 -> G4 | I18: =(G18+H18)/2 -> #VALUE! | K18: ='Map and Ab list'!H40 -> G3 | L18: ='Map and Ab list'!H42 -> G4 | M18: =(K18+L18)/2 -> #VALUE! | O18: ='Map and Ab list'!H55 -> G3 | P18: ='Map and Ab list'!H57 -> G4 | Q18: =(O18+P18)/2 -> #VALUE! | S18: ='Map and Ab list'!H70 -> G3 | T18: ='Map and Ab list'!H72 -> G4 | U18: =(S18+T18)/2 -> #VALUE! | W18: ='Map and Ab list'!H85 -> G3 | X18: ='Map and Ab list'!H87 -> G4 | Y18: =(W18+X18)/2 -> #VALUE! | AA18: ='Map and Ab list'!H100 -> G3 | AB18: ='Map and Ab list'!H102 -> G4 | AC18: =(AA18+AB18)/2 -> #VALUE! | AE18: ='Map and Ab list'!H115 -> G3 | AF18: ='Map and Ab list'!H117 -> G4 | AG18: =(AE18+AF18)/2 -> #VALUE! | AI18: ='Map and Ab list'!H130 -> G3 | AJ18: ='Map and Ab list'!H132 -> G4 | AK18: =(AI18+AJ18)/2 -> #VALUE! | AM18: ='Map and Ab list'!H145 -> G3 | AN18: ='Map and Ab list'!H147 -> G4 | AO18: =(AM18+AN18)/2 -> #VALUE! | AQ18: ='Map and Ab list'!H160 -> G3 | AR18: ='Map and Ab list'!H162 -> G4 | AS18: =(AQ18+AR18)/2 -> #VALUE! | AU18: ='Map and Ab list'!H175 -> G3 | AV18: ='Map and Ab list'!H177 -> G4 | AW18: =(AU18+AV18)/2 -> #VALUE! | AY18: ='Map and Ab list'!H190 -> G3 | AZ18: ='Map and Ab list'!H192 -> G4 | BA18: =(AY18+AZ18)/2 -> #VALUE! | BC18: ='Map and Ab list'!H205 -> G3 | BD18: ='Map and Ab list'!H207 -> G4 | BE18: =(BC18+BD18)/2 -> #VALUE! | BG18: ='Map and Ab list'!H220 -> G3 | BH18: ='Map and Ab list'!H222 -> G4 | BI18: =(BG18+BH18)/2 -> #VALUE! | BK18: ='Map and Ab list'!H235 -> G3 | BL18: ='Map and Ab list'!H237 -> G4 | BM18: =(BK18+BL18)/2 -> #VALUE! | BO18: ='Map and Ab list'!H250 -> G3 | BP18: ='Map and Ab list'!H252 -> G4 | BQ18: =(BO18+BP18)/2 -> #VALUE! | BS18: ='Map and Ab list'!H265 -> G3 | BT18: ='Map and Ab list'!H267 -> G4 | BU18: =(BS18+BT18)/2 -> #VALUE! | BW18: ='Map and Ab list'!H280 -> G3 | BX18: ='Map and Ab list'!H282 -> G4 | BY18: =(BW18+BX18)/2 -> #VALUE! | CA18: ='Map and Ab list'!H295 -> G3 | CB18: ='Map and Ab list'!H297 -> G4 | CC18: =(CA18+CB18)/2 -> #VALUE! | CE18: ='Map and Ab list'!H310 -> G3 | CF18: ='Map and Ab list'!H312 -> G4 | CG18: =(CE18+CF18)/2 -> #VALUE! | CI18: ='Map and Ab list'!H325 -> G3 | CJ18: ='Map and Ab list'!H327 -> G4 | CK18: =(CI18+CJ18)/2 -> #VALUE! | CM18: ='Map and Ab list'!H340 -> G3 | CN18: ='Map and Ab list'!H342 -> G4 | CO18: =(CM18+CN18)/2 -> #VALUE! | CQ18: ='Map and Ab list'!H355 -> G3 | CR18: ='Map and Ab list'!H357 -> G4 | CS18: =(CQ18+CR18)/2 -> #VALUE!
A19: ='Map and Ab list'!I9 -> IL-7 | C19: ='Map and Ab list'!I10 -> 0 | D19: ='Map and Ab list'!I12 -> 0 | E19: =(C19+D19)/2 -> 0 | G19: ='Map and Ab list'!I25 -> H3 | H19: ='Map and Ab list'!I27 -> H4 | I19: =(G19+H19)/2 -> #VALUE! | K19: ='Map and Ab list'!I40 -> H3 | L19: ='Map and Ab list'!I42 -> H4 | M19: =(K19+L19)/2 -> #VALUE! | O19: ='Map and Ab list'!I55 -> H3 | P19: ='Map and Ab list'!I57 -> H4 | Q19: =(O19+P19)/2 -> #VALUE! | S19: ='Map and Ab list'!I70 -> H3 | T19: ='Map and Ab list'!I72 -> H4 | U19: =(S19+T19)/2 -> #VALUE! | W19: ='Map and Ab list'!I85 -> H3 | X19: ='Map and Ab list'!I87 -> H4 | Y19: =(W19+X19)/2 -> #VALUE! | AA19: ='Map and Ab list'!I100 -> H3 | AB19: ='Map and Ab list'!I102 -> H4 | AC19: =(AA19+AB19)/2 -> #VALUE! | AE19: ='Map and Ab list'!I115 -> H3 | AF19: ='Map and Ab list'!I117 -> H4 | AG19: =(AE19+AF19)/2 -> #VALUE! | AI19: ='Map and Ab list'!I130 -> H3 | AJ19: ='Map and Ab list'!I132 -> H4 | AK19: =(AI19+AJ19)/2 -> #VALUE! | AM19: ='Map and Ab list'!I145 -> H3 | AN19: ='Map and Ab list'!I147 -> H4 | AO19: =(AM19+AN19)/2 -> #VALUE! | AQ19: ='Map and Ab list'!I160 -> H3 | AR19: ='Map and Ab list'!I162 -> H4 | AS19: =(AQ19+AR19)/2 -> #VALUE! | AU19: ='Map and Ab list'!I175 -> H3 | AV19: ='Map and Ab list'!I177 -> H4 | AW19: =(AU19+AV19)/2 -> #VALUE! | AY19: ='Map and Ab list'!I190 -> H3 | AZ19: ='Map and Ab list'!I192 -> H4 | BA19: =(AY19+AZ19)/2 -> #VALUE! | BC19: ='Map and Ab list'!I205 -> H3 | BD19: ='Map and Ab list'!I207 -> H4 | BE19: =(BC19+BD19)/2 -> #VALUE! | BG19: ='Map and Ab list'!I220 -> H3 | BH19: ='Map and Ab list'!I222 -> H4 | BI19: =(BG19+BH19)/2 -> #VALUE! | BK19: ='Map and Ab list'!I235 -> H3 | BL19: ='Map and Ab list'!I237 -> H4 | BM19: =(BK19+BL19)/2 -> #VALUE! | BO19: ='Map and Ab list'!I250 -> H3 | BP19: ='Map and Ab list'!I252 -> H4 | BQ19: =(BO19+BP19)/2 -> #VALUE! | BS19: ='Map and Ab list'!I265 -> H3 | BT19: ='Map and Ab list'!I267 -> H4 | BU19: =(BS19+BT19)/2 -> #VALUE! | BW19: ='Map and Ab list'!I280 -> H3 | BX19: ='Map and Ab list'!I282 -> H4 | BY19: =(BW19+BX19)/2 -> #VALUE! | CA19: ='Map and Ab list'!I295 -> H3 | CB19: ='Map and Ab list'!I297 -> H4 | CC19: =(CA19+CB19)/2 -> #VALUE! | CE19: ='Map and Ab list'!I310 -> H3 | CF19: ='Map and Ab list'!I312 -> H4 | CG19: =(CE19+CF19)/2 -> #VALUE! | CI19: ='Map and Ab list'!I325 -> H3 | CJ19: ='Map and Ab list'!I327 -> H4 | CK19: =(CI19+CJ19)/2 -> #VALUE! | CM19: ='Map and Ab list'!I340 -> H3 | CN19: ='Map and Ab list'!I342 -> H4 | CO19: =(CM19+CN19)/2 -> #VALUE! | CQ19: ='Map and Ab list'!I355 -> H3 | CR19: ='Map and Ab list'!I357 -> H4 | CS19: =(CQ19+CR19)/2 -> #VALUE!
A20: ='Map and Ab list'!B13 -> IL-9 | C20: ='Map and Ab list'!B14 -> 0 | D20: ='Map and Ab list'!B16 -> 0 | E20: =(C20+D20)/2 -> 0 | G20: ='Map and Ab list'!B29 -> A5 | H20: ='Map and Ab list'!B31 -> A6 | I20: =(G20+H20)/2 -> #VALUE! | K20: ='Map and Ab list'!B44 -> A5 | L20: ='Map and Ab list'!B46 -> A6 | M20: =(K20+L20)/2 -> #VALUE! | O20: ='Map and Ab list'!B59 -> A5 | P20: ='Map and Ab list'!B61 -> A6 | Q20: =(O20+P20)/2 -> #VALUE! | S20: ='Map and Ab list'!B74 -> A5 | T20: ='Map and Ab list'!B76 -> A6 | U20: =(S20+T20)/2 -> #VALUE! | W20: ='Map and Ab list'!B89 -> A5 | X20: ='Map and Ab list'!B91 -> A6 | Y20: =(W20+X20)/2 -> #VALUE! | AA20: ='Map and Ab list'!B104 -> A5 | AB20: ='Map and Ab list'!B106 -> A6 | AC20: =(AA20+AB20)/2 -> #VALUE! | AE20: ='Map and Ab list'!B119 -> A5 | AF20: ='Map and Ab list'!B121 -> A6 | AG20: =(AE20+AF20)/2 -> #VALUE! | AI20: ='Map and Ab list'!B134 -> A5 | AJ20: ='Map and Ab list'!B136 -> A6 | AK20: =(AI20+AJ20)/2 -> #VALUE! | AM20: ='Map and Ab list'!B149 -> A5 | AN20: ='Map and Ab list'!B151 -> A6 | AO20: =(AM20+AN20)/2 -> #VALUE! | AQ20: ='Map and Ab list'!B164 -> A5 | AR20: ='Map and Ab list'!B166 -> A6 | AS20: =(AQ20+AR20)/2 -> #VALUE! | AU20: ='Map and Ab list'!B179 -> A5 | AV20: ='Map and Ab list'!B181 -> A6 | AW20: =(AU20+AV20)/2 -> #VALUE! | AY20: ='Map and Ab list'!B194 -> A5 | AZ20: ='Map and Ab list'!B196 -> A6 | BA20: =(AY20+AZ20)/2 -> #VALUE! | BC20: ='Map and Ab list'!B209 -> A5 | BD20: ='Map and Ab list'!B211 -> A6 | BE20: =(BC20+BD20)/2 -> #VALUE! | BG20: ='Map and Ab list'!B224 -> A5 | BH20: ='Map and Ab list'!B226 -> A6 | BI20: =(BG20+BH20)/2 -> #VALUE! | BK20: ='Map and Ab list'!B239 -> A5 | BL20: ='Map and Ab list'!B241 -> A6 | BM20: =(BK20+BL20)/2 -> #VALUE! | BO20: ='Map and Ab list'!B254 -> A5 | BP20: ='Map and Ab list'!B256 -> A6 | BQ20: =(BO20+BP20)/2 -> #VALUE! | BS20: ='Map and Ab list'!B269 -> A5 | BT20: ='Map and Ab list'!B271 -> A6 | BU20: =(BS20+BT20)/2 -> #VALUE! | BW20: ='Map and Ab list'!B284 -> A5 | BX20: ='Map and Ab list'!B286 -> A6 | BY20: =(BW20+BX20)/2 -> #VALUE! | CA20: ='Map and Ab list'!B299 -> A5 | CB20: ='Map and Ab list'!B301 -> A6 | CC20: =(CA20+CB20)/2 -> #VALUE! | CE20: ='Map and Ab list'!B314 -> A5 | CF20: ='Map and Ab list'!B316 -> A6 | CG20: =(CE20+CF20)/2 -> #VALUE! | CI20: ='Map and Ab list'!B329 -> A5 | CJ20: ='Map and Ab list'!B331 -> A6 | CK20: =(CI20+CJ20)/2 -> #VALUE! | CM20: ='Map and Ab list'!B344 -> A5 | CN20: ='Map and Ab list'!B346 -> A6 | CO20: =(CM20+CN20)/2 -> #VALUE! | CQ20: ='Map and Ab list'!B359 -> A5 | CR20: ='Map and Ab list'!B361 -> A6 | CS20: =(CQ20+CR20)/2 -> #VALUE!
A21: ='Map and Ab list'!C13 -> TGFb | C21: ='Map and Ab list'!C14 -> 0 | D21: ='Map and Ab list'!C16 -> 0 | E21: =(C21+D21)/2 -> 0 | G21: ='Map and Ab list'!C29 -> B5 | H21: ='Map and Ab list'!C31 -> B6 | I21: =(G21+H21)/2 -> #VALUE! | K21: ='Map and Ab list'!C44 -> B5 | L21: ='Map and Ab list'!C46 -> B6 | M21: =(K21+L21)/2 -> #VALUE! | O21: ='Map and Ab list'!C59 -> B5 | P21: ='Map and Ab list'!C61 -> B6 | Q21: =(O21+P21)/2 -> #VALUE! | S21: ='Map and Ab list'!C74 -> B5 | T21: ='Map and Ab list'!C76 -> B6 | U21: =(S21+T21)/2 -> #VALUE! | W21: ='Map and Ab list'!C89 -> B5 | X21: ='Map and Ab list'!C91 -> B6 | Y21: =(W21+X21)/2 -> #VALUE! | AA21: ='Map and Ab list'!C104 -> B5 | AB21: ='Map and Ab list'!C106 -> B6 | AC21: =(AA21+AB21)/2 -> #VALUE! | AE21: ='Map and Ab list'!C119 -> B5 | AF21: ='Map and Ab list'!C121 -> B6 | AG21: =(AE21+AF21)/2 -> #VALUE! | AI21: ='Map and Ab list'!C134 -> B5 | AJ21: ='Map and Ab list'!C136 -> B6 | AK21: =(AI21+AJ21)/2 -> #VALUE! | AM21: ='Map and Ab list'!C149 -> B5 | AN21: ='Map and Ab list'!C151 -> B6 | AO21: =(AM21+AN21)/2 -> #VALUE! | AQ21: ='Map and Ab list'!C164 -> B5 | AR21: ='Map and Ab list'!C166 -> B6 | AS21: =(AQ21+AR21)/2 -> #VALUE! | AU21: ='Map and Ab list'!C179 -> B5 | AV21: ='Map and Ab list'!C181 -> B6 | AW21: =(AU21+AV21)/2 -> #VALUE! | AY21: ='Map and Ab list'!C194 -> B5 | AZ21: ='Map and Ab list'!C196 -> B6 | BA21: =(AY21+AZ21)/2 -> #VALUE! | BC21: ='Map and Ab list'!C209 -> B5 | BD21: ='Map and Ab list'!C211 -> B6 | BE21: =(BC21+BD21)/2 -> #VALUE! | BG21: ='Map and Ab list'!C224 -> B5 | BH21: ='Map and Ab list'!C226 -> B6 | BI21: =(BG21+BH21)/2 -> #VALUE! | BK21: ='Map and Ab list'!C239 -> B5 | BL21: ='Map and Ab list'!C241 -> B6 | BM21: =(BK21+BL21)/2 -> #VALUE! | BO21: ='Map and Ab list'!C254 -> B5 | BP21: ='Map and Ab list'!C256 -> B6 | BQ21: =(BO21+BP21)/2 -> #VALUE! | BS21: ='Map and Ab list'!C269 -> B5 | BT21: ='Map and Ab list'!C271 -> B6 | BU21: =(BS21+BT21)/2 -> #VALUE! | BW21: ='Map and Ab list'!C284 -> B5 | BX21: ='Map and Ab list'!C286 -> B6 | BY21: =(BW21+BX21)/2 -> #VALUE! | CA21: ='Map and Ab list'!C299 -> B5 | CB21: ='Map and Ab list'!C301 -> B6 | CC21: =(CA21+CB21)/2 -> #VALUE! | CE21: ='Map and Ab list'!C314 -> B5 | CF21: ='Map and Ab list'!C316 -> B6 | CG21: =(CE21+CF21)/2 -> #VALUE! | CI21: ='Map and Ab list'!C329 -> B5 | CJ21: ='Map and Ab list'!C331 -> B6 | CK21: =(CI21+CJ21)/2 -> #VALUE! | CM21: ='Map and Ab list'!C344 -> B5 | CN21: ='Map and Ab list'!C346 -> B6 | CO21: =(CM21+CN21)/2 -> #VALUE! | CQ21: ='Map and Ab list'!C359 -> B5 | CR21: ='Map and Ab list'!C361 -> B6 | CS21: =(CQ21+CR21)/2 -> #VALUE!
A22: ='Map and Ab list'!D13 -> TNFa | C22: ='Map and Ab list'!D14 -> 0 | D22: ='Map and Ab list'!D16 -> 0 | E22: =(C22+D22)/2 -> 0 | G22: ='Map and Ab list'!D29 -> C5 | H22: ='Map and Ab list'!D31 -> C6 | I22: =(G22+H22)/2 -> #VALUE! | K22: ='Map and Ab list'!D44 -> C5 | L22: ='Map and Ab list'!D46 -> C6 | M22: =(K22+L22)/2 -> #VALUE! | O22: ='Map and Ab list'!D59 -> C5 | P22: ='Map and Ab list'!D61 -> C6 | Q22: =(O22+P22)/2 -> #VALUE! | S22: ='Map and Ab list'!D74 -> C5 | T22: ='Map and Ab list'!D76 -> C6 | U22: =(S22+T22)/2 -> #VALUE! | W22: ='Map and Ab list'!D89 -> C5 | X22: ='Map and Ab list'!D91 -> C6 | Y22: =(W22+X22)/2 -> #VALUE! | AA22: ='Map and Ab list'!D104 -> C5 | AB22: ='Map and Ab list'!D106 -> C6 | AC22: =(AA22+AB22)/2 -> #VALUE! | AE22: ='Map and Ab list'!D119 -> C5 | AF22: ='Map and Ab list'!D121 -> C6 | AG22: =(AE22+AF22)/2 -> #VALUE! | AI22: ='Map and Ab list'!D134 -> C5 | AJ22: ='Map and Ab list'!D136 -> C6 | AK22: =(AI22+AJ22)/2 -> #VALUE! | AM22: ='Map and Ab list'!D149 -> C5 | AN22: ='Map and Ab list'!D151 -> C6 | AO22: =(AM22+AN22)/2 -> #VALUE! | AQ22: ='Map and Ab list'!D164 -> C5 | AR22: ='Map and Ab list'!D166 -> C6 | AS22: =(AQ22+AR22)/2 -> #VALUE! | AU22: ='Map and Ab list'!D179 -> C5 | AV22: ='Map and Ab list'!D181 -> C6 | AW22: =(AU22+AV22)/2 -> #VALUE! | AY22: ='Map and Ab list'!D194 -> C5 | AZ22: ='Map and Ab list'!D196 -> C6 | BA22: =(AY22+AZ22)/2 -> #VALUE! | BC22: ='Map and Ab list'!D209 -> C5 | BD22: ='Map and Ab list'!D211 -> C6 | BE22: =(BC22+BD22)/2 -> #VALUE! | BG22: ='Map and Ab list'!D224 -> C5 | BH22: ='Map and Ab list'!D226 -> C6 | BI22: =(BG22+BH22)/2 -> #VALUE! | BK22: ='Map and Ab list'!D239 -> C5 | BL22: ='Map and Ab list'!D241 -> C6 | BM22: =(BK22+BL22)/2 -> #VALUE! | BO22: ='Map and Ab list'!D254 -> C5 | BP22: ='Map and Ab list'!D256 -> C6 | BQ22: =(BO22+BP22)/2 -> #VALUE! | BS22: ='Map and Ab list'!D269 -> C5 | BT22: ='Map and Ab list'!D271 -> C6 | BU22: =(BS22+BT22)/2 -> #VALUE! | BW22: ='Map and Ab list'!D284 -> C5 | BX22: ='Map and Ab list'!D286 -> C6 | BY22: =(BW22+BX22)/2 -> #VALUE! | CA22: ='Map and Ab list'!D299 -> C5 | CB22: ='Map and Ab list'!D301 -> C6 | CC22: =(CA22+CB22)/2 -> #VALUE! | CE22: ='Map and Ab list'!D314 -> C5 | CF22: ='Map and Ab list'!D316 -> C6 | CG22: =(CE22+CF22)/2 -> #VALUE! | CI22: ='Map and Ab list'!D329 -> C5 | CJ22: ='Map and Ab list'!D331 -> C6 | CK22: =(CI22+CJ22)/2 -> #VALUE! | CM22: ='Map and Ab list'!D344 -> C5 | CN22: ='Map and Ab list'!D346 -> C6 | CO22: =(CM22+CN22)/2 -> #VALUE! | CQ22: ='Map and Ab list'!D359 -> C5 | CR22: ='Map and Ab list'!D361 -> C6 | CS22: =(CQ22+CR22)/2 -> #VALUE!
A23: ='Map and Ab list'!E13 -> BLANK | C23: ='Map and Ab list'!E14 -> 0 | D23: ='Map and Ab list'!E16 -> 0 | E23: =(C23+D23)/2 -> 0 | G23: ='Map and Ab list'!E29 -> D5 | H23: ='Map and Ab list'!E31 -> D6 | I23: =(G23+H23)/2 -> #VALUE! | K23: ='Map and Ab list'!E44 -> D5 | L23: ='Map and Ab list'!E46 -> D6 | M23: =(K23+L23)/2 -> #VALUE! | O23: ='Map and Ab list'!E59 -> D5 | P23: ='Map and Ab list'!E61 -> D6 | Q23: =(O23+P23)/2 -> #VALUE! | S23: ='Map and Ab list'!E74 -> D5 | T23: ='Map and Ab list'!E76 -> D6 | U23: =(S23+T23)/2 -> #VALUE! | W23: ='Map and Ab list'!E89 -> D5 | X23: ='Map and Ab list'!E91 -> D6 | Y23: =(W23+X23)/2 -> #VALUE! | AA23: ='Map and Ab list'!E104 -> D5 | AB23: ='Map and Ab list'!E106 -> D6 | AC23: =(AA23+AB23)/2 -> #VALUE! | AE23: ='Map and Ab list'!E119 -> D5 | AF23: ='Map and Ab list'!E121 -> D6 | AG23: =(AE23+AF23)/2 -> #VALUE! | AI23: ='Map and Ab list'!E134 -> D5 | AJ23: ='Map and Ab list'!E136 -> D6 | AK23: =(AI23+AJ23)/2 -> #VALUE! | AM23: ='Map and Ab list'!E149 -> D5 | AN23: ='Map and Ab list'!E151 -> D6 | AO23: =(AM23+AN23)/2 -> #VALUE! | AQ23: ='Map and Ab list'!E164 -> D5 | AR23: ='Map and Ab list'!E166 -> D6 | AS23: =(AQ23+AR23)/2 -> #VALUE! | AU23: ='Map and Ab list'!E179 -> D5 | AV23: ='Map and Ab list'!E181 -> D6 | AW23: =(AU23+AV23)/2 -> #VALUE! | AY23: ='Map and Ab list'!E194 -> D5 | AZ23: ='Map and Ab list'!E196 -> D6 | BA23: =(AY23+AZ23)/2 -> #VALUE! | BC23: ='Map and Ab list'!E209 -> D5 | BD23: ='Map and Ab list'!E211 -> D6 | BE23: =(BC23+BD23)/2 -> #VALUE! | BG23: ='Map and Ab list'!E224 -> D5 | BH23: ='Map and Ab list'!E226 -> D6 | BI23: =(BG23+BH23)/2 -> #VALUE! | BK23: ='Map and Ab list'!E239 -> D5 | BL23: ='Map and Ab list'!E241 -> D6 | BM23: =(BK23+BL23)/2 -> #VALUE! | BO23: ='Map and Ab list'!E254 -> D5 | BP23: ='Map and Ab list'!E256 -> D6 | BQ23: =(BO23+BP23)/2 -> #VALUE! | BS23: ='Map and Ab list'!E269 -> D5 | BT23: ='Map and Ab list'!E271 -> D6 | BU23: =(BS23+BT23)/2 -> #VALUE! | BW23: ='Map and Ab list'!E284 -> D5 | BX23: ='Map and Ab list'!E286 -> D6 | BY23: =(BW23+BX23)/2 -> #VALUE! | CA23: ='Map and Ab list'!E299 -> D5 | CB23: ='Map and Ab list'!E301 -> D6 | CC23: =(CA23+CB23)/2 -> #VALUE! | CE23: ='Map and Ab list'!E314 -> D5 | CF23: ='Map and Ab list'!E316 -> D6 | CG23: =(CE23+CF23)/2 -> #VALUE! | CI23: ='Map and Ab list'!E329 -> D5 | CJ23: ='Map and Ab list'!E331 -> D6 | CK23: =(CI23+CJ23)/2 -> #VALUE! | CM23: ='Map and Ab list'!E344 -> D5 | CN23: ='Map and Ab list'!E346 -> D6 | CO23: =(CM23+CN23)/2 -> #VALUE! | CQ23: ='Map and Ab list'!E359 -> D5 | CR23: ='Map and Ab list'!E361 -> D6 | CS23: =(CQ23+CR23)/2 -> #VALUE!
