Workbook
Name _Hlk8312475: Instructions!$B$9

Sheet Instructions
J3: FQA-DS/FQA-RNA Analysis Tool
C8: HOW TO USE THE FQA-DS/FQA-RNA ANALYSIS TOOL
C9: 1) Select Sample Type: In the "Raw Data" tab, under Sample Type, select dsDNA or RNA from the drop down based on your applicable sample type. 2) Enter Reference Data: In the "Raw Data" tab, copy and paste the raw fluorescence values (before background subtraction) for your Positive Reference and Negative Reference standards in the corresponding wells. Enter replicate values horizontally (duplicate or triplicate). Do not subtract background prior to entry. 3) Enter Sample Information: In the “Raw Data” tab, input sample identifiers under "Sample Name" column and insert volume (in uL) and dilution factor (-Fold) for each sample in the corresponding "Sample Volume" and "Sample Dilution" columns. If running undiluted samples, leave sample dilution for that sample blank or input "1". If volume and/or dilution wells are blank for a given sample, calculations automatically assume a volume of 50 μL and dilution fold of 1 (i.e., undiluted sample). 4) Enter Sample Raw Data: In the “Raw Data” tab, paste raw fluorescence values exactly as exported from the plate reader (before background subtraction). Enter replicate values horizontally (duplicate or triplicate). Do not modify formula cells. 5) Review Precision: After entering reference and sample data, verify the automatically calculated Average and CV%. For reliable curve performance, positive reference CV% value should typically be ≤10% (the negative reference may show higher variability). CV% values for samples should typically be ≤15%. Samples with fluorescence values near background may have elevated CV% values. 6) Review Final Calculated Data: In the "Analysis" tab, DNA or RNA mass (pg) is determined by interpolating the blank corrected average fluorescence values against the two-point calibration curve generated from the positive and negative reference standards. The calculated mass is then adjusted for the sample dilution factor. The QC Check column indicates whether a sample passes quality control based on its CV value; samples that exceed the acceptable CV limit are flagged and should be rerun. If the field is blank, the sample passes QC. Note: DNA or RNA concentration (pg/uL) is calculated by dividing the dilution-adjusted mass (pg) by the sample volume (uL). Note: Samples with average fluorescence values below the background signal are automatically assigned a mass of 0 pg.

Sheet Raw Data
A1: Sample Type
A2: dsDNA
A4: Sample Name | B4: Sample Volume (uL) | C4: Sample Dilution (-Fold) | D4: 1 | E4: 2 | F4: 3 | G4: Average | H4: CV% | I4: Blank Corrected Signal
A5: =IF(A2="dsDNA","DNA Reference (1 ng/uL)",IF(A2="RNA","RNA Reference (4 ng/uL)","")) -> DNA Reference (1 ng/uL) | B5: 50 | C5: 1 | G5: =IFERROR(AVERAGE(D5:F5),NA()) -> #N/A | H5: =IFERROR(STDEV('Raw Data'!D5:F5)/'Raw Data'!G5,NA()) -> #N/A | I5: =IFERROR('Raw Data'!G5-'Raw Data'!$G$6,NA()) -> #N/A
A6: Negative Reference (0 ng/uL) | B6: 50 | C6: 1 | G6: =IFERROR(AVERAGE(D6:F6),NA()) -> #N/A | H6: =IFERROR(STDEV('Raw Data'!D6:F6)/'Raw Data'!G6,NA()) -> #N/A | I6: =IFERROR('Raw Data'!G6-'Raw Data'!$G$6,NA()) -> #N/A
G7: =IFERROR(AVERAGE(D7:F7),NA()) -> #N/A | H7: =IFERROR(STDEV('Raw Data'!D7:F7)/'Raw Data'!G7,NA()) -> #N/A | I7: =IFERROR('Raw Data'!G7-'Raw Data'!$G$6,NA()) -> #N/A
G8: =IFERROR(AVERAGE(D8:F8),NA()) -> #N/A | H8: =IFERROR(STDEV('Raw Data'!D8:F8)/'Raw Data'!G8,NA()) -> #N/A | I8: =IFERROR('Raw Data'!G8-'Raw Data'!$G$6,NA()) -> #N/A
G9: =IFERROR(AVERAGE(D9:F9),NA()) -> #N/A | H9: =IFERROR(STDEV('Raw Data'!D9:F9)/'Raw Data'!G9,NA()) -> #N/A | I9: =IFERROR('Raw Data'!G9-'Raw Data'!$G$6,NA()) -> #N/A
G10: =IFERROR(AVERAGE(D10:F10),NA()) -> #N/A | H10: =IFERROR(STDEV('Raw Data'!D10:F10)/'Raw Data'!G10,NA()) -> #N/A | I10: =IFERROR('Raw Data'!G10-'Raw Data'!$G$6,NA()) -> #N/A
G11: =IFERROR(AVERAGE(D11:F11),NA()) -> #N/A | H11: =IFERROR(STDEV('Raw Data'!D11:F11)/'Raw Data'!G11,NA()) -> #N/A | I11: =IFERROR('Raw Data'!G11-'Raw Data'!$G$6,NA()) -> #N/A
G12: =IFERROR(AVERAGE(D12:F12),NA()) -> #N/A | H12: =IFERROR(STDEV('Raw Data'!D12:F12)/'Raw Data'!G12,NA()) -> #N/A | I12: =IFERROR('Raw Data'!G12-'Raw Data'!$G$6,NA()) -> #N/A
G13: =IFERROR(AVERAGE(D13:F13),NA()) -> #N/A | H13: =IFERROR(STDEV('Raw Data'!D13:F13)/'Raw Data'!G13,NA()) -> #N/A | I13: =IFERROR('Raw Data'!G13-'Raw Data'!$G$6,NA()) -> #N/A
G14: =IFERROR(AVERAGE(D14:F14),NA()) -> #N/A | H14: =IFERROR(STDEV('Raw Data'!D14:F14)/'Raw Data'!G14,NA()) -> #N/A | I14: =IFERROR('Raw Data'!G14-'Raw Data'!$G$6,NA()) -> #N/A
G15: =IFERROR(AVERAGE(D15:F15),NA()) -> #N/A | H15: =IFERROR(STDEV('Raw Data'!D15:F15)/'Raw Data'!G15,NA()) -> #N/A | I15: =IFERROR('Raw Data'!G15-'Raw Data'!$G$6,NA()) -> #N/A
G16: =IFERROR(AVERAGE(D16:F16),NA()) -> #N/A | H16: =IFERROR(STDEV('Raw Data'!D16:F16)/'Raw Data'!G16,NA()) -> #N/A | I16: =IFERROR('Raw Data'!G16-'Raw Data'!$G$6,NA()) -> #N/A
G17: =IFERROR(AVERAGE(D17:F17),NA()) -> #N/A | H17: =IFERROR(STDEV('Raw Data'!D17:F17)/'Raw Data'!G17,NA()) -> #N/A | I17: =IFERROR('Raw Data'!G17-'Raw Data'!$G$6,NA()) -> #N/A
G18: =IFERROR(AVERAGE(D18:F18),NA()) -> #N/A | H18: =IFERROR(STDEV('Raw Data'!D18:F18)/'Raw Data'!G18,NA()) -> #N/A | I18: =IFERROR('Raw Data'!G18-'Raw Data'!$G$6,NA()) -> #N/A
... G46: =IFERROR(AVERAGE(D46:F46),NA()) -> #N/A | H46: =IFERROR(STDEV('Raw Data'!D46:F46)/'Raw Data'!G46,NA()) -> #N/A | I46: =IFERROR('Raw Data'!G46-'Raw Data'!$G$6,NA()) -> #N/A

Sheet Analysis
A1: =IF('Raw Data'!A2="dsDNA","FQA-DS Analysis Tool",IF('Raw Data'!A2="RNA","FQA-RNA Analysis Tool","")) -> FQA-DS Analysis Tool
A2: Input Data Location: Raw Data Tab
A3: Standard Curve: Single point reference
A4: Average CV% | B4: {=AVERAGE(IFERROR('Raw Data'!H5:H46,""))} -> #DIV/0!
A5: Max CV% | B5: {=MAX(IFERROR('Raw Data'!H5:H46,""))} -> 0
A7: Calibration Reference
B9: =IF('Raw Data'!A2="dsDNA","Calculated DNA (pg)",IF('Raw Data'!A2="RNA","Calculated RNA (pg)","")) -> Calculated DNA (pg) | C9: =IF('Raw Data'!A2="dsDNA","DNA Concentration (pg/uL)",IF('Raw Data'!A2="RNA","RNA Concentration (pg/uL)","")) -> DNA Concentration (pg/uL)
A10: ='Raw Data'!A5 -> DNA Reference (1 ng/uL) | B10: =IF('Raw Data'!A2="dsDNA",50000,IF('Raw Data'!A2="RNA",200000,"")) -> 50000 | C10: =B10/'Raw Data'!B5 -> 1000
A11: ='Raw Data'!A6 -> Negative Reference (0 ng/uL) | B11: 0 | C11: 0
A12: Slope = | B12: =SLOPE('Raw Data'!I5:I6,Analysis!B10:B11) -> #N/A
A13: Intercept = | B13: =INTERCEPT('Raw Data'!I5:I6,Analysis!B10:B11) -> #N/A
A14: R2 = | B14: =RSQ('Raw Data'!I5:I6,Analysis!B10:B11) -> #N/A
A16: Samples
B18: Dilution Adjusted
A19: Sample Name | B19: =B9 -> Calculated DNA (pg) | C19: =C9 -> DNA Concentration (pg/uL) | D19: QC Check
A20: ='Raw Data'!A7 -> 0 | B20: =IF('Raw Data'!I7<=0,0,('Raw Data'!I7-Analysis!$B$13)/Analysis!$B$12*IF(ISBLANK('Raw Data'!C7),1,'Raw Data'!C7)) -> #N/A | C20: =B20/IF(ISBLANK('Raw Data'!B7),50,'Raw Data'!B7) -> #N/A | D20: =IFERROR(IF('Raw Data'!H7<=15%,"",IF('Raw Data'!H7>15%,"REPEAT")),"")
A21: ='Raw Data'!A8 -> 0 | B21: =IF('Raw Data'!I8<=0,0,('Raw Data'!I8-Analysis!$B$13)/Analysis!$B$12*IF(ISBLANK('Raw Data'!C8),1,'Raw Data'!C8)) -> #N/A | C21: =B21/IF(ISBLANK('Raw Data'!B8),50,'Raw Data'!B8) -> #N/A | D21: =IFERROR(IF('Raw Data'!H8<=15%,"",IF('Raw Data'!H8>15%,"REPEAT")),"")
A22: ='Raw Data'!A9 -> 0 | B22: =IF('Raw Data'!I9<=0,0,('Raw Data'!I9-Analysis!$B$13)/Analysis!$B$12*IF(ISBLANK('Raw Data'!C9),1,'Raw Data'!C9)) -> #N/A | C22: =B22/IF(ISBLANK('Raw Data'!B9),50,'Raw Data'!B9) -> #N/A | D22: =IFERROR(IF('Raw Data'!H9<=15%,"",IF('Raw Data'!H9>15%,"REPEAT")),"")
A23: ='Raw Data'!A10 -> 0 | B23: =IF('Raw Data'!I10<=0,0,('Raw Data'!I10-Analysis!$B$13)/Analysis!$B$12*IF(ISBLANK('Raw Data'!C10),1,'Raw Data'!C10)) -> #N/A | C23: =B23/IF(ISBLANK('Raw Data'!B10),50,'Raw Data'!B10) -> #N/A | D23: =IFERROR(IF('Raw Data'!H10<=15%,"",IF('Raw Data'!H10>15%,"REPEAT")),"")
A24: ='Raw Data'!A11 -> 0 | B24: =IF('Raw Data'!I11<=0,0,('Raw Data'!I11-Analysis!$B$13)/Analysis!$B$12*IF(ISBLANK('Raw Data'!C11),1,'Raw Data'!C11)) -> #N/A | C24: =B24/IF(ISBLANK('Raw Data'!B11),50,'Raw Data'!B11) -> #N/A | D24: =IFERROR(IF('Raw Data'!H11<=15%,"",IF('Raw Data'!H11>15%,"REPEAT")),"")
A25: ='Raw Data'!A12 -> 0 | B25: =IF('Raw Data'!I12<=0,0,('Raw Data'!I12-Analysis!$B$13)/Analysis!$B$12*IF(ISBLANK('Raw Data'!C12),1,'Raw Data'!C12)) -> #N/A | C25: =B25/IF(ISBLANK('Raw Data'!B12),50,'Raw Data'!B12) -> #N/A | D25: =IFERROR(IF('Raw Data'!H12<=15%,"",IF('Raw Data'!H12>15%,"REPEAT")),"")
A26: ='Raw Data'!A13 -> 0 | B26: =IF('Raw Data'!I13<=0,0,('Raw Data'!I13-Analysis!$B$13)/Analysis!$B$12*IF(ISBLANK('Raw Data'!C13),1,'Raw Data'!C13)) -> #N/A | C26: =B26/IF(ISBLANK('Raw Data'!B13),50,'Raw Data'!B13) -> #N/A | D26: =IFERROR(IF('Raw Data'!H13<=15%,"",IF('Raw Data'!H13>15%,"REPEAT")),"")
A27: ='Raw Data'!A14 -> 0 | B27: =IF('Raw Data'!I14<=0,0,('Raw Data'!I14-Analysis!$B$13)/Analysis!$B$12*IF(ISBLANK('Raw Data'!C14),1,'Raw Data'!C14)) -> #N/A | C27: =B27/IF(ISBLANK('Raw Data'!B14),50,'Raw Data'!B14) -> #N/A | D27: =IFERROR(IF('Raw Data'!H14<=15%,"",IF('Raw Data'!H14>15%,"REPEAT")),"")
A28: ='Raw Data'!A15 -> 0 | B28: =IF('Raw Data'!I15<=0,0,('Raw Data'!I15-Analysis!$B$13)/Analysis!$B$12*IF(ISBLANK('Raw Data'!C15),1,'Raw Data'!C15)) -> #N/A | C28: =B28/IF(ISBLANK('Raw Data'!B15),50,'Raw Data'!B15) -> #N/A | D28: =IFERROR(IF('Raw Data'!H15<=15%,"",IF('Raw Data'!H15>15%,"REPEAT")),"")
A29: ='Raw Data'!A16 -> 0 | B29: =IF('Raw Data'!I16<=0,0,('Raw Data'!I16-Analysis!$B$13)/Analysis!$B$12*IF(ISBLANK('Raw Data'!C16),1,'Raw Data'!C16)) -> #N/A | C29: =B29/IF(ISBLANK('Raw Data'!B16),50,'Raw Data'!B16) -> #N/A | D29: =IFERROR(IF('Raw Data'!H16<=15%,"",IF('Raw Data'!H16>15%,"REPEAT")),"")
A30: ='Raw Data'!A17 -> 0 | B30: =IF('Raw Data'!I17<=0,0,('Raw Data'!I17-Analysis!$B$13)/Analysis!$B$12*IF(ISBLANK('Raw Data'!C17),1,'Raw Data'!C17)) -> #N/A | C30: =B30/IF(ISBLANK('Raw Data'!B17),50,'Raw Data'!B17) -> #N/A | D30: =IFERROR(IF('Raw Data'!H17<=15%,"",IF('Raw Data'!H17>15%,"REPEAT")),"")
A31: ='Raw Data'!A18 -> 0 | B31: =IF('Raw Data'!I18<=0,0,('Raw Data'!I18-Analysis!$B$13)/Analysis!$B$12*IF(ISBLANK('Raw Data'!C18),1,'Raw Data'!C18)) -> #N/A | C31: =B31/IF(ISBLANK('Raw Data'!B18),50,'Raw Data'!B18) -> #N/A | D31: =IFERROR(IF('Raw Data'!H18<=15%,"",IF('Raw Data'!H18>15%,"REPEAT")),"")
... A59: ='Raw Data'!A46 -> 0 | B59: =IF('Raw Data'!I46<=0,0,('Raw Data'!I46-Analysis!$B$13)/Analysis!$B$12*IF(ISBLANK('Raw Data'!C46),1,'Raw Data'!C46)) -> #N/A | C59: =B59/IF(ISBLANK('Raw Data'!B46),50,'Raw Data'!B46) -> #N/A | D59: =IFERROR(IF('Raw Data'!H46<=15%,"",IF('Raw Data'!H46>15%,"REPEAT")),"")
