Workbook

Sheet Loading
B2: Sample ID | C2: Analyte | D2: Slide 1 | E2: Slide 2 | F2: Slide 3 | G2: Slide 4 | H2: Slide 5 | I2: Slide 6 | J2: Slide 7 | K2: Slide 8
B3: SA1 | C3: POS1
B4: SA1 | C4: POS1
B5: SA1 | C5: POS1
B6: SA1 | C6: POS1
B7: SA1 | C7: POS2
B8: SA1 | C8: POS2
B9: SA1 | C9: POS2
B10: SA1 | C10: POS2
B11: SA1 | C11: IgA
B12: SA1 | C12: IgA
B13: SA1 | C13: IgA
B14: SA1 | C14: IgA
... B770: SA16 | C770: Kappa

Sheet Isotyping
H2: Raw Input Data | AC2: Outliers Definition | AE2: 0.35
H4: ID | I4: S1-1 | J4: S1-2 | K4: S1-3 | L4: S1-4 | M4: S1-5 | N4: S1-6 | O4: S1-7 | P4: S1-8 | Q4: S1-9 | R4: S1-10 | S4: S1-11 | T4: S1-12 | U4: S1-13 | V4: S1-14 | W4: S1-15 | X4: S1-16 | Y4: S2-1 | Z4: S2-2 | AA4: S2-3 | AB4: S2-4 | AC4: S2-5 | AD4: S2-6 | AE4: S2-7 | AF4: S2-8 | AG4: S2-9 | AH4: S2-10 | AI4: S2-11 | AJ4: S2-12 | AK4: S2-13 | AL4: S2-14 | AM4: S2-15 | AN4: S2-16 | AO4: S3-1 | AP4: S3-2 | AQ4: S3-3 | AR4: S3-4 | AS4: S3-5 | AT4: S3-6 | AU4: S3-7 | AV4: S3-8 | AW4: S3-9 | AX4: S3-10 | AY4: S3-11 | AZ4: S3-12 | BA4: S3-13 | BB4: S3-14 | BC4: S3-15 | BD4: S3-16 | BE4: S4-1 | BF4: S4-2 | BG4: S4-3 | BH4: S4-4 | BI4: S4-5 | BJ4: S4-6 | BK4: S4-7 | BL4: S4-8 | BM4: S4-9 | BN4: S4-10 | BO4: S4-11 | BP4: S4-12 | BQ4: S4-13 | BR4: S4-14 | BS4: S4-15 | BT4: S4-16 | BU4: S5-1 | BV4: S5-2 | BW4: S5-3 | BX4: S5-4 | BY4: S5-5 | BZ4: S5-6 | CA4: S5-7 | CB4: S5-8 | CC4: S5-9 | CD4: S5-10 | CE4: S5-11 | CF4: S5-12 | CG4: S5-13 | CH4: S5-14 | CI4: S5-15 | CJ4: S5-16 | CK4: S6-1 | CL4: S6-2 | CM4: S6-3 | CN4: S6-4 | CO4: S6-5 | CP4: S6-6 | CQ4: S6-7 | CR4: S6-8 | CS4: S6-9 | CT4: S6-10 | CU4: S6-11 | CV4: S6-12 | CW4: S6-13 | CX4: S6-14 | CY4: S6-15 | CZ4: S6-16 | DA4: S7-1 | DB4: S7-2 | DC4: S7-3 | DD4: S7-4 | DE4: S7-5 | DF4: S7-6 | DG4: S7-7 | DH4: S7-8 | DI4: S7-9 | DJ4: S7-10 | DK4: S7-11 | DL4: S7-12 | DM4: S7-13 | DN4: S7-14 | DO4: S7-15 | DP4: S7-16 | DQ4: S8-1 | DR4: S8-2 | DS4: S8-3 | DT4: S8-4 | DU4: S8-5 | DV4: S8-6 | DW4: S8-7 | DX4: S8-8 | DY4: S8-9 | DZ4: S8-10 | EA4: S8-11 | EB4: S8-12 | EC4: S8-13 | ED4: S8-14 | EE4: S8-15 | EF4: S8-16 | EG4: =P4 -> S1-8 | EH4: =Q4 -> S1-9 | EI4: =R4 -> S1-10 | EJ4: =S4 -> S1-11 | EK4: =T4 -> S1-12 | EL4: =U4 -> S1-13 | EM4: =V4 -> S1-14 | EN4: =W4 -> S1-15 | ... IO4: =DX4 -> S8-8
H5: POS1 | I5: =IF(Loading!D3<0, 0, Loading!D3) -> 0 | J5: =IF(Loading!D51<0, 0, Loading!D51) -> 0 | K5: =IF(Loading!D99<0, 0, Loading!D99) -> 0 | L5: =IF(Loading!D147<0, 0, Loading!D147) -> 0 | M5: =IF(Loading!D195<0, 0, Loading!D195) -> 0 | N5: =IF(Loading!D243<0, 0, Loading!D243) -> 0 | O5: =IF(Loading!D291<0, 0, Loading!D291) -> 0 | P5: =IF(Loading!D339<0, 0, Loading!D339) -> 0 | Q5: =IF(Loading!D387<0, 0, Loading!D387) -> 0 | R5: =IF(Loading!D435<0, 0, Loading!D435) -> 0 | S5: =IF(Loading!D483<0, 0, Loading!D483) -> 0 | T5: =IF(Loading!D531<0, 0, Loading!D531) -> 0 | U5: =IF(Loading!D579<0, 0, Loading!D579) -> 0 | V5: =IF(Loading!D627<0, 0, Loading!D627) -> 0 | W5: =IF(Loading!D675<0, 0, Loading!D675) -> 0 | X5: =IF(Loading!D723<0, 0, Loading!D723) -> 0 | Y5: =IF(Loading!E3<0, 0, Loading!E3) -> 0 | Z5: =IF(Loading!E51<0, 0, Loading!E51) -> 0 | AA5: =IF(Loading!E99<0, 0, Loading!E99) -> 0 | AB5: =IF(Loading!E147<0, 0, Loading!E147) -> 0 | AC5: =IF(Loading!E195<0, 0, Loading!E195) -> 0 | AD5: =IF(Loading!E243<0, 0, Loading!E243) -> 0 | AE5: =IF(Loading!E291<0, 0, Loading!E291) -> 0 | AF5: =IF(Loading!E339<0, 0, Loading!E339) -> 0 | AG5: =IF(Loading!E387<0, 0, Loading!E387) -> 0 | AH5: =IF(Loading!E435<0, 0, Loading!E435) -> 0 | AI5: =IF(Loading!E483<0, 0, Loading!E483) -> 0 | AJ5: =IF(Loading!E531<0, 0, Loading!E531) -> 0 | AK5: =IF(Loading!E579<0, 0, Loading!E579) -> 0 | AL5: =IF(Loading!E627<0, 0, Loading!E627) -> 0 | AM5: =IF(Loading!E675<0, 0, Loading!E675) -> 0 | AN5: =IF(Loading!E723<0, 0, Loading!E723) -> 0 | AO5: =IF(Loading!F3<0, 0, Loading!F3) -> 0 | AP5: =IF(Loading!F51<0, 0, Loading!F51) -> 0 | AQ5: =IF(Loading!F99<0, 0, Loading!F99) -> 0 | AR5: =IF(Loading!F147<0, 0, Loading!F147) -> 0 | AS5: =IF(Loading!F195<0, 0, Loading!F195) -> 0 | AT5: =IF(Loading!F243<0, 0, Loading!F243) -> 0 | AU5: =IF(Loading!F291<0, 0, Loading!F291) -> 0 | AV5: =IF(Loading!F339<0, 0, Loading!F339) -> 0 | AW5: =IF(Loading!F387<0, 0, Loading!F387) -> 0 | AX5: =IF(Loading!F435<0, 0, Loading!F435) -> 0 | AY5: =IF(Loading!F483<0, 0, Loading!F483) -> 0 | AZ5: =IF(Loading!F531<0, 0, Loading!F531) -> 0 | BA5: =IF(Loading!F579<0, 0, Loading!F579) -> 0 | BB5: =IF(Loading!F627<0, 0, Loading!F627) -> 0 | BC5: =IF(Loading!F675<0, 0, Loading!F675) -> 0 | BD5: =IF(Loading!F723<0, 0, Loading!F723) -> 0 | BE5: =IF(Loading!G3<0, 0, Loading!G3) -> 0 | BF5: =IF(Loading!G51<0, 0, Loading!G51) -> 0 | BG5: =IF(Loading!G99<0, 0, Loading!G99) -> 0 | BH5: =IF(Loading!G147<0, 0, Loading!G147) -> 0 | BI5: =IF(Loading!G195<0, 0, Loading!G195) -> 0 | BJ5: =IF(Loading!G243<0, 0, Loading!G243) -> 0 | BK5: =IF(Loading!G291<0, 0, Loading!G291) -> 0 | BL5: =IF(Loading!G339<0, 0, Loading!G339) -> 0 | BM5: =IF(Loading!G387<0, 0, Loading!G387) -> 0 | BN5: =IF(Loading!G435<0, 0, Loading!G435) -> 0 | BO5: =IF(Loading!G483<0, 0, Loading!G483) -> 0 | BP5: =IF(Loading!G531<0, 0, Loading!G531) -> 0 | BQ5: =IF(Loading!G579<0, 0, Loading!G579) -> 0 | BR5: =IF(Loading!G627<0, 0, Loading!G627) -> 0 | BS5: =IF(Loading!G675<0, 0, Loading!G675) -> 0 | BT5: =IF(Loading!G723<0, 0, Loading!G723) -> 0 | BU5: =IF(Loading!H3<0, 0, Loading!H3) -> 0 | BV5: =IF(Loading!H51<0, 0, Loading!H51) -> 0 | BW5: =IF(Loading!H99<0, 0, Loading!H99) -> 0 | BX5: =IF(Loading!H147<0, 0, Loading!H147) -> 0 | BY5: =IF(Loading!H195<0, 0, Loading!H195) -> 0 | BZ5: =IF(Loading!H243<0, 0, Loading!H243) -> 0 | CA5: =IF(Loading!H291<0, 0, Loading!H291) -> 0 | CB5: =IF(Loading!H339<0, 0, Loading!H339) -> 0 | CC5: =IF(Loading!H387<0, 0, Loading!H387) -> 0 | CD5: =IF(Loading!H435<0, 0, Loading!H435) -> 0 | CE5: =IF(Loading!H483<0, 0, Loading!H483) -> 0 | CF5: =IF(Loading!H531<0, 0, Loading!H531) -> 0 | CG5: =IF(Loading!H579<0, 0, Loading!H579) -> 0 | CH5: =IF(Loading!H627<0, 0, Loading!H627) -> 0 | CI5: =IF(Loading!H675<0, 0, Loading!H675) -> 0 | CJ5: =IF(Loading!H723<0, 0, Loading!H723) -> 0 | CK5: =IF(Loading!I3<0, 0, Loading!I3) -> 0 | CL5: =IF(Loading!I51<0, 0, Loading!I51) -> 0 | CM5: =IF(Loading!I99<0, 0, Loading!I99) -> 0 | CN5: =IF(Loading!I147<0, 0, Loading!I147) -> 0 | CO5: =IF(Loading!I195<0, 0, Loading!I195) -> 0 | CP5: =IF(Loading!I243<0, 0, Loading!I243) -> 0 | CQ5: =IF(Loading!I291<0, 0, Loading!I291) -> 0 | CR5: =IF(Loading!I339<0, 0, Loading!I339) -> 0 | CS5: =IF(Loading!I387<0, 0, Loading!I387) -> 0 | CT5: =IF(Loading!I435<0, 0, Loading!I435) -> 0 | CU5: =IF(Loading!I483<0, 0, Loading!I483) -> 0 | CV5: =IF(Loading!I531<0, 0, Loading!I531) -> 0 | CW5: =IF(Loading!I579<0, 0, Loading!I579) -> 0 | CX5: =IF(Loading!I627<0, 0, Loading!I627) -> 0 | CY5: =IF(Loading!I675<0, 0, Loading!I675) -> 0 | CZ5: =IF(Loading!I723<0, 0, Loading!I723) -> 0 | DA5: =IF(Loading!J3<0, 0, Loading!J3) -> 0 | DB5: =IF(Loading!J51<0, 0, Loading!J51) -> 0 | DC5: =IF(Loading!J99<0, 0, Loading!J99) -> 0 | DD5: =IF(Loading!J147<0, 0, Loading!J147) -> 0 | DE5: =IF(Loading!J195<0, 0, Loading!J195) -> 0 | DF5: =IF(Loading!J243<0, 0, Loading!J243) -> 0 | DG5: =IF(Loading!J291<0, 0, Loading!J291) -> 0 | DH5: =IF(Loading!J339<0, 0, Loading!J339) -> 0 | DI5: =IF(Loading!J387<0, 0, Loading!J387) -> 0 | DJ5: =IF(Loading!J435<0, 0, Loading!J435) -> 0 | DK5: =IF(Loading!J483<0, 0, Loading!J483) -> 0 | DL5: =IF(Loading!J531<0, 0, Loading!J531) -> 0 | DM5: =IF(Loading!J579<0, 0, Loading!J579) -> 0 | DN5: =IF(Loading!J627<0, 0, Loading!J627) -> 0 | DO5: =IF(Loading!J675<0, 0, Loading!J675) -> 0 | DP5: =IF(Loading!J723<0, 0, Loading!J723) -> 0 | DQ5: =IF(Loading!K3<0, 0, Loading!K3) -> 0 | DR5: =IF(Loading!K51<0, 0, Loading!K51) -> 0 | DS5: =IF(Loading!K99<0, 0, Loading!K99) -> 0 | DT5: =IF(Loading!K147<0, 0, Loading!K147) -> 0 | DU5: =IF(Loading!K195<0, 0, Loading!K195) -> 0 | DV5: =IF(Loading!K243<0, 0, Loading!K243) -> 0 | DW5: =IF(Loading!K291<0, 0, Loading!K291) -> 0 | DX5: =IF(Loading!K339<0, 0, Loading!K339) -> 0 | DZ5: =(1+$AE$2)*MEDIAN(I5:I8) -> 0 | EA5: =(1+$AE$2)*MEDIAN(J5:J8) -> 0 | EB5: =(1+$AE$2)*MEDIAN(K5:K8) -> 0 | EC5: =(1+$AE$2)*MEDIAN(L5:L8) -> 0 | ED5: =(1+$AE$2)*MEDIAN(M5:M8) -> 0 | EE5: =(1+$AE$2)*MEDIAN(N5:N8) -> 0 | EF5: =(1+$AE$2)*MEDIAN(O5:O8) -> 0 | EG5: =(1+$AE$2)*MEDIAN(P5:P8) -> 0 | ... IO5: =(1+$AE$2)*MEDIAN(DX5:DX8) -> 0
H6: POS1 | I6: =IF(Loading!D4<0, 0, Loading!D4) -> 0 | J6: =IF(Loading!D52<0, 0, Loading!D52) -> 0 | K6: =IF(Loading!D100<0, 0, Loading!D100) -> 0 | L6: =IF(Loading!D148<0, 0, Loading!D148) -> 0 | M6: =IF(Loading!D196<0, 0, Loading!D196) -> 0 | N6: =IF(Loading!D244<0, 0, Loading!D244) -> 0 | O6: =IF(Loading!D292<0, 0, Loading!D292) -> 0 | P6: =IF(Loading!D340<0, 0, Loading!D340) -> 0 | Q6: =IF(Loading!D388<0, 0, Loading!D388) -> 0 | R6: =IF(Loading!D436<0, 0, Loading!D436) -> 0 | S6: =IF(Loading!D484<0, 0, Loading!D484) -> 0 | T6: =IF(Loading!D532<0, 0, Loading!D532) -> 0 | U6: =IF(Loading!D580<0, 0, Loading!D580) -> 0 | V6: =IF(Loading!D628<0, 0, Loading!D628) -> 0 | W6: =IF(Loading!D676<0, 0, Loading!D676) -> 0 | X6: =IF(Loading!D724<0, 0, Loading!D724) -> 0 | Y6: =IF(Loading!E4<0, 0, Loading!E4) -> 0 | Z6: =IF(Loading!E52<0, 0, Loading!E52) -> 0 | AA6: =IF(Loading!E100<0, 0, Loading!E100) -> 0 | AB6: =IF(Loading!E148<0, 0, Loading!E148) -> 0 | AC6: =IF(Loading!E196<0, 0, Loading!E196) -> 0 | AD6: =IF(Loading!E244<0, 0, Loading!E244) -> 0 | AE6: =IF(Loading!E292<0, 0, Loading!E292) -> 0 | AF6: =IF(Loading!E340<0, 0, Loading!E340) -> 0 | AG6: =IF(Loading!E388<0, 0, Loading!E388) -> 0 | AH6: =IF(Loading!E436<0, 0, Loading!E436) -> 0 | AI6: =IF(Loading!E484<0, 0, Loading!E484) -> 0 | AJ6: =IF(Loading!E532<0, 0, Loading!E532) -> 0 | AK6: =IF(Loading!E580<0, 0, Loading!E580) -> 0 | AL6: =IF(Loading!E628<0, 0, Loading!E628) -> 0 | AM6: =IF(Loading!E676<0, 0, Loading!E676) -> 0 | AN6: =IF(Loading!E724<0, 0, Loading!E724) -> 0 | AO6: =IF(Loading!F4<0, 0, Loading!F4) -> 0 | AP6: =IF(Loading!F52<0, 0, Loading!F52) -> 0 | AQ6: =IF(Loading!F100<0, 0, Loading!F100) -> 0 | AR6: =IF(Loading!F148<0, 0, Loading!F148) -> 0 | AS6: =IF(Loading!F196<0, 0, Loading!F196) -> 0 | AT6: =IF(Loading!F244<0, 0, Loading!F244) -> 0 | AU6: =IF(Loading!F292<0, 0, Loading!F292) -> 0 | AV6: =IF(Loading!F340<0, 0, Loading!F340) -> 0 | AW6: =IF(Loading!F388<0, 0, Loading!F388) -> 0 | AX6: =IF(Loading!F436<0, 0, Loading!F436) -> 0 | AY6: =IF(Loading!F484<0, 0, Loading!F484) -> 0 | AZ6: =IF(Loading!F532<0, 0, Loading!F532) -> 0 | BA6: =IF(Loading!F580<0, 0, Loading!F580) -> 0 | BB6: =IF(Loading!F628<0, 0, Loading!F628) -> 0 | BC6: =IF(Loading!F676<0, 0, Loading!F676) -> 0 | BD6: =IF(Loading!F724<0, 0, Loading!F724) -> 0 | BE6: =IF(Loading!G4<0, 0, Loading!G4) -> 0 | BF6: =IF(Loading!G52<0, 0, Loading!G52) -> 0 | BG6: =IF(Loading!G100<0, 0, Loading!G100) -> 0 | BH6: =IF(Loading!G148<0, 0, Loading!G148) -> 0 | BI6: =IF(Loading!G196<0, 0, Loading!G196) -> 0 | BJ6: =IF(Loading!G244<0, 0, Loading!G244) -> 0 | BK6: =IF(Loading!G292<0, 0, Loading!G292) -> 0 | BL6: =IF(Loading!G340<0, 0, Loading!G340) -> 0 | BM6: =IF(Loading!G388<0, 0, Loading!G388) -> 0 | BN6: =IF(Loading!G436<0, 0, Loading!G436) -> 0 | BO6: =IF(Loading!G484<0, 0, Loading!G484) -> 0 | BP6: =IF(Loading!G532<0, 0, Loading!G532) -> 0 | BQ6: =IF(Loading!G580<0, 0, Loading!G580) -> 0 | BR6: =IF(Loading!G628<0, 0, Loading!G628) -> 0 | BS6: =IF(Loading!G676<0, 0, Loading!G676) -> 0 | BT6: =IF(Loading!G724<0, 0, Loading!G724) -> 0 | BU6: =IF(Loading!H4<0, 0, Loading!H4) -> 0 | BV6: =IF(Loading!H52<0, 0, Loading!H52) -> 0 | BW6: =IF(Loading!H100<0, 0, Loading!H100) -> 0 | BX6: =IF(Loading!H148<0, 0, Loading!H148) -> 0 | BY6: =IF(Loading!H196<0, 0, Loading!H196) -> 0 | BZ6: =IF(Loading!H244<0, 0, Loading!H244) -> 0 | CA6: =IF(Loading!H292<0, 0, Loading!H292) -> 0 | CB6: =IF(Loading!H340<0, 0, Loading!H340) -> 0 | CC6: =IF(Loading!H388<0, 0, Loading!H388) -> 0 | CD6: =IF(Loading!H436<0, 0, Loading!H436) -> 0 | CE6: =IF(Loading!H484<0, 0, Loading!H484) -> 0 | CF6: =IF(Loading!H532<0, 0, Loading!H532) -> 0 | CG6: =IF(Loading!H580<0, 0, Loading!H580) -> 0 | CH6: =IF(Loading!H628<0, 0, Loading!H628) -> 0 | CI6: =IF(Loading!H676<0, 0, Loading!H676) -> 0 | CJ6: =IF(Loading!H724<0, 0, Loading!H724) -> 0 | CK6: =IF(Loading!I4<0, 0, Loading!I4) -> 0 | CL6: =IF(Loading!I52<0, 0, Loading!I52) -> 0 | CM6: =IF(Loading!I100<0, 0, Loading!I100) -> 0 | CN6: =IF(Loading!I148<0, 0, Loading!I148) -> 0 | CO6: =IF(Loading!I196<0, 0, Loading!I196) -> 0 | CP6: =IF(Loading!I244<0, 0, Loading!I244) -> 0 | CQ6: =IF(Loading!I292<0, 0, Loading!I292) -> 0 | CR6: =IF(Loading!I340<0, 0, Loading!I340) -> 0 | CS6: =IF(Loading!I388<0, 0, Loading!I388) -> 0 | CT6: =IF(Loading!I436<0, 0, Loading!I436) -> 0 | CU6: =IF(Loading!I484<0, 0, Loading!I484) -> 0 | CV6: =IF(Loading!I532<0, 0, Loading!I532) -> 0 | CW6: =IF(Loading!I580<0, 0, Loading!I580) -> 0 | CX6: =IF(Loading!I628<0, 0, Loading!I628) -> 0 | CY6: =IF(Loading!I676<0, 0, Loading!I676) -> 0 | CZ6: =IF(Loading!I724<0, 0, Loading!I724) -> 0 | DA6: =IF(Loading!J4<0, 0, Loading!J4) -> 0 | DB6: =IF(Loading!J52<0, 0, Loading!J52) -> 0 | DC6: =IF(Loading!J100<0, 0, Loading!J100) -> 0 | DD6: =IF(Loading!J148<0, 0, Loading!J148) -> 0 | DE6: =IF(Loading!J196<0, 0, Loading!J196) -> 0 | DF6: =IF(Loading!J244<0, 0, Loading!J244) -> 0 | DG6: =IF(Loading!J292<0, 0, Loading!J292) -> 0 | DH6: =IF(Loading!J340<0, 0, Loading!J340) -> 0 | DI6: =IF(Loading!J388<0, 0, Loading!J388) -> 0 | DJ6: =IF(Loading!J436<0, 0, Loading!J436) -> 0 | DK6: =IF(Loading!J484<0, 0, Loading!J484) -> 0 | DL6: =IF(Loading!J532<0, 0, Loading!J532) -> 0 | DM6: =IF(Loading!J580<0, 0, Loading!J580) -> 0 | DN6: =IF(Loading!J628<0, 0, Loading!J628) -> 0 | DO6: =IF(Loading!J676<0, 0, Loading!J676) -> 0 | DP6: =IF(Loading!J724<0, 0, Loading!J724) -> 0 | DQ6: =IF(Loading!K4<0, 0, Loading!K4) -> 0 | DR6: =IF(Loading!K52<0, 0, Loading!K52) -> 0 | DS6: =IF(Loading!K100<0, 0, Loading!K100) -> 0 | DT6: =IF(Loading!K148<0, 0, Loading!K148) -> 0 | DU6: =IF(Loading!K196<0, 0, Loading!K196) -> 0 | DV6: =IF(Loading!K244<0, 0, Loading!K244) -> 0 | DW6: =IF(Loading!K292<0, 0, Loading!K292) -> 0 | DX6: =IF(Loading!K340<0, 0, Loading!K340) -> 0 | DZ6: =(1-$AE$2)*MEDIAN(I5:I8) -> 0 | EA6: =(1-$AE$2)*MEDIAN(J5:J8) -> 0 | EB6: =(1-$AE$2)*MEDIAN(K5:K8) -> 0 | EC6: =(1-$AE$2)*MEDIAN(L5:L8) -> 0 | ED6: =(1-$AE$2)*MEDIAN(M5:M8) -> 0 | EE6: =(1-$AE$2)*MEDIAN(N5:N8) -> 0 | EF6: =(1-$AE$2)*MEDIAN(O5:O8) -> 0 | EG6: =(1-$AE$2)*MEDIAN(P5:P8) -> 0 | ... IO6: =(1-$AE$2)*MEDIAN(DX5:DX8) -> 0
H7: POS1 | I7: =IF(Loading!D5<0, 0, Loading!D5) -> 0 | J7: =IF(Loading!D53<0, 0, Loading!D53) -> 0 | K7: =IF(Loading!D101<0, 0, Loading!D101) -> 0 | L7: =IF(Loading!D149<0, 0, Loading!D149) -> 0 | M7: =IF(Loading!D197<0, 0, Loading!D197) -> 0 | N7: =IF(Loading!D245<0, 0, Loading!D245) -> 0 | O7: =IF(Loading!D293<0, 0, Loading!D293) -> 0 | P7: =IF(Loading!D341<0, 0, Loading!D341) -> 0 | Q7: =IF(Loading!D389<0, 0, Loading!D389) -> 0 | R7: =IF(Loading!D437<0, 0, Loading!D437) -> 0 | S7: =IF(Loading!D485<0, 0, Loading!D485) -> 0 | T7: =IF(Loading!D533<0, 0, Loading!D533) -> 0 | U7: =IF(Loading!D581<0, 0, Loading!D581) -> 0 | V7: =IF(Loading!D629<0, 0, Loading!D629) -> 0 | W7: =IF(Loading!D677<0, 0, Loading!D677) -> 0 | X7: =IF(Loading!D725<0, 0, Loading!D725) -> 0 | Y7: =IF(Loading!E5<0, 0, Loading!E5) -> 0 | Z7: =IF(Loading!E53<0, 0, Loading!E53) -> 0 | AA7: =IF(Loading!E101<0, 0, Loading!E101) -> 0 | AB7: =IF(Loading!E149<0, 0, Loading!E149) -> 0 | AC7: =IF(Loading!E197<0, 0, Loading!E197) -> 0 | AD7: =IF(Loading!E245<0, 0, Loading!E245) -> 0 | AE7: =IF(Loading!E293<0, 0, Loading!E293) -> 0 | AF7: =IF(Loading!E341<0, 0, Loading!E341) -> 0 | AG7: =IF(Loading!E389<0, 0, Loading!E389) -> 0 | AH7: =IF(Loading!E437<0, 0, Loading!E437) -> 0 | AI7: =IF(Loading!E485<0, 0, Loading!E485) -> 0 | AJ7: =IF(Loading!E533<0, 0, Loading!E533) -> 0 | AK7: =IF(Loading!E581<0, 0, Loading!E581) -> 0 | AL7: =IF(Loading!E629<0, 0, Loading!E629) -> 0 | AM7: =IF(Loading!E677<0, 0, Loading!E677) -> 0 | AN7: =IF(Loading!E725<0, 0, Loading!E725) -> 0 | AO7: =IF(Loading!F5<0, 0, Loading!F5) -> 0 | AP7: =IF(Loading!F53<0, 0, Loading!F53) -> 0 | AQ7: =IF(Loading!F101<0, 0, Loading!F101) -> 0 | AR7: =IF(Loading!F149<0, 0, Loading!F149) -> 0 | AS7: =IF(Loading!F197<0, 0, Loading!F197) -> 0 | AT7: =IF(Loading!F245<0, 0, Loading!F245) -> 0 | AU7: =IF(Loading!F293<0, 0, Loading!F293) -> 0 | AV7: =IF(Loading!F341<0, 0, Loading!F341) -> 0 | AW7: =IF(Loading!F389<0, 0, Loading!F389) -> 0 | AX7: =IF(Loading!F437<0, 0, Loading!F437) -> 0 | AY7: =IF(Loading!F485<0, 0, Loading!F485) -> 0 | AZ7: =IF(Loading!F533<0, 0, Loading!F533) -> 0 | BA7: =IF(Loading!F581<0, 0, Loading!F581) -> 0 | BB7: =IF(Loading!F629<0, 0, Loading!F629) -> 0 | BC7: =IF(Loading!F677<0, 0, Loading!F677) -> 0 | BD7: =IF(Loading!F725<0, 0, Loading!F725) -> 0 | BE7: =IF(Loading!G5<0, 0, Loading!G5) -> 0 | BF7: =IF(Loading!G53<0, 0, Loading!G53) -> 0 | BG7: =IF(Loading!G101<0, 0, Loading!G101) -> 0 | BH7: =IF(Loading!G149<0, 0, Loading!G149) -> 0 | BI7: =IF(Loading!G197<0, 0, Loading!G197) -> 0 | BJ7: =IF(Loading!G245<0, 0, Loading!G245) -> 0 | BK7: =IF(Loading!G293<0, 0, Loading!G293) -> 0 | BL7: =IF(Loading!G341<0, 0, Loading!G341) -> 0 | BM7: =IF(Loading!G389<0, 0, Loading!G389) -> 0 | BN7: =IF(Loading!G437<0, 0, Loading!G437) -> 0 | BO7: =IF(Loading!G485<0, 0, Loading!G485) -> 0 | BP7: =IF(Loading!G533<0, 0, Loading!G533) -> 0 | BQ7: =IF(Loading!G581<0, 0, Loading!G581) -> 0 | BR7: =IF(Loading!G629<0, 0, Loading!G629) -> 0 | BS7: =IF(Loading!G677<0, 0, Loading!G677) -> 0 | BT7: =IF(Loading!G725<0, 0, Loading!G725) -> 0 | BU7: =IF(Loading!H5<0, 0, Loading!H5) -> 0 | BV7: =IF(Loading!H53<0, 0, Loading!H53) -> 0 | BW7: =IF(Loading!H101<0, 0, Loading!H101) -> 0 | BX7: =IF(Loading!H149<0, 0, Loading!H149) -> 0 | BY7: =IF(Loading!H197<0, 0, Loading!H197) -> 0 | BZ7: =IF(Loading!H245<0, 0, Loading!H245) -> 0 | CA7: =IF(Loading!H293<0, 0, Loading!H293) -> 0 | CB7: =IF(Loading!H341<0, 0, Loading!H341) -> 0 | CC7: =IF(Loading!H389<0, 0, Loading!H389) -> 0 | CD7: =IF(Loading!H437<0, 0, Loading!H437) -> 0 | CE7: =IF(Loading!H485<0, 0, Loading!H485) -> 0 | CF7: =IF(Loading!H533<0, 0, Loading!H533) -> 0 | CG7: =IF(Loading!H581<0, 0, Loading!H581) -> 0 | CH7: =IF(Loading!H629<0, 0, Loading!H629) -> 0 | CI7: =IF(Loading!H677<0, 0, Loading!H677) -> 0 | CJ7: =IF(Loading!H725<0, 0, Loading!H725) -> 0 | CK7: =IF(Loading!I5<0, 0, Loading!I5) -> 0 | CL7: =IF(Loading!I53<0, 0, Loading!I53) -> 0 | CM7: =IF(Loading!I101<0, 0, Loading!I101) -> 0 | CN7: =IF(Loading!I149<0, 0, Loading!I149) -> 0 | CO7: =IF(Loading!I197<0, 0, Loading!I197) -> 0 | CP7: =IF(Loading!I245<0, 0, Loading!I245) -> 0 | CQ7: =IF(Loading!I293<0, 0, Loading!I293) -> 0 | CR7: =IF(Loading!I341<0, 0, Loading!I341) -> 0 | CS7: =IF(Loading!I389<0, 0, Loading!I389) -> 0 | CT7: =IF(Loading!I437<0, 0, Loading!I437) -> 0 | CU7: =IF(Loading!I485<0, 0, Loading!I485) -> 0 | CV7: =IF(Loading!I533<0, 0, Loading!I533) -> 0 | CW7: =IF(Loading!I581<0, 0, Loading!I581) -> 0 | CX7: =IF(Loading!I629<0, 0, Loading!I629) -> 0 | CY7: =IF(Loading!I677<0, 0, Loading!I677) -> 0 | CZ7: =IF(Loading!I725<0, 0, Loading!I725) -> 0 | DA7: =IF(Loading!J5<0, 0, Loading!J5) -> 0 | DB7: =IF(Loading!J53<0, 0, Loading!J53) -> 0 | DC7: =IF(Loading!J101<0, 0, Loading!J101) -> 0 | DD7: =IF(Loading!J149<0, 0, Loading!J149) -> 0 | DE7: =IF(Loading!J197<0, 0, Loading!J197) -> 0 | DF7: =IF(Loading!J245<0, 0, Loading!J245) -> 0 | DG7: =IF(Loading!J293<0, 0, Loading!J293) -> 0 | DH7: =IF(Loading!J341<0, 0, Loading!J341) -> 0 | DI7: =IF(Loading!J389<0, 0, Loading!J389) -> 0 | DJ7: =IF(Loading!J437<0, 0, Loading!J437) -> 0 | DK7: =IF(Loading!J485<0, 0, Loading!J485) -> 0 | DL7: =IF(Loading!J533<0, 0, Loading!J533) -> 0 | DM7: =IF(Loading!J581<0, 0, Loading!J581) -> 0 | DN7: =IF(Loading!J629<0, 0, Loading!J629) -> 0 | DO7: =IF(Loading!J677<0, 0, Loading!J677) -> 0 | DP7: =IF(Loading!J725<0, 0, Loading!J725) -> 0 | DQ7: =IF(Loading!K5<0, 0, Loading!K5) -> 0 | DR7: =IF(Loading!K53<0, 0, Loading!K53) -> 0 | DS7: =IF(Loading!K101<0, 0, Loading!K101) -> 0 | DT7: =IF(Loading!K149<0, 0, Loading!K149) -> 0 | DU7: =IF(Loading!K197<0, 0, Loading!K197) -> 0 | DV7: =IF(Loading!K245<0, 0, Loading!K245) -> 0 | DW7: =IF(Loading!K293<0, 0, Loading!K293) -> 0 | DX7: =IF(Loading!K341<0, 0, Loading!K341) -> 0
H8: POS1 | I8: =IF(Loading!D6<0, 0, Loading!D6) -> 0 | J8: =IF(Loading!D54<0, 0, Loading!D54) -> 0 | K8: =IF(Loading!D102<0, 0, Loading!D102) -> 0 | L8: =IF(Loading!D150<0, 0, Loading!D150) -> 0 | M8: =IF(Loading!D198<0, 0, Loading!D198) -> 0 | N8: =IF(Loading!D246<0, 0, Loading!D246) -> 0 | O8: =IF(Loading!D294<0, 0, Loading!D294) -> 0 | P8: =IF(Loading!D342<0, 0, Loading!D342) -> 0 | Q8: =IF(Loading!D390<0, 0, Loading!D390) -> 0 | R8: =IF(Loading!D438<0, 0, Loading!D438) -> 0 | S8: =IF(Loading!D486<0, 0, Loading!D486) -> 0 | T8: =IF(Loading!D534<0, 0, Loading!D534) -> 0 | U8: =IF(Loading!D582<0, 0, Loading!D582) -> 0 | V8: =IF(Loading!D630<0, 0, Loading!D630) -> 0 | W8: =IF(Loading!D678<0, 0, Loading!D678) -> 0 | X8: =IF(Loading!D726<0, 0, Loading!D726) -> 0 | Y8: =IF(Loading!E6<0, 0, Loading!E6) -> 0 | Z8: =IF(Loading!E54<0, 0, Loading!E54) -> 0 | AA8: =IF(Loading!E102<0, 0, Loading!E102) -> 0 | AB8: =IF(Loading!E150<0, 0, Loading!E150) -> 0 | AC8: =IF(Loading!E198<0, 0, Loading!E198) -> 0 | AD8: =IF(Loading!E246<0, 0, Loading!E246) -> 0 | AE8: =IF(Loading!E294<0, 0, Loading!E294) -> 0 | AF8: =IF(Loading!E342<0, 0, Loading!E342) -> 0 | AG8: =IF(Loading!E390<0, 0, Loading!E390) -> 0 | AH8: =IF(Loading!E438<0, 0, Loading!E438) -> 0 | AI8: =IF(Loading!E486<0, 0, Loading!E486) -> 0 | AJ8: =IF(Loading!E534<0, 0, Loading!E534) -> 0 | AK8: =IF(Loading!E582<0, 0, Loading!E582) -> 0 | AL8: =IF(Loading!E630<0, 0, Loading!E630) -> 0 | AM8: =IF(Loading!E678<0, 0, Loading!E678) -> 0 | AN8: =IF(Loading!E726<0, 0, Loading!E726) -> 0 | AO8: =IF(Loading!F6<0, 0, Loading!F6) -> 0 | AP8: =IF(Loading!F54<0, 0, Loading!F54) -> 0 | AQ8: =IF(Loading!F102<0, 0, Loading!F102) -> 0 | AR8: =IF(Loading!F150<0, 0, Loading!F150) -> 0 | AS8: =IF(Loading!F198<0, 0, Loading!F198) -> 0 | AT8: =IF(Loading!F246<0, 0, Loading!F246) -> 0 | AU8: =IF(Loading!F294<0, 0, Loading!F294) -> 0 | AV8: =IF(Loading!F342<0, 0, Loading!F342) -> 0 | AW8: =IF(Loading!F390<0, 0, Loading!F390) -> 0 | AX8: =IF(Loading!F438<0, 0, Loading!F438) -> 0 | AY8: =IF(Loading!F486<0, 0, Loading!F486) -> 0 | AZ8: =IF(Loading!F534<0, 0, Loading!F534) -> 0 | BA8: =IF(Loading!F582<0, 0, Loading!F582) -> 0 | BB8: =IF(Loading!F630<0, 0, Loading!F630) -> 0 | BC8: =IF(Loading!F678<0, 0, Loading!F678) -> 0 | BD8: =IF(Loading!F726<0, 0, Loading!F726) -> 0 | BE8: =IF(Loading!G6<0, 0, Loading!G6) -> 0 | BF8: =IF(Loading!G54<0, 0, Loading!G54) -> 0 | BG8: =IF(Loading!G102<0, 0, Loading!G102) -> 0 | BH8: =IF(Loading!G150<0, 0, Loading!G150) -> 0 | BI8: =IF(Loading!G198<0, 0, Loading!G198) -> 0 | BJ8: =IF(Loading!G246<0, 0, Loading!G246) -> 0 | BK8: =IF(Loading!G294<0, 0, Loading!G294) -> 0 | BL8: =IF(Loading!G342<0, 0, Loading!G342) -> 0 | BM8: =IF(Loading!G390<0, 0, Loading!G390) -> 0 | BN8: =IF(Loading!G438<0, 0, Loading!G438) -> 0 | BO8: =IF(Loading!G486<0, 0, Loading!G486) -> 0 | BP8: =IF(Loading!G534<0, 0, Loading!G534) -> 0 | BQ8: =IF(Loading!G582<0, 0, Loading!G582) -> 0 | BR8: =IF(Loading!G630<0, 0, Loading!G630) -> 0 | BS8: =IF(Loading!G678<0, 0, Loading!G678) -> 0 | BT8: =IF(Loading!G726<0, 0, Loading!G726) -> 0 | BU8: =IF(Loading!H6<0, 0, Loading!H6) -> 0 | BV8: =IF(Loading!H54<0, 0, Loading!H54) -> 0 | BW8: =IF(Loading!H102<0, 0, Loading!H102) -> 0 | BX8: =IF(Loading!H150<0, 0, Loading!H150) -> 0 | BY8: =IF(Loading!H198<0, 0, Loading!H198) -> 0 | BZ8: =IF(Loading!H246<0, 0, Loading!H246) -> 0 | CA8: =IF(Loading!H294<0, 0, Loading!H294) -> 0 | CB8: =IF(Loading!H342<0, 0, Loading!H342) -> 0 | CC8: =IF(Loading!H390<0, 0, Loading!H390) -> 0 | CD8: =IF(Loading!H438<0, 0, Loading!H438) -> 0 | CE8: =IF(Loading!H486<0, 0, Loading!H486) -> 0 | CF8: =IF(Loading!H534<0, 0, Loading!H534) -> 0 | CG8: =IF(Loading!H582<0, 0, Loading!H582) -> 0 | CH8: =IF(Loading!H630<0, 0, Loading!H630) -> 0 | CI8: =IF(Loading!H678<0, 0, Loading!H678) -> 0 | CJ8: =IF(Loading!H726<0, 0, Loading!H726) -> 0 | CK8: =IF(Loading!I6<0, 0, Loading!I6) -> 0 | CL8: =IF(Loading!I54<0, 0, Loading!I54) -> 0 | CM8: =IF(Loading!I102<0, 0, Loading!I102) -> 0 | CN8: =IF(Loading!I150<0, 0, Loading!I150) -> 0 | CO8: =IF(Loading!I198<0, 0, Loading!I198) -> 0 | CP8: =IF(Loading!I246<0, 0, Loading!I246) -> 0 | CQ8: =IF(Loading!I294<0, 0, Loading!I294) -> 0 | CR8: =IF(Loading!I342<0, 0, Loading!I342) -> 0 | CS8: =IF(Loading!I390<0, 0, Loading!I390) -> 0 | CT8: =IF(Loading!I438<0, 0, Loading!I438) -> 0 | CU8: =IF(Loading!I486<0, 0, Loading!I486) -> 0 | CV8: =IF(Loading!I534<0, 0, Loading!I534) -> 0 | CW8: =IF(Loading!I582<0, 0, Loading!I582) -> 0 | CX8: =IF(Loading!I630<0, 0, Loading!I630) -> 0 | CY8: =IF(Loading!I678<0, 0, Loading!I678) -> 0 | CZ8: =IF(Loading!I726<0, 0, Loading!I726) -> 0 | DA8: =IF(Loading!J6<0, 0, Loading!J6) -> 0 | DB8: =IF(Loading!J54<0, 0, Loading!J54) -> 0 | DC8: =IF(Loading!J102<0, 0, Loading!J102) -> 0 | DD8: =IF(Loading!J150<0, 0, Loading!J150) -> 0 | DE8: =IF(Loading!J198<0, 0, Loading!J198) -> 0 | DF8: =IF(Loading!J246<0, 0, Loading!J246) -> 0 | DG8: =IF(Loading!J294<0, 0, Loading!J294) -> 0 | DH8: =IF(Loading!J342<0, 0, Loading!J342) -> 0 | DI8: =IF(Loading!J390<0, 0, Loading!J390) -> 0 | DJ8: =IF(Loading!J438<0, 0, Loading!J438) -> 0 | DK8: =IF(Loading!J486<0, 0, Loading!J486) -> 0 | DL8: =IF(Loading!J534<0, 0, Loading!J534) -> 0 | DM8: =IF(Loading!J582<0, 0, Loading!J582) -> 0 | DN8: =IF(Loading!J630<0, 0, Loading!J630) -> 0 | DO8: =IF(Loading!J678<0, 0, Loading!J678) -> 0 | DP8: =IF(Loading!J726<0, 0, Loading!J726) -> 0 | DQ8: =IF(Loading!K6<0, 0, Loading!K6) -> 0 | DR8: =IF(Loading!K54<0, 0, Loading!K54) -> 0 | DS8: =IF(Loading!K102<0, 0, Loading!K102) -> 0 | DT8: =IF(Loading!K150<0, 0, Loading!K150) -> 0 | DU8: =IF(Loading!K198<0, 0, Loading!K198) -> 0 | DV8: =IF(Loading!K246<0, 0, Loading!K246) -> 0 | DW8: =IF(Loading!K294<0, 0, Loading!K294) -> 0 | DX8: =IF(Loading!K342<0, 0, Loading!K342) -> 0
H9: POS2 | I9: =IF(Loading!D7<0, 0, Loading!D7) -> 0 | J9: =IF(Loading!D55<0, 0, Loading!D55) -> 0 | K9: =IF(Loading!D103<0, 0, Loading!D103) -> 0 | L9: =IF(Loading!D151<0, 0, Loading!D151) -> 0 | M9: =IF(Loading!D199<0, 0, Loading!D199) -> 0 | N9: =IF(Loading!D247<0, 0, Loading!D247) -> 0 | O9: =IF(Loading!D295<0, 0, Loading!D295) -> 0 | P9: =IF(Loading!D343<0, 0, Loading!D343) -> 0 | Q9: =IF(Loading!D391<0, 0, Loading!D391) -> 0 | R9: =IF(Loading!D439<0, 0, Loading!D439) -> 0 | S9: =IF(Loading!D487<0, 0, Loading!D487) -> 0 | T9: =IF(Loading!D535<0, 0, Loading!D535) -> 0 | U9: =IF(Loading!D583<0, 0, Loading!D583) -> 0 | V9: =IF(Loading!D631<0, 0, Loading!D631) -> 0 | W9: =IF(Loading!D679<0, 0, Loading!D679) -> 0 | X9: =IF(Loading!D727<0, 0, Loading!D727) -> 0 | Y9: =IF(Loading!E7<0, 0, Loading!E7) -> 0 | Z9: =IF(Loading!E55<0, 0, Loading!E55) -> 0 | AA9: =IF(Loading!E103<0, 0, Loading!E103) -> 0 | AB9: =IF(Loading!E151<0, 0, Loading!E151) -> 0 | AC9: =IF(Loading!E199<0, 0, Loading!E199) -> 0 | AD9: =IF(Loading!E247<0, 0, Loading!E247) -> 0 | AE9: =IF(Loading!E295<0, 0, Loading!E295) -> 0 | AF9: =IF(Loading!E343<0, 0, Loading!E343) -> 0 | AG9: =IF(Loading!E391<0, 0, Loading!E391) -> 0 | AH9: =IF(Loading!E439<0, 0, Loading!E439) -> 0 | AI9: =IF(Loading!E487<0, 0, Loading!E487) -> 0 | AJ9: =IF(Loading!E535<0, 0, Loading!E535) -> 0 | AK9: =IF(Loading!E583<0, 0, Loading!E583) -> 0 | AL9: =IF(Loading!E631<0, 0, Loading!E631) -> 0 | AM9: =IF(Loading!E679<0, 0, Loading!E679) -> 0 | AN9: =IF(Loading!E727<0, 0, Loading!E727) -> 0 | AO9: =IF(Loading!F7<0, 0, Loading!F7) -> 0 | AP9: =IF(Loading!F55<0, 0, Loading!F55) -> 0 | AQ9: =IF(Loading!F103<0, 0, Loading!F103) -> 0 | AR9: =IF(Loading!F151<0, 0, Loading!F151) -> 0 | AS9: =IF(Loading!F199<0, 0, Loading!F199) -> 0 | AT9: =IF(Loading!F247<0, 0, Loading!F247) -> 0 | AU9: =IF(Loading!F295<0, 0, Loading!F295) -> 0 | AV9: =IF(Loading!F343<0, 0, Loading!F343) -> 0 | AW9: =IF(Loading!F391<0, 0, Loading!F391) -> 0 | AX9: =IF(Loading!F439<0, 0, Loading!F439) -> 0 | AY9: =IF(Loading!F487<0, 0, Loading!F487) -> 0 | AZ9: =IF(Loading!F535<0, 0, Loading!F535) -> 0 | BA9: =IF(Loading!F583<0, 0, Loading!F583) -> 0 | BB9: =IF(Loading!F631<0, 0, Loading!F631) -> 0 | BC9: =IF(Loading!F679<0, 0, Loading!F679) -> 0 | BD9: =IF(Loading!F727<0, 0, Loading!F727) -> 0 | BE9: =IF(Loading!G7<0, 0, Loading!G7) -> 0 | BF9: =IF(Loading!G55<0, 0, Loading!G55) -> 0 | BG9: =IF(Loading!G103<0, 0, Loading!G103) -> 0 | BH9: =IF(Loading!G151<0, 0, Loading!G151) -> 0 | BI9: =IF(Loading!G199<0, 0, Loading!G199) -> 0 | BJ9: =IF(Loading!G247<0, 0, Loading!G247) -> 0 | BK9: =IF(Loading!G295<0, 0, Loading!G295) -> 0 | BL9: =IF(Loading!G343<0, 0, Loading!G343) -> 0 | BM9: =IF(Loading!G391<0, 0, Loading!G391) -> 0 | BN9: =IF(Loading!G439<0, 0, Loading!G439) -> 0 | BO9: =IF(Loading!G487<0, 0, Loading!G487) -> 0 | BP9: =IF(Loading!G535<0, 0, Loading!G535) -> 0 | BQ9: =IF(Loading!G583<0, 0, Loading!G583) -> 0 | BR9: =IF(Loading!G631<0, 0, Loading!G631) -> 0 | BS9: =IF(Loading!G679<0, 0, Loading!G679) -> 0 | BT9: =IF(Loading!G727<0, 0, Loading!G727) -> 0 | BU9: =IF(Loading!H7<0, 0, Loading!H7) -> 0 | BV9: =IF(Loading!H55<0, 0, Loading!H55) -> 0 | BW9: =IF(Loading!H103<0, 0, Loading!H103) -> 0 | BX9: =IF(Loading!H151<0, 0, Loading!H151) -> 0 | BY9: =IF(Loading!H199<0, 0, Loading!H199) -> 0 | BZ9: =IF(Loading!H247<0, 0, Loading!H247) -> 0 | CA9: =IF(Loading!H295<0, 0, Loading!H295) -> 0 | CB9: =IF(Loading!H343<0, 0, Loading!H343) -> 0 | CC9: =IF(Loading!H391<0, 0, Loading!H391) -> 0 | CD9: =IF(Loading!H439<0, 0, Loading!H439) -> 0 | CE9: =IF(Loading!H487<0, 0, Loading!H487) -> 0 | CF9: =IF(Loading!H535<0, 0, Loading!H535) -> 0 | CG9: =IF(Loading!H583<0, 0, Loading!H583) -> 0 | CH9: =IF(Loading!H631<0, 0, Loading!H631) -> 0 | CI9: =IF(Loading!H679<0, 0, Loading!H679) -> 0 | CJ9: =IF(Loading!H727<0, 0, Loading!H727) -> 0 | CK9: =IF(Loading!I7<0, 0, Loading!I7) -> 0 | CL9: =IF(Loading!I55<0, 0, Loading!I55) -> 0 | CM9: =IF(Loading!I103<0, 0, Loading!I103) -> 0 | CN9: =IF(Loading!I151<0, 0, Loading!I151) -> 0 | CO9: =IF(Loading!I199<0, 0, Loading!I199) -> 0 | CP9: =IF(Loading!I247<0, 0, Loading!I247) -> 0 | CQ9: =IF(Loading!I295<0, 0, Loading!I295) -> 0 | CR9: =IF(Loading!I343<0, 0, Loading!I343) -> 0 | CS9: =IF(Loading!I391<0, 0, Loading!I391) -> 0 | CT9: =IF(Loading!I439<0, 0, Loading!I439) -> 0 | CU9: =IF(Loading!I487<0, 0, Loading!I487) -> 0 | CV9: =IF(Loading!I535<0, 0, Loading!I535) -> 0 | CW9: =IF(Loading!I583<0, 0, Loading!I583) -> 0 | CX9: =IF(Loading!I631<0, 0, Loading!I631) -> 0 | CY9: =IF(Loading!I679<0, 0, Loading!I679) -> 0 | CZ9: =IF(Loading!I727<0, 0, Loading!I727) -> 0 | DA9: =IF(Loading!J7<0, 0, Loading!J7) -> 0 | DB9: =IF(Loading!J55<0, 0, Loading!J55) -> 0 | DC9: =IF(Loading!J103<0, 0, Loading!J103) -> 0 | DD9: =IF(Loading!J151<0, 0, Loading!J151) -> 0 | DE9: =IF(Loading!J199<0, 0, Loading!J199) -> 0 | DF9: =IF(Loading!J247<0, 0, Loading!J247) -> 0 | DG9: =IF(Loading!J295<0, 0, Loading!J295) -> 0 | DH9: =IF(Loading!J343<0, 0, Loading!J343) -> 0 | DI9: =IF(Loading!J391<0, 0, Loading!J391) -> 0 | DJ9: =IF(Loading!J439<0, 0, Loading!J439) -> 0 | DK9: =IF(Loading!J487<0, 0, Loading!J487) -> 0 | DL9: =IF(Loading!J535<0, 0, Loading!J535) -> 0 | DM9: =IF(Loading!J583<0, 0, Loading!J583) -> 0 | DN9: =IF(Loading!J631<0, 0, Loading!J631) -> 0 | DO9: =IF(Loading!J679<0, 0, Loading!J679) -> 0 | DP9: =IF(Loading!J727<0, 0, Loading!J727) -> 0 | DQ9: =IF(Loading!K7<0, 0, Loading!K7) -> 0 | DR9: =IF(Loading!K55<0, 0, Loading!K55) -> 0 | DS9: =IF(Loading!K103<0, 0, Loading!K103) -> 0 | DT9: =IF(Loading!K151<0, 0, Loading!K151) -> 0 | DU9: =IF(Loading!K199<0, 0, Loading!K199) -> 0 | DV9: =IF(Loading!K247<0, 0, Loading!K247) -> 0 | DW9: =IF(Loading!K295<0, 0, Loading!K295) -> 0 | DX9: =IF(Loading!K343<0, 0, Loading!K343) -> 0 | DZ9: =(1+$AE$2)*MEDIAN(I9:I12) -> 0 | EA9: =(1+$AE$2)*MEDIAN(J9:J12) -> 0 | EB9: =(1+$AE$2)*MEDIAN(K9:K12) -> 0 | EC9: =(1+$AE$2)*MEDIAN(L9:L12) -> 0 | ED9: =(1+$AE$2)*MEDIAN(M9:M12) -> 0 | EE9: =(1+$AE$2)*MEDIAN(N9:N12) -> 0 | EF9: =(1+$AE$2)*MEDIAN(O9:O12) -> 0 | EG9: =(1+$AE$2)*MEDIAN(P9:P12) -> 0 | ... IO9: =(1+$AE$2)*MEDIAN(DX9:DX12) -> 0
H10: POS2 | I10: =IF(Loading!D8<0, 0, Loading!D8) -> 0 | J10: =IF(Loading!D56<0, 0, Loading!D56) -> 0 | K10: =IF(Loading!D104<0, 0, Loading!D104) -> 0 | L10: =IF(Loading!D152<0, 0, Loading!D152) -> 0 | M10: =IF(Loading!D200<0, 0, Loading!D200) -> 0 | N10: =IF(Loading!D248<0, 0, Loading!D248) -> 0 | O10: =IF(Loading!D296<0, 0, Loading!D296) -> 0 | P10: =IF(Loading!D344<0, 0, Loading!D344) -> 0 | Q10: =IF(Loading!D392<0, 0, Loading!D392) -> 0 | R10: =IF(Loading!D440<0, 0, Loading!D440) -> 0 | S10: =IF(Loading!D488<0, 0, Loading!D488) -> 0 | T10: =IF(Loading!D536<0, 0, Loading!D536) -> 0 | U10: =IF(Loading!D584<0, 0, Loading!D584) -> 0 | V10: =IF(Loading!D632<0, 0, Loading!D632) -> 0 | W10: =IF(Loading!D680<0, 0, Loading!D680) -> 0 | X10: =IF(Loading!D728<0, 0, Loading!D728) -> 0 | Y10: =IF(Loading!E8<0, 0, Loading!E8) -> 0 | Z10: =IF(Loading!E56<0, 0, Loading!E56) -> 0 | AA10: =IF(Loading!E104<0, 0, Loading!E104) -> 0 | AB10: =IF(Loading!E152<0, 0, Loading!E152) -> 0 | AC10: =IF(Loading!E200<0, 0, Loading!E200) -> 0 | AD10: =IF(Loading!E248<0, 0, Loading!E248) -> 0 | AE10: =IF(Loading!E296<0, 0, Loading!E296) -> 0 | AF10: =IF(Loading!E344<0, 0, Loading!E344) -> 0 | AG10: =IF(Loading!E392<0, 0, Loading!E392) -> 0 | AH10: =IF(Loading!E440<0, 0, Loading!E440) -> 0 | AI10: =IF(Loading!E488<0, 0, Loading!E488) -> 0 | AJ10: =IF(Loading!E536<0, 0, Loading!E536) -> 0 | AK10: =IF(Loading!E584<0, 0, Loading!E584) -> 0 | AL10: =IF(Loading!E632<0, 0, Loading!E632) -> 0 | AM10: =IF(Loading!E680<0, 0, Loading!E680) -> 0 | AN10: =IF(Loading!E728<0, 0, Loading!E728) -> 0 | AO10: =IF(Loading!F8<0, 0, Loading!F8) -> 0 | AP10: =IF(Loading!F56<0, 0, Loading!F56) -> 0 | AQ10: =IF(Loading!F104<0, 0, Loading!F104) -> 0 | AR10: =IF(Loading!F152<0, 0, Loading!F152) -> 0 | AS10: =IF(Loading!F200<0, 0, Loading!F200) -> 0 | AT10: =IF(Loading!F248<0, 0, Loading!F248) -> 0 | AU10: =IF(Loading!F296<0, 0, Loading!F296) -> 0 | AV10: =IF(Loading!F344<0, 0, Loading!F344) -> 0 | AW10: =IF(Loading!F392<0, 0, Loading!F392) -> 0 | AX10: =IF(Loading!F440<0, 0, Loading!F440) -> 0 | AY10: =IF(Loading!F488<0, 0, Loading!F488) -> 0 | AZ10: =IF(Loading!F536<0, 0, Loading!F536) -> 0 | BA10: =IF(Loading!F584<0, 0, Loading!F584) -> 0 | BB10: =IF(Loading!F632<0, 0, Loading!F632) -> 0 | BC10: =IF(Loading!F680<0, 0, Loading!F680) -> 0 | BD10: =IF(Loading!F728<0, 0, Loading!F728) -> 0 | BE10: =IF(Loading!G8<0, 0, Loading!G8) -> 0 | BF10: =IF(Loading!G56<0, 0, Loading!G56) -> 0 | BG10: =IF(Loading!G104<0, 0, Loading!G104) -> 0 | BH10: =IF(Loading!G152<0, 0, Loading!G152) -> 0 | BI10: =IF(Loading!G200<0, 0, Loading!G200) -> 0 | BJ10: =IF(Loading!G248<0, 0, Loading!G248) -> 0 | BK10: =IF(Loading!G296<0, 0, Loading!G296) -> 0 | BL10: =IF(Loading!G344<0, 0, Loading!G344) -> 0 | BM10: =IF(Loading!G392<0, 0, Loading!G392) -> 0 | BN10: =IF(Loading!G440<0, 0, Loading!G440) -> 0 | BO10: =IF(Loading!G488<0, 0, Loading!G488) -> 0 | BP10: =IF(Loading!G536<0, 0, Loading!G536) -> 0 | BQ10: =IF(Loading!G584<0, 0, Loading!G584) -> 0 | BR10: =IF(Loading!G632<0, 0, Loading!G632) -> 0 | BS10: =IF(Loading!G680<0, 0, Loading!G680) -> 0 | BT10: =IF(Loading!G728<0, 0, Loading!G728) -> 0 | BU10: =IF(Loading!H8<0, 0, Loading!H8) -> 0 | BV10: =IF(Loading!H56<0, 0, Loading!H56) -> 0 | BW10: =IF(Loading!H104<0, 0, Loading!H104) -> 0 | BX10: =IF(Loading!H152<0, 0, Loading!H152) -> 0 | BY10: =IF(Loading!H200<0, 0, Loading!H200) -> 0 | BZ10: =IF(Loading!H248<0, 0, Loading!H248) -> 0 | CA10: =IF(Loading!H296<0, 0, Loading!H296) -> 0 | CB10: =IF(Loading!H344<0, 0, Loading!H344) -> 0 | CC10: =IF(Loading!H392<0, 0, Loading!H392) -> 0 | CD10: =IF(Loading!H440<0, 0, Loading!H440) -> 0 | CE10: =IF(Loading!H488<0, 0, Loading!H488) -> 0 | CF10: =IF(Loading!H536<0, 0, Loading!H536) -> 0 | CG10: =IF(Loading!H584<0, 0, Loading!H584) -> 0 | CH10: =IF(Loading!H632<0, 0, Loading!H632) -> 0 | CI10: =IF(Loading!H680<0, 0, Loading!H680) -> 0 | CJ10: =IF(Loading!H728<0, 0, Loading!H728) -> 0 | CK10: =IF(Loading!I8<0, 0, Loading!I8) -> 0 | CL10: =IF(Loading!I56<0, 0, Loading!I56) -> 0 | CM10: =IF(Loading!I104<0, 0, Loading!I104) -> 0 | CN10: =IF(Loading!I152<0, 0, Loading!I152) -> 0 | CO10: =IF(Loading!I200<0, 0, Loading!I200) -> 0 | CP10: =IF(Loading!I248<0, 0, Loading!I248) -> 0 | CQ10: =IF(Loading!I296<0, 0, Loading!I296) -> 0 | CR10: =IF(Loading!I344<0, 0, Loading!I344) -> 0 | CS10: =IF(Loading!I392<0, 0, Loading!I392) -> 0 | CT10: =IF(Loading!I440<0, 0, Loading!I440) -> 0 | CU10: =IF(Loading!I488<0, 0, Loading!I488) -> 0 | CV10: =IF(Loading!I536<0, 0, Loading!I536) -> 0 | CW10: =IF(Loading!I584<0, 0, Loading!I584) -> 0 | CX10: =IF(Loading!I632<0, 0, Loading!I632) -> 0 | CY10: =IF(Loading!I680<0, 0, Loading!I680) -> 0 | CZ10: =IF(Loading!I728<0, 0, Loading!I728) -> 0 | DA10: =IF(Loading!J8<0, 0, Loading!J8) -> 0 | DB10: =IF(Loading!J56<0, 0, Loading!J56) -> 0 | DC10: =IF(Loading!J104<0, 0, Loading!J104) -> 0 | DD10: =IF(Loading!J152<0, 0, Loading!J152) -> 0 | DE10: =IF(Loading!J200<0, 0, Loading!J200) -> 0 | DF10: =IF(Loading!J248<0, 0, Loading!J248) -> 0 | DG10: =IF(Loading!J296<0, 0, Loading!J296) -> 0 | DH10: =IF(Loading!J344<0, 0, Loading!J344) -> 0 | DI10: =IF(Loading!J392<0, 0, Loading!J392) -> 0 | DJ10: =IF(Loading!J440<0, 0, Loading!J440) -> 0 | DK10: =IF(Loading!J488<0, 0, Loading!J488) -> 0 | DL10: =IF(Loading!J536<0, 0, Loading!J536) -> 0 | DM10: =IF(Loading!J584<0, 0, Loading!J584) -> 0 | DN10: =IF(Loading!J632<0, 0, Loading!J632) -> 0 | DO10: =IF(Loading!J680<0, 0, Loading!J680) -> 0 | DP10: =IF(Loading!J728<0, 0, Loading!J728) -> 0 | DQ10: =IF(Loading!K8<0, 0, Loading!K8) -> 0 | DR10: =IF(Loading!K56<0, 0, Loading!K56) -> 0 | DS10: =IF(Loading!K104<0, 0, Loading!K104) -> 0 | DT10: =IF(Loading!K152<0, 0, Loading!K152) -> 0 | DU10: =IF(Loading!K200<0, 0, Loading!K200) -> 0 | DV10: =IF(Loading!K248<0, 0, Loading!K248) -> 0 | DW10: =IF(Loading!K296<0, 0, Loading!K296) -> 0 | DX10: =IF(Loading!K344<0, 0, Loading!K344) -> 0 | DZ10: =(1-$AE$2)*MEDIAN(I9:I12) -> 0 | EA10: =(1-$AE$2)*MEDIAN(J9:J12) -> 0 | EB10: =(1-$AE$2)*MEDIAN(K9:K12) -> 0 | EC10: =(1-$AE$2)*MEDIAN(L9:L12) -> 0 | ED10: =(1-$AE$2)*MEDIAN(M9:M12) -> 0 | EE10: =(1-$AE$2)*MEDIAN(N9:N12) -> 0 | EF10: =(1-$AE$2)*MEDIAN(O9:O12) -> 0 | EG10: =(1-$AE$2)*MEDIAN(P9:P12) -> 0 | ... IO10: =(1-$AE$2)*MEDIAN(DX9:DX12) -> 0
H11: POS2 | I11: =IF(Loading!D9<0, 0, Loading!D9) -> 0 | J11: =IF(Loading!D57<0, 0, Loading!D57) -> 0 | K11: =IF(Loading!D105<0, 0, Loading!D105) -> 0 | L11: =IF(Loading!D153<0, 0, Loading!D153) -> 0 | M11: =IF(Loading!D201<0, 0, Loading!D201) -> 0 | N11: =IF(Loading!D249<0, 0, Loading!D249) -> 0 | O11: =IF(Loading!D297<0, 0, Loading!D297) -> 0 | P11: =IF(Loading!D345<0, 0, Loading!D345) -> 0 | Q11: =IF(Loading!D393<0, 0, Loading!D393) -> 0 | R11: =IF(Loading!D441<0, 0, Loading!D441) -> 0 | S11: =IF(Loading!D489<0, 0, Loading!D489) -> 0 | T11: =IF(Loading!D537<0, 0, Loading!D537) -> 0 | U11: =IF(Loading!D585<0, 0, Loading!D585) -> 0 | V11: =IF(Loading!D633<0, 0, Loading!D633) -> 0 | W11: =IF(Loading!D681<0, 0, Loading!D681) -> 0 | X11: =IF(Loading!D729<0, 0, Loading!D729) -> 0 | Y11: =IF(Loading!E9<0, 0, Loading!E9) -> 0 | Z11: =IF(Loading!E57<0, 0, Loading!E57) -> 0 | AA11: =IF(Loading!E105<0, 0, Loading!E105) -> 0 | AB11: =IF(Loading!E153<0, 0, Loading!E153) -> 0 | AC11: =IF(Loading!E201<0, 0, Loading!E201) -> 0 | AD11: =IF(Loading!E249<0, 0, Loading!E249) -> 0 | AE11: =IF(Loading!E297<0, 0, Loading!E297) -> 0 | AF11: =IF(Loading!E345<0, 0, Loading!E345) -> 0 | AG11: =IF(Loading!E393<0, 0, Loading!E393) -> 0 | AH11: =IF(Loading!E441<0, 0, Loading!E441) -> 0 | AI11: =IF(Loading!E489<0, 0, Loading!E489) -> 0 | AJ11: =IF(Loading!E537<0, 0, Loading!E537) -> 0 | AK11: =IF(Loading!E585<0, 0, Loading!E585) -> 0 | AL11: =IF(Loading!E633<0, 0, Loading!E633) -> 0 | AM11: =IF(Loading!E681<0, 0, Loading!E681) -> 0 | AN11: =IF(Loading!E729<0, 0, Loading!E729) -> 0 | AO11: =IF(Loading!F9<0, 0, Loading!F9) -> 0 | AP11: =IF(Loading!F57<0, 0, Loading!F57) -> 0 | AQ11: =IF(Loading!F105<0, 0, Loading!F105) -> 0 | AR11: =IF(Loading!F153<0, 0, Loading!F153) -> 0 | AS11: =IF(Loading!F201<0, 0, Loading!F201) -> 0 | AT11: =IF(Loading!F249<0, 0, Loading!F249) -> 0 | AU11: =IF(Loading!F297<0, 0, Loading!F297) -> 0 | AV11: =IF(Loading!F345<0, 0, Loading!F345) -> 0 | AW11: =IF(Loading!F393<0, 0, Loading!F393) -> 0 | AX11: =IF(Loading!F441<0, 0, Loading!F441) -> 0 | AY11: =IF(Loading!F489<0, 0, Loading!F489) -> 0 | AZ11: =IF(Loading!F537<0, 0, Loading!F537) -> 0 | BA11: =IF(Loading!F585<0, 0, Loading!F585) -> 0 | BB11: =IF(Loading!F633<0, 0, Loading!F633) -> 0 | BC11: =IF(Loading!F681<0, 0, Loading!F681) -> 0 | BD11: =IF(Loading!F729<0, 0, Loading!F729) -> 0 | BE11: =IF(Loading!G9<0, 0, Loading!G9) -> 0 | BF11: =IF(Loading!G57<0, 0, Loading!G57) -> 0 | BG11: =IF(Loading!G105<0, 0, Loading!G105) -> 0 | BH11: =IF(Loading!G153<0, 0, Loading!G153) -> 0 | BI11: =IF(Loading!G201<0, 0, Loading!G201) -> 0 | BJ11: =IF(Loading!G249<0, 0, Loading!G249) -> 0 | BK11: =IF(Loading!G297<0, 0, Loading!G297) -> 0 | BL11: =IF(Loading!G345<0, 0, Loading!G345) -> 0 | BM11: =IF(Loading!G393<0, 0, Loading!G393) -> 0 | BN11: =IF(Loading!G441<0, 0, Loading!G441) -> 0 | BO11: =IF(Loading!G489<0, 0, Loading!G489) -> 0 | BP11: =IF(Loading!G537<0, 0, Loading!G537) -> 0 | BQ11: =IF(Loading!G585<0, 0, Loading!G585) -> 0 | BR11: =IF(Loading!G633<0, 0, Loading!G633) -> 0 | BS11: =IF(Loading!G681<0, 0, Loading!G681) -> 0 | BT11: =IF(Loading!G729<0, 0, Loading!G729) -> 0 | BU11: =IF(Loading!H9<0, 0, Loading!H9) -> 0 | BV11: =IF(Loading!H57<0, 0, Loading!H57) -> 0 | BW11: =IF(Loading!H105<0, 0, Loading!H105) -> 0 | BX11: =IF(Loading!H153<0, 0, Loading!H153) -> 0 | BY11: =IF(Loading!H201<0, 0, Loading!H201) -> 0 | BZ11: =IF(Loading!H249<0, 0, Loading!H249) -> 0 | CA11: =IF(Loading!H297<0, 0, Loading!H297) -> 0 | CB11: =IF(Loading!H345<0, 0, Loading!H345) -> 0 | CC11: =IF(Loading!H393<0, 0, Loading!H393) -> 0 | CD11: =IF(Loading!H441<0, 0, Loading!H441) -> 0 | CE11: =IF(Loading!H489<0, 0, Loading!H489) -> 0 | CF11: =IF(Loading!H537<0, 0, Loading!H537) -> 0 | CG11: =IF(Loading!H585<0, 0, Loading!H585) -> 0 | CH11: =IF(Loading!H633<0, 0, Loading!H633) -> 0 | CI11: =IF(Loading!H681<0, 0, Loading!H681) -> 0 | CJ11: =IF(Loading!H729<0, 0, Loading!H729) -> 0 | CK11: =IF(Loading!I9<0, 0, Loading!I9) -> 0 | CL11: =IF(Loading!I57<0, 0, Loading!I57) -> 0 | CM11: =IF(Loading!I105<0, 0, Loading!I105) -> 0 | CN11: =IF(Loading!I153<0, 0, Loading!I153) -> 0 | CO11: =IF(Loading!I201<0, 0, Loading!I201) -> 0 | CP11: =IF(Loading!I249<0, 0, Loading!I249) -> 0 | CQ11: =IF(Loading!I297<0, 0, Loading!I297) -> 0 | CR11: =IF(Loading!I345<0, 0, Loading!I345) -> 0 | CS11: =IF(Loading!I393<0, 0, Loading!I393) -> 0 | CT11: =IF(Loading!I441<0, 0, Loading!I441) -> 0 | CU11: =IF(Loading!I489<0, 0, Loading!I489) -> 0 | CV11: =IF(Loading!I537<0, 0, Loading!I537) -> 0 | CW11: =IF(Loading!I585<0, 0, Loading!I585) -> 0 | CX11: =IF(Loading!I633<0, 0, Loading!I633) -> 0 | CY11: =IF(Loading!I681<0, 0, Loading!I681) -> 0 | CZ11: =IF(Loading!I729<0, 0, Loading!I729) -> 0 | DA11: =IF(Loading!J9<0, 0, Loading!J9) -> 0 | DB11: =IF(Loading!J57<0, 0, Loading!J57) -> 0 | DC11: =IF(Loading!J105<0, 0, Loading!J105) -> 0 | DD11: =IF(Loading!J153<0, 0, Loading!J153) -> 0 | DE11: =IF(Loading!J201<0, 0, Loading!J201) -> 0 | DF11: =IF(Loading!J249<0, 0, Loading!J249) -> 0 | DG11: =IF(Loading!J297<0, 0, Loading!J297) -> 0 | DH11: =IF(Loading!J345<0, 0, Loading!J345) -> 0 | DI11: =IF(Loading!J393<0, 0, Loading!J393) -> 0 | DJ11: =IF(Loading!J441<0, 0, Loading!J441) -> 0 | DK11: =IF(Loading!J489<0, 0, Loading!J489) -> 0 | DL11: =IF(Loading!J537<0, 0, Loading!J537) -> 0 | DM11: =IF(Loading!J585<0, 0, Loading!J585) -> 0 | DN11: =IF(Loading!J633<0, 0, Loading!J633) -> 0 | DO11: =IF(Loading!J681<0, 0, Loading!J681) -> 0 | DP11: =IF(Loading!J729<0, 0, Loading!J729) -> 0 | DQ11: =IF(Loading!K9<0, 0, Loading!K9) -> 0 | DR11: =IF(Loading!K57<0, 0, Loading!K57) -> 0 | DS11: =IF(Loading!K105<0, 0, Loading!K105) -> 0 | DT11: =IF(Loading!K153<0, 0, Loading!K153) -> 0 | DU11: =IF(Loading!K201<0, 0, Loading!K201) -> 0 | DV11: =IF(Loading!K249<0, 0, Loading!K249) -> 0 | DW11: =IF(Loading!K297<0, 0, Loading!K297) -> 0 | DX11: =IF(Loading!K345<0, 0, Loading!K345) -> 0
H12: POS2 | I12: =IF(Loading!D10<0, 0, Loading!D10) -> 0 | J12: =IF(Loading!D58<0, 0, Loading!D58) -> 0 | K12: =IF(Loading!D106<0, 0, Loading!D106) -> 0 | L12: =IF(Loading!D154<0, 0, Loading!D154) -> 0 | M12: =IF(Loading!D202<0, 0, Loading!D202) -> 0 | N12: =IF(Loading!D250<0, 0, Loading!D250) -> 0 | O12: =IF(Loading!D298<0, 0, Loading!D298) -> 0 | P12: =IF(Loading!D346<0, 0, Loading!D346) -> 0 | Q12: =IF(Loading!D394<0, 0, Loading!D394) -> 0 | R12: =IF(Loading!D442<0, 0, Loading!D442) -> 0 | S12: =IF(Loading!D490<0, 0, Loading!D490) -> 0 | T12: =IF(Loading!D538<0, 0, Loading!D538) -> 0 | U12: =IF(Loading!D586<0, 0, Loading!D586) -> 0 | V12: =IF(Loading!D634<0, 0, Loading!D634) -> 0 | W12: =IF(Loading!D682<0, 0, Loading!D682) -> 0 | X12: =IF(Loading!D730<0, 0, Loading!D730) -> 0 | Y12: =IF(Loading!E10<0, 0, Loading!E10) -> 0 | Z12: =IF(Loading!E58<0, 0, Loading!E58) -> 0 | AA12: =IF(Loading!E106<0, 0, Loading!E106) -> 0 | AB12: =IF(Loading!E154<0, 0, Loading!E154) -> 0 | AC12: =IF(Loading!E202<0, 0, Loading!E202) -> 0 | AD12: =IF(Loading!E250<0, 0, Loading!E250) -> 0 | AE12: =IF(Loading!E298<0, 0, Loading!E298) -> 0 | AF12: =IF(Loading!E346<0, 0, Loading!E346) -> 0 | AG12: =IF(Loading!E394<0, 0, Loading!E394) -> 0 | AH12: =IF(Loading!E442<0, 0, Loading!E442) -> 0 | AI12: =IF(Loading!E490<0, 0, Loading!E490) -> 0 | AJ12: =IF(Loading!E538<0, 0, Loading!E538) -> 0 | AK12: =IF(Loading!E586<0, 0, Loading!E586) -> 0 | AL12: =IF(Loading!E634<0, 0, Loading!E634) -> 0 | AM12: =IF(Loading!E682<0, 0, Loading!E682) -> 0 | AN12: =IF(Loading!E730<0, 0, Loading!E730) -> 0 | AO12: =IF(Loading!F10<0, 0, Loading!F10) -> 0 | AP12: =IF(Loading!F58<0, 0, Loading!F58) -> 0 | AQ12: =IF(Loading!F106<0, 0, Loading!F106) -> 0 | AR12: =IF(Loading!F154<0, 0, Loading!F154) -> 0 | AS12: =IF(Loading!F202<0, 0, Loading!F202) -> 0 | AT12: =IF(Loading!F250<0, 0, Loading!F250) -> 0 | AU12: =IF(Loading!F298<0, 0, Loading!F298) -> 0 | AV12: =IF(Loading!F346<0, 0, Loading!F346) -> 0 | AW12: =IF(Loading!F394<0, 0, Loading!F394) -> 0 | AX12: =IF(Loading!F442<0, 0, Loading!F442) -> 0 | AY12: =IF(Loading!F490<0, 0, Loading!F490) -> 0 | AZ12: =IF(Loading!F538<0, 0, Loading!F538) -> 0 | BA12: =IF(Loading!F586<0, 0, Loading!F586) -> 0 | BB12: =IF(Loading!F634<0, 0, Loading!F634) -> 0 | BC12: =IF(Loading!F682<0, 0, Loading!F682) -> 0 | BD12: =IF(Loading!F730<0, 0, Loading!F730) -> 0 | BE12: =IF(Loading!G10<0, 0, Loading!G10) -> 0 | BF12: =IF(Loading!G58<0, 0, Loading!G58) -> 0 | BG12: =IF(Loading!G106<0, 0, Loading!G106) -> 0 | BH12: =IF(Loading!G154<0, 0, Loading!G154) -> 0 | BI12: =IF(Loading!G202<0, 0, Loading!G202) -> 0 | BJ12: =IF(Loading!G250<0, 0, Loading!G250) -> 0 | BK12: =IF(Loading!G298<0, 0, Loading!G298) -> 0 | BL12: =IF(Loading!G346<0, 0, Loading!G346) -> 0 | BM12: =IF(Loading!G394<0, 0, Loading!G394) -> 0 | BN12: =IF(Loading!G442<0, 0, Loading!G442) -> 0 | BO12: =IF(Loading!G490<0, 0, Loading!G490) -> 0 | BP12: =IF(Loading!G538<0, 0, Loading!G538) -> 0 | BQ12: =IF(Loading!G586<0, 0, Loading!G586) -> 0 | BR12: =IF(Loading!G634<0, 0, Loading!G634) -> 0 | BS12: =IF(Loading!G682<0, 0, Loading!G682) -> 0 | BT12: =IF(Loading!G730<0, 0, Loading!G730) -> 0 | BU12: =IF(Loading!H10<0, 0, Loading!H10) -> 0 | BV12: =IF(Loading!H58<0, 0, Loading!H58) -> 0 | BW12: =IF(Loading!H106<0, 0, Loading!H106) -> 0 | BX12: =IF(Loading!H154<0, 0, Loading!H154) -> 0 | BY12: =IF(Loading!H202<0, 0, Loading!H202) -> 0 | BZ12: =IF(Loading!H250<0, 0, Loading!H250) -> 0 | CA12: =IF(Loading!H298<0, 0, Loading!H298) -> 0 | CB12: =IF(Loading!H346<0, 0, Loading!H346) -> 0 | CC12: =IF(Loading!H394<0, 0, Loading!H394) -> 0 | CD12: =IF(Loading!H442<0, 0, Loading!H442) -> 0 | CE12: =IF(Loading!H490<0, 0, Loading!H490) -> 0 | CF12: =IF(Loading!H538<0, 0, Loading!H538) -> 0 | CG12: =IF(Loading!H586<0, 0, Loading!H586) -> 0 | CH12: =IF(Loading!H634<0, 0, Loading!H634) -> 0 | CI12: =IF(Loading!H682<0, 0, Loading!H682) -> 0 | CJ12: =IF(Loading!H730<0, 0, Loading!H730) -> 0 | CK12: =IF(Loading!I10<0, 0, Loading!I10) -> 0 | CL12: =IF(Loading!I58<0, 0, Loading!I58) -> 0 | CM12: =IF(Loading!I106<0, 0, Loading!I106) -> 0 | CN12: =IF(Loading!I154<0, 0, Loading!I154) -> 0 | CO12: =IF(Loading!I202<0, 0, Loading!I202) -> 0 | CP12: =IF(Loading!I250<0, 0, Loading!I250) -> 0 | CQ12: =IF(Loading!I298<0, 0, Loading!I298) -> 0 | CR12: =IF(Loading!I346<0, 0, Loading!I346) -> 0 | CS12: =IF(Loading!I394<0, 0, Loading!I394) -> 0 | CT12: =IF(Loading!I442<0, 0, Loading!I442) -> 0 | CU12: =IF(Loading!I490<0, 0, Loading!I490) -> 0 | CV12: =IF(Loading!I538<0, 0, Loading!I538) -> 0 | CW12: =IF(Loading!I586<0, 0, Loading!I586) -> 0 | CX12: =IF(Loading!I634<0, 0, Loading!I634) -> 0 | CY12: =IF(Loading!I682<0, 0, Loading!I682) -> 0 | CZ12: =IF(Loading!I730<0, 0, Loading!I730) -> 0 | DA12: =IF(Loading!J10<0, 0, Loading!J10) -> 0 | DB12: =IF(Loading!J58<0, 0, Loading!J58) -> 0 | DC12: =IF(Loading!J106<0, 0, Loading!J106) -> 0 | DD12: =IF(Loading!J154<0, 0, Loading!J154) -> 0 | DE12: =IF(Loading!J202<0, 0, Loading!J202) -> 0 | DF12: =IF(Loading!J250<0, 0, Loading!J250) -> 0 | DG12: =IF(Loading!J298<0, 0, Loading!J298) -> 0 | DH12: =IF(Loading!J346<0, 0, Loading!J346) -> 0 | DI12: =IF(Loading!J394<0, 0, Loading!J394) -> 0 | DJ12: =IF(Loading!J442<0, 0, Loading!J442) -> 0 | DK12: =IF(Loading!J490<0, 0, Loading!J490) -> 0 | DL12: =IF(Loading!J538<0, 0, Loading!J538) -> 0 | DM12: =IF(Loading!J586<0, 0, Loading!J586) -> 0 | DN12: =IF(Loading!J634<0, 0, Loading!J634) -> 0 | DO12: =IF(Loading!J682<0, 0, Loading!J682) -> 0 | DP12: =IF(Loading!J730<0, 0, Loading!J730) -> 0 | DQ12: =IF(Loading!K10<0, 0, Loading!K10) -> 0 | DR12: =IF(Loading!K58<0, 0, Loading!K58) -> 0 | DS12: =IF(Loading!K106<0, 0, Loading!K106) -> 0 | DT12: =IF(Loading!K154<0, 0, Loading!K154) -> 0 | DU12: =IF(Loading!K202<0, 0, Loading!K202) -> 0 | DV12: =IF(Loading!K250<0, 0, Loading!K250) -> 0 | DW12: =IF(Loading!K298<0, 0, Loading!K298) -> 0 | DX12: =IF(Loading!K346<0, 0, Loading!K346) -> 0
H13: IgA | I13: =IF(Loading!D11<0, 0, Loading!D11) -> 0 | J13: =IF(Loading!D59<0, 0, Loading!D59) -> 0 | K13: =IF(Loading!D107<0, 0, Loading!D107) -> 0 | L13: =IF(Loading!D155<0, 0, Loading!D155) -> 0 | M13: =IF(Loading!D203<0, 0, Loading!D203) -> 0 | N13: =IF(Loading!D251<0, 0, Loading!D251) -> 0 | O13: =IF(Loading!D299<0, 0, Loading!D299) -> 0 | P13: =IF(Loading!D347<0, 0, Loading!D347) -> 0 | Q13: =IF(Loading!D395<0, 0, Loading!D395) -> 0 | R13: =IF(Loading!D443<0, 0, Loading!D443) -> 0 | S13: =IF(Loading!D491<0, 0, Loading!D491) -> 0 | T13: =IF(Loading!D539<0, 0, Loading!D539) -> 0 | U13: =IF(Loading!D587<0, 0, Loading!D587) -> 0 | V13: =IF(Loading!D635<0, 0, Loading!D635) -> 0 | W13: =IF(Loading!D683<0, 0, Loading!D683) -> 0 | X13: =IF(Loading!D731<0, 0, Loading!D731) -> 0 | Y13: =IF(Loading!E11<0, 0, Loading!E11) -> 0 | Z13: =IF(Loading!E59<0, 0, Loading!E59) -> 0 | AA13: =IF(Loading!E107<0, 0, Loading!E107) -> 0 | AB13: =IF(Loading!E155<0, 0, Loading!E155) -> 0 | AC13: =IF(Loading!E203<0, 0, Loading!E203) -> 0 | AD13: =IF(Loading!E251<0, 0, Loading!E251) -> 0 | AE13: =IF(Loading!E299<0, 0, Loading!E299) -> 0 | AF13: =IF(Loading!E347<0, 0, Loading!E347) -> 0 | AG13: =IF(Loading!E395<0, 0, Loading!E395) -> 0 | AH13: =IF(Loading!E443<0, 0, Loading!E443) -> 0 | AI13: =IF(Loading!E491<0, 0, Loading!E491) -> 0 | AJ13: =IF(Loading!E539<0, 0, Loading!E539) -> 0 | AK13: =IF(Loading!E587<0, 0, Loading!E587) -> 0 | AL13: =IF(Loading!E635<0, 0, Loading!E635) -> 0 | AM13: =IF(Loading!E683<0, 0, Loading!E683) -> 0 | AN13: =IF(Loading!E731<0, 0, Loading!E731) -> 0 | AO13: =IF(Loading!F11<0, 0, Loading!F11) -> 0 | AP13: =IF(Loading!F59<0, 0, Loading!F59) -> 0 | AQ13: =IF(Loading!F107<0, 0, Loading!F107) -> 0 | AR13: =IF(Loading!F155<0, 0, Loading!F155) -> 0 | AS13: =IF(Loading!F203<0, 0, Loading!F203) -> 0 | AT13: =IF(Loading!F251<0, 0, Loading!F251) -> 0 | AU13: =IF(Loading!F299<0, 0, Loading!F299) -> 0 | AV13: =IF(Loading!F347<0, 0, Loading!F347) -> 0 | AW13: =IF(Loading!F395<0, 0, Loading!F395) -> 0 | AX13: =IF(Loading!F443<0, 0, Loading!F443) -> 0 | AY13: =IF(Loading!F491<0, 0, Loading!F491) -> 0 | AZ13: =IF(Loading!F539<0, 0, Loading!F539) -> 0 | BA13: =IF(Loading!F587<0, 0, Loading!F587) -> 0 | BB13: =IF(Loading!F635<0, 0, Loading!F635) -> 0 | BC13: =IF(Loading!F683<0, 0, Loading!F683) -> 0 | BD13: =IF(Loading!F731<0, 0, Loading!F731) -> 0 | BE13: =IF(Loading!G11<0, 0, Loading!G11) -> 0 | BF13: =IF(Loading!G59<0, 0, Loading!G59) -> 0 | BG13: =IF(Loading!G107<0, 0, Loading!G107) -> 0 | BH13: =IF(Loading!G155<0, 0, Loading!G155) -> 0 | BI13: =IF(Loading!G203<0, 0, Loading!G203) -> 0 | BJ13: =IF(Loading!G251<0, 0, Loading!G251) -> 0 | BK13: =IF(Loading!G299<0, 0, Loading!G299) -> 0 | BL13: =IF(Loading!G347<0, 0, Loading!G347) -> 0 | BM13: =IF(Loading!G395<0, 0, Loading!G395) -> 0 | BN13: =IF(Loading!G443<0, 0, Loading!G443) -> 0 | BO13: =IF(Loading!G491<0, 0, Loading!G491) -> 0 | BP13: =IF(Loading!G539<0, 0, Loading!G539) -> 0 | BQ13: =IF(Loading!G587<0, 0, Loading!G587) -> 0 | BR13: =IF(Loading!G635<0, 0, Loading!G635) -> 0 | BS13: =IF(Loading!G683<0, 0, Loading!G683) -> 0 | BT13: =IF(Loading!G731<0, 0, Loading!G731) -> 0 | BU13: =IF(Loading!H11<0, 0, Loading!H11) -> 0 | BV13: =IF(Loading!H59<0, 0, Loading!H59) -> 0 | BW13: =IF(Loading!H107<0, 0, Loading!H107) -> 0 | BX13: =IF(Loading!H155<0, 0, Loading!H155) -> 0 | BY13: =IF(Loading!H203<0, 0, Loading!H203) -> 0 | BZ13: =IF(Loading!H251<0, 0, Loading!H251) -> 0 | CA13: =IF(Loading!H299<0, 0, Loading!H299) -> 0 | CB13: =IF(Loading!H347<0, 0, Loading!H347) -> 0 | CC13: =IF(Loading!H395<0, 0, Loading!H395) -> 0 | CD13: =IF(Loading!H443<0, 0, Loading!H443) -> 0 | CE13: =IF(Loading!H491<0, 0, Loading!H491) -> 0 | CF13: =IF(Loading!H539<0, 0, Loading!H539) -> 0 | CG13: =IF(Loading!H587<0, 0, Loading!H587) -> 0 | CH13: =IF(Loading!H635<0, 0, Loading!H635) -> 0 | CI13: =IF(Loading!H683<0, 0, Loading!H683) -> 0 | CJ13: =IF(Loading!H731<0, 0, Loading!H731) -> 0 | CK13: =IF(Loading!I11<0, 0, Loading!I11) -> 0 | CL13: =IF(Loading!I59<0, 0, Loading!I59) -> 0 | CM13: =IF(Loading!I107<0, 0, Loading!I107) -> 0 | CN13: =IF(Loading!I155<0, 0, Loading!I155) -> 0 | CO13: =IF(Loading!I203<0, 0, Loading!I203) -> 0 | CP13: =IF(Loading!I251<0, 0, Loading!I251) -> 0 | CQ13: =IF(Loading!I299<0, 0, Loading!I299) -> 0 | CR13: =IF(Loading!I347<0, 0, Loading!I347) -> 0 | CS13: =IF(Loading!I395<0, 0, Loading!I395) -> 0 | CT13: =IF(Loading!I443<0, 0, Loading!I443) -> 0 | CU13: =IF(Loading!I491<0, 0, Loading!I491) -> 0 | CV13: =IF(Loading!I539<0, 0, Loading!I539) -> 0 | CW13: =IF(Loading!I587<0, 0, Loading!I587) -> 0 | CX13: =IF(Loading!I635<0, 0, Loading!I635) -> 0 | CY13: =IF(Loading!I683<0, 0, Loading!I683) -> 0 | CZ13: =IF(Loading!I731<0, 0, Loading!I731) -> 0 | DA13: =IF(Loading!J11<0, 0, Loading!J11) -> 0 | DB13: =IF(Loading!J59<0, 0, Loading!J59) -> 0 | DC13: =IF(Loading!J107<0, 0, Loading!J107) -> 0 | DD13: =IF(Loading!J155<0, 0, Loading!J155) -> 0 | DE13: =IF(Loading!J203<0, 0, Loading!J203) -> 0 | DF13: =IF(Loading!J251<0, 0, Loading!J251) -> 0 | DG13: =IF(Loading!J299<0, 0, Loading!J299) -> 0 | DH13: =IF(Loading!J347<0, 0, Loading!J347) -> 0 | DI13: =IF(Loading!J395<0, 0, Loading!J395) -> 0 | DJ13: =IF(Loading!J443<0, 0, Loading!J443) -> 0 | DK13: =IF(Loading!J491<0, 0, Loading!J491) -> 0 | DL13: =IF(Loading!J539<0, 0, Loading!J539) -> 0 | DM13: =IF(Loading!J587<0, 0, Loading!J587) -> 0 | DN13: =IF(Loading!J635<0, 0, Loading!J635) -> 0 | DO13: =IF(Loading!J683<0, 0, Loading!J683) -> 0 | DP13: =IF(Loading!J731<0, 0, Loading!J731) -> 0 | DQ13: =IF(Loading!K11<0, 0, Loading!K11) -> 0 | DR13: =IF(Loading!K59<0, 0, Loading!K59) -> 0 | DS13: =IF(Loading!K107<0, 0, Loading!K107) -> 0 | DT13: =IF(Loading!K155<0, 0, Loading!K155) -> 0 | DU13: =IF(Loading!K203<0, 0, Loading!K203) -> 0 | DV13: =IF(Loading!K251<0, 0, Loading!K251) -> 0 | DW13: =IF(Loading!K299<0, 0, Loading!K299) -> 0 | DX13: =IF(Loading!K347<0, 0, Loading!K347) -> 0 | DZ13: =(1+$AE$2)*MEDIAN(I13:I16) -> 0 | EA13: =(1+$AE$2)*MEDIAN(J13:J16) -> 0 | EB13: =(1+$AE$2)*MEDIAN(K13:K16) -> 0 | EC13: =(1+$AE$2)*MEDIAN(L13:L16) -> 0 | ED13: =(1+$AE$2)*MEDIAN(M13:M16) -> 0 | EE13: =(1+$AE$2)*MEDIAN(N13:N16) -> 0 | EF13: =(1+$AE$2)*MEDIAN(O13:O16) -> 0 | EG13: =(1+$AE$2)*MEDIAN(P13:P16) -> 0 | ... IO13: =(1+$AE$2)*MEDIAN(DX13:DX16) -> 0
H14: IgA | I14: =IF(Loading!D12<0, 0, Loading!D12) -> 0 | J14: =IF(Loading!D60<0, 0, Loading!D60) -> 0 | K14: =IF(Loading!D108<0, 0, Loading!D108) -> 0 | L14: =IF(Loading!D156<0, 0, Loading!D156) -> 0 | M14: =IF(Loading!D204<0, 0, Loading!D204) -> 0 | N14: =IF(Loading!D252<0, 0, Loading!D252) -> 0 | O14: =IF(Loading!D300<0, 0, Loading!D300) -> 0 | P14: =IF(Loading!D348<0, 0, Loading!D348) -> 0 | Q14: =IF(Loading!D396<0, 0, Loading!D396) -> 0 | R14: =IF(Loading!D444<0, 0, Loading!D444) -> 0 | S14: =IF(Loading!D492<0, 0, Loading!D492) -> 0 | T14: =IF(Loading!D540<0, 0, Loading!D540) -> 0 | U14: =IF(Loading!D588<0, 0, Loading!D588) -> 0 | V14: =IF(Loading!D636<0, 0, Loading!D636) -> 0 | W14: =IF(Loading!D684<0, 0, Loading!D684) -> 0 | X14: =IF(Loading!D732<0, 0, Loading!D732) -> 0 | Y14: =IF(Loading!E12<0, 0, Loading!E12) -> 0 | Z14: =IF(Loading!E60<0, 0, Loading!E60) -> 0 | AA14: =IF(Loading!E108<0, 0, Loading!E108) -> 0 | AB14: =IF(Loading!E156<0, 0, Loading!E156) -> 0 | AC14: =IF(Loading!E204<0, 0, Loading!E204) -> 0 | AD14: =IF(Loading!E252<0, 0, Loading!E252) -> 0 | AE14: =IF(Loading!E300<0, 0, Loading!E300) -> 0 | AF14: =IF(Loading!E348<0, 0, Loading!E348) -> 0 | AG14: =IF(Loading!E396<0, 0, Loading!E396) -> 0 | AH14: =IF(Loading!E444<0, 0, Loading!E444) -> 0 | AI14: =IF(Loading!E492<0, 0, Loading!E492) -> 0 | AJ14: =IF(Loading!E540<0, 0, Loading!E540) -> 0 | AK14: =IF(Loading!E588<0, 0, Loading!E588) -> 0 | AL14: =IF(Loading!E636<0, 0, Loading!E636) -> 0 | AM14: =IF(Loading!E684<0, 0, Loading!E684) -> 0 | AN14: =IF(Loading!E732<0, 0, Loading!E732) -> 0 | AO14: =IF(Loading!F12<0, 0, Loading!F12) -> 0 | AP14: =IF(Loading!F60<0, 0, Loading!F60) -> 0 | AQ14: =IF(Loading!F108<0, 0, Loading!F108) -> 0 | AR14: =IF(Loading!F156<0, 0, Loading!F156) -> 0 | AS14: =IF(Loading!F204<0, 0, Loading!F204) -> 0 | AT14: =IF(Loading!F252<0, 0, Loading!F252) -> 0 | AU14: =IF(Loading!F300<0, 0, Loading!F300) -> 0 | AV14: =IF(Loading!F348<0, 0, Loading!F348) -> 0 | AW14: =IF(Loading!F396<0, 0, Loading!F396) -> 0 | AX14: =IF(Loading!F444<0, 0, Loading!F444) -> 0 | AY14: =IF(Loading!F492<0, 0, Loading!F492) -> 0 | AZ14: =IF(Loading!F540<0, 0, Loading!F540) -> 0 | BA14: =IF(Loading!F588<0, 0, Loading!F588) -> 0 | BB14: =IF(Loading!F636<0, 0, Loading!F636) -> 0 | BC14: =IF(Loading!F684<0, 0, Loading!F684) -> 0 | BD14: =IF(Loading!F732<0, 0, Loading!F732) -> 0 | BE14: =IF(Loading!G12<0, 0, Loading!G12) -> 0 | BF14: =IF(Loading!G60<0, 0, Loading!G60) -> 0 | BG14: =IF(Loading!G108<0, 0, Loading!G108) -> 0 | BH14: =IF(Loading!G156<0, 0, Loading!G156) -> 0 | BI14: =IF(Loading!G204<0, 0, Loading!G204) -> 0 | BJ14: =IF(Loading!G252<0, 0, Loading!G252) -> 0 | BK14: =IF(Loading!G300<0, 0, Loading!G300) -> 0 | BL14: =IF(Loading!G348<0, 0, Loading!G348) -> 0 | BM14: =IF(Loading!G396<0, 0, Loading!G396) -> 0 | BN14: =IF(Loading!G444<0, 0, Loading!G444) -> 0 | BO14: =IF(Loading!G492<0, 0, Loading!G492) -> 0 | BP14: =IF(Loading!G540<0, 0, Loading!G540) -> 0 | BQ14: =IF(Loading!G588<0, 0, Loading!G588) -> 0 | BR14: =IF(Loading!G636<0, 0, Loading!G636) -> 0 | BS14: =IF(Loading!G684<0, 0, Loading!G684) -> 0 | BT14: =IF(Loading!G732<0, 0, Loading!G732) -> 0 | BU14: =IF(Loading!H12<0, 0, Loading!H12) -> 0 | BV14: =IF(Loading!H60<0, 0, Loading!H60) -> 0 | BW14: =IF(Loading!H108<0, 0, Loading!H108) -> 0 | BX14: =IF(Loading!H156<0, 0, Loading!H156) -> 0 | BY14: =IF(Loading!H204<0, 0, Loading!H204) -> 0 | BZ14: =IF(Loading!H252<0, 0, Loading!H252) -> 0 | CA14: =IF(Loading!H300<0, 0, Loading!H300) -> 0 | CB14: =IF(Loading!H348<0, 0, Loading!H348) -> 0 | CC14: =IF(Loading!H396<0, 0, Loading!H396) -> 0 | CD14: =IF(Loading!H444<0, 0, Loading!H444) -> 0 | CE14: =IF(Loading!H492<0, 0, Loading!H492) -> 0 | CF14: =IF(Loading!H540<0, 0, Loading!H540) -> 0 | CG14: =IF(Loading!H588<0, 0, Loading!H588) -> 0 | CH14: =IF(Loading!H636<0, 0, Loading!H636) -> 0 | CI14: =IF(Loading!H684<0, 0, Loading!H684) -> 0 | CJ14: =IF(Loading!H732<0, 0, Loading!H732) -> 0 | CK14: =IF(Loading!I12<0, 0, Loading!I12) -> 0 | CL14: =IF(Loading!I60<0, 0, Loading!I60) -> 0 | CM14: =IF(Loading!I108<0, 0, Loading!I108) -> 0 | CN14: =IF(Loading!I156<0, 0, Loading!I156) -> 0 | CO14: =IF(Loading!I204<0, 0, Loading!I204) -> 0 | CP14: =IF(Loading!I252<0, 0, Loading!I252) -> 0 | CQ14: =IF(Loading!I300<0, 0, Loading!I300) -> 0 | CR14: =IF(Loading!I348<0, 0, Loading!I348) -> 0 | CS14: =IF(Loading!I396<0, 0, Loading!I396) -> 0 | CT14: =IF(Loading!I444<0, 0, Loading!I444) -> 0 | CU14: =IF(Loading!I492<0, 0, Loading!I492) -> 0 | CV14: =IF(Loading!I540<0, 0, Loading!I540) -> 0 | CW14: =IF(Loading!I588<0, 0, Loading!I588) -> 0 | CX14: =IF(Loading!I636<0, 0, Loading!I636) -> 0 | CY14: =IF(Loading!I684<0, 0, Loading!I684) -> 0 | CZ14: =IF(Loading!I732<0, 0, Loading!I732) -> 0 | DA14: =IF(Loading!J12<0, 0, Loading!J12) -> 0 | DB14: =IF(Loading!J60<0, 0, Loading!J60) -> 0 | DC14: =IF(Loading!J108<0, 0, Loading!J108) -> 0 | DD14: =IF(Loading!J156<0, 0, Loading!J156) -> 0 | DE14: =IF(Loading!J204<0, 0, Loading!J204) -> 0 | DF14: =IF(Loading!J252<0, 0, Loading!J252) -> 0 | DG14: =IF(Loading!J300<0, 0, Loading!J300) -> 0 | DH14: =IF(Loading!J348<0, 0, Loading!J348) -> 0 | DI14: =IF(Loading!J396<0, 0, Loading!J396) -> 0 | DJ14: =IF(Loading!J444<0, 0, Loading!J444) -> 0 | DK14: =IF(Loading!J492<0, 0, Loading!J492) -> 0 | DL14: =IF(Loading!J540<0, 0, Loading!J540) -> 0 | DM14: =IF(Loading!J588<0, 0, Loading!J588) -> 0 | DN14: =IF(Loading!J636<0, 0, Loading!J636) -> 0 | DO14: =IF(Loading!J684<0, 0, Loading!J684) -> 0 | DP14: =IF(Loading!J732<0, 0, Loading!J732) -> 0 | DQ14: =IF(Loading!K12<0, 0, Loading!K12) -> 0 | DR14: =IF(Loading!K60<0, 0, Loading!K60) -> 0 | DS14: =IF(Loading!K108<0, 0, Loading!K108) -> 0 | DT14: =IF(Loading!K156<0, 0, Loading!K156) -> 0 | DU14: =IF(Loading!K204<0, 0, Loading!K204) -> 0 | DV14: =IF(Loading!K252<0, 0, Loading!K252) -> 0 | DW14: =IF(Loading!K300<0, 0, Loading!K300) -> 0 | DX14: =IF(Loading!K348<0, 0, Loading!K348) -> 0 | DZ14: =(1-$AE$2)*MEDIAN(I13:I16) -> 0 | EA14: =(1-$AE$2)*MEDIAN(J13:J16) -> 0 | EB14: =(1-$AE$2)*MEDIAN(K13:K16) -> 0 | EC14: =(1-$AE$2)*MEDIAN(L13:L16) -> 0 | ED14: =(1-$AE$2)*MEDIAN(M13:M16) -> 0 | EE14: =(1-$AE$2)*MEDIAN(N13:N16) -> 0 | EF14: =(1-$AE$2)*MEDIAN(O13:O16) -> 0 | EG14: =(1-$AE$2)*MEDIAN(P13:P16) -> 0 | ... IO14: =(1-$AE$2)*MEDIAN(DX13:DX16) -> 0
H15: IgA | I15: =IF(Loading!D13<0, 0, Loading!D13) -> 0 | J15: =IF(Loading!D61<0, 0, Loading!D61) -> 0 | K15: =IF(Loading!D109<0, 0, Loading!D109) -> 0 | L15: =IF(Loading!D157<0, 0, Loading!D157) -> 0 | M15: =IF(Loading!D205<0, 0, Loading!D205) -> 0 | N15: =IF(Loading!D253<0, 0, Loading!D253) -> 0 | O15: =IF(Loading!D301<0, 0, Loading!D301) -> 0 | P15: =IF(Loading!D349<0, 0, Loading!D349) -> 0 | Q15: =IF(Loading!D397<0, 0, Loading!D397) -> 0 | R15: =IF(Loading!D445<0, 0, Loading!D445) -> 0 | S15: =IF(Loading!D493<0, 0, Loading!D493) -> 0 | T15: =IF(Loading!D541<0, 0, Loading!D541) -> 0 | U15: =IF(Loading!D589<0, 0, Loading!D589) -> 0 | V15: =IF(Loading!D637<0, 0, Loading!D637) -> 0 | W15: =IF(Loading!D685<0, 0, Loading!D685) -> 0 | X15: =IF(Loading!D733<0, 0, Loading!D733) -> 0 | Y15: =IF(Loading!E13<0, 0, Loading!E13) -> 0 | Z15: =IF(Loading!E61<0, 0, Loading!E61) -> 0 | AA15: =IF(Loading!E109<0, 0, Loading!E109) -> 0 | AB15: =IF(Loading!E157<0, 0, Loading!E157) -> 0 | AC15: =IF(Loading!E205<0, 0, Loading!E205) -> 0 | AD15: =IF(Loading!E253<0, 0, Loading!E253) -> 0 | AE15: =IF(Loading!E301<0, 0, Loading!E301) -> 0 | AF15: =IF(Loading!E349<0, 0, Loading!E349) -> 0 | AG15: =IF(Loading!E397<0, 0, Loading!E397) -> 0 | AH15: =IF(Loading!E445<0, 0, Loading!E445) -> 0 | AI15: =IF(Loading!E493<0, 0, Loading!E493) -> 0 | AJ15: =IF(Loading!E541<0, 0, Loading!E541) -> 0 | AK15: =IF(Loading!E589<0, 0, Loading!E589) -> 0 | AL15: =IF(Loading!E637<0, 0, Loading!E637) -> 0 | AM15: =IF(Loading!E685<0, 0, Loading!E685) -> 0 | AN15: =IF(Loading!E733<0, 0, Loading!E733) -> 0 | AO15: =IF(Loading!F13<0, 0, Loading!F13) -> 0 | AP15: =IF(Loading!F61<0, 0, Loading!F61) -> 0 | AQ15: =IF(Loading!F109<0, 0, Loading!F109) -> 0 | AR15: =IF(Loading!F157<0, 0, Loading!F157) -> 0 | AS15: =IF(Loading!F205<0, 0, Loading!F205) -> 0 | AT15: =IF(Loading!F253<0, 0, Loading!F253) -> 0 | AU15: =IF(Loading!F301<0, 0, Loading!F301) -> 0 | AV15: =IF(Loading!F349<0, 0, Loading!F349) -> 0 | AW15: =IF(Loading!F397<0, 0, Loading!F397) -> 0 | AX15: =IF(Loading!F445<0, 0, Loading!F445) -> 0 | AY15: =IF(Loading!F493<0, 0, Loading!F493) -> 0 | AZ15: =IF(Loading!F541<0, 0, Loading!F541) -> 0 | BA15: =IF(Loading!F589<0, 0, Loading!F589) -> 0 | BB15: =IF(Loading!F637<0, 0, Loading!F637) -> 0 | BC15: =IF(Loading!F685<0, 0, Loading!F685) -> 0 | BD15: =IF(Loading!F733<0, 0, Loading!F733) -> 0 | BE15: =IF(Loading!G13<0, 0, Loading!G13) -> 0 | BF15: =IF(Loading!G61<0, 0, Loading!G61) -> 0 | BG15: =IF(Loading!G109<0, 0, Loading!G109) -> 0 | BH15: =IF(Loading!G157<0, 0, Loading!G157) -> 0 | BI15: =IF(Loading!G205<0, 0, Loading!G205) -> 0 | BJ15: =IF(Loading!G253<0, 0, Loading!G253) -> 0 | BK15: =IF(Loading!G301<0, 0, Loading!G301) -> 0 | BL15: =IF(Loading!G349<0, 0, Loading!G349) -> 0 | BM15: =IF(Loading!G397<0, 0, Loading!G397) -> 0 | BN15: =IF(Loading!G445<0, 0, Loading!G445) -> 0 | BO15: =IF(Loading!G493<0, 0, Loading!G493) -> 0 | BP15: =IF(Loading!G541<0, 0, Loading!G541) -> 0 | BQ15: =IF(Loading!G589<0, 0, Loading!G589) -> 0 | BR15: =IF(Loading!G637<0, 0, Loading!G637) -> 0 | BS15: =IF(Loading!G685<0, 0, Loading!G685) -> 0 | BT15: =IF(Loading!G733<0, 0, Loading!G733) -> 0 | BU15: =IF(Loading!H13<0, 0, Loading!H13) -> 0 | BV15: =IF(Loading!H61<0, 0, Loading!H61) -> 0 | BW15: =IF(Loading!H109<0, 0, Loading!H109) -> 0 | BX15: =IF(Loading!H157<0, 0, Loading!H157) -> 0 | BY15: =IF(Loading!H205<0, 0, Loading!H205) -> 0 | BZ15: =IF(Loading!H253<0, 0, Loading!H253) -> 0 | CA15: =IF(Loading!H301<0, 0, Loading!H301) -> 0 | CB15: =IF(Loading!H349<0, 0, Loading!H349) -> 0 | CC15: =IF(Loading!H397<0, 0, Loading!H397) -> 0 | CD15: =IF(Loading!H445<0, 0, Loading!H445) -> 0 | CE15: =IF(Loading!H493<0, 0, Loading!H493) -> 0 | CF15: =IF(Loading!H541<0, 0, Loading!H541) -> 0 | CG15: =IF(Loading!H589<0, 0, Loading!H589) -> 0 | CH15: =IF(Loading!H637<0, 0, Loading!H637) -> 0 | CI15: =IF(Loading!H685<0, 0, Loading!H685) -> 0 | CJ15: =IF(Loading!H733<0, 0, Loading!H733) -> 0 | CK15: =IF(Loading!I13<0, 0, Loading!I13) -> 0 | CL15: =IF(Loading!I61<0, 0, Loading!I61) -> 0 | CM15: =IF(Loading!I109<0, 0, Loading!I109) -> 0 | CN15: =IF(Loading!I157<0, 0, Loading!I157) -> 0 | CO15: =IF(Loading!I205<0, 0, Loading!I205) -> 0 | CP15: =IF(Loading!I253<0, 0, Loading!I253) -> 0 | CQ15: =IF(Loading!I301<0, 0, Loading!I301) -> 0 | CR15: =IF(Loading!I349<0, 0, Loading!I349) -> 0 | CS15: =IF(Loading!I397<0, 0, Loading!I397) -> 0 | CT15: =IF(Loading!I445<0, 0, Loading!I445) -> 0 | CU15: =IF(Loading!I493<0, 0, Loading!I493) -> 0 | CV15: =IF(Loading!I541<0, 0, Loading!I541) -> 0 | CW15: =IF(Loading!I589<0, 0, Loading!I589) -> 0 | CX15: =IF(Loading!I637<0, 0, Loading!I637) -> 0 | CY15: =IF(Loading!I685<0, 0, Loading!I685) -> 0 | CZ15: =IF(Loading!I733<0, 0, Loading!I733) -> 0 | DA15: =IF(Loading!J13<0, 0, Loading!J13) -> 0 | DB15: =IF(Loading!J61<0, 0, Loading!J61) -> 0 | DC15: =IF(Loading!J109<0, 0, Loading!J109) -> 0 | DD15: =IF(Loading!J157<0, 0, Loading!J157) -> 0 | DE15: =IF(Loading!J205<0, 0, Loading!J205) -> 0 | DF15: =IF(Loading!J253<0, 0, Loading!J253) -> 0 | DG15: =IF(Loading!J301<0, 0, Loading!J301) -> 0 | DH15: =IF(Loading!J349<0, 0, Loading!J349) -> 0 | DI15: =IF(Loading!J397<0, 0, Loading!J397) -> 0 | DJ15: =IF(Loading!J445<0, 0, Loading!J445) -> 0 | DK15: =IF(Loading!J493<0, 0, Loading!J493) -> 0 | DL15: =IF(Loading!J541<0, 0, Loading!J541) -> 0 | DM15: =IF(Loading!J589<0, 0, Loading!J589) -> 0 | DN15: =IF(Loading!J637<0, 0, Loading!J637) -> 0 | DO15: =IF(Loading!J685<0, 0, Loading!J685) -> 0 | DP15: =IF(Loading!J733<0, 0, Loading!J733) -> 0 | DQ15: =IF(Loading!K13<0, 0, Loading!K13) -> 0 | DR15: =IF(Loading!K61<0, 0, Loading!K61) -> 0 | DS15: =IF(Loading!K109<0, 0, Loading!K109) -> 0 | DT15: =IF(Loading!K157<0, 0, Loading!K157) -> 0 | DU15: =IF(Loading!K205<0, 0, Loading!K205) -> 0 | DV15: =IF(Loading!K253<0, 0, Loading!K253) -> 0 | DW15: =IF(Loading!K301<0, 0, Loading!K301) -> 0 | DX15: =IF(Loading!K349<0, 0, Loading!K349) -> 0
H16: IgA | I16: =IF(Loading!D14<0, 0, Loading!D14) -> 0 | J16: =IF(Loading!D62<0, 0, Loading!D62) -> 0 | K16: =IF(Loading!D110<0, 0, Loading!D110) -> 0 | L16: =IF(Loading!D158<0, 0, Loading!D158) -> 0 | M16: =IF(Loading!D206<0, 0, Loading!D206) -> 0 | N16: =IF(Loading!D254<0, 0, Loading!D254) -> 0 | O16: =IF(Loading!D302<0, 0, Loading!D302) -> 0 | P16: =IF(Loading!D350<0, 0, Loading!D350) -> 0 | Q16: =IF(Loading!D398<0, 0, Loading!D398) -> 0 | R16: =IF(Loading!D446<0, 0, Loading!D446) -> 0 | S16: =IF(Loading!D494<0, 0, Loading!D494) -> 0 | T16: =IF(Loading!D542<0, 0, Loading!D542) -> 0 | U16: =IF(Loading!D590<0, 0, Loading!D590) -> 0 | V16: =IF(Loading!D638<0, 0, Loading!D638) -> 0 | W16: =IF(Loading!D686<0, 0, Loading!D686) -> 0 | X16: =IF(Loading!D734<0, 0, Loading!D734) -> 0 | Y16: =IF(Loading!E14<0, 0, Loading!E14) -> 0 | Z16: =IF(Loading!E62<0, 0, Loading!E62) -> 0 | AA16: =IF(Loading!E110<0, 0, Loading!E110) -> 0 | AB16: =IF(Loading!E158<0, 0, Loading!E158) -> 0 | AC16: =IF(Loading!E206<0, 0, Loading!E206) -> 0 | AD16: =IF(Loading!E254<0, 0, Loading!E254) -> 0 | AE16: =IF(Loading!E302<0, 0, Loading!E302) -> 0 | AF16: =IF(Loading!E350<0, 0, Loading!E350) -> 0 | AG16: =IF(Loading!E398<0, 0, Loading!E398) -> 0 | AH16: =IF(Loading!E446<0, 0, Loading!E446) -> 0 | AI16: =IF(Loading!E494<0, 0, Loading!E494) -> 0 | AJ16: =IF(Loading!E542<0, 0, Loading!E542) -> 0 | AK16: =IF(Loading!E590<0, 0, Loading!E590) -> 0 | AL16: =IF(Loading!E638<0, 0, Loading!E638) -> 0 | AM16: =IF(Loading!E686<0, 0, Loading!E686) -> 0 | AN16: =IF(Loading!E734<0, 0, Loading!E734) -> 0 | AO16: =IF(Loading!F14<0, 0, Loading!F14) -> 0 | AP16: =IF(Loading!F62<0, 0, Loading!F62) -> 0 | AQ16: =IF(Loading!F110<0, 0, Loading!F110) -> 0 | AR16: =IF(Loading!F158<0, 0, Loading!F158) -> 0 | AS16: =IF(Loading!F206<0, 0, Loading!F206) -> 0 | AT16: =IF(Loading!F254<0, 0, Loading!F254) -> 0 | AU16: =IF(Loading!F302<0, 0, Loading!F302) -> 0 | AV16: =IF(Loading!F350<0, 0, Loading!F350) -> 0 | AW16: =IF(Loading!F398<0, 0, Loading!F398) -> 0 | AX16: =IF(Loading!F446<0, 0, Loading!F446) -> 0 | AY16: =IF(Loading!F494<0, 0, Loading!F494) -> 0 | AZ16: =IF(Loading!F542<0, 0, Loading!F542) -> 0 | BA16: =IF(Loading!F590<0, 0, Loading!F590) -> 0 | BB16: =IF(Loading!F638<0, 0, Loading!F638) -> 0 | BC16: =IF(Loading!F686<0, 0, Loading!F686) -> 0 | BD16: =IF(Loading!F734<0, 0, Loading!F734) -> 0 | BE16: =IF(Loading!G14<0, 0, Loading!G14) -> 0 | BF16: =IF(Loading!G62<0, 0, Loading!G62) -> 0 | BG16: =IF(Loading!G110<0, 0, Loading!G110) -> 0 | BH16: =IF(Loading!G158<0, 0, Loading!G158) -> 0 | BI16: =IF(Loading!G206<0, 0, Loading!G206) -> 0 | BJ16: =IF(Loading!G254<0, 0, Loading!G254) -> 0 | BK16: =IF(Loading!G302<0, 0, Loading!G302) -> 0 | BL16: =IF(Loading!G350<0, 0, Loading!G350) -> 0 | BM16: =IF(Loading!G398<0, 0, Loading!G398) -> 0 | BN16: =IF(Loading!G446<0, 0, Loading!G446) -> 0 | BO16: =IF(Loading!G494<0, 0, Loading!G494) -> 0 | BP16: =IF(Loading!G542<0, 0, Loading!G542) -> 0 | BQ16: =IF(Loading!G590<0, 0, Loading!G590) -> 0 | BR16: =IF(Loading!G638<0, 0, Loading!G638) -> 0 | BS16: =IF(Loading!G686<0, 0, Loading!G686) -> 0 | BT16: =IF(Loading!G734<0, 0, Loading!G734) -> 0 | BU16: =IF(Loading!H14<0, 0, Loading!H14) -> 0 | BV16: =IF(Loading!H62<0, 0, Loading!H62) -> 0 | BW16: =IF(Loading!H110<0, 0, Loading!H110) -> 0 | BX16: =IF(Loading!H158<0, 0, Loading!H158) -> 0 | BY16: =IF(Loading!H206<0, 0, Loading!H206) -> 0 | BZ16: =IF(Loading!H254<0, 0, Loading!H254) -> 0 | CA16: =IF(Loading!H302<0, 0, Loading!H302) -> 0 | CB16: =IF(Loading!H350<0, 0, Loading!H350) -> 0 | CC16: =IF(Loading!H398<0, 0, Loading!H398) -> 0 | CD16: =IF(Loading!H446<0, 0, Loading!H446) -> 0 | CE16: =IF(Loading!H494<0, 0, Loading!H494) -> 0 | CF16: =IF(Loading!H542<0, 0, Loading!H542) -> 0 | CG16: =IF(Loading!H590<0, 0, Loading!H590) -> 0 | CH16: =IF(Loading!H638<0, 0, Loading!H638) -> 0 | CI16: =IF(Loading!H686<0, 0, Loading!H686) -> 0 | CJ16: =IF(Loading!H734<0, 0, Loading!H734) -> 0 | CK16: =IF(Loading!I14<0, 0, Loading!I14) -> 0 | CL16: =IF(Loading!I62<0, 0, Loading!I62) -> 0 | CM16: =IF(Loading!I110<0, 0, Loading!I110) -> 0 | CN16: =IF(Loading!I158<0, 0, Loading!I158) -> 0 | CO16: =IF(Loading!I206<0, 0, Loading!I206) -> 0 | CP16: =IF(Loading!I254<0, 0, Loading!I254) -> 0 | CQ16: =IF(Loading!I302<0, 0, Loading!I302) -> 0 | CR16: =IF(Loading!I350<0, 0, Loading!I350) -> 0 | CS16: =IF(Loading!I398<0, 0, Loading!I398) -> 0 | CT16: =IF(Loading!I446<0, 0, Loading!I446) -> 0 | CU16: =IF(Loading!I494<0, 0, Loading!I494) -> 0 | CV16: =IF(Loading!I542<0, 0, Loading!I542) -> 0 | CW16: =IF(Loading!I590<0, 0, Loading!I590) -> 0 | CX16: =IF(Loading!I638<0, 0, Loading!I638) -> 0 | CY16: =IF(Loading!I686<0, 0, Loading!I686) -> 0 | CZ16: =IF(Loading!I734<0, 0, Loading!I734) -> 0 | DA16: =IF(Loading!J14<0, 0, Loading!J14) -> 0 | DB16: =IF(Loading!J62<0, 0, Loading!J62) -> 0 | DC16: =IF(Loading!J110<0, 0, Loading!J110) -> 0 | DD16: =IF(Loading!J158<0, 0, Loading!J158) -> 0 | DE16: =IF(Loading!J206<0, 0, Loading!J206) -> 0 | DF16: =IF(Loading!J254<0, 0, Loading!J254) -> 0 | DG16: =IF(Loading!J302<0, 0, Loading!J302) -> 0 | DH16: =IF(Loading!J350<0, 0, Loading!J350) -> 0 | DI16: =IF(Loading!J398<0, 0, Loading!J398) -> 0 | DJ16: =IF(Loading!J446<0, 0, Loading!J446) -> 0 | DK16: =IF(Loading!J494<0, 0, Loading!J494) -> 0 | DL16: =IF(Loading!J542<0, 0, Loading!J542) -> 0 | DM16: =IF(Loading!J590<0, 0, Loading!J590) -> 0 | DN16: =IF(Loading!J638<0, 0, Loading!J638) -> 0 | DO16: =IF(Loading!J686<0, 0, Loading!J686) -> 0 | DP16: =IF(Loading!J734<0, 0, Loading!J734) -> 0 | DQ16: =IF(Loading!K14<0, 0, Loading!K14) -> 0 | DR16: =IF(Loading!K62<0, 0, Loading!K62) -> 0 | DS16: =IF(Loading!K110<0, 0, Loading!K110) -> 0 | DT16: =IF(Loading!K158<0, 0, Loading!K158) -> 0 | DU16: =IF(Loading!K206<0, 0, Loading!K206) -> 0 | DV16: =IF(Loading!K254<0, 0, Loading!K254) -> 0 | DW16: =IF(Loading!K302<0, 0, Loading!K302) -> 0 | DX16: =IF(Loading!K350<0, 0, Loading!K350) -> 0
H17: IgD | I17: =IF(Loading!D15<0, 0, Loading!D15) -> 0 | J17: =IF(Loading!D63<0, 0, Loading!D63) -> 0 | K17: =IF(Loading!D111<0, 0, Loading!D111) -> 0 | L17: =IF(Loading!D159<0, 0, Loading!D159) -> 0 | M17: =IF(Loading!D207<0, 0, Loading!D207) -> 0 | N17: =IF(Loading!D255<0, 0, Loading!D255) -> 0 | O17: =IF(Loading!D303<0, 0, Loading!D303) -> 0 | P17: =IF(Loading!D351<0, 0, Loading!D351) -> 0 | Q17: =IF(Loading!D399<0, 0, Loading!D399) -> 0 | R17: =IF(Loading!D447<0, 0, Loading!D447) -> 0 | S17: =IF(Loading!D495<0, 0, Loading!D495) -> 0 | T17: =IF(Loading!D543<0, 0, Loading!D543) -> 0 | U17: =IF(Loading!D591<0, 0, Loading!D591) -> 0 | V17: =IF(Loading!D639<0, 0, Loading!D639) -> 0 | W17: =IF(Loading!D687<0, 0, Loading!D687) -> 0 | X17: =IF(Loading!D735<0, 0, Loading!D735) -> 0 | Y17: =IF(Loading!E15<0, 0, Loading!E15) -> 0 | Z17: =IF(Loading!E63<0, 0, Loading!E63) -> 0 | AA17: =IF(Loading!E111<0, 0, Loading!E111) -> 0 | AB17: =IF(Loading!E159<0, 0, Loading!E159) -> 0 | AC17: =IF(Loading!E207<0, 0, Loading!E207) -> 0 | AD17: =IF(Loading!E255<0, 0, Loading!E255) -> 0 | AE17: =IF(Loading!E303<0, 0, Loading!E303) -> 0 | AF17: =IF(Loading!E351<0, 0, Loading!E351) -> 0 | AG17: =IF(Loading!E399<0, 0, Loading!E399) -> 0 | AH17: =IF(Loading!E447<0, 0, Loading!E447) -> 0 | AI17: =IF(Loading!E495<0, 0, Loading!E495) -> 0 | AJ17: =IF(Loading!E543<0, 0, Loading!E543) -> 0 | AK17: =IF(Loading!E591<0, 0, Loading!E591) -> 0 | AL17: =IF(Loading!E639<0, 0, Loading!E639) -> 0 | AM17: =IF(Loading!E687<0, 0, Loading!E687) -> 0 | AN17: =IF(Loading!E735<0, 0, Loading!E735) -> 0 | AO17: =IF(Loading!F15<0, 0, Loading!F15) -> 0 | AP17: =IF(Loading!F63<0, 0, Loading!F63) -> 0 | AQ17: =IF(Loading!F111<0, 0, Loading!F111) -> 0 | AR17: =IF(Loading!F159<0, 0, Loading!F159) -> 0 | AS17: =IF(Loading!F207<0, 0, Loading!F207) -> 0 | AT17: =IF(Loading!F255<0, 0, Loading!F255) -> 0 | AU17: =IF(Loading!F303<0, 0, Loading!F303) -> 0 | AV17: =IF(Loading!F351<0, 0, Loading!F351) -> 0 | AW17: =IF(Loading!F399<0, 0, Loading!F399) -> 0 | AX17: =IF(Loading!F447<0, 0, Loading!F447) -> 0 | AY17: =IF(Loading!F495<0, 0, Loading!F495) -> 0 | AZ17: =IF(Loading!F543<0, 0, Loading!F543) -> 0 | BA17: =IF(Loading!F591<0, 0, Loading!F591) -> 0 | BB17: =IF(Loading!F639<0, 0, Loading!F639) -> 0 | BC17: =IF(Loading!F687<0, 0, Loading!F687) -> 0 | BD17: =IF(Loading!F735<0, 0, Loading!F735) -> 0 | BE17: =IF(Loading!G15<0, 0, Loading!G15) -> 0 | BF17: =IF(Loading!G63<0, 0, Loading!G63) -> 0 | BG17: =IF(Loading!G111<0, 0, Loading!G111) -> 0 | BH17: =IF(Loading!G159<0, 0, Loading!G159) -> 0 | BI17: =IF(Loading!G207<0, 0, Loading!G207) -> 0 | BJ17: =IF(Loading!G255<0, 0, Loading!G255) -> 0 | BK17: =IF(Loading!G303<0, 0, Loading!G303) -> 0 | BL17: =IF(Loading!G351<0, 0, Loading!G351) -> 0 | BM17: =IF(Loading!G399<0, 0, Loading!G399) -> 0 | BN17: =IF(Loading!G447<0, 0, Loading!G447) -> 0 | BO17: =IF(Loading!G495<0, 0, Loading!G495) -> 0 | BP17: =IF(Loading!G543<0, 0, Loading!G543) -> 0 | BQ17: =IF(Loading!G591<0, 0, Loading!G591) -> 0 | BR17: =IF(Loading!G639<0, 0, Loading!G639) -> 0 | BS17: =IF(Loading!G687<0, 0, Loading!G687) -> 0 | BT17: =IF(Loading!G735<0, 0, Loading!G735) -> 0 | BU17: =IF(Loading!H15<0, 0, Loading!H15) -> 0 | BV17: =IF(Loading!H63<0, 0, Loading!H63) -> 0 | BW17: =IF(Loading!H111<0, 0, Loading!H111) -> 0 | BX17: =IF(Loading!H159<0, 0, Loading!H159) -> 0 | BY17: =IF(Loading!H207<0, 0, Loading!H207) -> 0 | BZ17: =IF(Loading!H255<0, 0, Loading!H255) -> 0 | CA17: =IF(Loading!H303<0, 0, Loading!H303) -> 0 | CB17: =IF(Loading!H351<0, 0, Loading!H351) -> 0 | CC17: =IF(Loading!H399<0, 0, Loading!H399) -> 0 | CD17: =IF(Loading!H447<0, 0, Loading!H447) -> 0 | CE17: =IF(Loading!H495<0, 0, Loading!H495) -> 0 | CF17: =IF(Loading!H543<0, 0, Loading!H543) -> 0 | CG17: =IF(Loading!H591<0, 0, Loading!H591) -> 0 | CH17: =IF(Loading!H639<0, 0, Loading!H639) -> 0 | CI17: =IF(Loading!H687<0, 0, Loading!H687) -> 0 | CJ17: =IF(Loading!H735<0, 0, Loading!H735) -> 0 | CK17: =IF(Loading!I15<0, 0, Loading!I15) -> 0 | CL17: =IF(Loading!I63<0, 0, Loading!I63) -> 0 | CM17: =IF(Loading!I111<0, 0, Loading!I111) -> 0 | CN17: =IF(Loading!I159<0, 0, Loading!I159) -> 0 | CO17: =IF(Loading!I207<0, 0, Loading!I207) -> 0 | CP17: =IF(Loading!I255<0, 0, Loading!I255) -> 0 | CQ17: =IF(Loading!I303<0, 0, Loading!I303) -> 0 | CR17: =IF(Loading!I351<0, 0, Loading!I351) -> 0 | CS17: =IF(Loading!I399<0, 0, Loading!I399) -> 0 | CT17: =IF(Loading!I447<0, 0, Loading!I447) -> 0 | CU17: =IF(Loading!I495<0, 0, Loading!I495) -> 0 | CV17: =IF(Loading!I543<0, 0, Loading!I543) -> 0 | CW17: =IF(Loading!I591<0, 0, Loading!I591) -> 0 | CX17: =IF(Loading!I639<0, 0, Loading!I639) -> 0 | CY17: =IF(Loading!I687<0, 0, Loading!I687) -> 0 | CZ17: =IF(Loading!I735<0, 0, Loading!I735) -> 0 | DA17: =IF(Loading!J15<0, 0, Loading!J15) -> 0 | DB17: =IF(Loading!J63<0, 0, Loading!J63) -> 0 | DC17: =IF(Loading!J111<0, 0, Loading!J111) -> 0 | DD17: =IF(Loading!J159<0, 0, Loading!J159) -> 0 | DE17: =IF(Loading!J207<0, 0, Loading!J207) -> 0 | DF17: =IF(Loading!J255<0, 0, Loading!J255) -> 0 | DG17: =IF(Loading!J303<0, 0, Loading!J303) -> 0 | DH17: =IF(Loading!J351<0, 0, Loading!J351) -> 0 | DI17: =IF(Loading!J399<0, 0, Loading!J399) -> 0 | DJ17: =IF(Loading!J447<0, 0, Loading!J447) -> 0 | DK17: =IF(Loading!J495<0, 0, Loading!J495) -> 0 | DL17: =IF(Loading!J543<0, 0, Loading!J543) -> 0 | DM17: =IF(Loading!J591<0, 0, Loading!J591) -> 0 | DN17: =IF(Loading!J639<0, 0, Loading!J639) -> 0 | DO17: =IF(Loading!J687<0, 0, Loading!J687) -> 0 | DP17: =IF(Loading!J735<0, 0, Loading!J735) -> 0 | DQ17: =IF(Loading!K15<0, 0, Loading!K15) -> 0 | DR17: =IF(Loading!K63<0, 0, Loading!K63) -> 0 | DS17: =IF(Loading!K111<0, 0, Loading!K111) -> 0 | DT17: =IF(Loading!K159<0, 0, Loading!K159) -> 0 | DU17: =IF(Loading!K207<0, 0, Loading!K207) -> 0 | DV17: =IF(Loading!K255<0, 0, Loading!K255) -> 0 | DW17: =IF(Loading!K303<0, 0, Loading!K303) -> 0 | DX17: =IF(Loading!K351<0, 0, Loading!K351) -> 0 | DZ17: =(1+$AE$2)*MEDIAN(I17:I20) -> 0 | EA17: =(1+$AE$2)*MEDIAN(J17:J20) -> 0 | EB17: =(1+$AE$2)*MEDIAN(K17:K20) -> 0 | EC17: =(1+$AE$2)*MEDIAN(L17:L20) -> 0 | ED17: =(1+$AE$2)*MEDIAN(M17:M20) -> 0 | EE17: =(1+$AE$2)*MEDIAN(N17:N20) -> 0 | EF17: =(1+$AE$2)*MEDIAN(O17:O20) -> 0 | EG17: =(1+$AE$2)*MEDIAN(P17:P20) -> 0 | ... IO17: =(1+$AE$2)*MEDIAN(DX17:DX20) -> 0
H18: IgD | I18: =IF(Loading!D16<0, 0, Loading!D16) -> 0 | J18: =IF(Loading!D64<0, 0, Loading!D64) -> 0 | K18: =IF(Loading!D112<0, 0, Loading!D112) -> 0 | L18: =IF(Loading!D160<0, 0, Loading!D160) -> 0 | M18: =IF(Loading!D208<0, 0, Loading!D208) -> 0 | N18: =IF(Loading!D256<0, 0, Loading!D256) -> 0 | O18: =IF(Loading!D304<0, 0, Loading!D304) -> 0 | P18: =IF(Loading!D352<0, 0, Loading!D352) -> 0 | Q18: =IF(Loading!D400<0, 0, Loading!D400) -> 0 | R18: =IF(Loading!D448<0, 0, Loading!D448) -> 0 | S18: =IF(Loading!D496<0, 0, Loading!D496) -> 0 | T18: =IF(Loading!D544<0, 0, Loading!D544) -> 0 | U18: =IF(Loading!D592<0, 0, Loading!D592) -> 0 | V18: =IF(Loading!D640<0, 0, Loading!D640) -> 0 | W18: =IF(Loading!D688<0, 0, Loading!D688) -> 0 | X18: =IF(Loading!D736<0, 0, Loading!D736) -> 0 | Y18: =IF(Loading!E16<0, 0, Loading!E16) -> 0 | Z18: =IF(Loading!E64<0, 0, Loading!E64) -> 0 | AA18: =IF(Loading!E112<0, 0, Loading!E112) -> 0 | AB18: =IF(Loading!E160<0, 0, Loading!E160) -> 0 | AC18: =IF(Loading!E208<0, 0, Loading!E208) -> 0 | AD18: =IF(Loading!E256<0, 0, Loading!E256) -> 0 | AE18: =IF(Loading!E304<0, 0, Loading!E304) -> 0 | AF18: =IF(Loading!E352<0, 0, Loading!E352) -> 0 | AG18: =IF(Loading!E400<0, 0, Loading!E400) -> 0 | AH18: =IF(Loading!E448<0, 0, Loading!E448) -> 0 | AI18: =IF(Loading!E496<0, 0, Loading!E496) -> 0 | AJ18: =IF(Loading!E544<0, 0, Loading!E544) -> 0 | AK18: =IF(Loading!E592<0, 0, Loading!E592) -> 0 | AL18: =IF(Loading!E640<0, 0, Loading!E640) -> 0 | AM18: =IF(Loading!E688<0, 0, Loading!E688) -> 0 | AN18: =IF(Loading!E736<0, 0, Loading!E736) -> 0 | AO18: =IF(Loading!F16<0, 0, Loading!F16) -> 0 | AP18: =IF(Loading!F64<0, 0, Loading!F64) -> 0 | AQ18: =IF(Loading!F112<0, 0, Loading!F112) -> 0 | AR18: =IF(Loading!F160<0, 0, Loading!F160) -> 0 | AS18: =IF(Loading!F208<0, 0, Loading!F208) -> 0 | AT18: =IF(Loading!F256<0, 0, Loading!F256) -> 0 | AU18: =IF(Loading!F304<0, 0, Loading!F304) -> 0 | AV18: =IF(Loading!F352<0, 0, Loading!F352) -> 0 | AW18: =IF(Loading!F400<0, 0, Loading!F400) -> 0 | AX18: =IF(Loading!F448<0, 0, Loading!F448) -> 0 | AY18: =IF(Loading!F496<0, 0, Loading!F496) -> 0 | AZ18: =IF(Loading!F544<0, 0, Loading!F544) -> 0 | BA18: =IF(Loading!F592<0, 0, Loading!F592) -> 0 | BB18: =IF(Loading!F640<0, 0, Loading!F640) -> 0 | BC18: =IF(Loading!F688<0, 0, Loading!F688) -> 0 | BD18: =IF(Loading!F736<0, 0, Loading!F736) -> 0 | BE18: =IF(Loading!G16<0, 0, Loading!G16) -> 0 | BF18: =IF(Loading!G64<0, 0, Loading!G64) -> 0 | BG18: =IF(Loading!G112<0, 0, Loading!G112) -> 0 | BH18: =IF(Loading!G160<0, 0, Loading!G160) -> 0 | BI18: =IF(Loading!G208<0, 0, Loading!G208) -> 0 | BJ18: =IF(Loading!G256<0, 0, Loading!G256) -> 0 | BK18: =IF(Loading!G304<0, 0, Loading!G304) -> 0 | BL18: =IF(Loading!G352<0, 0, Loading!G352) -> 0 | BM18: =IF(Loading!G400<0, 0, Loading!G400) -> 0 | BN18: =IF(Loading!G448<0, 0, Loading!G448) -> 0 | BO18: =IF(Loading!G496<0, 0, Loading!G496) -> 0 | BP18: =IF(Loading!G544<0, 0, Loading!G544) -> 0 | BQ18: =IF(Loading!G592<0, 0, Loading!G592) -> 0 | BR18: =IF(Loading!G640<0, 0, Loading!G640) -> 0 | BS18: =IF(Loading!G688<0, 0, Loading!G688) -> 0 | BT18: =IF(Loading!G736<0, 0, Loading!G736) -> 0 | BU18: =IF(Loading!H16<0, 0, Loading!H16) -> 0 | BV18: =IF(Loading!H64<0, 0, Loading!H64) -> 0 | BW18: =IF(Loading!H112<0, 0, Loading!H112) -> 0 | BX18: =IF(Loading!H160<0, 0, Loading!H160) -> 0 | BY18: =IF(Loading!H208<0, 0, Loading!H208) -> 0 | BZ18: =IF(Loading!H256<0, 0, Loading!H256) -> 0 | CA18: =IF(Loading!H304<0, 0, Loading!H304) -> 0 | CB18: =IF(Loading!H352<0, 0, Loading!H352) -> 0 | CC18: =IF(Loading!H400<0, 0, Loading!H400) -> 0 | CD18: =IF(Loading!H448<0, 0, Loading!H448) -> 0 | CE18: =IF(Loading!H496<0, 0, Loading!H496) -> 0 | CF18: =IF(Loading!H544<0, 0, Loading!H544) -> 0 | CG18: =IF(Loading!H592<0, 0, Loading!H592) -> 0 | CH18: =IF(Loading!H640<0, 0, Loading!H640) -> 0 | CI18: =IF(Loading!H688<0, 0, Loading!H688) -> 0 | CJ18: =IF(Loading!H736<0, 0, Loading!H736) -> 0 | CK18: =IF(Loading!I16<0, 0, Loading!I16) -> 0 | CL18: =IF(Loading!I64<0, 0, Loading!I64) -> 0 | CM18: =IF(Loading!I112<0, 0, Loading!I112) -> 0 | CN18: =IF(Loading!I160<0, 0, Loading!I160) -> 0 | CO18: =IF(Loading!I208<0, 0, Loading!I208) -> 0 | CP18: =IF(Loading!I256<0, 0, Loading!I256) -> 0 | CQ18: =IF(Loading!I304<0, 0, Loading!I304) -> 0 | CR18: =IF(Loading!I352<0, 0, Loading!I352) -> 0 | CS18: =IF(Loading!I400<0, 0, Loading!I400) -> 0 | CT18: =IF(Loading!I448<0, 0, Loading!I448) -> 0 | CU18: =IF(Loading!I496<0, 0, Loading!I496) -> 0 | CV18: =IF(Loading!I544<0, 0, Loading!I544) -> 0 | CW18: =IF(Loading!I592<0, 0, Loading!I592) -> 0 | CX18: =IF(Loading!I640<0, 0, Loading!I640) -> 0 | CY18: =IF(Loading!I688<0, 0, Loading!I688) -> 0 | CZ18: =IF(Loading!I736<0, 0, Loading!I736) -> 0 | DA18: =IF(Loading!J16<0, 0, Loading!J16) -> 0 | DB18: =IF(Loading!J64<0, 0, Loading!J64) -> 0 | DC18: =IF(Loading!J112<0, 0, Loading!J112) -> 0 | DD18: =IF(Loading!J160<0, 0, Loading!J160) -> 0 | DE18: =IF(Loading!J208<0, 0, Loading!J208) -> 0 | DF18: =IF(Loading!J256<0, 0, Loading!J256) -> 0 | DG18: =IF(Loading!J304<0, 0, Loading!J304) -> 0 | DH18: =IF(Loading!J352<0, 0, Loading!J352) -> 0 | DI18: =IF(Loading!J400<0, 0, Loading!J400) -> 0 | DJ18: =IF(Loading!J448<0, 0, Loading!J448) -> 0 | DK18: =IF(Loading!J496<0, 0, Loading!J496) -> 0 | DL18: =IF(Loading!J544<0, 0, Loading!J544) -> 0 | DM18: =IF(Loading!J592<0, 0, Loading!J592) -> 0 | DN18: =IF(Loading!J640<0, 0, Loading!J640) -> 0 | DO18: =IF(Loading!J688<0, 0, Loading!J688) -> 0 | DP18: =IF(Loading!J736<0, 0, Loading!J736) -> 0 | DQ18: =IF(Loading!K16<0, 0, Loading!K16) -> 0 | DR18: =IF(Loading!K64<0, 0, Loading!K64) -> 0 | DS18: =IF(Loading!K112<0, 0, Loading!K112) -> 0 | DT18: =IF(Loading!K160<0, 0, Loading!K160) -> 0 | DU18: =IF(Loading!K208<0, 0, Loading!K208) -> 0 | DV18: =IF(Loading!K256<0, 0, Loading!K256) -> 0 | DW18: =IF(Loading!K304<0, 0, Loading!K304) -> 0 | DX18: =IF(Loading!K352<0, 0, Loading!K352) -> 0 | DZ18: =(1-$AE$2)*MEDIAN(I17:I20) -> 0 | EA18: =(1-$AE$2)*MEDIAN(J17:J20) -> 0 | EB18: =(1-$AE$2)*MEDIAN(K17:K20) -> 0 | EC18: =(1-$AE$2)*MEDIAN(L17:L20) -> 0 | ED18: =(1-$AE$2)*MEDIAN(M17:M20) -> 0 | EE18: =(1-$AE$2)*MEDIAN(N17:N20) -> 0 | EF18: =(1-$AE$2)*MEDIAN(O17:O20) -> 0 | EG18: =(1-$AE$2)*MEDIAN(P17:P20) -> 0 | ... IO18: =(1-$AE$2)*MEDIAN(DX17:DX20) -> 0
H19: IgD | I19: =IF(Loading!D17<0, 0, Loading!D17) -> 0 | J19: =IF(Loading!D65<0, 0, Loading!D65) -> 0 | K19: =IF(Loading!D113<0, 0, Loading!D113) -> 0 | L19: =IF(Loading!D161<0, 0, Loading!D161) -> 0 | M19: =IF(Loading!D209<0, 0, Loading!D209) -> 0 | N19: =IF(Loading!D257<0, 0, Loading!D257) -> 0 | O19: =IF(Loading!D305<0, 0, Loading!D305) -> 0 | P19: =IF(Loading!D353<0, 0, Loading!D353) -> 0 | Q19: =IF(Loading!D401<0, 0, Loading!D401) -> 0 | R19: =IF(Loading!D449<0, 0, Loading!D449) -> 0 | S19: =IF(Loading!D497<0, 0, Loading!D497) -> 0 | T19: =IF(Loading!D545<0, 0, Loading!D545) -> 0 | U19: =IF(Loading!D593<0, 0, Loading!D593) -> 0 | V19: =IF(Loading!D641<0, 0, Loading!D641) -> 0 | W19: =IF(Loading!D689<0, 0, Loading!D689) -> 0 | X19: =IF(Loading!D737<0, 0, Loading!D737) -> 0 | Y19: =IF(Loading!E17<0, 0, Loading!E17) -> 0 | Z19: =IF(Loading!E65<0, 0, Loading!E65) -> 0 | AA19: =IF(Loading!E113<0, 0, Loading!E113) -> 0 | AB19: =IF(Loading!E161<0, 0, Loading!E161) -> 0 | AC19: =IF(Loading!E209<0, 0, Loading!E209) -> 0 | AD19: =IF(Loading!E257<0, 0, Loading!E257) -> 0 | AE19: =IF(Loading!E305<0, 0, Loading!E305) -> 0 | AF19: =IF(Loading!E353<0, 0, Loading!E353) -> 0 | AG19: =IF(Loading!E401<0, 0, Loading!E401) -> 0 | AH19: =IF(Loading!E449<0, 0, Loading!E449) -> 0 | AI19: =IF(Loading!E497<0, 0, Loading!E497) -> 0 | AJ19: =IF(Loading!E545<0, 0, Loading!E545) -> 0 | AK19: =IF(Loading!E593<0, 0, Loading!E593) -> 0 | AL19: =IF(Loading!E641<0, 0, Loading!E641) -> 0 | AM19: =IF(Loading!E689<0, 0, Loading!E689) -> 0 | AN19: =IF(Loading!E737<0, 0, Loading!E737) -> 0 | AO19: =IF(Loading!F17<0, 0, Loading!F17) -> 0 | AP19: =IF(Loading!F65<0, 0, Loading!F65) -> 0 | AQ19: =IF(Loading!F113<0, 0, Loading!F113) -> 0 | AR19: =IF(Loading!F161<0, 0, Loading!F161) -> 0 | AS19: =IF(Loading!F209<0, 0, Loading!F209) -> 0 | AT19: =IF(Loading!F257<0, 0, Loading!F257) -> 0 | AU19: =IF(Loading!F305<0, 0, Loading!F305) -> 0 | AV19: =IF(Loading!F353<0, 0, Loading!F353) -> 0 | AW19: =IF(Loading!F401<0, 0, Loading!F401) -> 0 | AX19: =IF(Loading!F449<0, 0, Loading!F449) -> 0 | AY19: =IF(Loading!F497<0, 0, Loading!F497) -> 0 | AZ19: =IF(Loading!F545<0, 0, Loading!F545) -> 0 | BA19: =IF(Loading!F593<0, 0, Loading!F593) -> 0 | BB19: =IF(Loading!F641<0, 0, Loading!F641) -> 0 | BC19: =IF(Loading!F689<0, 0, Loading!F689) -> 0 | BD19: =IF(Loading!F737<0, 0, Loading!F737) -> 0 | BE19: =IF(Loading!G17<0, 0, Loading!G17) -> 0 | BF19: =IF(Loading!G65<0, 0, Loading!G65) -> 0 | BG19: =IF(Loading!G113<0, 0, Loading!G113) -> 0 | BH19: =IF(Loading!G161<0, 0, Loading!G161) -> 0 | BI19: =IF(Loading!G209<0, 0, Loading!G209) -> 0 | BJ19: =IF(Loading!G257<0, 0, Loading!G257) -> 0 | BK19: =IF(Loading!G305<0, 0, Loading!G305) -> 0 | BL19: =IF(Loading!G353<0, 0, Loading!G353) -> 0 | BM19: =IF(Loading!G401<0, 0, Loading!G401) -> 0 | BN19: =IF(Loading!G449<0, 0, Loading!G449) -> 0 | BO19: =IF(Loading!G497<0, 0, Loading!G497) -> 0 | BP19: =IF(Loading!G545<0, 0, Loading!G545) -> 0 | BQ19: =IF(Loading!G593<0, 0, Loading!G593) -> 0 | BR19: =IF(Loading!G641<0, 0, Loading!G641) -> 0 | BS19: =IF(Loading!G689<0, 0, Loading!G689) -> 0 | BT19: =IF(Loading!G737<0, 0, Loading!G737) -> 0 | BU19: =IF(Loading!H17<0, 0, Loading!H17) -> 0 | BV19: =IF(Loading!H65<0, 0, Loading!H65) -> 0 | BW19: =IF(Loading!H113<0, 0, Loading!H113) -> 0 | BX19: =IF(Loading!H161<0, 0, Loading!H161) -> 0 | BY19: =IF(Loading!H209<0, 0, Loading!H209) -> 0 | BZ19: =IF(Loading!H257<0, 0, Loading!H257) -> 0 | CA19: =IF(Loading!H305<0, 0, Loading!H305) -> 0 | CB19: =IF(Loading!H353<0, 0, Loading!H353) -> 0 | CC19: =IF(Loading!H401<0, 0, Loading!H401) -> 0 | CD19: =IF(Loading!H449<0, 0, Loading!H449) -> 0 | CE19: =IF(Loading!H497<0, 0, Loading!H497) -> 0 | CF19: =IF(Loading!H545<0, 0, Loading!H545) -> 0 | CG19: =IF(Loading!H593<0, 0, Loading!H593) -> 0 | CH19: =IF(Loading!H641<0, 0, Loading!H641) -> 0 | CI19: =IF(Loading!H689<0, 0, Loading!H689) -> 0 | CJ19: =IF(Loading!H737<0, 0, Loading!H737) -> 0 | CK19: =IF(Loading!I17<0, 0, Loading!I17) -> 0 | CL19: =IF(Loading!I65<0, 0, Loading!I65) -> 0 | CM19: =IF(Loading!I113<0, 0, Loading!I113) -> 0 | CN19: =IF(Loading!I161<0, 0, Loading!I161) -> 0 | CO19: =IF(Loading!I209<0, 0, Loading!I209) -> 0 | CP19: =IF(Loading!I257<0, 0, Loading!I257) -> 0 | CQ19: =IF(Loading!I305<0, 0, Loading!I305) -> 0 | CR19: =IF(Loading!I353<0, 0, Loading!I353) -> 0 | CS19: =IF(Loading!I401<0, 0, Loading!I401) -> 0 | CT19: =IF(Loading!I449<0, 0, Loading!I449) -> 0 | CU19: =IF(Loading!I497<0, 0, Loading!I497) -> 0 | CV19: =IF(Loading!I545<0, 0, Loading!I545) -> 0 | CW19: =IF(Loading!I593<0, 0, Loading!I593) -> 0 | CX19: =IF(Loading!I641<0, 0, Loading!I641) -> 0 | CY19: =IF(Loading!I689<0, 0, Loading!I689) -> 0 | CZ19: =IF(Loading!I737<0, 0, Loading!I737) -> 0 | DA19: =IF(Loading!J17<0, 0, Loading!J17) -> 0 | DB19: =IF(Loading!J65<0, 0, Loading!J65) -> 0 | DC19: =IF(Loading!J113<0, 0, Loading!J113) -> 0 | DD19: =IF(Loading!J161<0, 0, Loading!J161) -> 0 | DE19: =IF(Loading!J209<0, 0, Loading!J209) -> 0 | DF19: =IF(Loading!J257<0, 0, Loading!J257) -> 0 | DG19: =IF(Loading!J305<0, 0, Loading!J305) -> 0 | DH19: =IF(Loading!J353<0, 0, Loading!J353) -> 0 | DI19: =IF(Loading!J401<0, 0, Loading!J401) -> 0 | DJ19: =IF(Loading!J449<0, 0, Loading!J449) -> 0 | DK19: =IF(Loading!J497<0, 0, Loading!J497) -> 0 | DL19: =IF(Loading!J545<0, 0, Loading!J545) -> 0 | DM19: =IF(Loading!J593<0, 0, Loading!J593) -> 0 | DN19: =IF(Loading!J641<0, 0, Loading!J641) -> 0 | DO19: =IF(Loading!J689<0, 0, Loading!J689) -> 0 | DP19: =IF(Loading!J737<0, 0, Loading!J737) -> 0 | DQ19: =IF(Loading!K17<0, 0, Loading!K17) -> 0 | DR19: =IF(Loading!K65<0, 0, Loading!K65) -> 0 | DS19: =IF(Loading!K113<0, 0, Loading!K113) -> 0 | DT19: =IF(Loading!K161<0, 0, Loading!K161) -> 0 | DU19: =IF(Loading!K209<0, 0, Loading!K209) -> 0 | DV19: =IF(Loading!K257<0, 0, Loading!K257) -> 0 | DW19: =IF(Loading!K305<0, 0, Loading!K305) -> 0 | DX19: =IF(Loading!K353<0, 0, Loading!K353) -> 0
H20: IgD | I20: =IF(Loading!D18<0, 0, Loading!D18) -> 0 | J20: =IF(Loading!D66<0, 0, Loading!D66) -> 0 | K20: =IF(Loading!D114<0, 0, Loading!D114) -> 0 | L20: =IF(Loading!D162<0, 0, Loading!D162) -> 0 | M20: =IF(Loading!D210<0, 0, Loading!D210) -> 0 | N20: =IF(Loading!D258<0, 0, Loading!D258) -> 0 | O20: =IF(Loading!D306<0, 0, Loading!D306) -> 0 | P20: =IF(Loading!D354<0, 0, Loading!D354) -> 0 | Q20: =IF(Loading!D402<0, 0, Loading!D402) -> 0 | R20: =IF(Loading!D450<0, 0, Loading!D450) -> 0 | S20: =IF(Loading!D498<0, 0, Loading!D498) -> 0 | T20: =IF(Loading!D546<0, 0, Loading!D546) -> 0 | U20: =IF(Loading!D594<0, 0, Loading!D594) -> 0 | V20: =IF(Loading!D642<0, 0, Loading!D642) -> 0 | W20: =IF(Loading!D690<0, 0, Loading!D690) -> 0 | X20: =IF(Loading!D738<0, 0, Loading!D738) -> 0 | Y20: =IF(Loading!E18<0, 0, Loading!E18) -> 0 | Z20: =IF(Loading!E66<0, 0, Loading!E66) -> 0 | AA20: =IF(Loading!E114<0, 0, Loading!E114) -> 0 | AB20: =IF(Loading!E162<0, 0, Loading!E162) -> 0 | AC20: =IF(Loading!E210<0, 0, Loading!E210) -> 0 | AD20: =IF(Loading!E258<0, 0, Loading!E258) -> 0 | AE20: =IF(Loading!E306<0, 0, Loading!E306) -> 0 | AF20: =IF(Loading!E354<0, 0, Loading!E354) -> 0 | AG20: =IF(Loading!E402<0, 0, Loading!E402) -> 0 | AH20: =IF(Loading!E450<0, 0, Loading!E450) -> 0 | AI20: =IF(Loading!E498<0, 0, Loading!E498) -> 0 | AJ20: =IF(Loading!E546<0, 0, Loading!E546) -> 0 | AK20: =IF(Loading!E594<0, 0, Loading!E594) -> 0 | AL20: =IF(Loading!E642<0, 0, Loading!E642) -> 0 | AM20: =IF(Loading!E690<0, 0, Loading!E690) -> 0 | AN20: =IF(Loading!E738<0, 0, Loading!E738) -> 0 | AO20: =IF(Loading!F18<0, 0, Loading!F18) -> 0 | AP20: =IF(Loading!F66<0, 0, Loading!F66) -> 0 | AQ20: =IF(Loading!F114<0, 0, Loading!F114) -> 0 | AR20: =IF(Loading!F162<0, 0, Loading!F162) -> 0 | AS20: =IF(Loading!F210<0, 0, Loading!F210) -> 0 | AT20: =IF(Loading!F258<0, 0, Loading!F258) -> 0 | AU20: =IF(Loading!F306<0, 0, Loading!F306) -> 0 | AV20: =IF(Loading!F354<0, 0, Loading!F354) -> 0 | AW20: =IF(Loading!F402<0, 0, Loading!F402) -> 0 | AX20: =IF(Loading!F450<0, 0, Loading!F450) -> 0 | AY20: =IF(Loading!F498<0, 0, Loading!F498) -> 0 | AZ20: =IF(Loading!F546<0, 0, Loading!F546) -> 0 | BA20: =IF(Loading!F594<0, 0, Loading!F594) -> 0 | BB20: =IF(Loading!F642<0, 0, Loading!F642) -> 0 | BC20: =IF(Loading!F690<0, 0, Loading!F690) -> 0 | BD20: =IF(Loading!F738<0, 0, Loading!F738) -> 0 | BE20: =IF(Loading!G18<0, 0, Loading!G18) -> 0 | BF20: =IF(Loading!G66<0, 0, Loading!G66) -> 0 | BG20: =IF(Loading!G114<0, 0, Loading!G114) -> 0 | BH20: =IF(Loading!G162<0, 0, Loading!G162) -> 0 | BI20: =IF(Loading!G210<0, 0, Loading!G210) -> 0 | BJ20: =IF(Loading!G258<0, 0, Loading!G258) -> 0 | BK20: =IF(Loading!G306<0, 0, Loading!G306) -> 0 | BL20: =IF(Loading!G354<0, 0, Loading!G354) -> 0 | BM20: =IF(Loading!G402<0, 0, Loading!G402) -> 0 | BN20: =IF(Loading!G450<0, 0, Loading!G450) -> 0 | BO20: =IF(Loading!G498<0, 0, Loading!G498) -> 0 | BP20: =IF(Loading!G546<0, 0, Loading!G546) -> 0 | BQ20: =IF(Loading!G594<0, 0, Loading!G594) -> 0 | BR20: =IF(Loading!G642<0, 0, Loading!G642) -> 0 | BS20: =IF(Loading!G690<0, 0, Loading!G690) -> 0 | BT20: =IF(Loading!G738<0, 0, Loading!G738) -> 0 | BU20: =IF(Loading!H18<0, 0, Loading!H18) -> 0 | BV20: =IF(Loading!H66<0, 0, Loading!H66) -> 0 | BW20: =IF(Loading!H114<0, 0, Loading!H114) -> 0 | BX20: =IF(Loading!H162<0, 0, Loading!H162) -> 0 | BY20: =IF(Loading!H210<0, 0, Loading!H210) -> 0 | BZ20: =IF(Loading!H258<0, 0, Loading!H258) -> 0 | CA20: =IF(Loading!H306<0, 0, Loading!H306) -> 0 | CB20: =IF(Loading!H354<0, 0, Loading!H354) -> 0 | CC20: =IF(Loading!H402<0, 0, Loading!H402) -> 0 | CD20: =IF(Loading!H450<0, 0, Loading!H450) -> 0 | CE20: =IF(Loading!H498<0, 0, Loading!H498) -> 0 | CF20: =IF(Loading!H546<0, 0, Loading!H546) -> 0 | CG20: =IF(Loading!H594<0, 0, Loading!H594) -> 0 | CH20: =IF(Loading!H642<0, 0, Loading!H642) -> 0 | CI20: =IF(Loading!H690<0, 0, Loading!H690) -> 0 | CJ20: =IF(Loading!H738<0, 0, Loading!H738) -> 0 | CK20: =IF(Loading!I18<0, 0, Loading!I18) -> 0 | CL20: =IF(Loading!I66<0, 0, Loading!I66) -> 0 | CM20: =IF(Loading!I114<0, 0, Loading!I114) -> 0 | CN20: =IF(Loading!I162<0, 0, Loading!I162) -> 0 | CO20: =IF(Loading!I210<0, 0, Loading!I210) -> 0 | CP20: =IF(Loading!I258<0, 0, Loading!I258) -> 0 | CQ20: =IF(Loading!I306<0, 0, Loading!I306) -> 0 | CR20: =IF(Loading!I354<0, 0, Loading!I354) -> 0 | CS20: =IF(Loading!I402<0, 0, Loading!I402) -> 0 | CT20: =IF(Loading!I450<0, 0, Loading!I450) -> 0 | CU20: =IF(Loading!I498<0, 0, Loading!I498) -> 0 | CV20: =IF(Loading!I546<0, 0, Loading!I546) -> 0 | CW20: =IF(Loading!I594<0, 0, Loading!I594) -> 0 | CX20: =IF(Loading!I642<0, 0, Loading!I642) -> 0 | CY20: =IF(Loading!I690<0, 0, Loading!I690) -> 0 | CZ20: =IF(Loading!I738<0, 0, Loading!I738) -> 0 | DA20: =IF(Loading!J18<0, 0, Loading!J18) -> 0 | DB20: =IF(Loading!J66<0, 0, Loading!J66) -> 0 | DC20: =IF(Loading!J114<0, 0, Loading!J114) -> 0 | DD20: =IF(Loading!J162<0, 0, Loading!J162) -> 0 | DE20: =IF(Loading!J210<0, 0, Loading!J210) -> 0 | DF20: =IF(Loading!J258<0, 0, Loading!J258) -> 0 | DG20: =IF(Loading!J306<0, 0, Loading!J306) -> 0 | DH20: =IF(Loading!J354<0, 0, Loading!J354) -> 0 | DI20: =IF(Loading!J402<0, 0, Loading!J402) -> 0 | DJ20: =IF(Loading!J450<0, 0, Loading!J450) -> 0 | DK20: =IF(Loading!J498<0, 0, Loading!J498) -> 0 | DL20: =IF(Loading!J546<0, 0, Loading!J546) -> 0 | DM20: =IF(Loading!J594<0, 0, Loading!J594) -> 0 | DN20: =IF(Loading!J642<0, 0, Loading!J642) -> 0 | DO20: =IF(Loading!J690<0, 0, Loading!J690) -> 0 | DP20: =IF(Loading!J738<0, 0, Loading!J738) -> 0 | DQ20: =IF(Loading!K18<0, 0, Loading!K18) -> 0 | DR20: =IF(Loading!K66<0, 0, Loading!K66) -> 0 | DS20: =IF(Loading!K114<0, 0, Loading!K114) -> 0 | DT20: =IF(Loading!K162<0, 0, Loading!K162) -> 0 | DU20: =IF(Loading!K210<0, 0, Loading!K210) -> 0 | DV20: =IF(Loading!K258<0, 0, Loading!K258) -> 0 | DW20: =IF(Loading!K306<0, 0, Loading!K306) -> 0 | DX20: =IF(Loading!K354<0, 0, Loading!K354) -> 0
H21: IgE | I21: =IF(Loading!D19<0, 0, Loading!D19) -> 0 | J21: =IF(Loading!D67<0, 0, Loading!D67) -> 0 | K21: =IF(Loading!D115<0, 0, Loading!D115) -> 0 | L21: =IF(Loading!D163<0, 0, Loading!D163) -> 0 | M21: =IF(Loading!D211<0, 0, Loading!D211) -> 0 | N21: =IF(Loading!D259<0, 0, Loading!D259) -> 0 | O21: =IF(Loading!D307<0, 0, Loading!D307) -> 0 | P21: =IF(Loading!D355<0, 0, Loading!D355) -> 0 | Q21: =IF(Loading!D403<0, 0, Loading!D403) -> 0 | R21: =IF(Loading!D451<0, 0, Loading!D451) -> 0 | S21: =IF(Loading!D499<0, 0, Loading!D499) -> 0 | T21: =IF(Loading!D547<0, 0, Loading!D547) -> 0 | U21: =IF(Loading!D595<0, 0, Loading!D595) -> 0 | V21: =IF(Loading!D643<0, 0, Loading!D643) -> 0 | W21: =IF(Loading!D691<0, 0, Loading!D691) -> 0 | X21: =IF(Loading!D739<0, 0, Loading!D739) -> 0 | Y21: =IF(Loading!E19<0, 0, Loading!E19) -> 0 | Z21: =IF(Loading!E67<0, 0, Loading!E67) -> 0 | AA21: =IF(Loading!E115<0, 0, Loading!E115) -> 0 | AB21: =IF(Loading!E163<0, 0, Loading!E163) -> 0 | AC21: =IF(Loading!E211<0, 0, Loading!E211) -> 0 | AD21: =IF(Loading!E259<0, 0, Loading!E259) -> 0 | AE21: =IF(Loading!E307<0, 0, Loading!E307) -> 0 | AF21: =IF(Loading!E355<0, 0, Loading!E355) -> 0 | AG21: =IF(Loading!E403<0, 0, Loading!E403) -> 0 | AH21: =IF(Loading!E451<0, 0, Loading!E451) -> 0 | AI21: =IF(Loading!E499<0, 0, Loading!E499) -> 0 | AJ21: =IF(Loading!E547<0, 0, Loading!E547) -> 0 | AK21: =IF(Loading!E595<0, 0, Loading!E595) -> 0 | AL21: =IF(Loading!E643<0, 0, Loading!E643) -> 0 | AM21: =IF(Loading!E691<0, 0, Loading!E691) -> 0 | AN21: =IF(Loading!E739<0, 0, Loading!E739) -> 0 | AO21: =IF(Loading!F19<0, 0, Loading!F19) -> 0 | AP21: =IF(Loading!F67<0, 0, Loading!F67) -> 0 | AQ21: =IF(Loading!F115<0, 0, Loading!F115) -> 0 | AR21: =IF(Loading!F163<0, 0, Loading!F163) -> 0 | AS21: =IF(Loading!F211<0, 0, Loading!F211) -> 0 | AT21: =IF(Loading!F259<0, 0, Loading!F259) -> 0 | AU21: =IF(Loading!F307<0, 0, Loading!F307) -> 0 | AV21: =IF(Loading!F355<0, 0, Loading!F355) -> 0 | AW21: =IF(Loading!F403<0, 0, Loading!F403) -> 0 | AX21: =IF(Loading!F451<0, 0, Loading!F451) -> 0 | AY21: =IF(Loading!F499<0, 0, Loading!F499) -> 0 | AZ21: =IF(Loading!F547<0, 0, Loading!F547) -> 0 | BA21: =IF(Loading!F595<0, 0, Loading!F595) -> 0 | BB21: =IF(Loading!F643<0, 0, Loading!F643) -> 0 | BC21: =IF(Loading!F691<0, 0, Loading!F691) -> 0 | BD21: =IF(Loading!F739<0, 0, Loading!F739) -> 0 | BE21: =IF(Loading!G19<0, 0, Loading!G19) -> 0 | BF21: =IF(Loading!G67<0, 0, Loading!G67) -> 0 | BG21: =IF(Loading!G115<0, 0, Loading!G115) -> 0 | BH21: =IF(Loading!G163<0, 0, Loading!G163) -> 0 | BI21: =IF(Loading!G211<0, 0, Loading!G211) -> 0 | BJ21: =IF(Loading!G259<0, 0, Loading!G259) -> 0 | BK21: =IF(Loading!G307<0, 0, Loading!G307) -> 0 | BL21: =IF(Loading!G355<0, 0, Loading!G355) -> 0 | BM21: =IF(Loading!G403<0, 0, Loading!G403) -> 0 | BN21: =IF(Loading!G451<0, 0, Loading!G451) -> 0 | BO21: =IF(Loading!G499<0, 0, Loading!G499) -> 0 | BP21: =IF(Loading!G547<0, 0, Loading!G547) -> 0 | BQ21: =IF(Loading!G595<0, 0, Loading!G595) -> 0 | BR21: =IF(Loading!G643<0, 0, Loading!G643) -> 0 | BS21: =IF(Loading!G691<0, 0, Loading!G691) -> 0 | BT21: =IF(Loading!G739<0, 0, Loading!G739) -> 0 | BU21: =IF(Loading!H19<0, 0, Loading!H19) -> 0 | BV21: =IF(Loading!H67<0, 0, Loading!H67) -> 0 | BW21: =IF(Loading!H115<0, 0, Loading!H115) -> 0 | BX21: =IF(Loading!H163<0, 0, Loading!H163) -> 0 | BY21: =IF(Loading!H211<0, 0, Loading!H211) -> 0 | BZ21: =IF(Loading!H259<0, 0, Loading!H259) -> 0 | CA21: =IF(Loading!H307<0, 0, Loading!H307) -> 0 | CB21: =IF(Loading!H355<0, 0, Loading!H355) -> 0 | CC21: =IF(Loading!H403<0, 0, Loading!H403) -> 0 | CD21: =IF(Loading!H451<0, 0, Loading!H451) -> 0 | CE21: =IF(Loading!H499<0, 0, Loading!H499) -> 0 | CF21: =IF(Loading!H547<0, 0, Loading!H547) -> 0 | CG21: =IF(Loading!H595<0, 0, Loading!H595) -> 0 | CH21: =IF(Loading!H643<0, 0, Loading!H643) -> 0 | CI21: =IF(Loading!H691<0, 0, Loading!H691) -> 0 | CJ21: =IF(Loading!H739<0, 0, Loading!H739) -> 0 | CK21: =IF(Loading!I19<0, 0, Loading!I19) -> 0 | CL21: =IF(Loading!I67<0, 0, Loading!I67) -> 0 | CM21: =IF(Loading!I115<0, 0, Loading!I115) -> 0 | CN21: =IF(Loading!I163<0, 0, Loading!I163) -> 0 | CO21: =IF(Loading!I211<0, 0, Loading!I211) -> 0 | CP21: =IF(Loading!I259<0, 0, Loading!I259) -> 0 | CQ21: =IF(Loading!I307<0, 0, Loading!I307) -> 0 | CR21: =IF(Loading!I355<0, 0, Loading!I355) -> 0 | CS21: =IF(Loading!I403<0, 0, Loading!I403) -> 0 | CT21: =IF(Loading!I451<0, 0, Loading!I451) -> 0 | CU21: =IF(Loading!I499<0, 0, Loading!I499) -> 0 | CV21: =IF(Loading!I547<0, 0, Loading!I547) -> 0 | CW21: =IF(Loading!I595<0, 0, Loading!I595) -> 0 | CX21: =IF(Loading!I643<0, 0, Loading!I643) -> 0 | CY21: =IF(Loading!I691<0, 0, Loading!I691) -> 0 | CZ21: =IF(Loading!I739<0, 0, Loading!I739) -> 0 | DA21: =IF(Loading!J19<0, 0, Loading!J19) -> 0 | DB21: =IF(Loading!J67<0, 0, Loading!J67) -> 0 | DC21: =IF(Loading!J115<0, 0, Loading!J115) -> 0 | DD21: =IF(Loading!J163<0, 0, Loading!J163) -> 0 | DE21: =IF(Loading!J211<0, 0, Loading!J211) -> 0 | DF21: =IF(Loading!J259<0, 0, Loading!J259) -> 0 | DG21: =IF(Loading!J307<0, 0, Loading!J307) -> 0 | DH21: =IF(Loading!J355<0, 0, Loading!J355) -> 0 | DI21: =IF(Loading!J403<0, 0, Loading!J403) -> 0 | DJ21: =IF(Loading!J451<0, 0, Loading!J451) -> 0 | DK21: =IF(Loading!J499<0, 0, Loading!J499) -> 0 | DL21: =IF(Loading!J547<0, 0, Loading!J547) -> 0 | DM21: =IF(Loading!J595<0, 0, Loading!J595) -> 0 | DN21: =IF(Loading!J643<0, 0, Loading!J643) -> 0 | DO21: =IF(Loading!J691<0, 0, Loading!J691) -> 0 | DP21: =IF(Loading!J739<0, 0, Loading!J739) -> 0 | DQ21: =IF(Loading!K19<0, 0, Loading!K19) -> 0 | DR21: =IF(Loading!K67<0, 0, Loading!K67) -> 0 | DS21: =IF(Loading!K115<0, 0, Loading!K115) -> 0 | DT21: =IF(Loading!K163<0, 0, Loading!K163) -> 0 | DU21: =IF(Loading!K211<0, 0, Loading!K211) -> 0 | DV21: =IF(Loading!K259<0, 0, Loading!K259) -> 0 | DW21: =IF(Loading!K307<0, 0, Loading!K307) -> 0 | DX21: =IF(Loading!K355<0, 0, Loading!K355) -> 0 | DZ21: =(1+$AE$2)*MEDIAN(I21:I24) -> 0 | EA21: =(1+$AE$2)*MEDIAN(J21:J24) -> 0 | EB21: =(1+$AE$2)*MEDIAN(K21:K24) -> 0 | EC21: =(1+$AE$2)*MEDIAN(L21:L24) -> 0 | ED21: =(1+$AE$2)*MEDIAN(M21:M24) -> 0 | EE21: =(1+$AE$2)*MEDIAN(N21:N24) -> 0 | EF21: =(1+$AE$2)*MEDIAN(O21:O24) -> 0 | EG21: =(1+$AE$2)*MEDIAN(P21:P24) -> 0 | ... IO21: =(1+$AE$2)*MEDIAN(DX21:DX24) -> 0
H22: IgE | I22: =IF(Loading!D20<0, 0, Loading!D20) -> 0 | J22: =IF(Loading!D68<0, 0, Loading!D68) -> 0 | K22: =IF(Loading!D116<0, 0, Loading!D116) -> 0 | L22: =IF(Loading!D164<0, 0, Loading!D164) -> 0 | M22: =IF(Loading!D212<0, 0, Loading!D212) -> 0 | N22: =IF(Loading!D260<0, 0, Loading!D260) -> 0 | O22: =IF(Loading!D308<0, 0, Loading!D308) -> 0 | P22: =IF(Loading!D356<0, 0, Loading!D356) -> 0 | Q22: =IF(Loading!D404<0, 0, Loading!D404) -> 0 | R22: =IF(Loading!D452<0, 0, Loading!D452) -> 0 | S22: =IF(Loading!D500<0, 0, Loading!D500) -> 0 | T22: =IF(Loading!D548<0, 0, Loading!D548) -> 0 | U22: =IF(Loading!D596<0, 0, Loading!D596) -> 0 | V22: =IF(Loading!D644<0, 0, Loading!D644) -> 0 | W22: =IF(Loading!D692<0, 0, Loading!D692) -> 0 | X22: =IF(Loading!D740<0, 0, Loading!D740) -> 0 | Y22: =IF(Loading!E20<0, 0, Loading!E20) -> 0 | Z22: =IF(Loading!E68<0, 0, Loading!E68) -> 0 | AA22: =IF(Loading!E116<0, 0, Loading!E116) -> 0 | AB22: =IF(Loading!E164<0, 0, Loading!E164) -> 0 | AC22: =IF(Loading!E212<0, 0, Loading!E212) -> 0 | AD22: =IF(Loading!E260<0, 0, Loading!E260) -> 0 | AE22: =IF(Loading!E308<0, 0, Loading!E308) -> 0 | AF22: =IF(Loading!E356<0, 0, Loading!E356) -> 0 | AG22: =IF(Loading!E404<0, 0, Loading!E404) -> 0 | AH22: =IF(Loading!E452<0, 0, Loading!E452) -> 0 | AI22: =IF(Loading!E500<0, 0, Loading!E500) -> 0 | AJ22: =IF(Loading!E548<0, 0, Loading!E548) -> 0 | AK22: =IF(Loading!E596<0, 0, Loading!E596) -> 0 | AL22: =IF(Loading!E644<0, 0, Loading!E644) -> 0 | AM22: =IF(Loading!E692<0, 0, Loading!E692) -> 0 | AN22: =IF(Loading!E740<0, 0, Loading!E740) -> 0 | AO22: =IF(Loading!F20<0, 0, Loading!F20) -> 0 | AP22: =IF(Loading!F68<0, 0, Loading!F68) -> 0 | AQ22: =IF(Loading!F116<0, 0, Loading!F116) -> 0 | AR22: =IF(Loading!F164<0, 0, Loading!F164) -> 0 | AS22: =IF(Loading!F212<0, 0, Loading!F212) -> 0 | AT22: =IF(Loading!F260<0, 0, Loading!F260) -> 0 | AU22: =IF(Loading!F308<0, 0, Loading!F308) -> 0 | AV22: =IF(Loading!F356<0, 0, Loading!F356) -> 0 | AW22: =IF(Loading!F404<0, 0, Loading!F404) -> 0 | AX22: =IF(Loading!F452<0, 0, Loading!F452) -> 0 | AY22: =IF(Loading!F500<0, 0, Loading!F500) -> 0 | AZ22: =IF(Loading!F548<0, 0, Loading!F548) -> 0 | BA22: =IF(Loading!F596<0, 0, Loading!F596) -> 0 | BB22: =IF(Loading!F644<0, 0, Loading!F644) -> 0 | BC22: =IF(Loading!F692<0, 0, Loading!F692) -> 0 | BD22: =IF(Loading!F740<0, 0, Loading!F740) -> 0 | BE22: =IF(Loading!G20<0, 0, Loading!G20) -> 0 | BF22: =IF(Loading!G68<0, 0, Loading!G68) -> 0 | BG22: =IF(Loading!G116<0, 0, Loading!G116) -> 0 | BH22: =IF(Loading!G164<0, 0, Loading!G164) -> 0 | BI22: =IF(Loading!G212<0, 0, Loading!G212) -> 0 | BJ22: =IF(Loading!G260<0, 0, Loading!G260) -> 0 | BK22: =IF(Loading!G308<0, 0, Loading!G308) -> 0 | BL22: =IF(Loading!G356<0, 0, Loading!G356) -> 0 | BM22: =IF(Loading!G404<0, 0, Loading!G404) -> 0 | BN22: =IF(Loading!G452<0, 0, Loading!G452) -> 0 | BO22: =IF(Loading!G500<0, 0, Loading!G500) -> 0 | BP22: =IF(Loading!G548<0, 0, Loading!G548) -> 0 | BQ22: =IF(Loading!G596<0, 0, Loading!G596) -> 0 | BR22: =IF(Loading!G644<0, 0, Loading!G644) -> 0 | BS22: =IF(Loading!G692<0, 0, Loading!G692) -> 0 | BT22: =IF(Loading!G740<0, 0, Loading!G740) -> 0 | BU22: =IF(Loading!H20<0, 0, Loading!H20) -> 0 | BV22: =IF(Loading!H68<0, 0, Loading!H68) -> 0 | BW22: =IF(Loading!H116<0, 0, Loading!H116) -> 0 | BX22: =IF(Loading!H164<0, 0, Loading!H164) -> 0 | BY22: =IF(Loading!H212<0, 0, Loading!H212) -> 0 | BZ22: =IF(Loading!H260<0, 0, Loading!H260) -> 0 | CA22: =IF(Loading!H308<0, 0, Loading!H308) -> 0 | CB22: =IF(Loading!H356<0, 0, Loading!H356) -> 0 | CC22: =IF(Loading!H404<0, 0, Loading!H404) -> 0 | CD22: =IF(Loading!H452<0, 0, Loading!H452) -> 0 | CE22: =IF(Loading!H500<0, 0, Loading!H500) -> 0 | CF22: =IF(Loading!H548<0, 0, Loading!H548) -> 0 | CG22: =IF(Loading!H596<0, 0, Loading!H596) -> 0 | CH22: =IF(Loading!H644<0, 0, Loading!H644) -> 0 | CI22: =IF(Loading!H692<0, 0, Loading!H692) -> 0 | CJ22: =IF(Loading!H740<0, 0, Loading!H740) -> 0 | CK22: =IF(Loading!I20<0, 0, Loading!I20) -> 0 | CL22: =IF(Loading!I68<0, 0, Loading!I68) -> 0 | CM22: =IF(Loading!I116<0, 0, Loading!I116) -> 0 | CN22: =IF(Loading!I164<0, 0, Loading!I164) -> 0 | CO22: =IF(Loading!I212<0, 0, Loading!I212) -> 0 | CP22: =IF(Loading!I260<0, 0, Loading!I260) -> 0 | CQ22: =IF(Loading!I308<0, 0, Loading!I308) -> 0 | CR22: =IF(Loading!I356<0, 0, Loading!I356) -> 0 | CS22: =IF(Loading!I404<0, 0, Loading!I404) -> 0 | CT22: =IF(Loading!I452<0, 0, Loading!I452) -> 0 | CU22: =IF(Loading!I500<0, 0, Loading!I500) -> 0 | CV22: =IF(Loading!I548<0, 0, Loading!I548) -> 0 | CW22: =IF(Loading!I596<0, 0, Loading!I596) -> 0 | CX22: =IF(Loading!I644<0, 0, Loading!I644) -> 0 | CY22: =IF(Loading!I692<0, 0, Loading!I692) -> 0 | CZ22: =IF(Loading!I740<0, 0, Loading!I740) -> 0 | DA22: =IF(Loading!J20<0, 0, Loading!J20) -> 0 | DB22: =IF(Loading!J68<0, 0, Loading!J68) -> 0 | DC22: =IF(Loading!J116<0, 0, Loading!J116) -> 0 | DD22: =IF(Loading!J164<0, 0, Loading!J164) -> 0 | DE22: =IF(Loading!J212<0, 0, Loading!J212) -> 0 | DF22: =IF(Loading!J260<0, 0, Loading!J260) -> 0 | DG22: =IF(Loading!J308<0, 0, Loading!J308) -> 0 | DH22: =IF(Loading!J356<0, 0, Loading!J356) -> 0 | DI22: =IF(Loading!J404<0, 0, Loading!J404) -> 0 | DJ22: =IF(Loading!J452<0, 0, Loading!J452) -> 0 | DK22: =IF(Loading!J500<0, 0, Loading!J500) -> 0 | DL22: =IF(Loading!J548<0, 0, Loading!J548) -> 0 | DM22: =IF(Loading!J596<0, 0, Loading!J596) -> 0 | DN22: =IF(Loading!J644<0, 0, Loading!J644) -> 0 | DO22: =IF(Loading!J692<0, 0, Loading!J692) -> 0 | DP22: =IF(Loading!J740<0, 0, Loading!J740) -> 0 | DQ22: =IF(Loading!K20<0, 0, Loading!K20) -> 0 | DR22: =IF(Loading!K68<0, 0, Loading!K68) -> 0 | DS22: =IF(Loading!K116<0, 0, Loading!K116) -> 0 | DT22: =IF(Loading!K164<0, 0, Loading!K164) -> 0 | DU22: =IF(Loading!K212<0, 0, Loading!K212) -> 0 | DV22: =IF(Loading!K260<0, 0, Loading!K260) -> 0 | DW22: =IF(Loading!K308<0, 0, Loading!K308) -> 0 | DX22: =IF(Loading!K356<0, 0, Loading!K356) -> 0 | DZ22: =(1-$AE$2)*MEDIAN(I21:I24) -> 0 | EA22: =(1-$AE$2)*MEDIAN(J21:J24) -> 0 | EB22: =(1-$AE$2)*MEDIAN(K21:K24) -> 0 | EC22: =(1-$AE$2)*MEDIAN(L21:L24) -> 0 | ED22: =(1-$AE$2)*MEDIAN(M21:M24) -> 0 | EE22: =(1-$AE$2)*MEDIAN(N21:N24) -> 0 | EF22: =(1-$AE$2)*MEDIAN(O21:O24) -> 0 | EG22: =(1-$AE$2)*MEDIAN(P21:P24) -> 0 | ... IO22: =(1-$AE$2)*MEDIAN(DX21:DX24) -> 0
H23: IgE | I23: =IF(Loading!D21<0, 0, Loading!D21) -> 0 | J23: =IF(Loading!D69<0, 0, Loading!D69) -> 0 | K23: =IF(Loading!D117<0, 0, Loading!D117) -> 0 | L23: =IF(Loading!D165<0, 0, Loading!D165) -> 0 | M23: =IF(Loading!D213<0, 0, Loading!D213) -> 0 | N23: =IF(Loading!D261<0, 0, Loading!D261) -> 0 | O23: =IF(Loading!D309<0, 0, Loading!D309) -> 0 | P23: =IF(Loading!D357<0, 0, Loading!D357) -> 0 | Q23: =IF(Loading!D405<0, 0, Loading!D405) -> 0 | R23: =IF(Loading!D453<0, 0, Loading!D453) -> 0 | S23: =IF(Loading!D501<0, 0, Loading!D501) -> 0 | T23: =IF(Loading!D549<0, 0, Loading!D549) -> 0 | U23: =IF(Loading!D597<0, 0, Loading!D597) -> 0 | V23: =IF(Loading!D645<0, 0, Loading!D645) -> 0 | W23: =IF(Loading!D693<0, 0, Loading!D693) -> 0 | X23: =IF(Loading!D741<0, 0, Loading!D741) -> 0 | Y23: =IF(Loading!E21<0, 0, Loading!E21) -> 0 | Z23: =IF(Loading!E69<0, 0, Loading!E69) -> 0 | AA23: =IF(Loading!E117<0, 0, Loading!E117) -> 0 | AB23: =IF(Loading!E165<0, 0, Loading!E165) -> 0 | AC23: =IF(Loading!E213<0, 0, Loading!E213) -> 0 | AD23: =IF(Loading!E261<0, 0, Loading!E261) -> 0 | AE23: =IF(Loading!E309<0, 0, Loading!E309) -> 0 | AF23: =IF(Loading!E357<0, 0, Loading!E357) -> 0 | AG23: =IF(Loading!E405<0, 0, Loading!E405) -> 0 | AH23: =IF(Loading!E453<0, 0, Loading!E453) -> 0 | AI23: =IF(Loading!E501<0, 0, Loading!E501) -> 0 | AJ23: =IF(Loading!E549<0, 0, Loading!E549) -> 0 | AK23: =IF(Loading!E597<0, 0, Loading!E597) -> 0 | AL23: =IF(Loading!E645<0, 0, Loading!E645) -> 0 | AM23: =IF(Loading!E693<0, 0, Loading!E693) -> 0 | AN23: =IF(Loading!E741<0, 0, Loading!E741) -> 0 | AO23: =IF(Loading!F21<0, 0, Loading!F21) -> 0 | AP23: =IF(Loading!F69<0, 0, Loading!F69) -> 0 | AQ23: =IF(Loading!F117<0, 0, Loading!F117) -> 0 | AR23: =IF(Loading!F165<0, 0, Loading!F165) -> 0 | AS23: =IF(Loading!F213<0, 0, Loading!F213) -> 0 | AT23: =IF(Loading!F261<0, 0, Loading!F261) -> 0 | AU23: =IF(Loading!F309<0, 0, Loading!F309) -> 0 | AV23: =IF(Loading!F357<0, 0, Loading!F357) -> 0 | AW23: =IF(Loading!F405<0, 0, Loading!F405) -> 0 | AX23: =IF(Loading!F453<0, 0, Loading!F453) -> 0 | AY23: =IF(Loading!F501<0, 0, Loading!F501) -> 0 | AZ23: =IF(Loading!F549<0, 0, Loading!F549) -> 0 | BA23: =IF(Loading!F597<0, 0, Loading!F597) -> 0 | BB23: =IF(Loading!F645<0, 0, Loading!F645) -> 0 | BC23: =IF(Loading!F693<0, 0, Loading!F693) -> 0 | BD23: =IF(Loading!F741<0, 0, Loading!F741) -> 0 | BE23: =IF(Loading!G21<0, 0, Loading!G21) -> 0 | BF23: =IF(Loading!G69<0, 0, Loading!G69) -> 0 | BG23: =IF(Loading!G117<0, 0, Loading!G117) -> 0 | BH23: =IF(Loading!G165<0, 0, Loading!G165) -> 0 | BI23: =IF(Loading!G213<0, 0, Loading!G213) -> 0 | BJ23: =IF(Loading!G261<0, 0, Loading!G261) -> 0 | BK23: =IF(Loading!G309<0, 0, Loading!G309) -> 0 | BL23: =IF(Loading!G357<0, 0, Loading!G357) -> 0 | BM23: =IF(Loading!G405<0, 0, Loading!G405) -> 0 | BN23: =IF(Loading!G453<0, 0, Loading!G453) -> 0 | BO23: =IF(Loading!G501<0, 0, Loading!G501) -> 0 | BP23: =IF(Loading!G549<0, 0, Loading!G549) -> 0 | BQ23: =IF(Loading!G597<0, 0, Loading!G597) -> 0 | BR23: =IF(Loading!G645<0, 0, Loading!G645) -> 0 | BS23: =IF(Loading!G693<0, 0, Loading!G693) -> 0 | BT23: =IF(Loading!G741<0, 0, Loading!G741) -> 0 | BU23: =IF(Loading!H21<0, 0, Loading!H21) -> 0 | BV23: =IF(Loading!H69<0, 0, Loading!H69) -> 0 | BW23: =IF(Loading!H117<0, 0, Loading!H117) -> 0 | BX23: =IF(Loading!H165<0, 0, Loading!H165) -> 0 | BY23: =IF(Loading!H213<0, 0, Loading!H213) -> 0 | BZ23: =IF(Loading!H261<0, 0, Loading!H261) -> 0 | CA23: =IF(Loading!H309<0, 0, Loading!H309) -> 0 | CB23: =IF(Loading!H357<0, 0, Loading!H357) -> 0 | CC23: =IF(Loading!H405<0, 0, Loading!H405) -> 0 | CD23: =IF(Loading!H453<0, 0, Loading!H453) -> 0 | CE23: =IF(Loading!H501<0, 0, Loading!H501) -> 0 | CF23: =IF(Loading!H549<0, 0, Loading!H549) -> 0 | CG23: =IF(Loading!H597<0, 0, Loading!H597) -> 0 | CH23: =IF(Loading!H645<0, 0, Loading!H645) -> 0 | CI23: =IF(Loading!H693<0, 0, Loading!H693) -> 0 | CJ23: =IF(Loading!H741<0, 0, Loading!H741) -> 0 | CK23: =IF(Loading!I21<0, 0, Loading!I21) -> 0 | CL23: =IF(Loading!I69<0, 0, Loading!I69) -> 0 | CM23: =IF(Loading!I117<0, 0, Loading!I117) -> 0 | CN23: =IF(Loading!I165<0, 0, Loading!I165) -> 0 | CO23: =IF(Loading!I213<0, 0, Loading!I213) -> 0 | CP23: =IF(Loading!I261<0, 0, Loading!I261) -> 0 | CQ23: =IF(Loading!I309<0, 0, Loading!I309) -> 0 | CR23: =IF(Loading!I357<0, 0, Loading!I357) -> 0 | CS23: =IF(Loading!I405<0, 0, Loading!I405) -> 0 | CT23: =IF(Loading!I453<0, 0, Loading!I453) -> 0 | CU23: =IF(Loading!I501<0, 0, Loading!I501) -> 0 | CV23: =IF(Loading!I549<0, 0, Loading!I549) -> 0 | CW23: =IF(Loading!I597<0, 0, Loading!I597) -> 0 | CX23: =IF(Loading!I645<0, 0, Loading!I645) -> 0 | CY23: =IF(Loading!I693<0, 0, Loading!I693) -> 0 | CZ23: =IF(Loading!I741<0, 0, Loading!I741) -> 0 | DA23: =IF(Loading!J21<0, 0, Loading!J21) -> 0 | DB23: =IF(Loading!J69<0, 0, Loading!J69) -> 0 | DC23: =IF(Loading!J117<0, 0, Loading!J117) -> 0 | DD23: =IF(Loading!J165<0, 0, Loading!J165) -> 0 | DE23: =IF(Loading!J213<0, 0, Loading!J213) -> 0 | DF23: =IF(Loading!J261<0, 0, Loading!J261) -> 0 | DG23: =IF(Loading!J309<0, 0, Loading!J309) -> 0 | DH23: =IF(Loading!J357<0, 0, Loading!J357) -> 0 | DI23: =IF(Loading!J405<0, 0, Loading!J405) -> 0 | DJ23: =IF(Loading!J453<0, 0, Loading!J453) -> 0 | DK23: =IF(Loading!J501<0, 0, Loading!J501) -> 0 | DL23: =IF(Loading!J549<0, 0, Loading!J549) -> 0 | DM23: =IF(Loading!J597<0, 0, Loading!J597) -> 0 | DN23: =IF(Loading!J645<0, 0, Loading!J645) -> 0 | DO23: =IF(Loading!J693<0, 0, Loading!J693) -> 0 | DP23: =IF(Loading!J741<0, 0, Loading!J741) -> 0 | DQ23: =IF(Loading!K21<0, 0, Loading!K21) -> 0 | DR23: =IF(Loading!K69<0, 0, Loading!K69) -> 0 | DS23: =IF(Loading!K117<0, 0, Loading!K117) -> 0 | DT23: =IF(Loading!K165<0, 0, Loading!K165) -> 0 | DU23: =IF(Loading!K213<0, 0, Loading!K213) -> 0 | DV23: =IF(Loading!K261<0, 0, Loading!K261) -> 0 | DW23: =IF(Loading!K309<0, 0, Loading!K309) -> 0 | DX23: =IF(Loading!K357<0, 0, Loading!K357) -> 0
H24: IgE | I24: =IF(Loading!D22<0, 0, Loading!D22) -> 0 | J24: =IF(Loading!D70<0, 0, Loading!D70) -> 0 | K24: =IF(Loading!D118<0, 0, Loading!D118) -> 0 | L24: =IF(Loading!D166<0, 0, Loading!D166) -> 0 | M24: =IF(Loading!D214<0, 0, Loading!D214) -> 0 | N24: =IF(Loading!D262<0, 0, Loading!D262) -> 0 | O24: =IF(Loading!D310<0, 0, Loading!D310) -> 0 | P24: =IF(Loading!D358<0, 0, Loading!D358) -> 0 | Q24: =IF(Loading!D406<0, 0, Loading!D406) -> 0 | R24: =IF(Loading!D454<0, 0, Loading!D454) -> 0 | S24: =IF(Loading!D502<0, 0, Loading!D502) -> 0 | T24: =IF(Loading!D550<0, 0, Loading!D550) -> 0 | U24: =IF(Loading!D598<0, 0, Loading!D598) -> 0 | V24: =IF(Loading!D646<0, 0, Loading!D646) -> 0 | W24: =IF(Loading!D694<0, 0, Loading!D694) -> 0 | X24: =IF(Loading!D742<0, 0, Loading!D742) -> 0 | Y24: =IF(Loading!E22<0, 0, Loading!E22) -> 0 | Z24: =IF(Loading!E70<0, 0, Loading!E70) -> 0 | AA24: =IF(Loading!E118<0, 0, Loading!E118) -> 0 | AB24: =IF(Loading!E166<0, 0, Loading!E166) -> 0 | AC24: =IF(Loading!E214<0, 0, Loading!E214) -> 0 | AD24: =IF(Loading!E262<0, 0, Loading!E262) -> 0 | AE24: =IF(Loading!E310<0, 0, Loading!E310) -> 0 | AF24: =IF(Loading!E358<0, 0, Loading!E358) -> 0 | AG24: =IF(Loading!E406<0, 0, Loading!E406) -> 0 | AH24: =IF(Loading!E454<0, 0, Loading!E454) -> 0 | AI24: =IF(Loading!E502<0, 0, Loading!E502) -> 0 | AJ24: =IF(Loading!E550<0, 0, Loading!E550) -> 0 | AK24: =IF(Loading!E598<0, 0, Loading!E598) -> 0 | AL24: =IF(Loading!E646<0, 0, Loading!E646) -> 0 | AM24: =IF(Loading!E694<0, 0, Loading!E694) -> 0 | AN24: =IF(Loading!E742<0, 0, Loading!E742) -> 0 | AO24: =IF(Loading!F22<0, 0, Loading!F22) -> 0 | AP24: =IF(Loading!F70<0, 0, Loading!F70) -> 0 | AQ24: =IF(Loading!F118<0, 0, Loading!F118) -> 0 | AR24: =IF(Loading!F166<0, 0, Loading!F166) -> 0 | AS24: =IF(Loading!F214<0, 0, Loading!F214) -> 0 | AT24: =IF(Loading!F262<0, 0, Loading!F262) -> 0 | AU24: =IF(Loading!F310<0, 0, Loading!F310) -> 0 | AV24: =IF(Loading!F358<0, 0, Loading!F358) -> 0 | AW24: =IF(Loading!F406<0, 0, Loading!F406) -> 0 | AX24: =IF(Loading!F454<0, 0, Loading!F454) -> 0 | AY24: =IF(Loading!F502<0, 0, Loading!F502) -> 0 | AZ24: =IF(Loading!F550<0, 0, Loading!F550) -> 0 | BA24: =IF(Loading!F598<0, 0, Loading!F598) -> 0 | BB24: =IF(Loading!F646<0, 0, Loading!F646) -> 0 | BC24: =IF(Loading!F694<0, 0, Loading!F694) -> 0 | BD24: =IF(Loading!F742<0, 0, Loading!F742) -> 0 | BE24: =IF(Loading!G22<0, 0, Loading!G22) -> 0 | BF24: =IF(Loading!G70<0, 0, Loading!G70) -> 0 | BG24: =IF(Loading!G118<0, 0, Loading!G118) -> 0 | BH24: =IF(Loading!G166<0, 0, Loading!G166) -> 0 | BI24: =IF(Loading!G214<0, 0, Loading!G214) -> 0 | BJ24: =IF(Loading!G262<0, 0, Loading!G262) -> 0 | BK24: =IF(Loading!G310<0, 0, Loading!G310) -> 0 | BL24: =IF(Loading!G358<0, 0, Loading!G358) -> 0 | BM24: =IF(Loading!G406<0, 0, Loading!G406) -> 0 | BN24: =IF(Loading!G454<0, 0, Loading!G454) -> 0 | BO24: =IF(Loading!G502<0, 0, Loading!G502) -> 0 | BP24: =IF(Loading!G550<0, 0, Loading!G550) -> 0 | BQ24: =IF(Loading!G598<0, 0, Loading!G598) -> 0 | BR24: =IF(Loading!G646<0, 0, Loading!G646) -> 0 | BS24: =IF(Loading!G694<0, 0, Loading!G694) -> 0 | BT24: =IF(Loading!G742<0, 0, Loading!G742) -> 0 | BU24: =IF(Loading!H22<0, 0, Loading!H22) -> 0 | BV24: =IF(Loading!H70<0, 0, Loading!H70) -> 0 | BW24: =IF(Loading!H118<0, 0, Loading!H118) -> 0 | BX24: =IF(Loading!H166<0, 0, Loading!H166) -> 0 | BY24: =IF(Loading!H214<0, 0, Loading!H214) -> 0 | BZ24: =IF(Loading!H262<0, 0, Loading!H262) -> 0 | CA24: =IF(Loading!H310<0, 0, Loading!H310) -> 0 | CB24: =IF(Loading!H358<0, 0, Loading!H358) -> 0 | CC24: =IF(Loading!H406<0, 0, Loading!H406) -> 0 | CD24: =IF(Loading!H454<0, 0, Loading!H454) -> 0 | CE24: =IF(Loading!H502<0, 0, Loading!H502) -> 0 | CF24: =IF(Loading!H550<0, 0, Loading!H550) -> 0 | CG24: =IF(Loading!H598<0, 0, Loading!H598) -> 0 | CH24: =IF(Loading!H646<0, 0, Loading!H646) -> 0 | CI24: =IF(Loading!H694<0, 0, Loading!H694) -> 0 | CJ24: =IF(Loading!H742<0, 0, Loading!H742) -> 0 | CK24: =IF(Loading!I22<0, 0, Loading!I22) -> 0 | CL24: =IF(Loading!I70<0, 0, Loading!I70) -> 0 | CM24: =IF(Loading!I118<0, 0, Loading!I118) -> 0 | CN24: =IF(Loading!I166<0, 0, Loading!I166) -> 0 | CO24: =IF(Loading!I214<0, 0, Loading!I214) -> 0 | CP24: =IF(Loading!I262<0, 0, Loading!I262) -> 0 | CQ24: =IF(Loading!I310<0, 0, Loading!I310) -> 0 | CR24: =IF(Loading!I358<0, 0, Loading!I358) -> 0 | CS24: =IF(Loading!I406<0, 0, Loading!I406) -> 0 | CT24: =IF(Loading!I454<0, 0, Loading!I454) -> 0 | CU24: =IF(Loading!I502<0, 0, Loading!I502) -> 0 | CV24: =IF(Loading!I550<0, 0, Loading!I550) -> 0 | CW24: =IF(Loading!I598<0, 0, Loading!I598) -> 0 | CX24: =IF(Loading!I646<0, 0, Loading!I646) -> 0 | CY24: =IF(Loading!I694<0, 0, Loading!I694) -> 0 | CZ24: =IF(Loading!I742<0, 0, Loading!I742) -> 0 | DA24: =IF(Loading!J22<0, 0, Loading!J22) -> 0 | DB24: =IF(Loading!J70<0, 0, Loading!J70) -> 0 | DC24: =IF(Loading!J118<0, 0, Loading!J118) -> 0 | DD24: =IF(Loading!J166<0, 0, Loading!J166) -> 0 | DE24: =IF(Loading!J214<0, 0, Loading!J214) -> 0 | DF24: =IF(Loading!J262<0, 0, Loading!J262) -> 0 | DG24: =IF(Loading!J310<0, 0, Loading!J310) -> 0 | DH24: =IF(Loading!J358<0, 0, Loading!J358) -> 0 | DI24: =IF(Loading!J406<0, 0, Loading!J406) -> 0 | DJ24: =IF(Loading!J454<0, 0, Loading!J454) -> 0 | DK24: =IF(Loading!J502<0, 0, Loading!J502) -> 0 | DL24: =IF(Loading!J550<0, 0, Loading!J550) -> 0 | DM24: =IF(Loading!J598<0, 0, Loading!J598) -> 0 | DN24: =IF(Loading!J646<0, 0, Loading!J646) -> 0 | DO24: =IF(Loading!J694<0, 0, Loading!J694) -> 0 | DP24: =IF(Loading!J742<0, 0, Loading!J742) -> 0 | DQ24: =IF(Loading!K22<0, 0, Loading!K22) -> 0 | DR24: =IF(Loading!K70<0, 0, Loading!K70) -> 0 | DS24: =IF(Loading!K118<0, 0, Loading!K118) -> 0 | DT24: =IF(Loading!K166<0, 0, Loading!K166) -> 0 | DU24: =IF(Loading!K214<0, 0, Loading!K214) -> 0 | DV24: =IF(Loading!K262<0, 0, Loading!K262) -> 0 | DW24: =IF(Loading!K310<0, 0, Loading!K310) -> 0 | DX24: =IF(Loading!K358<0, 0, Loading!K358) -> 0
H25: IgM | I25: =IF(Loading!D23<0, 0, Loading!D23) -> 0 | J25: =IF(Loading!D71<0, 0, Loading!D71) -> 0 | K25: =IF(Loading!D119<0, 0, Loading!D119) -> 0 | L25: =IF(Loading!D167<0, 0, Loading!D167) -> 0 | M25: =IF(Loading!D215<0, 0, Loading!D215) -> 0 | N25: =IF(Loading!D263<0, 0, Loading!D263) -> 0 | O25: =IF(Loading!D311<0, 0, Loading!D311) -> 0 | P25: =IF(Loading!D359<0, 0, Loading!D359) -> 0 | Q25: =IF(Loading!D407<0, 0, Loading!D407) -> 0 | R25: =IF(Loading!D455<0, 0, Loading!D455) -> 0 | S25: =IF(Loading!D503<0, 0, Loading!D503) -> 0 | T25: =IF(Loading!D551<0, 0, Loading!D551) -> 0 | U25: =IF(Loading!D599<0, 0, Loading!D599) -> 0 | V25: =IF(Loading!D647<0, 0, Loading!D647) -> 0 | W25: =IF(Loading!D695<0, 0, Loading!D695) -> 0 | X25: =IF(Loading!D743<0, 0, Loading!D743) -> 0 | Y25: =IF(Loading!E23<0, 0, Loading!E23) -> 0 | Z25: =IF(Loading!E71<0, 0, Loading!E71) -> 0 | AA25: =IF(Loading!E119<0, 0, Loading!E119) -> 0 | AB25: =IF(Loading!E167<0, 0, Loading!E167) -> 0 | AC25: =IF(Loading!E215<0, 0, Loading!E215) -> 0 | AD25: =IF(Loading!E263<0, 0, Loading!E263) -> 0 | AE25: =IF(Loading!E311<0, 0, Loading!E311) -> 0 | AF25: =IF(Loading!E359<0, 0, Loading!E359) -> 0 | AG25: =IF(Loading!E407<0, 0, Loading!E407) -> 0 | AH25: =IF(Loading!E455<0, 0, Loading!E455) -> 0 | AI25: =IF(Loading!E503<0, 0, Loading!E503) -> 0 | AJ25: =IF(Loading!E551<0, 0, Loading!E551) -> 0 | AK25: =IF(Loading!E599<0, 0, Loading!E599) -> 0 | AL25: =IF(Loading!E647<0, 0, Loading!E647) -> 0 | AM25: =IF(Loading!E695<0, 0, Loading!E695) -> 0 | AN25: =IF(Loading!E743<0, 0, Loading!E743) -> 0 | AO25: =IF(Loading!F23<0, 0, Loading!F23) -> 0 | AP25: =IF(Loading!F71<0, 0, Loading!F71) -> 0 | AQ25: =IF(Loading!F119<0, 0, Loading!F119) -> 0 | AR25: =IF(Loading!F167<0, 0, Loading!F167) -> 0 | AS25: =IF(Loading!F215<0, 0, Loading!F215) -> 0 | AT25: =IF(Loading!F263<0, 0, Loading!F263) -> 0 | AU25: =IF(Loading!F311<0, 0, Loading!F311) -> 0 | AV25: =IF(Loading!F359<0, 0, Loading!F359) -> 0 | AW25: =IF(Loading!F407<0, 0, Loading!F407) -> 0 | AX25: =IF(Loading!F455<0, 0, Loading!F455) -> 0 | AY25: =IF(Loading!F503<0, 0, Loading!F503) -> 0 | AZ25: =IF(Loading!F551<0, 0, Loading!F551) -> 0 | BA25: =IF(Loading!F599<0, 0, Loading!F599) -> 0 | BB25: =IF(Loading!F647<0, 0, Loading!F647) -> 0 | BC25: =IF(Loading!F695<0, 0, Loading!F695) -> 0 | BD25: =IF(Loading!F743<0, 0, Loading!F743) -> 0 | BE25: =IF(Loading!G23<0, 0, Loading!G23) -> 0 | BF25: =IF(Loading!G71<0, 0, Loading!G71) -> 0 | BG25: =IF(Loading!G119<0, 0, Loading!G119) -> 0 | BH25: =IF(Loading!G167<0, 0, Loading!G167) -> 0 | BI25: =IF(Loading!G215<0, 0, Loading!G215) -> 0 | BJ25: =IF(Loading!G263<0, 0, Loading!G263) -> 0 | BK25: =IF(Loading!G311<0, 0, Loading!G311) -> 0 | BL25: =IF(Loading!G359<0, 0, Loading!G359) -> 0 | BM25: =IF(Loading!G407<0, 0, Loading!G407) -> 0 | BN25: =IF(Loading!G455<0, 0, Loading!G455) -> 0 | BO25: =IF(Loading!G503<0, 0, Loading!G503) -> 0 | BP25: =IF(Loading!G551<0, 0, Loading!G551) -> 0 | BQ25: =IF(Loading!G599<0, 0, Loading!G599) -> 0 | BR25: =IF(Loading!G647<0, 0, Loading!G647) -> 0 | BS25: =IF(Loading!G695<0, 0, Loading!G695) -> 0 | BT25: =IF(Loading!G743<0, 0, Loading!G743) -> 0 | BU25: =IF(Loading!H23<0, 0, Loading!H23) -> 0 | BV25: =IF(Loading!H71<0, 0, Loading!H71) -> 0 | BW25: =IF(Loading!H119<0, 0, Loading!H119) -> 0 | BX25: =IF(Loading!H167<0, 0, Loading!H167) -> 0 | BY25: =IF(Loading!H215<0, 0, Loading!H215) -> 0 | BZ25: =IF(Loading!H263<0, 0, Loading!H263) -> 0 | CA25: =IF(Loading!H311<0, 0, Loading!H311) -> 0 | CB25: =IF(Loading!H359<0, 0, Loading!H359) -> 0 | CC25: =IF(Loading!H407<0, 0, Loading!H407) -> 0 | CD25: =IF(Loading!H455<0, 0, Loading!H455) -> 0 | CE25: =IF(Loading!H503<0, 0, Loading!H503) -> 0 | CF25: =IF(Loading!H551<0, 0, Loading!H551) -> 0 | CG25: =IF(Loading!H599<0, 0, Loading!H599) -> 0 | CH25: =IF(Loading!H647<0, 0, Loading!H647) -> 0 | CI25: =IF(Loading!H695<0, 0, Loading!H695) -> 0 | CJ25: =IF(Loading!H743<0, 0, Loading!H743) -> 0 | CK25: =IF(Loading!I23<0, 0, Loading!I23) -> 0 | CL25: =IF(Loading!I71<0, 0, Loading!I71) -> 0 | CM25: =IF(Loading!I119<0, 0, Loading!I119) -> 0 | CN25: =IF(Loading!I167<0, 0, Loading!I167) -> 0 | CO25: =IF(Loading!I215<0, 0, Loading!I215) -> 0 | CP25: =IF(Loading!I263<0, 0, Loading!I263) -> 0 | CQ25: =IF(Loading!I311<0, 0, Loading!I311) -> 0 | CR25: =IF(Loading!I359<0, 0, Loading!I359) -> 0 | CS25: =IF(Loading!I407<0, 0, Loading!I407) -> 0 | CT25: =IF(Loading!I455<0, 0, Loading!I455) -> 0 | CU25: =IF(Loading!I503<0, 0, Loading!I503) -> 0 | CV25: =IF(Loading!I551<0, 0, Loading!I551) -> 0 | CW25: =IF(Loading!I599<0, 0, Loading!I599) -> 0 | CX25: =IF(Loading!I647<0, 0, Loading!I647) -> 0 | CY25: =IF(Loading!I695<0, 0, Loading!I695) -> 0 | CZ25: =IF(Loading!I743<0, 0, Loading!I743) -> 0 | DA25: =IF(Loading!J23<0, 0, Loading!J23) -> 0 | DB25: =IF(Loading!J71<0, 0, Loading!J71) -> 0 | DC25: =IF(Loading!J119<0, 0, Loading!J119) -> 0 | DD25: =IF(Loading!J167<0, 0, Loading!J167) -> 0 | DE25: =IF(Loading!J215<0, 0, Loading!J215) -> 0 | DF25: =IF(Loading!J263<0, 0, Loading!J263) -> 0 | DG25: =IF(Loading!J311<0, 0, Loading!J311) -> 0 | DH25: =IF(Loading!J359<0, 0, Loading!J359) -> 0 | DI25: =IF(Loading!J407<0, 0, Loading!J407) -> 0 | DJ25: =IF(Loading!J455<0, 0, Loading!J455) -> 0 | DK25: =IF(Loading!J503<0, 0, Loading!J503) -> 0 | DL25: =IF(Loading!J551<0, 0, Loading!J551) -> 0 | DM25: =IF(Loading!J599<0, 0, Loading!J599) -> 0 | DN25: =IF(Loading!J647<0, 0, Loading!J647) -> 0 | DO25: =IF(Loading!J695<0, 0, Loading!J695) -> 0 | DP25: =IF(Loading!J743<0, 0, Loading!J743) -> 0 | DQ25: =IF(Loading!K23<0, 0, Loading!K23) -> 0 | DR25: =IF(Loading!K71<0, 0, Loading!K71) -> 0 | DS25: =IF(Loading!K119<0, 0, Loading!K119) -> 0 | DT25: =IF(Loading!K167<0, 0, Loading!K167) -> 0 | DU25: =IF(Loading!K215<0, 0, Loading!K215) -> 0 | DV25: =IF(Loading!K263<0, 0, Loading!K263) -> 0 | DW25: =IF(Loading!K311<0, 0, Loading!K311) -> 0 | DX25: =IF(Loading!K359<0, 0, Loading!K359) -> 0 | DZ25: =(1+$AE$2)*MEDIAN(I25:I28) -> 0 | EA25: =(1+$AE$2)*MEDIAN(J25:J28) -> 0 | EB25: =(1+$AE$2)*MEDIAN(K25:K28) -> 0 | EC25: =(1+$AE$2)*MEDIAN(L25:L28) -> 0 | ED25: =(1+$AE$2)*MEDIAN(M25:M28) -> 0 | EE25: =(1+$AE$2)*MEDIAN(N25:N28) -> 0 | EF25: =(1+$AE$2)*MEDIAN(O25:O28) -> 0 | EG25: =(1+$AE$2)*MEDIAN(P25:P28) -> 0 | ... IO25: =(1+$AE$2)*MEDIAN(DX25:DX28) -> 0
H26: IgM | I26: =IF(Loading!D24<0, 0, Loading!D24) -> 0 | J26: =IF(Loading!D72<0, 0, Loading!D72) -> 0 | K26: =IF(Loading!D120<0, 0, Loading!D120) -> 0 | L26: =IF(Loading!D168<0, 0, Loading!D168) -> 0 | M26: =IF(Loading!D216<0, 0, Loading!D216) -> 0 | N26: =IF(Loading!D264<0, 0, Loading!D264) -> 0 | O26: =IF(Loading!D312<0, 0, Loading!D312) -> 0 | P26: =IF(Loading!D360<0, 0, Loading!D360) -> 0 | Q26: =IF(Loading!D408<0, 0, Loading!D408) -> 0 | R26: =IF(Loading!D456<0, 0, Loading!D456) -> 0 | S26: =IF(Loading!D504<0, 0, Loading!D504) -> 0 | T26: =IF(Loading!D552<0, 0, Loading!D552) -> 0 | U26: =IF(Loading!D600<0, 0, Loading!D600) -> 0 | V26: =IF(Loading!D648<0, 0, Loading!D648) -> 0 | W26: =IF(Loading!D696<0, 0, Loading!D696) -> 0 | X26: =IF(Loading!D744<0, 0, Loading!D744) -> 0 | Y26: =IF(Loading!E24<0, 0, Loading!E24) -> 0 | Z26: =IF(Loading!E72<0, 0, Loading!E72) -> 0 | AA26: =IF(Loading!E120<0, 0, Loading!E120) -> 0 | AB26: =IF(Loading!E168<0, 0, Loading!E168) -> 0 | AC26: =IF(Loading!E216<0, 0, Loading!E216) -> 0 | AD26: =IF(Loading!E264<0, 0, Loading!E264) -> 0 | AE26: =IF(Loading!E312<0, 0, Loading!E312) -> 0 | AF26: =IF(Loading!E360<0, 0, Loading!E360) -> 0 | AG26: =IF(Loading!E408<0, 0, Loading!E408) -> 0 | AH26: =IF(Loading!E456<0, 0, Loading!E456) -> 0 | AI26: =IF(Loading!E504<0, 0, Loading!E504) -> 0 | AJ26: =IF(Loading!E552<0, 0, Loading!E552) -> 0 | AK26: =IF(Loading!E600<0, 0, Loading!E600) -> 0 | AL26: =IF(Loading!E648<0, 0, Loading!E648) -> 0 | AM26: =IF(Loading!E696<0, 0, Loading!E696) -> 0 | AN26: =IF(Loading!E744<0, 0, Loading!E744) -> 0 | AO26: =IF(Loading!F24<0, 0, Loading!F24) -> 0 | AP26: =IF(Loading!F72<0, 0, Loading!F72) -> 0 | AQ26: =IF(Loading!F120<0, 0, Loading!F120) -> 0 | AR26: =IF(Loading!F168<0, 0, Loading!F168) -> 0 | AS26: =IF(Loading!F216<0, 0, Loading!F216) -> 0 | AT26: =IF(Loading!F264<0, 0, Loading!F264) -> 0 | AU26: =IF(Loading!F312<0, 0, Loading!F312) -> 0 | AV26: =IF(Loading!F360<0, 0, Loading!F360) -> 0 | AW26: =IF(Loading!F408<0, 0, Loading!F408) -> 0 | AX26: =IF(Loading!F456<0, 0, Loading!F456) -> 0 | AY26: =IF(Loading!F504<0, 0, Loading!F504) -> 0 | AZ26: =IF(Loading!F552<0, 0, Loading!F552) -> 0 | BA26: =IF(Loading!F600<0, 0, Loading!F600) -> 0 | BB26: =IF(Loading!F648<0, 0, Loading!F648) -> 0 | BC26: =IF(Loading!F696<0, 0, Loading!F696) -> 0 | BD26: =IF(Loading!F744<0, 0, Loading!F744) -> 0 | BE26: =IF(Loading!G24<0, 0, Loading!G24) -> 0 | BF26: =IF(Loading!G72<0, 0, Loading!G72) -> 0 | BG26: =IF(Loading!G120<0, 0, Loading!G120) -> 0 | BH26: =IF(Loading!G168<0, 0, Loading!G168) -> 0 | BI26: =IF(Loading!G216<0, 0, Loading!G216) -> 0 | BJ26: =IF(Loading!G264<0, 0, Loading!G264) -> 0 | BK26: =IF(Loading!G312<0, 0, Loading!G312) -> 0 | BL26: =IF(Loading!G360<0, 0, Loading!G360) -> 0 | BM26: =IF(Loading!G408<0, 0, Loading!G408) -> 0 | BN26: =IF(Loading!G456<0, 0, Loading!G456) -> 0 | BO26: =IF(Loading!G504<0, 0, Loading!G504) -> 0 | BP26: =IF(Loading!G552<0, 0, Loading!G552) -> 0 | BQ26: =IF(Loading!G600<0, 0, Loading!G600) -> 0 | BR26: =IF(Loading!G648<0, 0, Loading!G648) -> 0 | BS26: =IF(Loading!G696<0, 0, Loading!G696) -> 0 | BT26: =IF(Loading!G744<0, 0, Loading!G744) -> 0 | BU26: =IF(Loading!H24<0, 0, Loading!H24) -> 0 | BV26: =IF(Loading!H72<0, 0, Loading!H72) -> 0 | BW26: =IF(Loading!H120<0, 0, Loading!H120) -> 0 | BX26: =IF(Loading!H168<0, 0, Loading!H168) -> 0 | BY26: =IF(Loading!H216<0, 0, Loading!H216) -> 0 | BZ26: =IF(Loading!H264<0, 0, Loading!H264) -> 0 | CA26: =IF(Loading!H312<0, 0, Loading!H312) -> 0 | CB26: =IF(Loading!H360<0, 0, Loading!H360) -> 0 | CC26: =IF(Loading!H408<0, 0, Loading!H408) -> 0 | CD26: =IF(Loading!H456<0, 0, Loading!H456) -> 0 | CE26: =IF(Loading!H504<0, 0, Loading!H504) -> 0 | CF26: =IF(Loading!H552<0, 0, Loading!H552) -> 0 | CG26: =IF(Loading!H600<0, 0, Loading!H600) -> 0 | CH26: =IF(Loading!H648<0, 0, Loading!H648) -> 0 | CI26: =IF(Loading!H696<0, 0, Loading!H696) -> 0 | CJ26: =IF(Loading!H744<0, 0, Loading!H744) -> 0 | CK26: =IF(Loading!I24<0, 0, Loading!I24) -> 0 | CL26: =IF(Loading!I72<0, 0, Loading!I72) -> 0 | CM26: =IF(Loading!I120<0, 0, Loading!I120) -> 0 | CN26: =IF(Loading!I168<0, 0, Loading!I168) -> 0 | CO26: =IF(Loading!I216<0, 0, Loading!I216) -> 0 | CP26: =IF(Loading!I264<0, 0, Loading!I264) -> 0 | CQ26: =IF(Loading!I312<0, 0, Loading!I312) -> 0 | CR26: =IF(Loading!I360<0, 0, Loading!I360) -> 0 | CS26: =IF(Loading!I408<0, 0, Loading!I408) -> 0 | CT26: =IF(Loading!I456<0, 0, Loading!I456) -> 0 | CU26: =IF(Loading!I504<0, 0, Loading!I504) -> 0 | CV26: =IF(Loading!I552<0, 0, Loading!I552) -> 0 | CW26: =IF(Loading!I600<0, 0, Loading!I600) -> 0 | CX26: =IF(Loading!I648<0, 0, Loading!I648) -> 0 | CY26: =IF(Loading!I696<0, 0, Loading!I696) -> 0 | CZ26: =IF(Loading!I744<0, 0, Loading!I744) -> 0 | DA26: =IF(Loading!J24<0, 0, Loading!J24) -> 0 | DB26: =IF(Loading!J72<0, 0, Loading!J72) -> 0 | DC26: =IF(Loading!J120<0, 0, Loading!J120) -> 0 | DD26: =IF(Loading!J168<0, 0, Loading!J168) -> 0 | DE26: =IF(Loading!J216<0, 0, Loading!J216) -> 0 | DF26: =IF(Loading!J264<0, 0, Loading!J264) -> 0 | DG26: =IF(Loading!J312<0, 0, Loading!J312) -> 0 | DH26: =IF(Loading!J360<0, 0, Loading!J360) -> 0 | DI26: =IF(Loading!J408<0, 0, Loading!J408) -> 0 | DJ26: =IF(Loading!J456<0, 0, Loading!J456) -> 0 | DK26: =IF(Loading!J504<0, 0, Loading!J504) -> 0 | DL26: =IF(Loading!J552<0, 0, Loading!J552) -> 0 | DM26: =IF(Loading!J600<0, 0, Loading!J600) -> 0 | DN26: =IF(Loading!J648<0, 0, Loading!J648) -> 0 | DO26: =IF(Loading!J696<0, 0, Loading!J696) -> 0 | DP26: =IF(Loading!J744<0, 0, Loading!J744) -> 0 | DQ26: =IF(Loading!K24<0, 0, Loading!K24) -> 0 | DR26: =IF(Loading!K72<0, 0, Loading!K72) -> 0 | DS26: =IF(Loading!K120<0, 0, Loading!K120) -> 0 | DT26: =IF(Loading!K168<0, 0, Loading!K168) -> 0 | DU26: =IF(Loading!K216<0, 0, Loading!K216) -> 0 | DV26: =IF(Loading!K264<0, 0, Loading!K264) -> 0 | DW26: =IF(Loading!K312<0, 0, Loading!K312) -> 0 | DX26: =IF(Loading!K360<0, 0, Loading!K360) -> 0 | DZ26: =(1-$AE$2)*MEDIAN(I25:I28) -> 0 | EA26: =(1-$AE$2)*MEDIAN(J25:J28) -> 0 | EB26: =(1-$AE$2)*MEDIAN(K25:K28) -> 0 | EC26: =(1-$AE$2)*MEDIAN(L25:L28) -> 0 | ED26: =(1-$AE$2)*MEDIAN(M25:M28) -> 0 | EE26: =(1-$AE$2)*MEDIAN(N25:N28) -> 0 | EF26: =(1-$AE$2)*MEDIAN(O25:O28) -> 0 | EG26: =(1-$AE$2)*MEDIAN(P25:P28) -> 0 | ... IO26: =(1-$AE$2)*MEDIAN(DX25:DX28) -> 0
H27: IgM | I27: =IF(Loading!D25<0, 0, Loading!D25) -> 0 | J27: =IF(Loading!D73<0, 0, Loading!D73) -> 0 | K27: =IF(Loading!D121<0, 0, Loading!D121) -> 0 | L27: =IF(Loading!D169<0, 0, Loading!D169) -> 0 | M27: =IF(Loading!D217<0, 0, Loading!D217) -> 0 | N27: =IF(Loading!D265<0, 0, Loading!D265) -> 0 | O27: =IF(Loading!D313<0, 0, Loading!D313) -> 0 | P27: =IF(Loading!D361<0, 0, Loading!D361) -> 0 | Q27: =IF(Loading!D409<0, 0, Loading!D409) -> 0 | R27: =IF(Loading!D457<0, 0, Loading!D457) -> 0 | S27: =IF(Loading!D505<0, 0, Loading!D505) -> 0 | T27: =IF(Loading!D553<0, 0, Loading!D553) -> 0 | U27: =IF(Loading!D601<0, 0, Loading!D601) -> 0 | V27: =IF(Loading!D649<0, 0, Loading!D649) -> 0 | W27: =IF(Loading!D697<0, 0, Loading!D697) -> 0 | X27: =IF(Loading!D745<0, 0, Loading!D745) -> 0 | Y27: =IF(Loading!E25<0, 0, Loading!E25) -> 0 | Z27: =IF(Loading!E73<0, 0, Loading!E73) -> 0 | AA27: =IF(Loading!E121<0, 0, Loading!E121) -> 0 | AB27: =IF(Loading!E169<0, 0, Loading!E169) -> 0 | AC27: =IF(Loading!E217<0, 0, Loading!E217) -> 0 | AD27: =IF(Loading!E265<0, 0, Loading!E265) -> 0 | AE27: =IF(Loading!E313<0, 0, Loading!E313) -> 0 | AF27: =IF(Loading!E361<0, 0, Loading!E361) -> 0 | AG27: =IF(Loading!E409<0, 0, Loading!E409) -> 0 | AH27: =IF(Loading!E457<0, 0, Loading!E457) -> 0 | AI27: =IF(Loading!E505<0, 0, Loading!E505) -> 0 | AJ27: =IF(Loading!E553<0, 0, Loading!E553) -> 0 | AK27: =IF(Loading!E601<0, 0, Loading!E601) -> 0 | AL27: =IF(Loading!E649<0, 0, Loading!E649) -> 0 | AM27: =IF(Loading!E697<0, 0, Loading!E697) -> 0 | AN27: =IF(Loading!E745<0, 0, Loading!E745) -> 0 | AO27: =IF(Loading!F25<0, 0, Loading!F25) -> 0 | AP27: =IF(Loading!F73<0, 0, Loading!F73) -> 0 | AQ27: =IF(Loading!F121<0, 0, Loading!F121) -> 0 | AR27: =IF(Loading!F169<0, 0, Loading!F169) -> 0 | AS27: =IF(Loading!F217<0, 0, Loading!F217) -> 0 | AT27: =IF(Loading!F265<0, 0, Loading!F265) -> 0 | AU27: =IF(Loading!F313<0, 0, Loading!F313) -> 0 | AV27: =IF(Loading!F361<0, 0, Loading!F361) -> 0 | AW27: =IF(Loading!F409<0, 0, Loading!F409) -> 0 | AX27: =IF(Loading!F457<0, 0, Loading!F457) -> 0 | AY27: =IF(Loading!F505<0, 0, Loading!F505) -> 0 | AZ27: =IF(Loading!F553<0, 0, Loading!F553) -> 0 | BA27: =IF(Loading!F601<0, 0, Loading!F601) -> 0 | BB27: =IF(Loading!F649<0, 0, Loading!F649) -> 0 | BC27: =IF(Loading!F697<0, 0, Loading!F697) -> 0 | BD27: =IF(Loading!F745<0, 0, Loading!F745) -> 0 | BE27: =IF(Loading!G25<0, 0, Loading!G25) -> 0 | BF27: =IF(Loading!G73<0, 0, Loading!G73) -> 0 | BG27: =IF(Loading!G121<0, 0, Loading!G121) -> 0 | BH27: =IF(Loading!G169<0, 0, Loading!G169) -> 0 | BI27: =IF(Loading!G217<0, 0, Loading!G217) -> 0 | BJ27: =IF(Loading!G265<0, 0, Loading!G265) -> 0 | BK27: =IF(Loading!G313<0, 0, Loading!G313) -> 0 | BL27: =IF(Loading!G361<0, 0, Loading!G361) -> 0 | BM27: =IF(Loading!G409<0, 0, Loading!G409) -> 0 | BN27: =IF(Loading!G457<0, 0, Loading!G457) -> 0 | BO27: =IF(Loading!G505<0, 0, Loading!G505) -> 0 | BP27: =IF(Loading!G553<0, 0, Loading!G553) -> 0 | BQ27: =IF(Loading!G601<0, 0, Loading!G601) -> 0 | BR27: =IF(Loading!G649<0, 0, Loading!G649) -> 0 | BS27: =IF(Loading!G697<0, 0, Loading!G697) -> 0 | BT27: =IF(Loading!G745<0, 0, Loading!G745) -> 0 | BU27: =IF(Loading!H25<0, 0, Loading!H25) -> 0 | BV27: =IF(Loading!H73<0, 0, Loading!H73) -> 0 | BW27: =IF(Loading!H121<0, 0, Loading!H121) -> 0 | BX27: =IF(Loading!H169<0, 0, Loading!H169) -> 0 | BY27: =IF(Loading!H217<0, 0, Loading!H217) -> 0 | BZ27: =IF(Loading!H265<0, 0, Loading!H265) -> 0 | CA27: =IF(Loading!H313<0, 0, Loading!H313) -> 0 | CB27: =IF(Loading!H361<0, 0, Loading!H361) -> 0 | CC27: =IF(Loading!H409<0, 0, Loading!H409) -> 0 | CD27: =IF(Loading!H457<0, 0, Loading!H457) -> 0 | CE27: =IF(Loading!H505<0, 0, Loading!H505) -> 0 | CF27: =IF(Loading!H553<0, 0, Loading!H553) -> 0 | CG27: =IF(Loading!H601<0, 0, Loading!H601) -> 0 | CH27: =IF(Loading!H649<0, 0, Loading!H649) -> 0 | CI27: =IF(Loading!H697<0, 0, Loading!H697) -> 0 | CJ27: =IF(Loading!H745<0, 0, Loading!H745) -> 0 | CK27: =IF(Loading!I25<0, 0, Loading!I25) -> 0 | CL27: =IF(Loading!I73<0, 0, Loading!I73) -> 0 | CM27: =IF(Loading!I121<0, 0, Loading!I121) -> 0 | CN27: =IF(Loading!I169<0, 0, Loading!I169) -> 0 | CO27: =IF(Loading!I217<0, 0, Loading!I217) -> 0 | CP27: =IF(Loading!I265<0, 0, Loading!I265) -> 0 | CQ27: =IF(Loading!I313<0, 0, Loading!I313) -> 0 | CR27: =IF(Loading!I361<0, 0, Loading!I361) -> 0 | CS27: =IF(Loading!I409<0, 0, Loading!I409) -> 0 | CT27: =IF(Loading!I457<0, 0, Loading!I457) -> 0 | CU27: =IF(Loading!I505<0, 0, Loading!I505) -> 0 | CV27: =IF(Loading!I553<0, 0, Loading!I553) -> 0 | CW27: =IF(Loading!I601<0, 0, Loading!I601) -> 0 | CX27: =IF(Loading!I649<0, 0, Loading!I649) -> 0 | CY27: =IF(Loading!I697<0, 0, Loading!I697) -> 0 | CZ27: =IF(Loading!I745<0, 0, Loading!I745) -> 0 | DA27: =IF(Loading!J25<0, 0, Loading!J25) -> 0 | DB27: =IF(Loading!J73<0, 0, Loading!J73) -> 0 | DC27: =IF(Loading!J121<0, 0, Loading!J121) -> 0 | DD27: =IF(Loading!J169<0, 0, Loading!J169) -> 0 | DE27: =IF(Loading!J217<0, 0, Loading!J217) -> 0 | DF27: =IF(Loading!J265<0, 0, Loading!J265) -> 0 | DG27: =IF(Loading!J313<0, 0, Loading!J313) -> 0 | DH27: =IF(Loading!J361<0, 0, Loading!J361) -> 0 | DI27: =IF(Loading!J409<0, 0, Loading!J409) -> 0 | DJ27: =IF(Loading!J457<0, 0, Loading!J457) -> 0 | DK27: =IF(Loading!J505<0, 0, Loading!J505) -> 0 | DL27: =IF(Loading!J553<0, 0, Loading!J553) -> 0 | DM27: =IF(Loading!J601<0, 0, Loading!J601) -> 0 | DN27: =IF(Loading!J649<0, 0, Loading!J649) -> 0 | DO27: =IF(Loading!J697<0, 0, Loading!J697) -> 0 | DP27: =IF(Loading!J745<0, 0, Loading!J745) -> 0 | DQ27: =IF(Loading!K25<0, 0, Loading!K25) -> 0 | DR27: =IF(Loading!K73<0, 0, Loading!K73) -> 0 | DS27: =IF(Loading!K121<0, 0, Loading!K121) -> 0 | DT27: =IF(Loading!K169<0, 0, Loading!K169) -> 0 | DU27: =IF(Loading!K217<0, 0, Loading!K217) -> 0 | DV27: =IF(Loading!K265<0, 0, Loading!K265) -> 0 | DW27: =IF(Loading!K313<0, 0, Loading!K313) -> 0 | DX27: =IF(Loading!K361<0, 0, Loading!K361) -> 0
H28: IgM | I28: =IF(Loading!D26<0, 0, Loading!D26) -> 0 | J28: =IF(Loading!D74<0, 0, Loading!D74) -> 0 | K28: =IF(Loading!D122<0, 0, Loading!D122) -> 0 | L28: =IF(Loading!D170<0, 0, Loading!D170) -> 0 | M28: =IF(Loading!D218<0, 0, Loading!D218) -> 0 | N28: =IF(Loading!D266<0, 0, Loading!D266) -> 0 | O28: =IF(Loading!D314<0, 0, Loading!D314) -> 0 | P28: =IF(Loading!D362<0, 0, Loading!D362) -> 0 | Q28: =IF(Loading!D410<0, 0, Loading!D410) -> 0 | R28: =IF(Loading!D458<0, 0, Loading!D458) -> 0 | S28: =IF(Loading!D506<0, 0, Loading!D506) -> 0 | T28: =IF(Loading!D554<0, 0, Loading!D554) -> 0 | U28: =IF(Loading!D602<0, 0, Loading!D602) -> 0 | V28: =IF(Loading!D650<0, 0, Loading!D650) -> 0 | W28: =IF(Loading!D698<0, 0, Loading!D698) -> 0 | X28: =IF(Loading!D746<0, 0, Loading!D746) -> 0 | Y28: =IF(Loading!E26<0, 0, Loading!E26) -> 0 | Z28: =IF(Loading!E74<0, 0, Loading!E74) -> 0 | AA28: =IF(Loading!E122<0, 0, Loading!E122) -> 0 | AB28: =IF(Loading!E170<0, 0, Loading!E170) -> 0 | AC28: =IF(Loading!E218<0, 0, Loading!E218) -> 0 | AD28: =IF(Loading!E266<0, 0, Loading!E266) -> 0 | AE28: =IF(Loading!E314<0, 0, Loading!E314) -> 0 | AF28: =IF(Loading!E362<0, 0, Loading!E362) -> 0 | AG28: =IF(Loading!E410<0, 0, Loading!E410) -> 0 | AH28: =IF(Loading!E458<0, 0, Loading!E458) -> 0 | AI28: =IF(Loading!E506<0, 0, Loading!E506) -> 0 | AJ28: =IF(Loading!E554<0, 0, Loading!E554) -> 0 | AK28: =IF(Loading!E602<0, 0, Loading!E602) -> 0 | AL28: =IF(Loading!E650<0, 0, Loading!E650) -> 0 | AM28: =IF(Loading!E698<0, 0, Loading!E698) -> 0 | AN28: =IF(Loading!E746<0, 0, Loading!E746) -> 0 | AO28: =IF(Loading!F26<0, 0, Loading!F26) -> 0 | AP28: =IF(Loading!F74<0, 0, Loading!F74) -> 0 | AQ28: =IF(Loading!F122<0, 0, Loading!F122) -> 0 | AR28: =IF(Loading!F170<0, 0, Loading!F170) -> 0 | AS28: =IF(Loading!F218<0, 0, Loading!F218) -> 0 | AT28: =IF(Loading!F266<0, 0, Loading!F266) -> 0 | AU28: =IF(Loading!F314<0, 0, Loading!F314) -> 0 | AV28: =IF(Loading!F362<0, 0, Loading!F362) -> 0 | AW28: =IF(Loading!F410<0, 0, Loading!F410) -> 0 | AX28: =IF(Loading!F458<0, 0, Loading!F458) -> 0 | AY28: =IF(Loading!F506<0, 0, Loading!F506) -> 0 | AZ28: =IF(Loading!F554<0, 0, Loading!F554) -> 0 | BA28: =IF(Loading!F602<0, 0, Loading!F602) -> 0 | BB28: =IF(Loading!F650<0, 0, Loading!F650) -> 0 | BC28: =IF(Loading!F698<0, 0, Loading!F698) -> 0 | BD28: =IF(Loading!F746<0, 0, Loading!F746) -> 0 | BE28: =IF(Loading!G26<0, 0, Loading!G26) -> 0 | BF28: =IF(Loading!G74<0, 0, Loading!G74) -> 0 | BG28: =IF(Loading!G122<0, 0, Loading!G122) -> 0 | BH28: =IF(Loading!G170<0, 0, Loading!G170) -> 0 | BI28: =IF(Loading!G218<0, 0, Loading!G218) -> 0 | BJ28: =IF(Loading!G266<0, 0, Loading!G266) -> 0 | BK28: =IF(Loading!G314<0, 0, Loading!G314) -> 0 | BL28: =IF(Loading!G362<0, 0, Loading!G362) -> 0 | BM28: =IF(Loading!G410<0, 0, Loading!G410) -> 0 | BN28: =IF(Loading!G458<0, 0, Loading!G458) -> 0 | BO28: =IF(Loading!G506<0, 0, Loading!G506) -> 0 | BP28: =IF(Loading!G554<0, 0, Loading!G554) -> 0 | BQ28: =IF(Loading!G602<0, 0, Loading!G602) -> 0 | BR28: =IF(Loading!G650<0, 0, Loading!G650) -> 0 | BS28: =IF(Loading!G698<0, 0, Loading!G698) -> 0 | BT28: =IF(Loading!G746<0, 0, Loading!G746) -> 0 | BU28: =IF(Loading!H26<0, 0, Loading!H26) -> 0 | BV28: =IF(Loading!H74<0, 0, Loading!H74) -> 0 | BW28: =IF(Loading!H122<0, 0, Loading!H122) -> 0 | BX28: =IF(Loading!H170<0, 0, Loading!H170) -> 0 | BY28: =IF(Loading!H218<0, 0, Loading!H218) -> 0 | BZ28: =IF(Loading!H266<0, 0, Loading!H266) -> 0 | CA28: =IF(Loading!H314<0, 0, Loading!H314) -> 0 | CB28: =IF(Loading!H362<0, 0, Loading!H362) -> 0 | CC28: =IF(Loading!H410<0, 0, Loading!H410) -> 0 | CD28: =IF(Loading!H458<0, 0, Loading!H458) -> 0 | CE28: =IF(Loading!H506<0, 0, Loading!H506) -> 0 | CF28: =IF(Loading!H554<0, 0, Loading!H554) -> 0 | CG28: =IF(Loading!H602<0, 0, Loading!H602) -> 0 | CH28: =IF(Loading!H650<0, 0, Loading!H650) -> 0 | CI28: =IF(Loading!H698<0, 0, Loading!H698) -> 0 | CJ28: =IF(Loading!H746<0, 0, Loading!H746) -> 0 | CK28: =IF(Loading!I26<0, 0, Loading!I26) -> 0 | CL28: =IF(Loading!I74<0, 0, Loading!I74) -> 0 | CM28: =IF(Loading!I122<0, 0, Loading!I122) -> 0 | CN28: =IF(Loading!I170<0, 0, Loading!I170) -> 0 | CO28: =IF(Loading!I218<0, 0, Loading!I218) -> 0 | CP28: =IF(Loading!I266<0, 0, Loading!I266) -> 0 | CQ28: =IF(Loading!I314<0, 0, Loading!I314) -> 0 | CR28: =IF(Loading!I362<0, 0, Loading!I362) -> 0 | CS28: =IF(Loading!I410<0, 0, Loading!I410) -> 0 | CT28: =IF(Loading!I458<0, 0, Loading!I458) -> 0 | CU28: =IF(Loading!I506<0, 0, Loading!I506) -> 0 | CV28: =IF(Loading!I554<0, 0, Loading!I554) -> 0 | CW28: =IF(Loading!I602<0, 0, Loading!I602) -> 0 | CX28: =IF(Loading!I650<0, 0, Loading!I650) -> 0 | CY28: =IF(Loading!I698<0, 0, Loading!I698) -> 0 | CZ28: =IF(Loading!I746<0, 0, Loading!I746) -> 0 | DA28: =IF(Loading!J26<0, 0, Loading!J26) -> 0 | DB28: =IF(Loading!J74<0, 0, Loading!J74) -> 0 | DC28: =IF(Loading!J122<0, 0, Loading!J122) -> 0 | DD28: =IF(Loading!J170<0, 0, Loading!J170) -> 0 | DE28: =IF(Loading!J218<0, 0, Loading!J218) -> 0 | DF28: =IF(Loading!J266<0, 0, Loading!J266) -> 0 | DG28: =IF(Loading!J314<0, 0, Loading!J314) -> 0 | DH28: =IF(Loading!J362<0, 0, Loading!J362) -> 0 | DI28: =IF(Loading!J410<0, 0, Loading!J410) -> 0 | DJ28: =IF(Loading!J458<0, 0, Loading!J458) -> 0 | DK28: =IF(Loading!J506<0, 0, Loading!J506) -> 0 | DL28: =IF(Loading!J554<0, 0, Loading!J554) -> 0 | DM28: =IF(Loading!J602<0, 0, Loading!J602) -> 0 | DN28: =IF(Loading!J650<0, 0, Loading!J650) -> 0 | DO28: =IF(Loading!J698<0, 0, Loading!J698) -> 0 | DP28: =IF(Loading!J746<0, 0, Loading!J746) -> 0 | DQ28: =IF(Loading!K26<0, 0, Loading!K26) -> 0 | DR28: =IF(Loading!K74<0, 0, Loading!K74) -> 0 | DS28: =IF(Loading!K122<0, 0, Loading!K122) -> 0 | DT28: =IF(Loading!K170<0, 0, Loading!K170) -> 0 | DU28: =IF(Loading!K218<0, 0, Loading!K218) -> 0 | DV28: =IF(Loading!K266<0, 0, Loading!K266) -> 0 | DW28: =IF(Loading!K314<0, 0, Loading!K314) -> 0 | DX28: =IF(Loading!K362<0, 0, Loading!K362) -> 0
H29: IgG1 | I29: =IF(Loading!D27<0, 0, Loading!D27) -> 0 | J29: =IF(Loading!D75<0, 0, Loading!D75) -> 0 | K29: =IF(Loading!D123<0, 0, Loading!D123) -> 0 | L29: =IF(Loading!D171<0, 0, Loading!D171) -> 0 | M29: =IF(Loading!D219<0, 0, Loading!D219) -> 0 | N29: =IF(Loading!D267<0, 0, Loading!D267) -> 0 | O29: =IF(Loading!D315<0, 0, Loading!D315) -> 0 | P29: =IF(Loading!D363<0, 0, Loading!D363) -> 0 | Q29: =IF(Loading!D411<0, 0, Loading!D411) -> 0 | R29: =IF(Loading!D459<0, 0, Loading!D459) -> 0 | S29: =IF(Loading!D507<0, 0, Loading!D507) -> 0 | T29: =IF(Loading!D555<0, 0, Loading!D555) -> 0 | U29: =IF(Loading!D603<0, 0, Loading!D603) -> 0 | V29: =IF(Loading!D651<0, 0, Loading!D651) -> 0 | W29: =IF(Loading!D699<0, 0, Loading!D699) -> 0 | X29: =IF(Loading!D747<0, 0, Loading!D747) -> 0 | Y29: =IF(Loading!E27<0, 0, Loading!E27) -> 0 | Z29: =IF(Loading!E75<0, 0, Loading!E75) -> 0 | AA29: =IF(Loading!E123<0, 0, Loading!E123) -> 0 | AB29: =IF(Loading!E171<0, 0, Loading!E171) -> 0 | AC29: =IF(Loading!E219<0, 0, Loading!E219) -> 0 | AD29: =IF(Loading!E267<0, 0, Loading!E267) -> 0 | AE29: =IF(Loading!E315<0, 0, Loading!E315) -> 0 | AF29: =IF(Loading!E363<0, 0, Loading!E363) -> 0 | AG29: =IF(Loading!E411<0, 0, Loading!E411) -> 0 | AH29: =IF(Loading!E459<0, 0, Loading!E459) -> 0 | AI29: =IF(Loading!E507<0, 0, Loading!E507) -> 0 | AJ29: =IF(Loading!E555<0, 0, Loading!E555) -> 0 | AK29: =IF(Loading!E603<0, 0, Loading!E603) -> 0 | AL29: =IF(Loading!E651<0, 0, Loading!E651) -> 0 | AM29: =IF(Loading!E699<0, 0, Loading!E699) -> 0 | AN29: =IF(Loading!E747<0, 0, Loading!E747) -> 0 | AO29: =IF(Loading!F27<0, 0, Loading!F27) -> 0 | AP29: =IF(Loading!F75<0, 0, Loading!F75) -> 0 | AQ29: =IF(Loading!F123<0, 0, Loading!F123) -> 0 | AR29: =IF(Loading!F171<0, 0, Loading!F171) -> 0 | AS29: =IF(Loading!F219<0, 0, Loading!F219) -> 0 | AT29: =IF(Loading!F267<0, 0, Loading!F267) -> 0 | AU29: =IF(Loading!F315<0, 0, Loading!F315) -> 0 | AV29: =IF(Loading!F363<0, 0, Loading!F363) -> 0 | AW29: =IF(Loading!F411<0, 0, Loading!F411) -> 0 | AX29: =IF(Loading!F459<0, 0, Loading!F459) -> 0 | AY29: =IF(Loading!F507<0, 0, Loading!F507) -> 0 | AZ29: =IF(Loading!F555<0, 0, Loading!F555) -> 0 | BA29: =IF(Loading!F603<0, 0, Loading!F603) -> 0 | BB29: =IF(Loading!F651<0, 0, Loading!F651) -> 0 | BC29: =IF(Loading!F699<0, 0, Loading!F699) -> 0 | BD29: =IF(Loading!F747<0, 0, Loading!F747) -> 0 | BE29: =IF(Loading!G27<0, 0, Loading!G27) -> 0 | BF29: =IF(Loading!G75<0, 0, Loading!G75) -> 0 | BG29: =IF(Loading!G123<0, 0, Loading!G123) -> 0 | BH29: =IF(Loading!G171<0, 0, Loading!G171) -> 0 | BI29: =IF(Loading!G219<0, 0, Loading!G219) -> 0 | BJ29: =IF(Loading!G267<0, 0, Loading!G267) -> 0 | BK29: =IF(Loading!G315<0, 0, Loading!G315) -> 0 | BL29: =IF(Loading!G363<0, 0, Loading!G363) -> 0 | BM29: =IF(Loading!G411<0, 0, Loading!G411) -> 0 | BN29: =IF(Loading!G459<0, 0, Loading!G459) -> 0 | BO29: =IF(Loading!G507<0, 0, Loading!G507) -> 0 | BP29: =IF(Loading!G555<0, 0, Loading!G555) -> 0 | BQ29: =IF(Loading!G603<0, 0, Loading!G603) -> 0 | BR29: =IF(Loading!G651<0, 0, Loading!G651) -> 0 | BS29: =IF(Loading!G699<0, 0, Loading!G699) -> 0 | BT29: =IF(Loading!G747<0, 0, Loading!G747) -> 0 | BU29: =IF(Loading!H27<0, 0, Loading!H27) -> 0 | BV29: =IF(Loading!H75<0, 0, Loading!H75) -> 0 | BW29: =IF(Loading!H123<0, 0, Loading!H123) -> 0 | BX29: =IF(Loading!H171<0, 0, Loading!H171) -> 0 | BY29: =IF(Loading!H219<0, 0, Loading!H219) -> 0 | BZ29: =IF(Loading!H267<0, 0, Loading!H267) -> 0 | CA29: =IF(Loading!H315<0, 0, Loading!H315) -> 0 | CB29: =IF(Loading!H363<0, 0, Loading!H363) -> 0 | CC29: =IF(Loading!H411<0, 0, Loading!H411) -> 0 | CD29: =IF(Loading!H459<0, 0, Loading!H459) -> 0 | CE29: =IF(Loading!H507<0, 0, Loading!H507) -> 0 | CF29: =IF(Loading!H555<0, 0, Loading!H555) -> 0 | CG29: =IF(Loading!H603<0, 0, Loading!H603) -> 0 | CH29: =IF(Loading!H651<0, 0, Loading!H651) -> 0 | CI29: =IF(Loading!H699<0, 0, Loading!H699) -> 0 | CJ29: =IF(Loading!H747<0, 0, Loading!H747) -> 0 | CK29: =IF(Loading!I27<0, 0, Loading!I27) -> 0 | CL29: =IF(Loading!I75<0, 0, Loading!I75) -> 0 | CM29: =IF(Loading!I123<0, 0, Loading!I123) -> 0 | CN29: =IF(Loading!I171<0, 0, Loading!I171) -> 0 | CO29: =IF(Loading!I219<0, 0, Loading!I219) -> 0 | CP29: =IF(Loading!I267<0, 0, Loading!I267) -> 0 | CQ29: =IF(Loading!I315<0, 0, Loading!I315) -> 0 | CR29: =IF(Loading!I363<0, 0, Loading!I363) -> 0 | CS29: =IF(Loading!I411<0, 0, Loading!I411) -> 0 | CT29: =IF(Loading!I459<0, 0, Loading!I459) -> 0 | CU29: =IF(Loading!I507<0, 0, Loading!I507) -> 0 | CV29: =IF(Loading!I555<0, 0, Loading!I555) -> 0 | CW29: =IF(Loading!I603<0, 0, Loading!I603) -> 0 | CX29: =IF(Loading!I651<0, 0, Loading!I651) -> 0 | CY29: =IF(Loading!I699<0, 0, Loading!I699) -> 0 | CZ29: =IF(Loading!I747<0, 0, Loading!I747) -> 0 | DA29: =IF(Loading!J27<0, 0, Loading!J27) -> 0 | DB29: =IF(Loading!J75<0, 0, Loading!J75) -> 0 | DC29: =IF(Loading!J123<0, 0, Loading!J123) -> 0 | DD29: =IF(Loading!J171<0, 0, Loading!J171) -> 0 | DE29: =IF(Loading!J219<0, 0, Loading!J219) -> 0 | DF29: =IF(Loading!J267<0, 0, Loading!J267) -> 0 | DG29: =IF(Loading!J315<0, 0, Loading!J315) -> 0 | DH29: =IF(Loading!J363<0, 0, Loading!J363) -> 0 | DI29: =IF(Loading!J411<0, 0, Loading!J411) -> 0 | DJ29: =IF(Loading!J459<0, 0, Loading!J459) -> 0 | DK29: =IF(Loading!J507<0, 0, Loading!J507) -> 0 | DL29: =IF(Loading!J555<0, 0, Loading!J555) -> 0 | DM29: =IF(Loading!J603<0, 0, Loading!J603) -> 0 | DN29: =IF(Loading!J651<0, 0, Loading!J651) -> 0 | DO29: =IF(Loading!J699<0, 0, Loading!J699) -> 0 | DP29: =IF(Loading!J747<0, 0, Loading!J747) -> 0 | DQ29: =IF(Loading!K27<0, 0, Loading!K27) -> 0 | DR29: =IF(Loading!K75<0, 0, Loading!K75) -> 0 | DS29: =IF(Loading!K123<0, 0, Loading!K123) -> 0 | DT29: =IF(Loading!K171<0, 0, Loading!K171) -> 0 | DU29: =IF(Loading!K219<0, 0, Loading!K219) -> 0 | DV29: =IF(Loading!K267<0, 0, Loading!K267) -> 0 | DW29: =IF(Loading!K315<0, 0, Loading!K315) -> 0 | DX29: =IF(Loading!K363<0, 0, Loading!K363) -> 0 | DZ29: =(1+$AE$2)*MEDIAN(I29:I32) -> 0 | EA29: =(1+$AE$2)*MEDIAN(J29:J32) -> 0 | EB29: =(1+$AE$2)*MEDIAN(K29:K32) -> 0 | EC29: =(1+$AE$2)*MEDIAN(L29:L32) -> 0 | ED29: =(1+$AE$2)*MEDIAN(M29:M32) -> 0 | EE29: =(1+$AE$2)*MEDIAN(N29:N32) -> 0 | EF29: =(1+$AE$2)*MEDIAN(O29:O32) -> 0 | EG29: =(1+$AE$2)*MEDIAN(P29:P32) -> 0 | ... IO29: =(1+$AE$2)*MEDIAN(DX29:DX32) -> 0
H30: IgG1 | I30: =IF(Loading!D28<0, 0, Loading!D28) -> 0 | J30: =IF(Loading!D76<0, 0, Loading!D76) -> 0 | K30: =IF(Loading!D124<0, 0, Loading!D124) -> 0 | L30: =IF(Loading!D172<0, 0, Loading!D172) -> 0 | M30: =IF(Loading!D220<0, 0, Loading!D220) -> 0 | N30: =IF(Loading!D268<0, 0, Loading!D268) -> 0 | O30: =IF(Loading!D316<0, 0, Loading!D316) -> 0 | P30: =IF(Loading!D364<0, 0, Loading!D364) -> 0 | Q30: =IF(Loading!D412<0, 0, Loading!D412) -> 0 | R30: =IF(Loading!D460<0, 0, Loading!D460) -> 0 | S30: =IF(Loading!D508<0, 0, Loading!D508) -> 0 | T30: =IF(Loading!D556<0, 0, Loading!D556) -> 0 | U30: =IF(Loading!D604<0, 0, Loading!D604) -> 0 | V30: =IF(Loading!D652<0, 0, Loading!D652) -> 0 | W30: =IF(Loading!D700<0, 0, Loading!D700) -> 0 | X30: =IF(Loading!D748<0, 0, Loading!D748) -> 0 | Y30: =IF(Loading!E28<0, 0, Loading!E28) -> 0 | Z30: =IF(Loading!E76<0, 0, Loading!E76) -> 0 | AA30: =IF(Loading!E124<0, 0, Loading!E124) -> 0 | AB30: =IF(Loading!E172<0, 0, Loading!E172) -> 0 | AC30: =IF(Loading!E220<0, 0, Loading!E220) -> 0 | AD30: =IF(Loading!E268<0, 0, Loading!E268) -> 0 | AE30: =IF(Loading!E316<0, 0, Loading!E316) -> 0 | AF30: =IF(Loading!E364<0, 0, Loading!E364) -> 0 | AG30: =IF(Loading!E412<0, 0, Loading!E412) -> 0 | AH30: =IF(Loading!E460<0, 0, Loading!E460) -> 0 | AI30: =IF(Loading!E508<0, 0, Loading!E508) -> 0 | AJ30: =IF(Loading!E556<0, 0, Loading!E556) -> 0 | AK30: =IF(Loading!E604<0, 0, Loading!E604) -> 0 | AL30: =IF(Loading!E652<0, 0, Loading!E652) -> 0 | AM30: =IF(Loading!E700<0, 0, Loading!E700) -> 0 | AN30: =IF(Loading!E748<0, 0, Loading!E748) -> 0 | AO30: =IF(Loading!F28<0, 0, Loading!F28) -> 0 | AP30: =IF(Loading!F76<0, 0, Loading!F76) -> 0 | AQ30: =IF(Loading!F124<0, 0, Loading!F124) -> 0 | AR30: =IF(Loading!F172<0, 0, Loading!F172) -> 0 | AS30: =IF(Loading!F220<0, 0, Loading!F220) -> 0 | AT30: =IF(Loading!F268<0, 0, Loading!F268) -> 0 | AU30: =IF(Loading!F316<0, 0, Loading!F316) -> 0 | AV30: =IF(Loading!F364<0, 0, Loading!F364) -> 0 | AW30: =IF(Loading!F412<0, 0, Loading!F412) -> 0 | AX30: =IF(Loading!F460<0, 0, Loading!F460) -> 0 | AY30: =IF(Loading!F508<0, 0, Loading!F508) -> 0 | AZ30: =IF(Loading!F556<0, 0, Loading!F556) -> 0 | BA30: =IF(Loading!F604<0, 0, Loading!F604) -> 0 | BB30: =IF(Loading!F652<0, 0, Loading!F652) -> 0 | BC30: =IF(Loading!F700<0, 0, Loading!F700) -> 0 | BD30: =IF(Loading!F748<0, 0, Loading!F748) -> 0 | BE30: =IF(Loading!G28<0, 0, Loading!G28) -> 0 | BF30: =IF(Loading!G76<0, 0, Loading!G76) -> 0 | BG30: =IF(Loading!G124<0, 0, Loading!G124) -> 0 | BH30: =IF(Loading!G172<0, 0, Loading!G172) -> 0 | BI30: =IF(Loading!G220<0, 0, Loading!G220) -> 0 | BJ30: =IF(Loading!G268<0, 0, Loading!G268) -> 0 | BK30: =IF(Loading!G316<0, 0, Loading!G316) -> 0 | BL30: =IF(Loading!G364<0, 0, Loading!G364) -> 0 | BM30: =IF(Loading!G412<0, 0, Loading!G412) -> 0 | BN30: =IF(Loading!G460<0, 0, Loading!G460) -> 0 | BO30: =IF(Loading!G508<0, 0, Loading!G508) -> 0 | BP30: =IF(Loading!G556<0, 0, Loading!G556) -> 0 | BQ30: =IF(Loading!G604<0, 0, Loading!G604) -> 0 | BR30: =IF(Loading!G652<0, 0, Loading!G652) -> 0 | BS30: =IF(Loading!G700<0, 0, Loading!G700) -> 0 | BT30: =IF(Loading!G748<0, 0, Loading!G748) -> 0 | BU30: =IF(Loading!H28<0, 0, Loading!H28) -> 0 | BV30: =IF(Loading!H76<0, 0, Loading!H76) -> 0 | BW30: =IF(Loading!H124<0, 0, Loading!H124) -> 0 | BX30: =IF(Loading!H172<0, 0, Loading!H172) -> 0 | BY30: =IF(Loading!H220<0, 0, Loading!H220) -> 0 | BZ30: =IF(Loading!H268<0, 0, Loading!H268) -> 0 | CA30: =IF(Loading!H316<0, 0, Loading!H316) -> 0 | CB30: =IF(Loading!H364<0, 0, Loading!H364) -> 0 | CC30: =IF(Loading!H412<0, 0, Loading!H412) -> 0 | CD30: =IF(Loading!H460<0, 0, Loading!H460) -> 0 | CE30: =IF(Loading!H508<0, 0, Loading!H508) -> 0 | CF30: =IF(Loading!H556<0, 0, Loading!H556) -> 0 | CG30: =IF(Loading!H604<0, 0, Loading!H604) -> 0 | CH30: =IF(Loading!H652<0, 0, Loading!H652) -> 0 | CI30: =IF(Loading!H700<0, 0, Loading!H700) -> 0 | CJ30: =IF(Loading!H748<0, 0, Loading!H748) -> 0 | CK30: =IF(Loading!I28<0, 0, Loading!I28) -> 0 | CL30: =IF(Loading!I76<0, 0, Loading!I76) -> 0 | CM30: =IF(Loading!I124<0, 0, Loading!I124) -> 0 | CN30: =IF(Loading!I172<0, 0, Loading!I172) -> 0 | CO30: =IF(Loading!I220<0, 0, Loading!I220) -> 0 | CP30: =IF(Loading!I268<0, 0, Loading!I268) -> 0 | CQ30: =IF(Loading!I316<0, 0, Loading!I316) -> 0 | CR30: =IF(Loading!I364<0, 0, Loading!I364) -> 0 | CS30: =IF(Loading!I412<0, 0, Loading!I412) -> 0 | CT30: =IF(Loading!I460<0, 0, Loading!I460) -> 0 | CU30: =IF(Loading!I508<0, 0, Loading!I508) -> 0 | CV30: =IF(Loading!I556<0, 0, Loading!I556) -> 0 | CW30: =IF(Loading!I604<0, 0, Loading!I604) -> 0 | CX30: =IF(Loading!I652<0, 0, Loading!I652) -> 0 | CY30: =IF(Loading!I700<0, 0, Loading!I700) -> 0 | CZ30: =IF(Loading!I748<0, 0, Loading!I748) -> 0 | DA30: =IF(Loading!J28<0, 0, Loading!J28) -> 0 | DB30: =IF(Loading!J76<0, 0, Loading!J76) -> 0 | DC30: =IF(Loading!J124<0, 0, Loading!J124) -> 0 | DD30: =IF(Loading!J172<0, 0, Loading!J172) -> 0 | DE30: =IF(Loading!J220<0, 0, Loading!J220) -> 0 | DF30: =IF(Loading!J268<0, 0, Loading!J268) -> 0 | DG30: =IF(Loading!J316<0, 0, Loading!J316) -> 0 | DH30: =IF(Loading!J364<0, 0, Loading!J364) -> 0 | DI30: =IF(Loading!J412<0, 0, Loading!J412) -> 0 | DJ30: =IF(Loading!J460<0, 0, Loading!J460) -> 0 | DK30: =IF(Loading!J508<0, 0, Loading!J508) -> 0 | DL30: =IF(Loading!J556<0, 0, Loading!J556) -> 0 | DM30: =IF(Loading!J604<0, 0, Loading!J604) -> 0 | DN30: =IF(Loading!J652<0, 0, Loading!J652) -> 0 | DO30: =IF(Loading!J700<0, 0, Loading!J700) -> 0 | DP30: =IF(Loading!J748<0, 0, Loading!J748) -> 0 | DQ30: =IF(Loading!K28<0, 0, Loading!K28) -> 0 | DR30: =IF(Loading!K76<0, 0, Loading!K76) -> 0 | DS30: =IF(Loading!K124<0, 0, Loading!K124) -> 0 | DT30: =IF(Loading!K172<0, 0, Loading!K172) -> 0 | DU30: =IF(Loading!K220<0, 0, Loading!K220) -> 0 | DV30: =IF(Loading!K268<0, 0, Loading!K268) -> 0 | DW30: =IF(Loading!K316<0, 0, Loading!K316) -> 0 | DX30: =IF(Loading!K364<0, 0, Loading!K364) -> 0 | DZ30: =(1-$AE$2)*MEDIAN(I29:I32) -> 0 | EA30: =(1-$AE$2)*MEDIAN(J29:J32) -> 0 | EB30: =(1-$AE$2)*MEDIAN(K29:K32) -> 0 | EC30: =(1-$AE$2)*MEDIAN(L29:L32) -> 0 | ED30: =(1-$AE$2)*MEDIAN(M29:M32) -> 0 | EE30: =(1-$AE$2)*MEDIAN(N29:N32) -> 0 | EF30: =(1-$AE$2)*MEDIAN(O29:O32) -> 0 | EG30: =(1-$AE$2)*MEDIAN(P29:P32) -> 0 | ... IO30: =(1-$AE$2)*MEDIAN(DX29:DX32) -> 0
H31: IgG1 | I31: =IF(Loading!D29<0, 0, Loading!D29) -> 0 | J31: =IF(Loading!D77<0, 0, Loading!D77) -> 0 | K31: =IF(Loading!D125<0, 0, Loading!D125) -> 0 | L31: =IF(Loading!D173<0, 0, Loading!D173) -> 0 | M31: =IF(Loading!D221<0, 0, Loading!D221) -> 0 | N31: =IF(Loading!D269<0, 0, Loading!D269) -> 0 | O31: =IF(Loading!D317<0, 0, Loading!D317) -> 0 | P31: =IF(Loading!D365<0, 0, Loading!D365) -> 0 | Q31: =IF(Loading!D413<0, 0, Loading!D413) -> 0 | R31: =IF(Loading!D461<0, 0, Loading!D461) -> 0 | S31: =IF(Loading!D509<0, 0, Loading!D509) -> 0 | T31: =IF(Loading!D557<0, 0, Loading!D557) -> 0 | U31: =IF(Loading!D605<0, 0, Loading!D605) -> 0 | V31: =IF(Loading!D653<0, 0, Loading!D653) -> 0 | W31: =IF(Loading!D701<0, 0, Loading!D701) -> 0 | X31: =IF(Loading!D749<0, 0, Loading!D749) -> 0 | Y31: =IF(Loading!E29<0, 0, Loading!E29) -> 0 | Z31: =IF(Loading!E77<0, 0, Loading!E77) -> 0 | AA31: =IF(Loading!E125<0, 0, Loading!E125) -> 0 | AB31: =IF(Loading!E173<0, 0, Loading!E173) -> 0 | AC31: =IF(Loading!E221<0, 0, Loading!E221) -> 0 | AD31: =IF(Loading!E269<0, 0, Loading!E269) -> 0 | AE31: =IF(Loading!E317<0, 0, Loading!E317) -> 0 | AF31: =IF(Loading!E365<0, 0, Loading!E365) -> 0 | AG31: =IF(Loading!E413<0, 0, Loading!E413) -> 0 | AH31: =IF(Loading!E461<0, 0, Loading!E461) -> 0 | AI31: =IF(Loading!E509<0, 0, Loading!E509) -> 0 | AJ31: =IF(Loading!E557<0, 0, Loading!E557) -> 0 | AK31: =IF(Loading!E605<0, 0, Loading!E605) -> 0 | AL31: =IF(Loading!E653<0, 0, Loading!E653) -> 0 | AM31: =IF(Loading!E701<0, 0, Loading!E701) -> 0 | AN31: =IF(Loading!E749<0, 0, Loading!E749) -> 0 | AO31: =IF(Loading!F29<0, 0, Loading!F29) -> 0 | AP31: =IF(Loading!F77<0, 0, Loading!F77) -> 0 | AQ31: =IF(Loading!F125<0, 0, Loading!F125) -> 0 | AR31: =IF(Loading!F173<0, 0, Loading!F173) -> 0 | AS31: =IF(Loading!F221<0, 0, Loading!F221) -> 0 | AT31: =IF(Loading!F269<0, 0, Loading!F269) -> 0 | AU31: =IF(Loading!F317<0, 0, Loading!F317) -> 0 | AV31: =IF(Loading!F365<0, 0, Loading!F365) -> 0 | AW31: =IF(Loading!F413<0, 0, Loading!F413) -> 0 | AX31: =IF(Loading!F461<0, 0, Loading!F461) -> 0 | AY31: =IF(Loading!F509<0, 0, Loading!F509) -> 0 | AZ31: =IF(Loading!F557<0, 0, Loading!F557) -> 0 | BA31: =IF(Loading!F605<0, 0, Loading!F605) -> 0 | BB31: =IF(Loading!F653<0, 0, Loading!F653) -> 0 | BC31: =IF(Loading!F701<0, 0, Loading!F701) -> 0 | BD31: =IF(Loading!F749<0, 0, Loading!F749) -> 0 | BE31: =IF(Loading!G29<0, 0, Loading!G29) -> 0 | BF31: =IF(Loading!G77<0, 0, Loading!G77) -> 0 | BG31: =IF(Loading!G125<0, 0, Loading!G125) -> 0 | BH31: =IF(Loading!G173<0, 0, Loading!G173) -> 0 | BI31: =IF(Loading!G221<0, 0, Loading!G221) -> 0 | BJ31: =IF(Loading!G269<0, 0, Loading!G269) -> 0 | BK31: =IF(Loading!G317<0, 0, Loading!G317) -> 0 | BL31: =IF(Loading!G365<0, 0, Loading!G365) -> 0 | BM31: =IF(Loading!G413<0, 0, Loading!G413) -> 0 | BN31: =IF(Loading!G461<0, 0, Loading!G461) -> 0 | BO31: =IF(Loading!G509<0, 0, Loading!G509) -> 0 | BP31: =IF(Loading!G557<0, 0, Loading!G557) -> 0 | BQ31: =IF(Loading!G605<0, 0, Loading!G605) -> 0 | BR31: =IF(Loading!G653<0, 0, Loading!G653) -> 0 | BS31: =IF(Loading!G701<0, 0, Loading!G701) -> 0 | BT31: =IF(Loading!G749<0, 0, Loading!G749) -> 0 | BU31: =IF(Loading!H29<0, 0, Loading!H29) -> 0 | BV31: =IF(Loading!H77<0, 0, Loading!H77) -> 0 | BW31: =IF(Loading!H125<0, 0, Loading!H125) -> 0 | BX31: =IF(Loading!H173<0, 0, Loading!H173) -> 0 | BY31: =IF(Loading!H221<0, 0, Loading!H221) -> 0 | BZ31: =IF(Loading!H269<0, 0, Loading!H269) -> 0 | CA31: =IF(Loading!H317<0, 0, Loading!H317) -> 0 | CB31: =IF(Loading!H365<0, 0, Loading!H365) -> 0 | CC31: =IF(Loading!H413<0, 0, Loading!H413) -> 0 | CD31: =IF(Loading!H461<0, 0, Loading!H461) -> 0 | CE31: =IF(Loading!H509<0, 0, Loading!H509) -> 0 | CF31: =IF(Loading!H557<0, 0, Loading!H557) -> 0 | CG31: =IF(Loading!H605<0, 0, Loading!H605) -> 0 | CH31: =IF(Loading!H653<0, 0, Loading!H653) -> 0 | CI31: =IF(Loading!H701<0, 0, Loading!H701) -> 0 | CJ31: =IF(Loading!H749<0, 0, Loading!H749) -> 0 | CK31: =IF(Loading!I29<0, 0, Loading!I29) -> 0 | CL31: =IF(Loading!I77<0, 0, Loading!I77) -> 0 | CM31: =IF(Loading!I125<0, 0, Loading!I125) -> 0 | CN31: =IF(Loading!I173<0, 0, Loading!I173) -> 0 | CO31: =IF(Loading!I221<0, 0, Loading!I221) -> 0 | CP31: =IF(Loading!I269<0, 0, Loading!I269) -> 0 | CQ31: =IF(Loading!I317<0, 0, Loading!I317) -> 0 | CR31: =IF(Loading!I365<0, 0, Loading!I365) -> 0 | CS31: =IF(Loading!I413<0, 0, Loading!I413) -> 0 | CT31: =IF(Loading!I461<0, 0, Loading!I461) -> 0 | CU31: =IF(Loading!I509<0, 0, Loading!I509) -> 0 | CV31: =IF(Loading!I557<0, 0, Loading!I557) -> 0 | CW31: =IF(Loading!I605<0, 0, Loading!I605) -> 0 | CX31: =IF(Loading!I653<0, 0, Loading!I653) -> 0 | CY31: =IF(Loading!I701<0, 0, Loading!I701) -> 0 | CZ31: =IF(Loading!I749<0, 0, Loading!I749) -> 0 | DA31: =IF(Loading!J29<0, 0, Loading!J29) -> 0 | DB31: =IF(Loading!J77<0, 0, Loading!J77) -> 0 | DC31: =IF(Loading!J125<0, 0, Loading!J125) -> 0 | DD31: =IF(Loading!J173<0, 0, Loading!J173) -> 0 | DE31: =IF(Loading!J221<0, 0, Loading!J221) -> 0 | DF31: =IF(Loading!J269<0, 0, Loading!J269) -> 0 | DG31: =IF(Loading!J317<0, 0, Loading!J317) -> 0 | DH31: =IF(Loading!J365<0, 0, Loading!J365) -> 0 | DI31: =IF(Loading!J413<0, 0, Loading!J413) -> 0 | DJ31: =IF(Loading!J461<0, 0, Loading!J461) -> 0 | DK31: =IF(Loading!J509<0, 0, Loading!J509) -> 0 | DL31: =IF(Loading!J557<0, 0, Loading!J557) -> 0 | DM31: =IF(Loading!J605<0, 0, Loading!J605) -> 0 | DN31: =IF(Loading!J653<0, 0, Loading!J653) -> 0 | DO31: =IF(Loading!J701<0, 0, Loading!J701) -> 0 | DP31: =IF(Loading!J749<0, 0, Loading!J749) -> 0 | DQ31: =IF(Loading!K29<0, 0, Loading!K29) -> 0 | DR31: =IF(Loading!K77<0, 0, Loading!K77) -> 0 | DS31: =IF(Loading!K125<0, 0, Loading!K125) -> 0 | DT31: =IF(Loading!K173<0, 0, Loading!K173) -> 0 | DU31: =IF(Loading!K221<0, 0, Loading!K221) -> 0 | DV31: =IF(Loading!K269<0, 0, Loading!K269) -> 0 | DW31: =IF(Loading!K317<0, 0, Loading!K317) -> 0 | DX31: =IF(Loading!K365<0, 0, Loading!K365) -> 0
H32: IgG1 | I32: =IF(Loading!D30<0, 0, Loading!D30) -> 0 | J32: =IF(Loading!D78<0, 0, Loading!D78) -> 0 | K32: =IF(Loading!D126<0, 0, Loading!D126) -> 0 | L32: =IF(Loading!D174<0, 0, Loading!D174) -> 0 | M32: =IF(Loading!D222<0, 0, Loading!D222) -> 0 | N32: =IF(Loading!D270<0, 0, Loading!D270) -> 0 | O32: =IF(Loading!D318<0, 0, Loading!D318) -> 0 | P32: =IF(Loading!D366<0, 0, Loading!D366) -> 0 | Q32: =IF(Loading!D414<0, 0, Loading!D414) -> 0 | R32: =IF(Loading!D462<0, 0, Loading!D462) -> 0 | S32: =IF(Loading!D510<0, 0, Loading!D510) -> 0 | T32: =IF(Loading!D558<0, 0, Loading!D558) -> 0 | U32: =IF(Loading!D606<0, 0, Loading!D606) -> 0 | V32: =IF(Loading!D654<0, 0, Loading!D654) -> 0 | W32: =IF(Loading!D702<0, 0, Loading!D702) -> 0 | X32: =IF(Loading!D750<0, 0, Loading!D750) -> 0 | Y32: =IF(Loading!E30<0, 0, Loading!E30) -> 0 | Z32: =IF(Loading!E78<0, 0, Loading!E78) -> 0 | AA32: =IF(Loading!E126<0, 0, Loading!E126) -> 0 | AB32: =IF(Loading!E174<0, 0, Loading!E174) -> 0 | AC32: =IF(Loading!E222<0, 0, Loading!E222) -> 0 | AD32: =IF(Loading!E270<0, 0, Loading!E270) -> 0 | AE32: =IF(Loading!E318<0, 0, Loading!E318) -> 0 | AF32: =IF(Loading!E366<0, 0, Loading!E366) -> 0 | AG32: =IF(Loading!E414<0, 0, Loading!E414) -> 0 | AH32: =IF(Loading!E462<0, 0, Loading!E462) -> 0 | AI32: =IF(Loading!E510<0, 0, Loading!E510) -> 0 | AJ32: =IF(Loading!E558<0, 0, Loading!E558) -> 0 | AK32: =IF(Loading!E606<0, 0, Loading!E606) -> 0 | AL32: =IF(Loading!E654<0, 0, Loading!E654) -> 0 | AM32: =IF(Loading!E702<0, 0, Loading!E702) -> 0 | AN32: =IF(Loading!E750<0, 0, Loading!E750) -> 0 | AO32: =IF(Loading!F30<0, 0, Loading!F30) -> 0 | AP32: =IF(Loading!F78<0, 0, Loading!F78) -> 0 | AQ32: =IF(Loading!F126<0, 0, Loading!F126) -> 0 | AR32: =IF(Loading!F174<0, 0, Loading!F174) -> 0 | AS32: =IF(Loading!F222<0, 0, Loading!F222) -> 0 | AT32: =IF(Loading!F270<0, 0, Loading!F270) -> 0 | AU32: =IF(Loading!F318<0, 0, Loading!F318) -> 0 | AV32: =IF(Loading!F366<0, 0, Loading!F366) -> 0 | AW32: =IF(Loading!F414<0, 0, Loading!F414) -> 0 | AX32: =IF(Loading!F462<0, 0, Loading!F462) -> 0 | AY32: =IF(Loading!F510<0, 0, Loading!F510) -> 0 | AZ32: =IF(Loading!F558<0, 0, Loading!F558) -> 0 | BA32: =IF(Loading!F606<0, 0, Loading!F606) -> 0 | BB32: =IF(Loading!F654<0, 0, Loading!F654) -> 0 | BC32: =IF(Loading!F702<0, 0, Loading!F702) -> 0 | BD32: =IF(Loading!F750<0, 0, Loading!F750) -> 0 | BE32: =IF(Loading!G30<0, 0, Loading!G30) -> 0 | BF32: =IF(Loading!G78<0, 0, Loading!G78) -> 0 | BG32: =IF(Loading!G126<0, 0, Loading!G126) -> 0 | BH32: =IF(Loading!G174<0, 0, Loading!G174) -> 0 | BI32: =IF(Loading!G222<0, 0, Loading!G222) -> 0 | BJ32: =IF(Loading!G270<0, 0, Loading!G270) -> 0 | BK32: =IF(Loading!G318<0, 0, Loading!G318) -> 0 | BL32: =IF(Loading!G366<0, 0, Loading!G366) -> 0 | BM32: =IF(Loading!G414<0, 0, Loading!G414) -> 0 | BN32: =IF(Loading!G462<0, 0, Loading!G462) -> 0 | BO32: =IF(Loading!G510<0, 0, Loading!G510) -> 0 | BP32: =IF(Loading!G558<0, 0, Loading!G558) -> 0 | BQ32: =IF(Loading!G606<0, 0, Loading!G606) -> 0 | BR32: =IF(Loading!G654<0, 0, Loading!G654) -> 0 | BS32: =IF(Loading!G702<0, 0, Loading!G702) -> 0 | BT32: =IF(Loading!G750<0, 0, Loading!G750) -> 0 | BU32: =IF(Loading!H30<0, 0, Loading!H30) -> 0 | BV32: =IF(Loading!H78<0, 0, Loading!H78) -> 0 | BW32: =IF(Loading!H126<0, 0, Loading!H126) -> 0 | BX32: =IF(Loading!H174<0, 0, Loading!H174) -> 0 | BY32: =IF(Loading!H222<0, 0, Loading!H222) -> 0 | BZ32: =IF(Loading!H270<0, 0, Loading!H270) -> 0 | CA32: =IF(Loading!H318<0, 0, Loading!H318) -> 0 | CB32: =IF(Loading!H366<0, 0, Loading!H366) -> 0 | CC32: =IF(Loading!H414<0, 0, Loading!H414) -> 0 | CD32: =IF(Loading!H462<0, 0, Loading!H462) -> 0 | CE32: =IF(Loading!H510<0, 0, Loading!H510) -> 0 | CF32: =IF(Loading!H558<0, 0, Loading!H558) -> 0 | CG32: =IF(Loading!H606<0, 0, Loading!H606) -> 0 | CH32: =IF(Loading!H654<0, 0, Loading!H654) -> 0 | CI32: =IF(Loading!H702<0, 0, Loading!H702) -> 0 | CJ32: =IF(Loading!H750<0, 0, Loading!H750) -> 0 | CK32: =IF(Loading!I30<0, 0, Loading!I30) -> 0 | CL32: =IF(Loading!I78<0, 0, Loading!I78) -> 0 | CM32: =IF(Loading!I126<0, 0, Loading!I126) -> 0 | CN32: =IF(Loading!I174<0, 0, Loading!I174) -> 0 | CO32: =IF(Loading!I222<0, 0, Loading!I222) -> 0 | CP32: =IF(Loading!I270<0, 0, Loading!I270) -> 0 | CQ32: =IF(Loading!I318<0, 0, Loading!I318) -> 0 | CR32: =IF(Loading!I366<0, 0, Loading!I366) -> 0 | CS32: =IF(Loading!I414<0, 0, Loading!I414) -> 0 | CT32: =IF(Loading!I462<0, 0, Loading!I462) -> 0 | CU32: =IF(Loading!I510<0, 0, Loading!I510) -> 0 | CV32: =IF(Loading!I558<0, 0, Loading!I558) -> 0 | CW32: =IF(Loading!I606<0, 0, Loading!I606) -> 0 | CX32: =IF(Loading!I654<0, 0, Loading!I654) -> 0 | CY32: =IF(Loading!I702<0, 0, Loading!I702) -> 0 | CZ32: =IF(Loading!I750<0, 0, Loading!I750) -> 0 | DA32: =IF(Loading!J30<0, 0, Loading!J30) -> 0 | DB32: =IF(Loading!J78<0, 0, Loading!J78) -> 0 | DC32: =IF(Loading!J126<0, 0, Loading!J126) -> 0 | DD32: =IF(Loading!J174<0, 0, Loading!J174) -> 0 | DE32: =IF(Loading!J222<0, 0, Loading!J222) -> 0 | DF32: =IF(Loading!J270<0, 0, Loading!J270) -> 0 | DG32: =IF(Loading!J318<0, 0, Loading!J318) -> 0 | DH32: =IF(Loading!J366<0, 0, Loading!J366) -> 0 | DI32: =IF(Loading!J414<0, 0, Loading!J414) -> 0 | DJ32: =IF(Loading!J462<0, 0, Loading!J462) -> 0 | DK32: =IF(Loading!J510<0, 0, Loading!J510) -> 0 | DL32: =IF(Loading!J558<0, 0, Loading!J558) -> 0 | DM32: =IF(Loading!J606<0, 0, Loading!J606) -> 0 | DN32: =IF(Loading!J654<0, 0, Loading!J654) -> 0 | DO32: =IF(Loading!J702<0, 0, Loading!J702) -> 0 | DP32: =IF(Loading!J750<0, 0, Loading!J750) -> 0 | DQ32: =IF(Loading!K30<0, 0, Loading!K30) -> 0 | DR32: =IF(Loading!K78<0, 0, Loading!K78) -> 0 | DS32: =IF(Loading!K126<0, 0, Loading!K126) -> 0 | DT32: =IF(Loading!K174<0, 0, Loading!K174) -> 0 | DU32: =IF(Loading!K222<0, 0, Loading!K222) -> 0 | DV32: =IF(Loading!K270<0, 0, Loading!K270) -> 0 | DW32: =IF(Loading!K318<0, 0, Loading!K318) -> 0 | DX32: =IF(Loading!K366<0, 0, Loading!K366) -> 0
H33: IgG2a | I33: =IF(Loading!D31<0, 0, Loading!D31) -> 0 | J33: =IF(Loading!D79<0, 0, Loading!D79) -> 0 | K33: =IF(Loading!D127<0, 0, Loading!D127) -> 0 | L33: =IF(Loading!D175<0, 0, Loading!D175) -> 0 | M33: =IF(Loading!D223<0, 0, Loading!D223) -> 0 | N33: =IF(Loading!D271<0, 0, Loading!D271) -> 0 | O33: =IF(Loading!D319<0, 0, Loading!D319) -> 0 | P33: =IF(Loading!D367<0, 0, Loading!D367) -> 0 | Q33: =IF(Loading!D415<0, 0, Loading!D415) -> 0 | R33: =IF(Loading!D463<0, 0, Loading!D463) -> 0 | S33: =IF(Loading!D511<0, 0, Loading!D511) -> 0 | T33: =IF(Loading!D559<0, 0, Loading!D559) -> 0 | U33: =IF(Loading!D607<0, 0, Loading!D607) -> 0 | V33: =IF(Loading!D655<0, 0, Loading!D655) -> 0 | W33: =IF(Loading!D703<0, 0, Loading!D703) -> 0 | X33: =IF(Loading!D751<0, 0, Loading!D751) -> 0 | Y33: =IF(Loading!E31<0, 0, Loading!E31) -> 0 | Z33: =IF(Loading!E79<0, 0, Loading!E79) -> 0 | AA33: =IF(Loading!E127<0, 0, Loading!E127) -> 0 | AB33: =IF(Loading!E175<0, 0, Loading!E175) -> 0 | AC33: =IF(Loading!E223<0, 0, Loading!E223) -> 0 | AD33: =IF(Loading!E271<0, 0, Loading!E271) -> 0 | AE33: =IF(Loading!E319<0, 0, Loading!E319) -> 0 | AF33: =IF(Loading!E367<0, 0, Loading!E367) -> 0 | AG33: =IF(Loading!E415<0, 0, Loading!E415) -> 0 | AH33: =IF(Loading!E463<0, 0, Loading!E463) -> 0 | AI33: =IF(Loading!E511<0, 0, Loading!E511) -> 0 | AJ33: =IF(Loading!E559<0, 0, Loading!E559) -> 0 | AK33: =IF(Loading!E607<0, 0, Loading!E607) -> 0 | AL33: =IF(Loading!E655<0, 0, Loading!E655) -> 0 | AM33: =IF(Loading!E703<0, 0, Loading!E703) -> 0 | AN33: =IF(Loading!E751<0, 0, Loading!E751) -> 0 | AO33: =IF(Loading!F31<0, 0, Loading!F31) -> 0 | AP33: =IF(Loading!F79<0, 0, Loading!F79) -> 0 | AQ33: =IF(Loading!F127<0, 0, Loading!F127) -> 0 | AR33: =IF(Loading!F175<0, 0, Loading!F175) -> 0 | AS33: =IF(Loading!F223<0, 0, Loading!F223) -> 0 | AT33: =IF(Loading!F271<0, 0, Loading!F271) -> 0 | AU33: =IF(Loading!F319<0, 0, Loading!F319) -> 0 | AV33: =IF(Loading!F367<0, 0, Loading!F367) -> 0 | AW33: =IF(Loading!F415<0, 0, Loading!F415) -> 0 | AX33: =IF(Loading!F463<0, 0, Loading!F463) -> 0 | AY33: =IF(Loading!F511<0, 0, Loading!F511) -> 0 | AZ33: =IF(Loading!F559<0, 0, Loading!F559) -> 0 | BA33: =IF(Loading!F607<0, 0, Loading!F607) -> 0 | BB33: =IF(Loading!F655<0, 0, Loading!F655) -> 0 | BC33: =IF(Loading!F703<0, 0, Loading!F703) -> 0 | BD33: =IF(Loading!F751<0, 0, Loading!F751) -> 0 | BE33: =IF(Loading!G31<0, 0, Loading!G31) -> 0 | BF33: =IF(Loading!G79<0, 0, Loading!G79) -> 0 | BG33: =IF(Loading!G127<0, 0, Loading!G127) -> 0 | BH33: =IF(Loading!G175<0, 0, Loading!G175) -> 0 | BI33: =IF(Loading!G223<0, 0, Loading!G223) -> 0 | BJ33: =IF(Loading!G271<0, 0, Loading!G271) -> 0 | BK33: =IF(Loading!G319<0, 0, Loading!G319) -> 0 | BL33: =IF(Loading!G367<0, 0, Loading!G367) -> 0 | BM33: =IF(Loading!G415<0, 0, Loading!G415) -> 0 | BN33: =IF(Loading!G463<0, 0, Loading!G463) -> 0 | BO33: =IF(Loading!G511<0, 0, Loading!G511) -> 0 | BP33: =IF(Loading!G559<0, 0, Loading!G559) -> 0 | BQ33: =IF(Loading!G607<0, 0, Loading!G607) -> 0 | BR33: =IF(Loading!G655<0, 0, Loading!G655) -> 0 | BS33: =IF(Loading!G703<0, 0, Loading!G703) -> 0 | BT33: =IF(Loading!G751<0, 0, Loading!G751) -> 0 | BU33: =IF(Loading!H31<0, 0, Loading!H31) -> 0 | BV33: =IF(Loading!H79<0, 0, Loading!H79) -> 0 | BW33: =IF(Loading!H127<0, 0, Loading!H127) -> 0 | BX33: =IF(Loading!H175<0, 0, Loading!H175) -> 0 | BY33: =IF(Loading!H223<0, 0, Loading!H223) -> 0 | BZ33: =IF(Loading!H271<0, 0, Loading!H271) -> 0 | CA33: =IF(Loading!H319<0, 0, Loading!H319) -> 0 | CB33: =IF(Loading!H367<0, 0, Loading!H367) -> 0 | CC33: =IF(Loading!H415<0, 0, Loading!H415) -> 0 | CD33: =IF(Loading!H463<0, 0, Loading!H463) -> 0 | CE33: =IF(Loading!H511<0, 0, Loading!H511) -> 0 | CF33: =IF(Loading!H559<0, 0, Loading!H559) -> 0 | CG33: =IF(Loading!H607<0, 0, Loading!H607) -> 0 | CH33: =IF(Loading!H655<0, 0, Loading!H655) -> 0 | CI33: =IF(Loading!H703<0, 0, Loading!H703) -> 0 | CJ33: =IF(Loading!H751<0, 0, Loading!H751) -> 0 | CK33: =IF(Loading!I31<0, 0, Loading!I31) -> 0 | CL33: =IF(Loading!I79<0, 0, Loading!I79) -> 0 | CM33: =IF(Loading!I127<0, 0, Loading!I127) -> 0 | CN33: =IF(Loading!I175<0, 0, Loading!I175) -> 0 | CO33: =IF(Loading!I223<0, 0, Loading!I223) -> 0 | CP33: =IF(Loading!I271<0, 0, Loading!I271) -> 0 | CQ33: =IF(Loading!I319<0, 0, Loading!I319) -> 0 | CR33: =IF(Loading!I367<0, 0, Loading!I367) -> 0 | CS33: =IF(Loading!I415<0, 0, Loading!I415) -> 0 | CT33: =IF(Loading!I463<0, 0, Loading!I463) -> 0 | CU33: =IF(Loading!I511<0, 0, Loading!I511) -> 0 | CV33: =IF(Loading!I559<0, 0, Loading!I559) -> 0 | CW33: =IF(Loading!I607<0, 0, Loading!I607) -> 0 | CX33: =IF(Loading!I655<0, 0, Loading!I655) -> 0 | CY33: =IF(Loading!I703<0, 0, Loading!I703) -> 0 | CZ33: =IF(Loading!I751<0, 0, Loading!I751) -> 0 | DA33: =IF(Loading!J31<0, 0, Loading!J31) -> 0 | DB33: =IF(Loading!J79<0, 0, Loading!J79) -> 0 | DC33: =IF(Loading!J127<0, 0, Loading!J127) -> 0 | DD33: =IF(Loading!J175<0, 0, Loading!J175) -> 0 | DE33: =IF(Loading!J223<0, 0, Loading!J223) -> 0 | DF33: =IF(Loading!J271<0, 0, Loading!J271) -> 0 | DG33: =IF(Loading!J319<0, 0, Loading!J319) -> 0 | DH33: =IF(Loading!J367<0, 0, Loading!J367) -> 0 | DI33: =IF(Loading!J415<0, 0, Loading!J415) -> 0 | DJ33: =IF(Loading!J463<0, 0, Loading!J463) -> 0 | DK33: =IF(Loading!J511<0, 0, Loading!J511) -> 0 | DL33: =IF(Loading!J559<0, 0, Loading!J559) -> 0 | DM33: =IF(Loading!J607<0, 0, Loading!J607) -> 0 | DN33: =IF(Loading!J655<0, 0, Loading!J655) -> 0 | DO33: =IF(Loading!J703<0, 0, Loading!J703) -> 0 | DP33: =IF(Loading!J751<0, 0, Loading!J751) -> 0 | DQ33: =IF(Loading!K31<0, 0, Loading!K31) -> 0 | DR33: =IF(Loading!K79<0, 0, Loading!K79) -> 0 | DS33: =IF(Loading!K127<0, 0, Loading!K127) -> 0 | DT33: =IF(Loading!K175<0, 0, Loading!K175) -> 0 | DU33: =IF(Loading!K223<0, 0, Loading!K223) -> 0 | DV33: =IF(Loading!K271<0, 0, Loading!K271) -> 0 | DW33: =IF(Loading!K319<0, 0, Loading!K319) -> 0 | DX33: =IF(Loading!K367<0, 0, Loading!K367) -> 0 | DZ33: =(1+$AE$2)*MEDIAN(I33:I36) -> 0 | EA33: =(1+$AE$2)*MEDIAN(J33:J36) -> 0 | EB33: =(1+$AE$2)*MEDIAN(K33:K36) -> 0 | EC33: =(1+$AE$2)*MEDIAN(L33:L36) -> 0 | ED33: =(1+$AE$2)*MEDIAN(M33:M36) -> 0 | EE33: =(1+$AE$2)*MEDIAN(N33:N36) -> 0 | EF33: =(1+$AE$2)*MEDIAN(O33:O36) -> 0 | EG33: =(1+$AE$2)*MEDIAN(P33:P36) -> 0 | ... IO33: =(1+$AE$2)*MEDIAN(DX33:DX36) -> 0
H34: IgG2a | I34: =IF(Loading!D32<0, 0, Loading!D32) -> 0 | J34: =IF(Loading!D80<0, 0, Loading!D80) -> 0 | K34: =IF(Loading!D128<0, 0, Loading!D128) -> 0 | L34: =IF(Loading!D176<0, 0, Loading!D176) -> 0 | M34: =IF(Loading!D224<0, 0, Loading!D224) -> 0 | N34: =IF(Loading!D272<0, 0, Loading!D272) -> 0 | O34: =IF(Loading!D320<0, 0, Loading!D320) -> 0 | P34: =IF(Loading!D368<0, 0, Loading!D368) -> 0 | Q34: =IF(Loading!D416<0, 0, Loading!D416) -> 0 | R34: =IF(Loading!D464<0, 0, Loading!D464) -> 0 | S34: =IF(Loading!D512<0, 0, Loading!D512) -> 0 | T34: =IF(Loading!D560<0, 0, Loading!D560) -> 0 | U34: =IF(Loading!D608<0, 0, Loading!D608) -> 0 | V34: =IF(Loading!D656<0, 0, Loading!D656) -> 0 | W34: =IF(Loading!D704<0, 0, Loading!D704) -> 0 | X34: =IF(Loading!D752<0, 0, Loading!D752) -> 0 | Y34: =IF(Loading!E32<0, 0, Loading!E32) -> 0 | Z34: =IF(Loading!E80<0, 0, Loading!E80) -> 0 | AA34: =IF(Loading!E128<0, 0, Loading!E128) -> 0 | AB34: =IF(Loading!E176<0, 0, Loading!E176) -> 0 | AC34: =IF(Loading!E224<0, 0, Loading!E224) -> 0 | AD34: =IF(Loading!E272<0, 0, Loading!E272) -> 0 | AE34: =IF(Loading!E320<0, 0, Loading!E320) -> 0 | AF34: =IF(Loading!E368<0, 0, Loading!E368) -> 0 | AG34: =IF(Loading!E416<0, 0, Loading!E416) -> 0 | AH34: =IF(Loading!E464<0, 0, Loading!E464) -> 0 | AI34: =IF(Loading!E512<0, 0, Loading!E512) -> 0 | AJ34: =IF(Loading!E560<0, 0, Loading!E560) -> 0 | AK34: =IF(Loading!E608<0, 0, Loading!E608) -> 0 | AL34: =IF(Loading!E656<0, 0, Loading!E656) -> 0 | AM34: =IF(Loading!E704<0, 0, Loading!E704) -> 0 | AN34: =IF(Loading!E752<0, 0, Loading!E752) -> 0 | AO34: =IF(Loading!F32<0, 0, Loading!F32) -> 0 | AP34: =IF(Loading!F80<0, 0, Loading!F80) -> 0 | AQ34: =IF(Loading!F128<0, 0, Loading!F128) -> 0 | AR34: =IF(Loading!F176<0, 0, Loading!F176) -> 0 | AS34: =IF(Loading!F224<0, 0, Loading!F224) -> 0 | AT34: =IF(Loading!F272<0, 0, Loading!F272) -> 0 | AU34: =IF(Loading!F320<0, 0, Loading!F320) -> 0 | AV34: =IF(Loading!F368<0, 0, Loading!F368) -> 0 | AW34: =IF(Loading!F416<0, 0, Loading!F416) -> 0 | AX34: =IF(Loading!F464<0, 0, Loading!F464) -> 0 | AY34: =IF(Loading!F512<0, 0, Loading!F512) -> 0 | AZ34: =IF(Loading!F560<0, 0, Loading!F560) -> 0 | BA34: =IF(Loading!F608<0, 0, Loading!F608) -> 0 | BB34: =IF(Loading!F656<0, 0, Loading!F656) -> 0 | BC34: =IF(Loading!F704<0, 0, Loading!F704) -> 0 | BD34: =IF(Loading!F752<0, 0, Loading!F752) -> 0 | BE34: =IF(Loading!G32<0, 0, Loading!G32) -> 0 | BF34: =IF(Loading!G80<0, 0, Loading!G80) -> 0 | BG34: =IF(Loading!G128<0, 0, Loading!G128) -> 0 | BH34: =IF(Loading!G176<0, 0, Loading!G176) -> 0 | BI34: =IF(Loading!G224<0, 0, Loading!G224) -> 0 | BJ34: =IF(Loading!G272<0, 0, Loading!G272) -> 0 | BK34: =IF(Loading!G320<0, 0, Loading!G320) -> 0 | BL34: =IF(Loading!G368<0, 0, Loading!G368) -> 0 | BM34: =IF(Loading!G416<0, 0, Loading!G416) -> 0 | BN34: =IF(Loading!G464<0, 0, Loading!G464) -> 0 | BO34: =IF(Loading!G512<0, 0, Loading!G512) -> 0 | BP34: =IF(Loading!G560<0, 0, Loading!G560) -> 0 | BQ34: =IF(Loading!G608<0, 0, Loading!G608) -> 0 | BR34: =IF(Loading!G656<0, 0, Loading!G656) -> 0 | BS34: =IF(Loading!G704<0, 0, Loading!G704) -> 0 | BT34: =IF(Loading!G752<0, 0, Loading!G752) -> 0 | BU34: =IF(Loading!H32<0, 0, Loading!H32) -> 0 | BV34: =IF(Loading!H80<0, 0, Loading!H80) -> 0 | BW34: =IF(Loading!H128<0, 0, Loading!H128) -> 0 | BX34: =IF(Loading!H176<0, 0, Loading!H176) -> 0 | BY34: =IF(Loading!H224<0, 0, Loading!H224) -> 0 | BZ34: =IF(Loading!H272<0, 0, Loading!H272) -> 0 | CA34: =IF(Loading!H320<0, 0, Loading!H320) -> 0 | CB34: =IF(Loading!H368<0, 0, Loading!H368) -> 0 | CC34: =IF(Loading!H416<0, 0, Loading!H416) -> 0 | CD34: =IF(Loading!H464<0, 0, Loading!H464) -> 0 | CE34: =IF(Loading!H512<0, 0, Loading!H512) -> 0 | CF34: =IF(Loading!H560<0, 0, Loading!H560) -> 0 | CG34: =IF(Loading!H608<0, 0, Loading!H608) -> 0 | CH34: =IF(Loading!H656<0, 0, Loading!H656) -> 0 | CI34: =IF(Loading!H704<0, 0, Loading!H704) -> 0 | CJ34: =IF(Loading!H752<0, 0, Loading!H752) -> 0 | CK34: =IF(Loading!I32<0, 0, Loading!I32) -> 0 | CL34: =IF(Loading!I80<0, 0, Loading!I80) -> 0 | CM34: =IF(Loading!I128<0, 0, Loading!I128) -> 0 | CN34: =IF(Loading!I176<0, 0, Loading!I176) -> 0 | CO34: =IF(Loading!I224<0, 0, Loading!I224) -> 0 | CP34: =IF(Loading!I272<0, 0, Loading!I272) -> 0 | CQ34: =IF(Loading!I320<0, 0, Loading!I320) -> 0 | CR34: =IF(Loading!I368<0, 0, Loading!I368) -> 0 | CS34: =IF(Loading!I416<0, 0, Loading!I416) -> 0 | CT34: =IF(Loading!I464<0, 0, Loading!I464) -> 0 | CU34: =IF(Loading!I512<0, 0, Loading!I512) -> 0 | CV34: =IF(Loading!I560<0, 0, Loading!I560) -> 0 | CW34: =IF(Loading!I608<0, 0, Loading!I608) -> 0 | CX34: =IF(Loading!I656<0, 0, Loading!I656) -> 0 | CY34: =IF(Loading!I704<0, 0, Loading!I704) -> 0 | CZ34: =IF(Loading!I752<0, 0, Loading!I752) -> 0 | DA34: =IF(Loading!J32<0, 0, Loading!J32) -> 0 | DB34: =IF(Loading!J80<0, 0, Loading!J80) -> 0 | DC34: =IF(Loading!J128<0, 0, Loading!J128) -> 0 | DD34: =IF(Loading!J176<0, 0, Loading!J176) -> 0 | DE34: =IF(Loading!J224<0, 0, Loading!J224) -> 0 | DF34: =IF(Loading!J272<0, 0, Loading!J272) -> 0 | DG34: =IF(Loading!J320<0, 0, Loading!J320) -> 0 | DH34: =IF(Loading!J368<0, 0, Loading!J368) -> 0 | DI34: =IF(Loading!J416<0, 0, Loading!J416) -> 0 | DJ34: =IF(Loading!J464<0, 0, Loading!J464) -> 0 | DK34: =IF(Loading!J512<0, 0, Loading!J512) -> 0 | DL34: =IF(Loading!J560<0, 0, Loading!J560) -> 0 | DM34: =IF(Loading!J608<0, 0, Loading!J608) -> 0 | DN34: =IF(Loading!J656<0, 0, Loading!J656) -> 0 | DO34: =IF(Loading!J704<0, 0, Loading!J704) -> 0 | DP34: =IF(Loading!J752<0, 0, Loading!J752) -> 0 | DQ34: =IF(Loading!K32<0, 0, Loading!K32) -> 0 | DR34: =IF(Loading!K80<0, 0, Loading!K80) -> 0 | DS34: =IF(Loading!K128<0, 0, Loading!K128) -> 0 | DT34: =IF(Loading!K176<0, 0, Loading!K176) -> 0 | DU34: =IF(Loading!K224<0, 0, Loading!K224) -> 0 | DV34: =IF(Loading!K272<0, 0, Loading!K272) -> 0 | DW34: =IF(Loading!K320<0, 0, Loading!K320) -> 0 | DX34: =IF(Loading!K368<0, 0, Loading!K368) -> 0 | DZ34: =(1-$AE$2)*MEDIAN(I33:I36) -> 0 | EA34: =(1-$AE$2)*MEDIAN(J33:J36) -> 0 | EB34: =(1-$AE$2)*MEDIAN(K33:K36) -> 0 | EC34: =(1-$AE$2)*MEDIAN(L33:L36) -> 0 | ED34: =(1-$AE$2)*MEDIAN(M33:M36) -> 0 | EE34: =(1-$AE$2)*MEDIAN(N33:N36) -> 0 | EF34: =(1-$AE$2)*MEDIAN(O33:O36) -> 0 | EG34: =(1-$AE$2)*MEDIAN(P33:P36) -> 0 | ... IO34: =(1-$AE$2)*MEDIAN(DX33:DX36) -> 0
H35: IgG2a | I35: =IF(Loading!D33<0, 0, Loading!D33) -> 0 | J35: =IF(Loading!D81<0, 0, Loading!D81) -> 0 | K35: =IF(Loading!D129<0, 0, Loading!D129) -> 0 | L35: =IF(Loading!D177<0, 0, Loading!D177) -> 0 | M35: =IF(Loading!D225<0, 0, Loading!D225) -> 0 | N35: =IF(Loading!D273<0, 0, Loading!D273) -> 0 | O35: =IF(Loading!D321<0, 0, Loading!D321) -> 0 | P35: =IF(Loading!D369<0, 0, Loading!D369) -> 0 | Q35: =IF(Loading!D417<0, 0, Loading!D417) -> 0 | R35: =IF(Loading!D465<0, 0, Loading!D465) -> 0 | S35: =IF(Loading!D513<0, 0, Loading!D513) -> 0 | T35: =IF(Loading!D561<0, 0, Loading!D561) -> 0 | U35: =IF(Loading!D609<0, 0, Loading!D609) -> 0 | V35: =IF(Loading!D657<0, 0, Loading!D657) -> 0 | W35: =IF(Loading!D705<0, 0, Loading!D705) -> 0 | X35: =IF(Loading!D753<0, 0, Loading!D753) -> 0 | Y35: =IF(Loading!E33<0, 0, Loading!E33) -> 0 | Z35: =IF(Loading!E81<0, 0, Loading!E81) -> 0 | AA35: =IF(Loading!E129<0, 0, Loading!E129) -> 0 | AB35: =IF(Loading!E177<0, 0, Loading!E177) -> 0 | AC35: =IF(Loading!E225<0, 0, Loading!E225) -> 0 | AD35: =IF(Loading!E273<0, 0, Loading!E273) -> 0 | AE35: =IF(Loading!E321<0, 0, Loading!E321) -> 0 | AF35: =IF(Loading!E369<0, 0, Loading!E369) -> 0 | AG35: =IF(Loading!E417<0, 0, Loading!E417) -> 0 | AH35: =IF(Loading!E465<0, 0, Loading!E465) -> 0 | AI35: =IF(Loading!E513<0, 0, Loading!E513) -> 0 | AJ35: =IF(Loading!E561<0, 0, Loading!E561) -> 0 | AK35: =IF(Loading!E609<0, 0, Loading!E609) -> 0 | AL35: =IF(Loading!E657<0, 0, Loading!E657) -> 0 | AM35: =IF(Loading!E705<0, 0, Loading!E705) -> 0 | AN35: =IF(Loading!E753<0, 0, Loading!E753) -> 0 | AO35: =IF(Loading!F33<0, 0, Loading!F33) -> 0 | AP35: =IF(Loading!F81<0, 0, Loading!F81) -> 0 | AQ35: =IF(Loading!F129<0, 0, Loading!F129) -> 0 | AR35: =IF(Loading!F177<0, 0, Loading!F177) -> 0 | AS35: =IF(Loading!F225<0, 0, Loading!F225) -> 0 | AT35: =IF(Loading!F273<0, 0, Loading!F273) -> 0 | AU35: =IF(Loading!F321<0, 0, Loading!F321) -> 0 | AV35: =IF(Loading!F369<0, 0, Loading!F369) -> 0 | AW35: =IF(Loading!F417<0, 0, Loading!F417) -> 0 | AX35: =IF(Loading!F465<0, 0, Loading!F465) -> 0 | AY35: =IF(Loading!F513<0, 0, Loading!F513) -> 0 | AZ35: =IF(Loading!F561<0, 0, Loading!F561) -> 0 | BA35: =IF(Loading!F609<0, 0, Loading!F609) -> 0 | BB35: =IF(Loading!F657<0, 0, Loading!F657) -> 0 | BC35: =IF(Loading!F705<0, 0, Loading!F705) -> 0 | BD35: =IF(Loading!F753<0, 0, Loading!F753) -> 0 | BE35: =IF(Loading!G33<0, 0, Loading!G33) -> 0 | BF35: =IF(Loading!G81<0, 0, Loading!G81) -> 0 | BG35: =IF(Loading!G129<0, 0, Loading!G129) -> 0 | BH35: =IF(Loading!G177<0, 0, Loading!G177) -> 0 | BI35: =IF(Loading!G225<0, 0, Loading!G225) -> 0 | BJ35: =IF(Loading!G273<0, 0, Loading!G273) -> 0 | BK35: =IF(Loading!G321<0, 0, Loading!G321) -> 0 | BL35: =IF(Loading!G369<0, 0, Loading!G369) -> 0 | BM35: =IF(Loading!G417<0, 0, Loading!G417) -> 0 | BN35: =IF(Loading!G465<0, 0, Loading!G465) -> 0 | BO35: =IF(Loading!G513<0, 0, Loading!G513) -> 0 | BP35: =IF(Loading!G561<0, 0, Loading!G561) -> 0 | BQ35: =IF(Loading!G609<0, 0, Loading!G609) -> 0 | BR35: =IF(Loading!G657<0, 0, Loading!G657) -> 0 | BS35: =IF(Loading!G705<0, 0, Loading!G705) -> 0 | BT35: =IF(Loading!G753<0, 0, Loading!G753) -> 0 | BU35: =IF(Loading!H33<0, 0, Loading!H33) -> 0 | BV35: =IF(Loading!H81<0, 0, Loading!H81) -> 0 | BW35: =IF(Loading!H129<0, 0, Loading!H129) -> 0 | BX35: =IF(Loading!H177<0, 0, Loading!H177) -> 0 | BY35: =IF(Loading!H225<0, 0, Loading!H225) -> 0 | BZ35: =IF(Loading!H273<0, 0, Loading!H273) -> 0 | CA35: =IF(Loading!H321<0, 0, Loading!H321) -> 0 | CB35: =IF(Loading!H369<0, 0, Loading!H369) -> 0 | CC35: =IF(Loading!H417<0, 0, Loading!H417) -> 0 | CD35: =IF(Loading!H465<0, 0, Loading!H465) -> 0 | CE35: =IF(Loading!H513<0, 0, Loading!H513) -> 0 | CF35: =IF(Loading!H561<0, 0, Loading!H561) -> 0 | CG35: =IF(Loading!H609<0, 0, Loading!H609) -> 0 | CH35: =IF(Loading!H657<0, 0, Loading!H657) -> 0 | CI35: =IF(Loading!H705<0, 0, Loading!H705) -> 0 | CJ35: =IF(Loading!H753<0, 0, Loading!H753) -> 0 | CK35: =IF(Loading!I33<0, 0, Loading!I33) -> 0 | CL35: =IF(Loading!I81<0, 0, Loading!I81) -> 0 | CM35: =IF(Loading!I129<0, 0, Loading!I129) -> 0 | CN35: =IF(Loading!I177<0, 0, Loading!I177) -> 0 | CO35: =IF(Loading!I225<0, 0, Loading!I225) -> 0 | CP35: =IF(Loading!I273<0, 0, Loading!I273) -> 0 | CQ35: =IF(Loading!I321<0, 0, Loading!I321) -> 0 | CR35: =IF(Loading!I369<0, 0, Loading!I369) -> 0 | CS35: =IF(Loading!I417<0, 0, Loading!I417) -> 0 | CT35: =IF(Loading!I465<0, 0, Loading!I465) -> 0 | CU35: =IF(Loading!I513<0, 0, Loading!I513) -> 0 | CV35: =IF(Loading!I561<0, 0, Loading!I561) -> 0 | CW35: =IF(Loading!I609<0, 0, Loading!I609) -> 0 | CX35: =IF(Loading!I657<0, 0, Loading!I657) -> 0 | CY35: =IF(Loading!I705<0, 0, Loading!I705) -> 0 | CZ35: =IF(Loading!I753<0, 0, Loading!I753) -> 0 | DA35: =IF(Loading!J33<0, 0, Loading!J33) -> 0 | DB35: =IF(Loading!J81<0, 0, Loading!J81) -> 0 | DC35: =IF(Loading!J129<0, 0, Loading!J129) -> 0 | DD35: =IF(Loading!J177<0, 0, Loading!J177) -> 0 | DE35: =IF(Loading!J225<0, 0, Loading!J225) -> 0 | DF35: =IF(Loading!J273<0, 0, Loading!J273) -> 0 | DG35: =IF(Loading!J321<0, 0, Loading!J321) -> 0 | DH35: =IF(Loading!J369<0, 0, Loading!J369) -> 0 | DI35: =IF(Loading!J417<0, 0, Loading!J417) -> 0 | DJ35: =IF(Loading!J465<0, 0, Loading!J465) -> 0 | DK35: =IF(Loading!J513<0, 0, Loading!J513) -> 0 | DL35: =IF(Loading!J561<0, 0, Loading!J561) -> 0 | DM35: =IF(Loading!J609<0, 0, Loading!J609) -> 0 | DN35: =IF(Loading!J657<0, 0, Loading!J657) -> 0 | DO35: =IF(Loading!J705<0, 0, Loading!J705) -> 0 | DP35: =IF(Loading!J753<0, 0, Loading!J753) -> 0 | DQ35: =IF(Loading!K33<0, 0, Loading!K33) -> 0 | DR35: =IF(Loading!K81<0, 0, Loading!K81) -> 0 | DS35: =IF(Loading!K129<0, 0, Loading!K129) -> 0 | DT35: =IF(Loading!K177<0, 0, Loading!K177) -> 0 | DU35: =IF(Loading!K225<0, 0, Loading!K225) -> 0 | DV35: =IF(Loading!K273<0, 0, Loading!K273) -> 0 | DW35: =IF(Loading!K321<0, 0, Loading!K321) -> 0 | DX35: =IF(Loading!K369<0, 0, Loading!K369) -> 0
H36: IgG2a | I36: =IF(Loading!D34<0, 0, Loading!D34) -> 0 | J36: =IF(Loading!D82<0, 0, Loading!D82) -> 0 | K36: =IF(Loading!D130<0, 0, Loading!D130) -> 0 | L36: =IF(Loading!D178<0, 0, Loading!D178) -> 0 | M36: =IF(Loading!D226<0, 0, Loading!D226) -> 0 | N36: =IF(Loading!D274<0, 0, Loading!D274) -> 0 | O36: =IF(Loading!D322<0, 0, Loading!D322) -> 0 | P36: =IF(Loading!D370<0, 0, Loading!D370) -> 0 | Q36: =IF(Loading!D418<0, 0, Loading!D418) -> 0 | R36: =IF(Loading!D466<0, 0, Loading!D466) -> 0 | S36: =IF(Loading!D514<0, 0, Loading!D514) -> 0 | T36: =IF(Loading!D562<0, 0, Loading!D562) -> 0 | U36: =IF(Loading!D610<0, 0, Loading!D610) -> 0 | V36: =IF(Loading!D658<0, 0, Loading!D658) -> 0 | W36: =IF(Loading!D706<0, 0, Loading!D706) -> 0 | X36: =IF(Loading!D754<0, 0, Loading!D754) -> 0 | Y36: =IF(Loading!E34<0, 0, Loading!E34) -> 0 | Z36: =IF(Loading!E82<0, 0, Loading!E82) -> 0 | AA36: =IF(Loading!E130<0, 0, Loading!E130) -> 0 | AB36: =IF(Loading!E178<0, 0, Loading!E178) -> 0 | AC36: =IF(Loading!E226<0, 0, Loading!E226) -> 0 | AD36: =IF(Loading!E274<0, 0, Loading!E274) -> 0 | AE36: =IF(Loading!E322<0, 0, Loading!E322) -> 0 | AF36: =IF(Loading!E370<0, 0, Loading!E370) -> 0 | AG36: =IF(Loading!E418<0, 0, Loading!E418) -> 0 | AH36: =IF(Loading!E466<0, 0, Loading!E466) -> 0 | AI36: =IF(Loading!E514<0, 0, Loading!E514) -> 0 | AJ36: =IF(Loading!E562<0, 0, Loading!E562) -> 0 | AK36: =IF(Loading!E610<0, 0, Loading!E610) -> 0 | AL36: =IF(Loading!E658<0, 0, Loading!E658) -> 0 | AM36: =IF(Loading!E706<0, 0, Loading!E706) -> 0 | AN36: =IF(Loading!E754<0, 0, Loading!E754) -> 0 | AO36: =IF(Loading!F34<0, 0, Loading!F34) -> 0 | AP36: =IF(Loading!F82<0, 0, Loading!F82) -> 0 | AQ36: =IF(Loading!F130<0, 0, Loading!F130) -> 0 | AR36: =IF(Loading!F178<0, 0, Loading!F178) -> 0 | AS36: =IF(Loading!F226<0, 0, Loading!F226) -> 0 | AT36: =IF(Loading!F274<0, 0, Loading!F274) -> 0 | AU36: =IF(Loading!F322<0, 0, Loading!F322) -> 0 | AV36: =IF(Loading!F370<0, 0, Loading!F370) -> 0 | AW36: =IF(Loading!F418<0, 0, Loading!F418) -> 0 | AX36: =IF(Loading!F466<0, 0, Loading!F466) -> 0 | AY36: =IF(Loading!F514<0, 0, Loading!F514) -> 0 | AZ36: =IF(Loading!F562<0, 0, Loading!F562) -> 0 | BA36: =IF(Loading!F610<0, 0, Loading!F610) -> 0 | BB36: =IF(Loading!F658<0, 0, Loading!F658) -> 0 | BC36: =IF(Loading!F706<0, 0, Loading!F706) -> 0 | BD36: =IF(Loading!F754<0, 0, Loading!F754) -> 0 | BE36: =IF(Loading!G34<0, 0, Loading!G34) -> 0 | BF36: =IF(Loading!G82<0, 0, Loading!G82) -> 0 | BG36: =IF(Loading!G130<0, 0, Loading!G130) -> 0 | BH36: =IF(Loading!G178<0, 0, Loading!G178) -> 0 | BI36: =IF(Loading!G226<0, 0, Loading!G226) -> 0 | BJ36: =IF(Loading!G274<0, 0, Loading!G274) -> 0 | BK36: =IF(Loading!G322<0, 0, Loading!G322) -> 0 | BL36: =IF(Loading!G370<0, 0, Loading!G370) -> 0 | BM36: =IF(Loading!G418<0, 0, Loading!G418) -> 0 | BN36: =IF(Loading!G466<0, 0, Loading!G466) -> 0 | BO36: =IF(Loading!G514<0, 0, Loading!G514) -> 0 | BP36: =IF(Loading!G562<0, 0, Loading!G562) -> 0 | BQ36: =IF(Loading!G610<0, 0, Loading!G610) -> 0 | BR36: =IF(Loading!G658<0, 0, Loading!G658) -> 0 | BS36: =IF(Loading!G706<0, 0, Loading!G706) -> 0 | BT36: =IF(Loading!G754<0, 0, Loading!G754) -> 0 | BU36: =IF(Loading!H34<0, 0, Loading!H34) -> 0 | BV36: =IF(Loading!H82<0, 0, Loading!H82) -> 0 | BW36: =IF(Loading!H130<0, 0, Loading!H130) -> 0 | BX36: =IF(Loading!H178<0, 0, Loading!H178) -> 0 | BY36: =IF(Loading!H226<0, 0, Loading!H226) -> 0 | BZ36: =IF(Loading!H274<0, 0, Loading!H274) -> 0 | CA36: =IF(Loading!H322<0, 0, Loading!H322) -> 0 | CB36: =IF(Loading!H370<0, 0, Loading!H370) -> 0 | CC36: =IF(Loading!H418<0, 0, Loading!H418) -> 0 | CD36: =IF(Loading!H466<0, 0, Loading!H466) -> 0 | CE36: =IF(Loading!H514<0, 0, Loading!H514) -> 0 | CF36: =IF(Loading!H562<0, 0, Loading!H562) -> 0 | CG36: =IF(Loading!H610<0, 0, Loading!H610) -> 0 | CH36: =IF(Loading!H658<0, 0, Loading!H658) -> 0 | CI36: =IF(Loading!H706<0, 0, Loading!H706) -> 0 | CJ36: =IF(Loading!H754<0, 0, Loading!H754) -> 0 | CK36: =IF(Loading!I34<0, 0, Loading!I34) -> 0 | CL36: =IF(Loading!I82<0, 0, Loading!I82) -> 0 | CM36: =IF(Loading!I130<0, 0, Loading!I130) -> 0 | CN36: =IF(Loading!I178<0, 0, Loading!I178) -> 0 | CO36: =IF(Loading!I226<0, 0, Loading!I226) -> 0 | CP36: =IF(Loading!I274<0, 0, Loading!I274) -> 0 | CQ36: =IF(Loading!I322<0, 0, Loading!I322) -> 0 | CR36: =IF(Loading!I370<0, 0, Loading!I370) -> 0 | CS36: =IF(Loading!I418<0, 0, Loading!I418) -> 0 | CT36: =IF(Loading!I466<0, 0, Loading!I466) -> 0 | CU36: =IF(Loading!I514<0, 0, Loading!I514) -> 0 | CV36: =IF(Loading!I562<0, 0, Loading!I562) -> 0 | CW36: =IF(Loading!I610<0, 0, Loading!I610) -> 0 | CX36: =IF(Loading!I658<0, 0, Loading!I658) -> 0 | CY36: =IF(Loading!I706<0, 0, Loading!I706) -> 0 | CZ36: =IF(Loading!I754<0, 0, Loading!I754) -> 0 | DA36: =IF(Loading!J34<0, 0, Loading!J34) -> 0 | DB36: =IF(Loading!J82<0, 0, Loading!J82) -> 0 | DC36: =IF(Loading!J130<0, 0, Loading!J130) -> 0 | DD36: =IF(Loading!J178<0, 0, Loading!J178) -> 0 | DE36: =IF(Loading!J226<0, 0, Loading!J226) -> 0 | DF36: =IF(Loading!J274<0, 0, Loading!J274) -> 0 | DG36: =IF(Loading!J322<0, 0, Loading!J322) -> 0 | DH36: =IF(Loading!J370<0, 0, Loading!J370) -> 0 | DI36: =IF(Loading!J418<0, 0, Loading!J418) -> 0 | DJ36: =IF(Loading!J466<0, 0, Loading!J466) -> 0 | DK36: =IF(Loading!J514<0, 0, Loading!J514) -> 0 | DL36: =IF(Loading!J562<0, 0, Loading!J562) -> 0 | DM36: =IF(Loading!J610<0, 0, Loading!J610) -> 0 | DN36: =IF(Loading!J658<0, 0, Loading!J658) -> 0 | DO36: =IF(Loading!J706<0, 0, Loading!J706) -> 0 | DP36: =IF(Loading!J754<0, 0, Loading!J754) -> 0 | DQ36: =IF(Loading!K34<0, 0, Loading!K34) -> 0 | DR36: =IF(Loading!K82<0, 0, Loading!K82) -> 0 | DS36: =IF(Loading!K130<0, 0, Loading!K130) -> 0 | DT36: =IF(Loading!K178<0, 0, Loading!K178) -> 0 | DU36: =IF(Loading!K226<0, 0, Loading!K226) -> 0 | DV36: =IF(Loading!K274<0, 0, Loading!K274) -> 0 | DW36: =IF(Loading!K322<0, 0, Loading!K322) -> 0 | DX36: =IF(Loading!K370<0, 0, Loading!K370) -> 0
