Workbook

Sheet Loading
B2: Sample ID | C2: Analyte | D2: Slide 1 | E2: Slide 2 | F2: Slide 3 | G2: Slide 4 | H2: Slide 5 | I2: Slide 6 | J2: Slide 7 | K2: Slide 8
B3: SA1 | C3: POS1
B4: SA1 | C4: POS1
B5: SA1 | C5: POS1
B6: SA1 | C6: POS1
B7: SA1 | C7: POS2
B8: SA1 | C8: POS2
B9: SA1 | C9: POS2
B10: SA1 | C10: POS2
B11: SA1 | C11: IgA
B12: SA1 | C12: IgA
B13: SA1 | C13: IgA
B14: SA1 | C14: IgA
... B770: SA16 | C770: Kappa

Sheet Isotyping
H2: Raw Input Data | AC2: Outliers Definition | AE2: 0.35
H4: ID | I4: S1-1 | J4: S1-2 | K4: S1-3 | L4: S1-4 | M4: S1-5 | N4: S1-6 | O4: S1-7 | P4: S1-8 | Q4: S1-9 | R4: S1-10 | S4: S1-11 | T4: S1-12 | U4: S1-13 | V4: S1-14 | W4: S1-15 | X4: S1-16 | Y4: S2-1 | Z4: S2-2 | AA4: S2-3 | AB4: S2-4 | AC4: S2-5 | AD4: S2-6 | AE4: S2-7 | AF4: S2-8 | AG4: S2-9 | AH4: S2-10 | AI4: S2-11 | AJ4: S2-12 | AK4: S2-13 | AL4: S2-14 | AM4: S2-15 | AN4: S2-16 | AO4: S3-1 | AP4: S3-2 | AQ4: S3-3 | AR4: S3-4 | AS4: S3-5 | AT4: S3-6 | AU4: S3-7 | AV4: S3-8 | AW4: S3-9 | AX4: S3-10 | AY4: S3-11 | AZ4: S3-12 | BA4: S3-13 | BB4: S3-14 | BC4: S3-15 | BD4: S3-16 | BE4: S4-1 | BF4: S4-2 | BG4: S4-3 | BH4: S4-4 | BI4: S4-5 | BJ4: S4-6 | BK4: S4-7 | BL4: S4-8 | BM4: S4-9 | BN4: S4-10 | BO4: S4-11 | BP4: S4-12 | BQ4: S4-13 | BR4: S4-14 | BS4: S4-15 | BT4: S4-16 | BU4: S5-1 | BV4: S5-2 | BW4: S5-3 | BX4: S5-4 | BY4: S5-5 | BZ4: S5-6 | CA4: S5-7 | CB4: S5-8 | CC4: S5-9 | CD4: S5-10 | CE4: S5-11 | CF4: S5-12 | CG4: S5-13 | CH4: S5-14 | CI4: S5-15 | CJ4: S5-16 | CK4: S6-1 | CL4: S6-2 | CM4: S6-3 | CN4: S6-4 | CO4: S6-5 | CP4: S6-6 | CQ4: S6-7 | CR4: S6-8 | CS4: S6-9 | CT4: S6-10 | CU4: S6-11 | CV4: S6-12 | CW4: S6-13 | CX4: S6-14 | CY4: S6-15 | CZ4: S6-16 | DA4: S7-1 | DB4: S7-2 | DC4: S7-3 | DD4: S7-4 | DE4: S7-5 | DF4: S7-6 | DG4: S7-7 | DH4: S7-8 | DI4: S7-9 | DJ4: S7-10 | DK4: S7-11 | DL4: S7-12 | DM4: S7-13 | DN4: S7-14 | DO4: S7-15 | DP4: S7-16 | DQ4: S8-1 | DR4: S8-2 | DS4: S8-3 | DT4: S8-4 | DU4: S8-5 | DV4: S8-6 | DW4: S8-7 | DX4: S8-8 | DY4: S8-9 | DZ4: S8-10 | EA4: S8-11 | EB4: S8-12 | EC4: S8-13 | ED4: S8-14 | EE4: S8-15 | EF4: S8-16 | EG4: =P4 -> S1-8 | EH4: =Q4 -> S1-9 | EI4: =R4 -> S1-10 | EJ4: =S4 -> S1-11 | EK4: =T4 -> S1-12 | EL4: =U4 -> S1-13 | EM4: =V4 -> S1-14 | EN4: =W4 -> S1-15 | ... IO4: =DX4 -> S8-8
H5: POS1 | I5: =IF(Loading!D3<0, 0, Loading!D3) -> 0 | J5: =IF(Loading!D51<0, 0, Loading!D51) -> 0 | K5: =IF(Loading!D99<0, 0, Loading!D99) -> 0 | L5: =IF(Loading!D147<0, 0, Loading!D147) -> 0 | M5: =IF(Loading!D195<0, 0, Loading!D195) -> 0 | N5: =IF(Loading!D243<0, 0, Loading!D243) -> 0 | O5: =IF(Loading!D291<0, 0, Loading!D291) -> 0 | P5: =IF(Loading!D339<0, 0, Loading!D339) -> 0 | Q5: =IF(Loading!D387<0, 0, Loading!D387) -> 0 | R5: =IF(Loading!D435<0, 0, Loading!D435) -> 0 | S5: =IF(Loading!D483<0, 0, Loading!D483) -> 0 | T5: =IF(Loading!D531<0, 0, Loading!D531) -> 0 | U5: =IF(Loading!D579<0, 0, Loading!D579) -> 0 | V5: =IF(Loading!D627<0, 0, Loading!D627) -> 0 | W5: =IF(Loading!D675<0, 0, Loading!D675) -> 0 | X5: =IF(Loading!D723<0, 0, Loading!D723) -> 0 | Y5: =IF(Loading!E3<0, 0, Loading!E3) -> 0 | Z5: =IF(Loading!E51<0, 0, Loading!E51) -> 0 | AA5: =IF(Loading!E99<0, 0, Loading!E99) -> 0 | AB5: =IF(Loading!E147<0, 0, Loading!E147) -> 0 | AC5: =IF(Loading!E195<0, 0, Loading!E195) -> 0 | AD5: =IF(Loading!E243<0, 0, Loading!E243) -> 0 | AE5: =IF(Loading!E291<0, 0, Loading!E291) -> 0 | AF5: =IF(Loading!E339<0, 0, Loading!E339) -> 0 | AG5: =IF(Loading!E387<0, 0, Loading!E387) -> 0 | AH5: =IF(Loading!E435<0, 0, Loading!E435) -> 0 | AI5: =IF(Loading!E483<0, 0, Loading!E483) -> 0 | AJ5: =IF(Loading!E531<0, 0, Loading!E531) -> 0 | AK5: =IF(Loading!E579<0, 0, Loading!E579) -> 0 | AL5: =IF(Loading!E627<0, 0, Loading!E627) -> 0 | AM5: =IF(Loading!E675<0, 0, Loading!E675) -> 0 | AN5: =IF(Loading!E723<0, 0, Loading!E723) -> 0 | AO5: =IF(Loading!F3<0, 0, Loading!F3) -> 0 | AP5: =IF(Loading!F51<0, 0, Loading!F51) -> 0 | AQ5: =IF(Loading!F99<0, 0, Loading!F99) -> 0 | AR5: =IF(Loading!F147<0, 0, Loading!F147) -> 0 | AS5: =IF(Loading!F195<0, 0, Loading!F195) -> 0 | AT5: =IF(Loading!F243<0, 0, Loading!F243) -> 0 | AU5: =IF(Loading!F291<0, 0, Loading!F291) -> 0 | AV5: =IF(Loading!F339<0, 0, Loading!F339) -> 0 | AW5: =IF(Loading!F387<0, 0, Loading!F387) -> 0 | AX5: =IF(Loading!F435<0, 0, Loading!F435) -> 0 | AY5: =IF(Loading!F483<0, 0, Loading!F483) -> 0 | AZ5: =IF(Loading!F531<0, 0, Loading!F531) -> 0 | BA5: =IF(Loading!F579<0, 0, Loading!F579) -> 0 | BB5: =IF(Loading!F627<0, 0, Loading!F627) -> 0 | BC5: =IF(Loading!F675<0, 0, Loading!F675) -> 0 | BD5: =IF(Loading!F723<0, 0, Loading!F723) -> 0 | BE5: =IF(Loading!G3<0, 0, Loading!G3) -> 0 | BF5: =IF(Loading!G51<0, 0, Loading!G51) -> 0 | BG5: =IF(Loading!G99<0, 0, Loading!G99) -> 0 | BH5: =IF(Loading!G147<0, 0, Loading!G147) -> 0 | BI5: =IF(Loading!G195<0, 0, Loading!G195) -> 0 | BJ5: =IF(Loading!G243<0, 0, Loading!G243) -> 0 | BK5: =IF(Loading!G291<0, 0, Loading!G291) -> 0 | BL5: =IF(Loading!G339<0, 0, Loading!G339) -> 0 | BM5: =IF(Loading!G387<0, 0, Loading!G387) -> 0 | BN5: =IF(Loading!G435<0, 0, Loading!G435) -> 0 | BO5: =IF(Loading!G483<0, 0, Loading!G483) -> 0 | BP5: =IF(Loading!G531<0, 0, Loading!G531) -> 0 | BQ5: =IF(Loading!G579<0, 0, Loading!G579) -> 0 | BR5: =IF(Loading!G627<0, 0, Loading!G627) -> 0 | BS5: =IF(Loading!G675<0, 0, Loading!G675) -> 0 | BT5: =IF(Loading!G723<0, 0, Loading!G723) -> 0 | BU5: =IF(Loading!H3<0, 0, Loading!H3) -> 0 | BV5: =IF(Loading!H51<0, 0, Loading!H51) -> 0 | BW5: =IF(Loading!H99<0, 0, Loading!H99) -> 0 | BX5: =IF(Loading!H147<0, 0, Loading!H147) -> 0 | BY5: =IF(Loading!H195<0, 0, Loading!H195) -> 0 | BZ5: =IF(Loading!H243<0, 0, Loading!H243) -> 0 | CA5: =IF(Loading!H291<0, 0, Loading!H291) -> 0 | CB5: =IF(Loading!H339<0, 0, Loading!H339) -> 0 | CC5: =IF(Loading!H387<0, 0, Loading!H387) -> 0 | CD5: =IF(Loading!H435<0, 0, Loading!H435) -> 0 | CE5: =IF(Loading!H483<0, 0, Loading!H483) -> 0 | CF5: =IF(Loading!H531<0, 0, Loading!H531) -> 0 | CG5: =IF(Loading!H579<0, 0, Loading!H579) -> 0 | CH5: =IF(Loading!H627<0, 0, Loading!H627) -> 0 | CI5: =IF(Loading!H675<0, 0, Loading!H675) -> 0 | CJ5: =IF(Loading!H723<0, 0, Loading!H723) -> 0 | CK5: =IF(Loading!I3<0, 0, Loading!I3) -> 0 | CL5: =IF(Loading!I51<0, 0, Loading!I51) -> 0 | CM5: =IF(Loading!I99<0, 0, Loading!I99) -> 0 | CN5: =IF(Loading!I147<0, 0, Loading!I147) -> 0 | CO5: =IF(Loading!I195<0, 0, Loading!I195) -> 0 | CP5: =IF(Loading!I243<0, 0, Loading!I243) -> 0 | CQ5: =IF(Loading!I291<0, 0, Loading!I291) -> 0 | CR5: =IF(Loading!I339<0, 0, Loading!I339) -> 0 | CS5: =IF(Loading!I387<0, 0, Loading!I387) -> 0 | CT5: =IF(Loading!I435<0, 0, Loading!I435) -> 0 | CU5: =IF(Loading!I483<0, 0, Loading!I483) -> 0 | CV5: =IF(Loading!I531<0, 0, Loading!I531) -> 0 | CW5: =IF(Loading!I579<0, 0, Loading!I579) -> 0 | CX5: =IF(Loading!I627<0, 0, Loading!I627) -> 0 | CY5: =IF(Loading!I675<0, 0, Loading!I675) -> 0 | CZ5: =IF(Loading!I723<0, 0, Loading!I723) -> 0 | DA5: =IF(Loading!J3<0, 0, Loading!J3) -> 0 | DB5: =IF(Loading!J51<0, 0, Loading!J51) -> 0 | DC5: =IF(Loading!J99<0, 0, Loading!J99) -> 0 | DD5: =IF(Loading!J147<0, 0, Loading!J147) -> 0 | DE5: =IF(Loading!J195<0, 0, Loading!J195) -> 0 | DF5: =IF(Loading!J243<0, 0, Loading!J243) -> 0 | DG5: =IF(Loading!J291<0, 0, Loading!J291) -> 0 | DH5: =IF(Loading!J339<0, 0, Loading!J339) -> 0 | DI5: =IF(Loading!J387<0, 0, Loading!J387) -> 0 | DJ5: =IF(Loading!J435<0, 0, Loading!J435) -> 0 | DK5: =IF(Loading!J483<0, 0, Loading!J483) -> 0 | DL5: =IF(Loading!J531<0, 0, Loading!J531) -> 0 | DM5: =IF(Loading!J579<0, 0, Loading!J579) -> 0 | DN5: =IF(Loading!J627<0, 0, Loading!J627) -> 0 | DO5: =IF(Loading!J675<0, 0, Loading!J675) -> 0 | DP5: =IF(Loading!J723<0, 0, Loading!J723) -> 0 | DQ5: =IF(Loading!K3<0, 0, Loading!K3) -> 0 | DR5: =IF(Loading!K51<0, 0, Loading!K51) -> 0 | DS5: =IF(Loading!K99<0, 0, Loading!K99) -> 0 | DT5: =IF(Loading!K147<0, 0, Loading!K147) -> 0 | DU5: =IF(Loading!K195<0, 0, Loading!K195) -> 0 | DV5: =IF(Loading!K243<0, 0, Loading!K243) -> 0 | DW5: =IF(Loading!K291<0, 0, Loading!K291) -> 0 | DX5: =IF(Loading!K339<0, 0, Loading!K339) -> 0 | DZ5: =(1+$AE$2)*MEDIAN(I5:I8) -> 0 | EA5: =(1+$AE$2)*MEDIAN(J5:J8) -> 0 | EB5: =(1+$AE$2)*MEDIAN(K5:K8) -> 0 | EC5: =(1+$AE$2)*MEDIAN(L5:L8) -> 0 | ED5: =(1+$AE$2)*MEDIAN(M5:M8) -> 0 | EE5: =(1+$AE$2)*MEDIAN(N5:N8) -> 0 | EF5: =(1+$AE$2)*MEDIAN(O5:O8) -> 0 | EG5: =(1+$AE$2)*MEDIAN(P5:P8) -> 0 | ... IO5: =(1+$AE$2)*MEDIAN(DX5:DX8) -> 0
H6: POS1 | I6: =IF(Loading!D4<0, 0, Loading!D4) -> 0 | J6: =IF(Loading!D52<0, 0, Loading!D52) -> 0 | K6: =IF(Loading!D100<0, 0, Loading!D100) -> 0 | L6: =IF(Loading!D148<0, 0, Loading!D148) -> 0 | M6: =IF(Loading!D196<0, 0, Loading!D196) -> 0 | N6: =IF(Loading!D244<0, 0, Loading!D244) -> 0 | O6: =IF(Loading!D292<0, 0, Loading!D292) -> 0 | P6: =IF(Loading!D340<0, 0, Loading!D340) -> 0 | Q6: =IF(Loading!D388<0, 0, Loading!D388) -> 0 | R6: =IF(Loading!D436<0, 0, Loading!D436) -> 0 | S6: =IF(Loading!D484<0, 0, Loading!D484) -> 0 | T6: =IF(Loading!D532<0, 0, Loading!D532) -> 0 | U6: =IF(Loading!D580<0, 0, Loading!D580) -> 0 | V6: =IF(Loading!D628<0, 0, Loading!D628) -> 0 | W6: =IF(Loading!D676<0, 0, Loading!D676) -> 0 | X6: =IF(Loading!D724<0, 0, Loading!D724) -> 0 | Y6: =IF(Loading!E4<0, 0, Loading!E4) -> 0 | Z6: =IF(Loading!E52<0, 0, Loading!E52) -> 0 | AA6: =IF(Loading!E100<0, 0, Loading!E100) -> 0 | AB6: =IF(Loading!E148<0, 0, Loading!E148) -> 0 | AC6: =IF(Loading!E196<0, 0, Loading!E196) -> 0 | AD6: =IF(Loading!E244<0, 0, Loading!E244) -> 0 | AE6: =IF(Loading!E292<0, 0, Loading!E292) -> 0 | AF6: =IF(Loading!E340<0, 0, Loading!E340) -> 0 | AG6: =IF(Loading!E388<0, 0, Loading!E388) -> 0 | AH6: =IF(Loading!E436<0, 0, Loading!E436) -> 0 | AI6: =IF(Loading!E484<0, 0, Loading!E484) -> 0 | AJ6: =IF(Loading!E532<0, 0, Loading!E532) -> 0 | AK6: =IF(Loading!E580<0, 0, Loading!E580) -> 0 | AL6: =IF(Loading!E628<0, 0, Loading!E628) -> 0 | AM6: =IF(Loading!E676<0, 0, Loading!E676) -> 0 | AN6: =IF(Loading!E724<0, 0, Loading!E724) -> 0 | AO6: =IF(Loading!F4<0, 0, Loading!F4) -> 0 | AP6: =IF(Loading!F52<0, 0, Loading!F52) -> 0 | AQ6: =IF(Loading!F100<0, 0, Loading!F100) -> 0 | AR6: =IF(Loading!F148<0, 0, Loading!F148) -> 0 | AS6: =IF(Loading!F196<0, 0, Loading!F196) -> 0 | AT6: =IF(Loading!F244<0, 0, Loading!F244) -> 0 | AU6: =IF(Loading!F292<0, 0, Loading!F292) -> 0 | AV6: =IF(Loading!F340<0, 0, Loading!F340) -> 0 | AW6: =IF(Loading!F388<0, 0, Loading!F388) -> 0 | AX6: =IF(Loading!F436<0, 0, Loading!F436) -> 0 | AY6: =IF(Loading!F484<0, 0, Loading!F484) -> 0 | AZ6: =IF(Loading!F532<0, 0, Loading!F532) -> 0 | BA6: =IF(Loading!F580<0, 0, Loading!F580) -> 0 | BB6: =IF(Loading!F628<0, 0, Loading!F628) -> 0 | BC6: =IF(Loading!F676<0, 0, Loading!F676) -> 0 | BD6: =IF(Loading!F724<0, 0, Loading!F724) -> 0 | BE6: =IF(Loading!G4<0, 0, Loading!G4) -> 0 | BF6: =IF(Loading!G52<0, 0, Loading!G52) -> 0 | BG6: =IF(Loading!G100<0, 0, Loading!G100) -> 0 | BH6: =IF(Loading!G148<0, 0, Loading!G148) -> 0 | BI6: =IF(Loading!G196<0, 0, Loading!G196) -> 0 | BJ6: =IF(Loading!G244<0, 0, Loading!G244) -> 0 | BK6: =IF(Loading!G292<0, 0, Loading!G292) -> 0 | BL6: =IF(Loading!G340<0, 0, Loading!G340) -> 0 | BM6: =IF(Loading!G388<0, 0, Loading!G388) -> 0 | BN6: =IF(Loading!G436<0, 0, Loading!G436) -> 0 | BO6: =IF(Loading!G484<0, 0, Loading!G484) -> 0 | BP6: =IF(Loading!G532<0, 0, Loading!G532) -> 0 | BQ6: =IF(Loading!G580<0, 0, Loading!G580) -> 0 | BR6: =IF(Loading!G628<0, 0, Loading!G628) -> 0 | BS6: =IF(Loading!G676<0, 0, Loading!G676) -> 0 | BT6: =IF(Loading!G724<0, 0, Loading!G724) -> 0 | BU6: =IF(Loading!H4<0, 0, Loading!H4) -> 0 | BV6: =IF(Loading!H52<0, 0, Loading!H52) -> 0 | BW6: =IF(Loading!H100<0, 0, Loading!H100) -> 0 | BX6: =IF(Loading!H148<0, 0, Loading!H148) -> 0 | BY6: =IF(Loading!H196<0, 0, Loading!H196) -> 0 | BZ6: =IF(Loading!H244<0, 0, Loading!H244) -> 0 | CA6: =IF(Loading!H292<0, 0, Loading!H292) -> 0 | CB6: =IF(Loading!H340<0, 0, Loading!H340) -> 0 | CC6: =IF(Loading!H388<0, 0, Loading!H388) -> 0 | CD6: =IF(Loading!H436<0, 0, Loading!H436) -> 0 | CE6: =IF(Loading!H484<0, 0, Loading!H484) -> 0 | CF6: =IF(Loading!H532<0, 0, Loading!H532) -> 0 | CG6: =IF(Loading!H580<0, 0, Loading!H580) -> 0 | CH6: =IF(Loading!H628<0, 0, Loading!H628) -> 0 | CI6: =IF(Loading!H676<0, 0, Loading!H676) -> 0 | CJ6: =IF(Loading!H724<0, 0, Loading!H724) -> 0 | CK6: =IF(Loading!I4<0, 0, Loading!I4) -> 0 | CL6: =IF(Loading!I52<0, 0, Loading!I52) -> 0 | CM6: =IF(Loading!I100<0, 0, Loading!I100) -> 0 | CN6: =IF(Loading!I148<0, 0, Loading!I148) -> 0 | CO6: =IF(Loading!I196<0, 0, Loading!I196) -> 0 | CP6: =IF(Loading!I244<0, 0, Loading!I244) -> 0 | CQ6: =IF(Loading!I292<0, 0, Loading!I292) -> 0 | CR6: =IF(Loading!I340<0, 0, Loading!I340) -> 0 | CS6: =IF(Loading!I388<0, 0, Loading!I388) -> 0 | CT6: =IF(Loading!I436<0, 0, Loading!I436) -> 0 | CU6: =IF(Loading!I484<0, 0, Loading!I484) -> 0 | CV6: =IF(Loading!I532<0, 0, Loading!I532) -> 0 | CW6: =IF(Loading!I580<0, 0, Loading!I580) -> 0 | CX6: =IF(Loading!I628<0, 0, Loading!I628) -> 0 | CY6: =IF(Loading!I676<0, 0, Loading!I676) -> 0 | CZ6: =IF(Loading!I724<0, 0, Loading!I724) -> 0 | DA6: =IF(Loading!J4<0, 0, Loading!J4) -> 0 | DB6: =IF(Loading!J52<0, 0, Loading!J52) -> 0 | DC6: =IF(Loading!J100<0, 0, Loading!J100) -> 0 | DD6: =IF(Loading!J148<0, 0, Loading!J148) -> 0 | DE6: =IF(Loading!J196<0, 0, Loading!J196) -> 0 | DF6: =IF(Loading!J244<0, 0, Loading!J244) -> 0 | DG6: =IF(Loading!J292<0, 0, Loading!J292) -> 0 | DH6: =IF(Loading!J340<0, 0, Loading!J340) -> 0 | DI6: =IF(Loading!J388<0, 0, Loading!J388) -> 0 | DJ6: =IF(Loading!J436<0, 0, Loading!J436) -> 0 | DK6: =IF(Loading!J484<0, 0, Loading!J484) -> 0 | DL6: =IF(Loading!J532<0, 0, Loading!J532) -> 0 | DM6: =IF(Loading!J580<0, 0, Loading!J580) -> 0 | DN6: =IF(Loading!J628<0, 0, Loading!J628) -> 0 | DO6: =IF(Loading!J676<0, 0, Loading!J676) -> 0 | DP6: =IF(Loading!J724<0, 0, Loading!J724) -> 0 | DQ6: =IF(Loading!K4<0, 0, Loading!K4) -> 0 | DR6: =IF(Loading!K52<0, 0, Loading!K52) -> 0 | DS6: =IF(Loading!K100<0, 0, Loading!K100) -> 0 | DT6: =IF(Loading!K148<0, 0, Loading!K148) -> 0 | DU6: =IF(Loading!K196<0, 0, Loading!K196) -> 0 | DV6: =IF(Loading!K244<0, 0, Loading!K244) -> 0 | DW6: =IF(Loading!K292<0, 0, Loading!K292) -> 0 | DX6: =IF(Loading!K340<0, 0, Loading!K340) -> 0 | DZ6: =(1-$AE$2)*MEDIAN(I5:I8) -> 0 | EA6: =(1-$AE$2)*MEDIAN(J5:J8) -> 0 | EB6: =(1-$AE$2)*MEDIAN(K5:K8) -> 0 | EC6: =(1-$AE$2)*MEDIAN(L5:L8) -> 0 | ED6: =(1-$AE$2)*MEDIAN(M5:M8) -> 0 | EE6: =(1-$AE$2)*MEDIAN(N5:N8) -> 0 | EF6: =(1-$AE$2)*MEDIAN(O5:O8) -> 0 | EG6: =(1-$AE$2)*MEDIAN(P5:P8) -> 0 | ... IO6: =(1-$AE$2)*MEDIAN(DX5:DX8) -> 0
H7: POS1 | I7: =IF(Loading!D5<0, 0, Loading!D5) -> 0 | J7: =IF(Loading!D53<0, 0, Loading!D53) -> 0 | K7: =IF(Loading!D101<0, 0, Loading!D101) -> 0 | L7: =IF(Loading!D149<0, 0, Loading!D149) -> 0 | M7: =IF(Loading!D197<0, 0, Loading!D197) -> 0 | N7: =IF(Loading!D245<0, 0, Loading!D245) -> 0 | O7: =IF(Loading!D293<0, 0, Loading!D293) -> 0 | P7: =IF(Loading!D341<0, 0, Loading!D341) -> 0 | Q7: =IF(Loading!D389<0, 0, Loading!D389) -> 0 | R7: =IF(Loading!D437<0, 0, Loading!D437) -> 0 | S7: =IF(Loading!D485<0, 0, Loading!D485) -> 0 | T7: =IF(Loading!D533<0, 0, Loading!D533) -> 0 | U7: =IF(Loading!D581<0, 0, Loading!D581) -> 0 | V7: =IF(Loading!D629<0, 0, Loading!D629) -> 0 | W7: =IF(Loading!D677<0, 0, Loading!D677) -> 0 | X7: =IF(Loading!D725<0, 0, Loading!D725) -> 0 | Y7: =IF(Loading!E5<0, 0, Loading!E5) -> 0 | Z7: =IF(Loading!E53<0, 0, Loading!E53) -> 0 | AA7: =IF(Loading!E101<0, 0, Loading!E101) -> 0 | AB7: =IF(Loading!E149<0, 0, Loading!E149) -> 0 | AC7: =IF(Loading!E197<0, 0, Loading!E197) -> 0 | AD7: =IF(Loading!E245<0, 0, Loading!E245) -> 0 | AE7: =IF(Loading!E293<0, 0, Loading!E293) -> 0 | AF7: =IF(Loading!E341<0, 0, Loading!E341) -> 0 | AG7: =IF(Loading!E389<0, 0, Loading!E389) -> 0 | AH7: =IF(Loading!E437<0, 0, Loading!E437) -> 0 | AI7: =IF(Loading!E485<0, 0, Loading!E485) -> 0 | AJ7: =IF(Loading!E533<0, 0, Loading!E533) -> 0 | AK7: =IF(Loading!E581<0, 0, Loading!E581) -> 0 | AL7: =IF(Loading!E629<0, 0, Loading!E629) -> 0 | AM7: =IF(Loading!E677<0, 0, Loading!E677) -> 0 | AN7: =IF(Loading!E725<0, 0, Loading!E725) -> 0 | AO7: =IF(Loading!F5<0, 0, Loading!F5) -> 0 | AP7: =IF(Loading!F53<0, 0, Loading!F53) -> 0 | AQ7: =IF(Loading!F101<0, 0, Loading!F101) -> 0 | AR7: =IF(Loading!F149<0, 0, Loading!F149) -> 0 | AS7: =IF(Loading!F197<0, 0, Loading!F197) -> 0 | AT7: =IF(Loading!F245<0, 0, Loading!F245) -> 0 | AU7: =IF(Loading!F293<0, 0, Loading!F293) -> 0 | AV7: =IF(Loading!F341<0, 0, Loading!F341) -> 0 | AW7: =IF(Loading!F389<0, 0, Loading!F389) -> 0 | AX7: =IF(Loading!F437<0, 0, Loading!F437) -> 0 | AY7: =IF(Loading!F485<0, 0, Loading!F485) -> 0 | AZ7: =IF(Loading!F533<0, 0, Loading!F533) -> 0 | BA7: =IF(Loading!F581<0, 0, Loading!F581) -> 0 | BB7: =IF(Loading!F629<0, 0, Loading!F629) -> 0 | BC7: =IF(Loading!F677<0, 0, Loading!F677) -> 0 | BD7: =IF(Loading!F725<0, 0, Loading!F725) -> 0 | BE7: =IF(Loading!G5<0, 0, Loading!G5) -> 0 | BF7: =IF(Loading!G53<0, 0, Loading!G53) -> 0 | BG7: =IF(Loading!G101<0, 0, Loading!G101) -> 0 | BH7: =IF(Loading!G149<0, 0, Loading!G149) -> 0 | BI7: =IF(Loading!G197<0, 0, Loading!G197) -> 0 | BJ7: =IF(Loading!G245<0, 0, Loading!G245) -> 0 | BK7: =IF(Loading!G293<0, 0, Loading!G293) -> 0 | BL7: =IF(Loading!G341<0, 0, Loading!G341) -> 0 | BM7: =IF(Loading!G389<0, 0, Loading!G389) -> 0 | BN7: =IF(Loading!G437<0, 0, Loading!G437) -> 0 | BO7: =IF(Loading!G485<0, 0, Loading!G485) -> 0 | BP7: =IF(Loading!G533<0, 0, Loading!G533) -> 0 | BQ7: =IF(Loading!G581<0, 0, Loading!G581) -> 0 | BR7: =IF(Loading!G629<0, 0, Loading!G629) -> 0 | BS7: =IF(Loading!G677<0, 0, Loading!G677) -> 0 | BT7: =IF(Loading!G725<0, 0, Loading!G725) -> 0 | BU7: =IF(Loading!H5<0, 0, Loading!H5) -> 0 | BV7: =IF(Loading!H53<0, 0, Loading!H53) -> 0 | BW7: =IF(Loading!H101<0, 0, Loading!H101) -> 0 | BX7: =IF(Loading!H149<0, 0, Loading!H149) -> 0 | BY7: =IF(Loading!H197<0, 0, Loading!H197) -> 0 | BZ7: =IF(Loading!H245<0, 0, Loading!H245) -> 0 | CA7: =IF(Loading!H293<0, 0, Loading!H293) -> 0 | CB7: =IF(Loading!H341<0, 0, Loading!H341) -> 0 | CC7: =IF(Loading!H389<0, 0, Loading!H389) -> 0 | CD7: =IF(Loading!H437<0, 0, Loading!H437) -> 0 | CE7: =IF(Loading!H485<0, 0, Loading!H485) -> 0 | CF7: =IF(Loading!H533<0, 0, Loading!H533) -> 0 | CG7: =IF(Loading!H581<0, 0, Loading!H581) -> 0 | CH7: =IF(Loading!H629<0, 0, Loading!H629) -> 0 | CI7: =IF(Loading!H677<0, 0, Loading!H677) -> 0 | CJ7: =IF(Loading!H725<0, 0, Loading!H725) -> 0 | CK7: =IF(Loading!I5<0, 0, Loading!I5) -> 0 | CL7: =IF(Loading!I53<0, 0, Loading!I53) -> 0 | CM7: =IF(Loading!I101<0, 0, Loading!I101) -> 0 | CN7: =IF(Loading!I149<0, 0, Loading!I149) -> 0 | CO7: =IF(Loading!I197<0, 0, Loading!I197) -> 0 | CP7: =IF(Loading!I245<0, 0, Loading!I245) -> 0 | CQ7: =IF(Loading!I293<0, 0, Loading!I293) -> 0 | CR7: =IF(Loading!I341<0, 0, Loading!I341) -> 0 | CS7: =IF(Loading!I389<0, 0, Loading!I389) -> 0 | CT7: =IF(Loading!I437<0, 0, Loading!I437) -> 0 | CU7: =IF(Loading!I485<0, 0, Loading!I485) -> 0 | CV7: =IF(Loading!I533<0, 0, Loading!I533) -> 0 | CW7: =IF(Loading!I581<0, 0, Loading!I581) -> 0 | CX7: =IF(Loading!I629<0, 0, Loading!I629) -> 0 | CY7: =IF(Loading!I677<0, 0, Loading!I677) -> 0 | CZ7: =IF(Loading!I725<0, 0, Loading!I725) -> 0 | DA7: =IF(Loading!J5<0, 0, Loading!J5) -> 0 | DB7: =IF(Loading!J53<0, 0, Loading!J53) -> 0 | DC7: =IF(Loading!J101<0, 0, Loading!J101) -> 0 | DD7: =IF(Loading!J149<0, 0, Loading!J149) -> 0 | DE7: =IF(Loading!J197<0, 0, Loading!J197) -> 0 | DF7: =IF(Loading!J245<0, 0, Loading!J245) -> 0 | DG7: =IF(Loading!J293<0, 0, Loading!J293) -> 0 | DH7: =IF(Loading!J341<0, 0, Loading!J341) -> 0 | DI7: =IF(Loading!J389<0, 0, Loading!J389) -> 0 | DJ7: =IF(Loading!J437<0, 0, Loading!J437) -> 0 | DK7: =IF(Loading!J485<0, 0, Loading!J485) -> 0 | DL7: =IF(Loading!J533<0, 0, Loading!J533) -> 0 | DM7: =IF(Loading!J581<0, 0, Loading!J581) -> 0 | DN7: =IF(Loading!J629<0, 0, Loading!J629) -> 0 | DO7: =IF(Loading!J677<0, 0, Loading!J677) -> 0 | DP7: =IF(Loading!J725<0, 0, Loading!J725) -> 0 | DQ7: =IF(Loading!K5<0, 0, Loading!K5) -> 0 | DR7: =IF(Loading!K53<0, 0, Loading!K53) -> 0 | DS7: =IF(Loading!K101<0, 0, Loading!K101) -> 0 | DT7: =IF(Loading!K149<0, 0, Loading!K149) -> 0 | DU7: =IF(Loading!K197<0, 0, Loading!K197) -> 0 | DV7: =IF(Loading!K245<0, 0, Loading!K245) -> 0 | DW7: =IF(Loading!K293<0, 0, Loading!K293) -> 0 | DX7: =IF(Loading!K341<0, 0, Loading!K341) -> 0
H8: POS1 | I8: =IF(Loading!D6<0, 0, Loading!D6) -> 0 | J8: =IF(Loading!D54<0, 0, Loading!D54) -> 0 | K8: =IF(Loading!D102<0, 0, Loading!D102) -> 0 | L8: =IF(Loading!D150<0, 0, Loading!D150) -> 0 | M8: =IF(Loading!D198<0, 0, Loading!D198) -> 0 | N8: =IF(Loading!D246<0, 0, Loading!D246) -> 0 | O8: =IF(Loading!D294<0, 0, Loading!D294) -> 0 | P8: =IF(Loading!D342<0, 0, Loading!D342) -> 0 | Q8: =IF(Loading!D390<0, 0, Loading!D390) -> 0 | R8: =IF(Loading!D438<0, 0, Loading!D438) -> 0 | S8: =IF(Loading!D486<0, 0, Loading!D486) -> 0 | T8: =IF(Loading!D534<0, 0, Loading!D534) -> 0 | U8: =IF(Loading!D582<0, 0, Loading!D582) -> 0 | V8: =IF(Loading!D630<0, 0, Loading!D630) -> 0 | W8: =IF(Loading!D678<0, 0, Loading!D678) -> 0 | X8: =IF(Loading!D726<0, 0, Loading!D726) -> 0 | Y8: =IF(Loading!E6<0, 0, Loading!E6) -> 0 | Z8: =IF(Loading!E54<0, 0, Loading!E54) -> 0 | AA8: =IF(Loading!E102<0, 0, Loading!E102) -> 0 | AB8: =IF(Loading!E150<0, 0, Loading!E150) -> 0 | AC8: =IF(Loading!E198<0, 0, Loading!E198) -> 0 | AD8: =IF(Loading!E246<0, 0, Loading!E246) -> 0 | AE8: =IF(Loading!E294<0, 0, Loading!E294) -> 0 | AF8: =IF(Loading!E342<0, 0, Loading!E342) -> 0 | AG8: =IF(Loading!E390<0, 0, Loading!E390) -> 0 | AH8: =IF(Loading!E438<0, 0, Loading!E438) -> 0 | AI8: =IF(Loading!E486<0, 0, Loading!E486) -> 0 | AJ8: =IF(Loading!E534<0, 0, Loading!E534) -> 0 | AK8: =IF(Loading!E582<0, 0, Loading!E582) -> 0 | AL8: =IF(Loading!E630<0, 0, Loading!E630) -> 0 | AM8: =IF(Loading!E678<0, 0, Loading!E678) -> 0 | AN8: =IF(Loading!E726<0, 0, Loading!E726) -> 0 | AO8: =IF(Loading!F6<0, 0, Loading!F6) -> 0 | AP8: =IF(Loading!F54<0, 0, Loading!F54) -> 0 | AQ8: =IF(Loading!F102<0, 0, Loading!F102) -> 0 | AR8: =IF(Loading!F150<0, 0, Loading!F150) -> 0 | AS8: =IF(Loading!F198<0, 0, Loading!F198) -> 0 | AT8: =IF(Loading!F246<0, 0, Loading!F246) -> 0 | AU8: =IF(Loading!F294<0, 0, Loading!F294) -> 0 | AV8: =IF(Loading!F342<0, 0, Loading!F342) -> 0 | AW8: =IF(Loading!F390<0, 0, Loading!F390) -> 0 | AX8: =IF(Loading!F438<0, 0, Loading!F438) -> 0 | AY8: =IF(Loading!F486<0, 0, Loading!F486) -> 0 | AZ8: =IF(Loading!F534<0, 0, Loading!F534) -> 0 | BA8: =IF(Loading!F582<0, 0, Loading!F582) -> 0 | BB8: =IF(Loading!F630<0, 0, Loading!F630) -> 0 | BC8: =IF(Loading!F678<0, 0, Loading!F678) -> 0 | BD8: =IF(Loading!F726<0, 0, Loading!F726) -> 0 | BE8: =IF(Loading!G6<0, 0, Loading!G6) -> 0 | BF8: =IF(Loading!G54<0, 0, Loading!G54) -> 0 | BG8: =IF(Loading!G102<0, 0, Loading!G102) -> 0 | BH8: =IF(Loading!G150<0, 0, Loading!G150) -> 0 | BI8: =IF(Loading!G198<0, 0, Loading!G198) -> 0 | BJ8: =IF(Loading!G246<0, 0, Loading!G246) -> 0 | BK8: =IF(Loading!G294<0, 0, Loading!G294) -> 0 | BL8: =IF(Loading!G342<0, 0, Loading!G342) -> 0 | BM8: =IF(Loading!G390<0, 0, Loading!G390) -> 0 | BN8: =IF(Loading!G438<0, 0, Loading!G438) -> 0 | BO8: =IF(Loading!G486<0, 0, Loading!G486) -> 0 | BP8: =IF(Loading!G534<0, 0, Loading!G534) -> 0 | BQ8: =IF(Loading!G582<0, 0, Loading!G582) -> 0 | BR8: =IF(Loading!G630<0, 0, Loading!G630) -> 0 | BS8: =IF(Loading!G678<0, 0, Loading!G678) -> 0 | BT8: =IF(Loading!G726<0, 0, Loading!G726) -> 0 | BU8: =IF(Loading!H6<0, 0, Loading!H6) -> 0 | BV8: =IF(Loading!H54<0, 0, Loading!H54) -> 0 | BW8: =IF(Loading!H102<0, 0, Loading!H102) -> 0 | BX8: =IF(Loading!H150<0, 0, Loading!H150) -> 0 | BY8: =IF(Loading!H198<0, 0, Loading!H198) -> 0 | BZ8: =IF(Loading!H246<0, 0, Loading!H246) -> 0 | CA8: =IF(Loading!H294<0, 0, Loading!H294) -> 0 | CB8: =IF(Loading!H342<0, 0, Loading!H342) -> 0 | CC8: =IF(Loading!H390<0, 0, Loading!H390) -> 0 | CD8: =IF(Loading!H438<0, 0, Loading!H438) -> 0 | CE8: =IF(Loading!H486<0, 0, Loading!H486) -> 0 | CF8: =IF(Loading!H534<0, 0, Loading!H534) -> 0 | CG8: =IF(Loading!H582<0, 0, Loading!H582) -> 0 | CH8: =IF(Loading!H630<0, 0, Loading!H630) -> 0 | CI8: =IF(Loading!H678<0, 0, Loading!H678) -> 0 | CJ8: =IF(Loading!H726<0, 0, Loading!H726) -> 0 | CK8: =IF(Loading!I6<0, 0, Loading!I6) -> 0 | CL8: =IF(Loading!I54<0, 0, Loading!I54) -> 0 | CM8: =IF(Loading!I102<0, 0, Loading!I102) -> 0 | CN8: =IF(Loading!I150<0, 0, Loading!I150) -> 0 | CO8: =IF(Loading!I198<0, 0, Loading!I198) -> 0 | CP8: =IF(Loading!I246<0, 0, Loading!I246) -> 0 | CQ8: =IF(Loading!I294<0, 0, Loading!I294) -> 0 | CR8: =IF(Loading!I342<0, 0, Loading!I342) -> 0 | CS8: =IF(Loading!I390<0, 0, Loading!I390) -> 0 | CT8: =IF(Loading!I438<0, 0, Loading!I438) -> 0 | CU8: =IF(Loading!I486<0, 0, Loading!I486) -> 0 | CV8: =IF(Loading!I534<0, 0, Loading!I534) -> 0 | CW8: =IF(Loading!I582<0, 0, Loading!I582) -> 0 | CX8: =IF(Loading!I630<0, 0, Loading!I630) -> 0 | CY8: =IF(Loading!I678<0, 0, Loading!I678) -> 0 | CZ8: =IF(Loading!I726<0, 0, Loading!I726) -> 0 | DA8: =IF(Loading!J6<0, 0, Loading!J6) -> 0 | DB8: =IF(Loading!J54<0, 0, Loading!J54) -> 0 | DC8: =IF(Loading!J102<0, 0, Loading!J102) -> 0 | DD8: =IF(Loading!J150<0, 0, Loading!J150) -> 0 | DE8: =IF(Loading!J198<0, 0, Loading!J198) -> 0 | DF8: =IF(Loading!J246<0, 0, Loading!J246) -> 0 | DG8: =IF(Loading!J294<0, 0, Loading!J294) -> 0 | DH8: =IF(Loading!J342<0, 0, Loading!J342) -> 0 | DI8: =IF(Loading!J390<0, 0, Loading!J390) -> 0 | DJ8: =IF(Loading!J438<0, 0, Loading!J438) -> 0 | DK8: =IF(Loading!J486<0, 0, Loading!J486) -> 0 | DL8: =IF(Loading!J534<0, 0, Loading!J534) -> 0 | DM8: =IF(Loading!J582<0, 0, Loading!J582) -> 0 | DN8: =IF(Loading!J630<0, 0, Loading!J630) -> 0 | DO8: =IF(Loading!J678<0, 0, Loading!J678) -> 0 | DP8: =IF(Loading!J726<0, 0, Loading!J726) -> 0 | DQ8: =IF(Loading!K6<0, 0, Loading!K6) -> 0 | DR8: =IF(Loading!K54<0, 0, Loading!K54) -> 0 | DS8: =IF(Loading!K102<0, 0, Loading!K102) -> 0 | DT8: =IF(Loading!K150<0, 0, Loading!K150) -> 0 | DU8: =IF(Loading!K198<0, 0, Loading!K198) -> 0 | DV8: =IF(Loading!K246<0, 0, Loading!K246) -> 0 | DW8: =IF(Loading!K294<0, 0, Loading!K294) -> 0 | DX8: =IF(Loading!K342<0, 0, Loading!K342) -> 0
H9: POS2 | I9: =IF(Loading!D7<0, 0, Loading!D7) -> 0 | J9: =IF(Loading!D55<0, 0, Loading!D55) -> 0 | K9: =IF(Loading!D103<0, 0, Loading!D103) -> 0 | L9: =IF(Loading!D151<0, 0, Loading!D151) -> 0 | M9: =IF(Loading!D199<0, 0, Loading!D199) -> 0 | N9: =IF(Loading!D247<0, 0, Loading!D247) -> 0 | O9: =IF(Loading!D295<0, 0, Loading!D295) -> 0 | P9: =IF(Loading!D343<0, 0, Loading!D343) -> 0 | Q9: =IF(Loading!D391<0, 0, Loading!D391) -> 0 | R9: =IF(Loading!D439<0, 0, Loading!D439) -> 0 | S9: =IF(Loading!D487<0, 0, Loading!D487) -> 0 | T9: =IF(Loading!D535<0, 0, Loading!D535) -> 0 | U9: =IF(Loading!D583<0, 0, Loading!D583) -> 0 | V9: =IF(Loading!D631<0, 0, Loading!D631) -> 0 | W9: =IF(Loading!D679<0, 0, Loading!D679) -> 0 | X9: =IF(Loading!D727<0, 0, Loading!D727) -> 0 | Y9: =IF(Loading!E7<0, 0, Loading!E7) -> 0 | Z9: =IF(Loading!E55<0, 0, Loading!E55) -> 0 | AA9: =IF(Loading!E103<0, 0, Loading!E103) -> 0 | AB9: =IF(Loading!E151<0, 0, Loading!E151) -> 0 | AC9: =IF(Loading!E199<0, 0, Loading!E199) -> 0 | AD9: =IF(Loading!E247<0, 0, Loading!E247) -> 0 | AE9: =IF(Loading!E295<0, 0, Loading!E295) -> 0 | AF9: =IF(Loading!E343<0, 0, Loading!E343) -> 0 | AG9: =IF(Loading!E391<0, 0, Loading!E391) -> 0 | AH9: =IF(Loading!E439<0, 0, Loading!E439) -> 0 | AI9: =IF(Loading!E487<0, 0, Loading!E487) -> 0 | AJ9: =IF(Loading!E535<0, 0, Loading!E535) -> 0 | AK9: =IF(Loading!E583<0, 0, Loading!E583) -> 0 | AL9: =IF(Loading!E631<0, 0, Loading!E631) -> 0 | AM9: =IF(Loading!E679<0, 0, Loading!E679) -> 0 | AN9: =IF(Loading!E727<0, 0, Loading!E727) -> 0 | AO9: =IF(Loading!F7<0, 0, Loading!F7) -> 0 | AP9: =IF(Loading!F55<0, 0, Loading!F55) -> 0 | AQ9: =IF(Loading!F103<0, 0, Loading!F103) -> 0 | AR9: =IF(Loading!F151<0, 0, Loading!F151) -> 0 | AS9: =IF(Loading!F199<0, 0, Loading!F199) -> 0 | AT9: =IF(Loading!F247<0, 0, Loading!F247) -> 0 | AU9: =IF(Loading!F295<0, 0, Loading!F295) -> 0 | AV9: =IF(Loading!F343<0, 0, Loading!F343) -> 0 | AW9: =IF(Loading!F391<0, 0, Loading!F391) -> 0 | AX9: =IF(Loading!F439<0, 0, Loading!F439) -> 0 | AY9: =IF(Loading!F487<0, 0, Loading!F487) -> 0 | AZ9: =IF(Loading!F535<0, 0, Loading!F535) -> 0 | BA9: =IF(Loading!F583<0, 0, Loading!F583) -> 0 | BB9: =IF(Loading!F631<0, 0, Loading!F631) -> 0 | BC9: =IF(Loading!F679<0, 0, Loading!F679) -> 0 | BD9: =IF(Loading!F727<0, 0, Loading!F727) -> 0 | BE9: =IF(Loading!G7<0, 0, Loading!G7) -> 0 | BF9: =IF(Loading!G55<0, 0, Loading!G55) -> 0 | BG9: =IF(Loading!G103<0, 0, Loading!G103) -> 0 | BH9: =IF(Loading!G151<0, 0, Loading!G151) -> 0 | BI9: =IF(Loading!G199<0, 0, Loading!G199) -> 0 | BJ9: =IF(Loading!G247<0, 0, Loading!G247) -> 0 | BK9: =IF(Loading!G295<0, 0, Loading!G295) -> 0 | BL9: =IF(Loading!G343<0, 0, Loading!G343) -> 0 | BM9: =IF(Loading!G391<0, 0, Loading!G391) -> 0 | BN9: =IF(Loading!G439<0, 0, Loading!G439) -> 0 | BO9: =IF(Loading!G487<0, 0, Loading!G487) -> 0 | BP9: =IF(Loading!G535<0, 0, Loading!G535) -> 0 | BQ9: =IF(Loading!G583<0, 0, Loading!G583) -> 0 | BR9: =IF(Loading!G631<0, 0, Loading!G631) -> 0 | BS9: =IF(Loading!G679<0, 0, Loading!G679) -> 0 | BT9: =IF(Loading!G727<0, 0, Loading!G727) -> 0 | BU9: =IF(Loading!H7<0, 0, Loading!H7) -> 0 | BV9: =IF(Loading!H55<0, 0, Loading!H55) -> 0 | BW9: =IF(Loading!H103<0, 0, Loading!H103) -> 0 | BX9: =IF(Loading!H151<0, 0, Loading!H151) -> 0 | BY9: =IF(Loading!H199<0, 0, Loading!H199) -> 0 | BZ9: =IF(Loading!H247<0, 0, Loading!H247) -> 0 | CA9: =IF(Loading!H295<0, 0, Loading!H295) -> 0 | CB9: =IF(Loading!H343<0, 0, Loading!H343) -> 0 | CC9: =IF(Loading!H391<0, 0, Loading!H391) -> 0 | CD9: =IF(Loading!H439<0, 0, Loading!H439) -> 0 | CE9: =IF(Loading!H487<0, 0, Loading!H487) -> 0 | CF9: =IF(Loading!H535<0, 0, Loading!H535) -> 0 | CG9: =IF(Loading!H583<0, 0, Loading!H583) -> 0 | CH9: =IF(Loading!H631<0, 0, Loading!H631) -> 0 | CI9: =IF(Loading!H679<0, 0, Loading!H679) -> 0 | CJ9: =IF(Loading!H727<0, 0, Loading!H727) -> 0 | CK9: =IF(Loading!I7<0, 0, Loading!I7) -> 0 | CL9: =IF(Loading!I55<0, 0, Loading!I55) -> 0 | CM9: =IF(Loading!I103<0, 0, Loading!I103) -> 0 | CN9: =IF(Loading!I151<0, 0, Loading!I151) -> 0 | CO9: =IF(Loading!I199<0, 0, Loading!I199) -> 0 | CP9: =IF(Loading!I247<0, 0, Loading!I247) -> 0 | CQ9: =IF(Loading!I295<0, 0, Loading!I295) -> 0 | CR9: =IF(Loading!I343<0, 0, Loading!I343) -> 0 | CS9: =IF(Loading!I391<0, 0, Loading!I391) -> 0 | CT9: =IF(Loading!I439<0, 0, Loading!I439) -> 0 | CU9: =IF(Loading!I487<0, 0, Loading!I487) -> 0 | CV9: =IF(Loading!I535<0, 0, Loading!I535) -> 0 | CW9: =IF(Loading!I583<0, 0, Loading!I583) -> 0 | CX9: =IF(Loading!I631<0, 0, Loading!I631) -> 0 | CY9: =IF(Loading!I679<0, 0, Loading!I679) -> 0 | CZ9: =IF(Loading!I727<0, 0, Loading!I727) -> 0 | DA9: =IF(Loading!J7<0, 0, Loading!J7) -> 0 | DB9: =IF(Loading!J55<0, 0, Loading!J55) -> 0 | DC9: =IF(Loading!J103<0, 0, Loading!J103) -> 0 | DD9: =IF(Loading!J151<0, 0, Loading!J151) -> 0 | DE9: =IF(Loading!J199<0, 0, Loading!J199) -> 0 | DF9: =IF(Loading!J247<0, 0, Loading!J247) -> 0 | DG9: =IF(Loading!J295<0, 0, Loading!J295) -> 0 | DH9: =IF(Loading!J343<0, 0, Loading!J343) -> 0 | DI9: =IF(Loading!J391<0, 0, Loading!J391) -> 0 | DJ9: =IF(Loading!J439<0, 0, Loading!J439) -> 0 | DK9: =IF(Loading!J487<0, 0, Loading!J487) -> 0 | DL9: =IF(Loading!J535<0, 0, Loading!J535) -> 0 | DM9: =IF(Loading!J583<0, 0, Loading!J583) -> 0 | DN9: =IF(Loading!J631<0, 0, Loading!J631) -> 0 | DO9: =IF(Loading!J679<0, 0, Loading!J679) -> 0 | DP9: =IF(Loading!J727<0, 0, Loading!J727) -> 0 | DQ9: =IF(Loading!K7<0, 0, Loading!K7) -> 0 | DR9: =IF(Loading!K55<0, 0, Loading!K55) -> 0 | DS9: =IF(Loading!K103<0, 0, Loading!K103) -> 0 | DT9: =IF(Loading!K151<0, 0, Loading!K151) -> 0 | DU9: =IF(Loading!K199<0, 0, Loading!K199) -> 0 | DV9: =IF(Loading!K247<0, 0, Loading!K247) -> 0 | DW9: =IF(Loading!K295<0, 0, Loading!K295) -> 0 | DX9: =IF(Loading!K343<0, 0, Loading!K343) -> 0 | DZ9: =(1+$AE$2)*MEDIAN(I9:I12) -> 0 | EA9: =(1+$AE$2)*MEDIAN(J9:J12) -> 0 | EB9: =(1+$AE$2)*MEDIAN(K9:K12) -> 0 | EC9: =(1+$AE$2)*MEDIAN(L9:L12) -> 0 | ED9: =(1+$AE$2)*MEDIAN(M9:M12) -> 0 | EE9: =(1+$AE$2)*MEDIAN(N9:N12) -> 0 | EF9: =(1+$AE$2)*MEDIAN(O9:O12) -> 0 | EG9: =(1+$AE$2)*MEDIAN(P9:P12) -> 0 | ... IO9: =(1+$AE$2)*MEDIAN(DX9:DX12) -> 0
H10: POS2 | I10: =IF(Loading!D8<0, 0, Loading!D8) -> 0 | J10: =IF(Loading!D56<0, 0, Loading!D56) -> 0 | K10: =IF(Loading!D104<0, 0, Loading!D104) -> 0 | L10: =IF(Loading!D152<0, 0, Loading!D152) -> 0 | M10: =IF(Loading!D200<0, 0, Loading!D200) -> 0 | N10: =IF(Loading!D248<0, 0, Loading!D248) -> 0 | O10: =IF(Loading!D296<0, 0, Loading!D296) -> 0 | P10: =IF(Loading!D344<0, 0, Loading!D344) -> 0 | Q10: =IF(Loading!D392<0, 0, Loading!D392) -> 0 | R10: =IF(Loading!D440<0, 0, Loading!D440) -> 0 | S10: =IF(Loading!D488<0, 0, Loading!D488) -> 0 | T10: =IF(Loading!D536<0, 0, Loading!D536) -> 0 | U10: =IF(Loading!D584<0, 0, Loading!D584) -> 0 | V10: =IF(Loading!D632<0, 0, Loading!D632) -> 0 | W10: =IF(Loading!D680<0, 0, Loading!D680) -> 0 | X10: =IF(Loading!D728<0, 0, Loading!D728) -> 0 | Y10: =IF(Loading!E8<0, 0, Loading!E8) -> 0 | Z10: =IF(Loading!E56<0, 0, Loading!E56) -> 0 | AA10: =IF(Loading!E104<0, 0, Loading!E104) -> 0 | AB10: =IF(Loading!E152<0, 0, Loading!E152) -> 0 | AC10: =IF(Loading!E200<0, 0, Loading!E200) -> 0 | AD10: =IF(Loading!E248<0, 0, Loading!E248) -> 0 | AE10: =IF(Loading!E296<0, 0, Loading!E296) -> 0 | AF10: =IF(Loading!E344<0, 0, Loading!E344) -> 0 | AG10: =IF(Loading!E392<0, 0, Loading!E392) -> 0 | AH10: =IF(Loading!E440<0, 0, Loading!E440) -> 0 | AI10: =IF(Loading!E488<0, 0, Loading!E488) -> 0 | AJ10: =IF(Loading!E536<0, 0, Loading!E536) -> 0 | AK10: =IF(Loading!E584<0, 0, Loading!E584) -> 0 | AL10: =IF(Loading!E632<0, 0, Loading!E632) -> 0 | AM10: =IF(Loading!E680<0, 0, Loading!E680) -> 0 | AN10: =IF(Loading!E728<0, 0, Loading!E728) -> 0 | AO10: =IF(Loading!F8<0, 0, Loading!F8) -> 0 | AP10: =IF(Loading!F56<0, 0, Loading!F56) -> 0 | AQ10: =IF(Loading!F104<0, 0, Loading!F104) -> 0 | AR10: =IF(Loading!F152<0, 0, Loading!F152) -> 0 | AS10: =IF(Loading!F200<0, 0, Loading!F200) -> 0 | AT10: =IF(Loading!F248<0, 0, Loading!F248) -> 0 | AU10: =IF(Loading!F296<0, 0, Loading!F296) -> 0 | AV10: =IF(Loading!F344<0, 0, Loading!F344) -> 0 | AW10: =IF(Loading!F392<0, 0, Loading!F392) -> 0 | AX10: =IF(Loading!F440<0, 0, Loading!F440) -> 0 | AY10: =IF(Loading!F488<0, 0, Loading!F488) -> 0 | AZ10: =IF(Loading!F536<0, 0, Loading!F536) -> 0 | BA10: =IF(Loading!F584<0, 0, Loading!F584) -> 0 | BB10: =IF(Loading!F632<0, 0, Loading!F632) -> 0 | BC10: =IF(Loading!F680<0, 0, Loading!F680) -> 0 | BD10: =IF(Loading!F728<0, 0, Loading!F728) -> 0 | BE10: =IF(Loading!G8<0, 0, Loading!G8) -> 0 | BF10: =IF(Loading!G56<0, 0, Loading!G56) -> 0 | BG10: =IF(Loading!G104<0, 0, Loading!G104) -> 0 | BH10: =IF(Loading!G152<0, 0, Loading!G152) -> 0 | BI10: =IF(Loading!G200<0, 0, Loading!G200) -> 0 | BJ10: =IF(Loading!G248<0, 0, Loading!G248) -> 0 | BK10: =IF(Loading!G296<0, 0, Loading!G296) -> 0 | BL10: =IF(Loading!G344<0, 0, Loading!G344) -> 0 | BM10: =IF(Loading!G392<0, 0, Loading!G392) -> 0 | BN10: =IF(Loading!G440<0, 0, Loading!G440) -> 0 | BO10: =IF(Loading!G488<0, 0, Loading!G488) -> 0 | BP10: =IF(Loading!G536<0, 0, Loading!G536) -> 0 | BQ10: =IF(Loading!G584<0, 0, Loading!G584) -> 0 | BR10: =IF(Loading!G632<0, 0, Loading!G632) -> 0 | BS10: =IF(Loading!G680<0, 0, Loading!G680) -> 0 | BT10: =IF(Loading!G728<0, 0, Loading!G728) -> 0 | BU10: =IF(Loading!H8<0, 0, Loading!H8) -> 0 | BV10: =IF(Loading!H56<0, 0, Loading!H56) -> 0 | BW10: =IF(Loading!H104<0, 0, Loading!H104) -> 0 | BX10: =IF(Loading!H152<0, 0, Loading!H152) -> 0 | BY10: =IF(Loading!H200<0, 0, Loading!H200) -> 0 | BZ10: =IF(Loading!H248<0, 0, Loading!H248) -> 0 | CA10: =IF(Loading!H296<0, 0, Loading!H296) -> 0 | CB10: =IF(Loading!H344<0, 0, Loading!H344) -> 0 | CC10: =IF(Loading!H392<0, 0, Loading!H392) -> 0 | CD10: =IF(Loading!H440<0, 0, Loading!H440) -> 0 | CE10: =IF(Loading!H488<0, 0, Loading!H488) -> 0 | CF10: =IF(Loading!H536<0, 0, Loading!H536) -> 0 | CG10: =IF(Loading!H584<0, 0, Loading!H584) -> 0 | CH10: =IF(Loading!H632<0, 0, Loading!H632) -> 0 | CI10: =IF(Loading!H680<0, 0, Loading!H680) -> 0 | CJ10: =IF(Loading!H728<0, 0, Loading!H728) -> 0 | CK10: =IF(Loading!I8<0, 0, Loading!I8) -> 0 | CL10: =IF(Loading!I56<0, 0, Loading!I56) -> 0 | CM10: =IF(Loading!I104<0, 0, Loading!I104) -> 0 | CN10: =IF(Loading!I152<0, 0, Loading!I152) -> 0 | CO10: =IF(Loading!I200<0, 0, Loading!I200) -> 0 | CP10: =IF(Loading!I248<0, 0, Loading!I248) -> 0 | CQ10: =IF(Loading!I296<0, 0, Loading!I296) -> 0 | CR10: =IF(Loading!I344<0, 0, Loading!I344) -> 0 | CS10: =IF(Loading!I392<0, 0, Loading!I392) -> 0 | CT10: =IF(Loading!I440<0, 0, Loading!I440) -> 0 | CU10: =IF(Loading!I488<0, 0, Loading!I488) -> 0 | CV10: =IF(Loading!I536<0, 0, Loading!I536) -> 0 | CW10: =IF(Loading!I584<0, 0, Loading!I584) -> 0 | CX10: =IF(Loading!I632<0, 0, Loading!I632) -> 0 | CY10: =IF(Loading!I680<0, 0, Loading!I680) -> 0 | CZ10: =IF(Loading!I728<0, 0, Loading!I728) -> 0 | DA10: =IF(Loading!J8<0, 0, Loading!J8) -> 0 | DB10: =IF(Loading!J56<0, 0, Loading!J56) -> 0 | DC10: =IF(Loading!J104<0, 0, Loading!J104) -> 0 | DD10: =IF(Loading!J152<0, 0, Loading!J152) -> 0 | DE10: =IF(Loading!J200<0, 0, Loading!J200) -> 0 | DF10: =IF(Loading!J248<0, 0, Loading!J248) -> 0 | DG10: =IF(Loading!J296<0, 0, Loading!J296) -> 0 | DH10: =IF(Loading!J344<0, 0, Loading!J344) -> 0 | DI10: =IF(Loading!J392<0, 0, Loading!J392) -> 0 | DJ10: =IF(Loading!J440<0, 0, Loading!J440) -> 0 | DK10: =IF(Loading!J488<0, 0, Loading!J488) -> 0 | DL10: =IF(Loading!J536<0, 0, Loading!J536) -> 0 | DM10: =IF(Loading!J584<0, 0, Loading!J584) -> 0 | DN10: =IF(Loading!J632<0, 0, Loading!J632) -> 0 | DO10: =IF(Loading!J680<0, 0, Loading!J680) -> 0 | DP10: =IF(Loading!J728<0, 0, Loading!J728) -> 0 | DQ10: =IF(Loading!K8<0, 0, Loading!K8) -> 0 | DR10: =IF(Loading!K56<0, 0, Loading!K56) -> 0 | DS10: =IF(Loading!K104<0, 0, Loading!K104) -> 0 | DT10: =IF(Loading!K152<0, 0, Loading!K152) -> 0 | DU10: =IF(Loading!K200<0, 0, Loading!K200) -> 0 | DV10: =IF(Loading!K248<0, 0, Loading!K248) -> 0 | DW10: =IF(Loading!K296<0, 0, Loading!K296) -> 0 | DX10: =IF(Loading!K344<0, 0, Loading!K344) -> 0 | DZ10: =(1-$AE$2)*MEDIAN(I9:I12) -> 0 | EA10: =(1-$AE$2)*MEDIAN(J9:J12) -> 0 | EB10: =(1-$AE$2)*MEDIAN(K9:K12) -> 0 | EC10: =(1-$AE$2)*MEDIAN(L9:L12) -> 0 | ED10: =(1-$AE$2)*MEDIAN(M9:M12) -> 0 | EE10: =(1-$AE$2)*MEDIAN(N9:N12) -> 0 | EF10: =(1-$AE$2)*MEDIAN(O9:O12) -> 0 | EG10: =(1-$AE$2)*MEDIAN(P9:P12) -> 0 | ... IO10: =(1-$AE$2)*MEDIAN(DX9:DX12) -> 0
H11: POS2 | I11: =IF(Loading!D9<0, 0, Loading!D9) -> 0 | J11: =IF(Loading!D57<0, 0, Loading!D57) -> 0 | K11: =IF(Loading!D105<0, 0, Loading!D105) -> 0 | L11: =IF(Loading!D153<0, 0, Loading!D153) -> 0 | M11: =IF(Loading!D201<0, 0, Loading!D201) -> 0 | N11: =IF(Loading!D249<0, 0, Loading!D249) -> 0 | O11: =IF(Loading!D297<0, 0, Loading!D297) -> 0 | P11: =IF(Loading!D345<0, 0, Loading!D345) -> 0 | Q11: =IF(Loading!D393<0, 0, Loading!D393) -> 0 | R11: =IF(Loading!D441<0, 0, Loading!D441) -> 0 | S11: =IF(Loading!D489<0, 0, Loading!D489) -> 0 | T11: =IF(Loading!D537<0, 0, Loading!D537) -> 0 | U11: =IF(Loading!D585<0, 0, Loading!D585) -> 0 | V11: =IF(Loading!D633<0, 0, Loading!D633) -> 0 | W11: =IF(Loading!D681<0, 0, Loading!D681) -> 0 | X11: =IF(Loading!D729<0, 0, Loading!D729) -> 0 | Y11: =IF(Loading!E9<0, 0, Loading!E9) -> 0 | Z11: =IF(Loading!E57<0, 0, Loading!E57) -> 0 | AA11: =IF(Loading!E105<0, 0, Loading!E105) -> 0 | AB11: =IF(Loading!E153<0, 0, Loading!E153) -> 0 | AC11: =IF(Loading!E201<0, 0, Loading!E201) -> 0 | AD11: =IF(Loading!E249<0, 0, Loading!E249) -> 0 | AE11: =IF(Loading!E297<0, 0, Loading!E297) -> 0 | AF11: =IF(Loading!E345<0, 0, Loading!E345) -> 0 | AG11: =IF(Loading!E393<0, 0, Loading!E393) -> 0 | AH11: =IF(Loading!E441<0, 0, Loading!E441) -> 0 | AI11: =IF(Loading!E489<0, 0, Loading!E489) -> 0 | AJ11: =IF(Loading!E537<0, 0, Loading!E537) -> 0 | AK11: =IF(Loading!E585<0, 0, Loading!E585) -> 0 | AL11: =IF(Loading!E633<0, 0, Loading!E633) -> 0 | AM11: =IF(Loading!E681<0, 0, Loading!E681) -> 0 | AN11: =IF(Loading!E729<0, 0, Loading!E729) -> 0 | AO11: =IF(Loading!F9<0, 0, Loading!F9) -> 0 | AP11: =IF(Loading!F57<0, 0, Loading!F57) -> 0 | AQ11: =IF(Loading!F105<0, 0, Loading!F105) -> 0 | AR11: =IF(Loading!F153<0, 0, Loading!F153) -> 0 | AS11: =IF(Loading!F201<0, 0, Loading!F201) -> 0 | AT11: =IF(Loading!F249<0, 0, Loading!F249) -> 0 | AU11: =IF(Loading!F297<0, 0, Loading!F297) -> 0 | AV11: =IF(Loading!F345<0, 0, Loading!F345) -> 0 | AW11: =IF(Loading!F393<0, 0, Loading!F393) -> 0 | AX11: =IF(Loading!F441<0, 0, Loading!F441) -> 0 | AY11: =IF(Loading!F489<0, 0, Loading!F489) -> 0 | AZ11: =IF(Loading!F537<0, 0, Loading!F537) -> 0 | BA11: =IF(Loading!F585<0, 0, Loading!F585) -> 0 | BB11: =IF(Loading!F633<0, 0, Loading!F633) -> 0 | BC11: =IF(Loading!F681<0, 0, Loading!F681) -> 0 | BD11: =IF(Loading!F729<0, 0, Loading!F729) -> 0 | BE11: =IF(Loading!G9<0, 0, Loading!G9) -> 0 | BF11: =IF(Loading!G57<0, 0, Loading!G57) -> 0 | BG11: =IF(Loading!G105<0, 0, Loading!G105) -> 0 | BH11: =IF(Loading!G153<0, 0, Loading!G153) -> 0 | BI11: =IF(Loading!G201<0, 0, Loading!G201) -> 0 | BJ11: =IF(Loading!G249<0, 0, Loading!G249) -> 0 | BK11: =IF(Loading!G297<0, 0, Loading!G297) -> 0 | BL11: =IF(Loading!G345<0, 0, Loading!G345) -> 0 | BM11: =IF(Loading!G393<0, 0, Loading!G393) -> 0 | BN11: =IF(Loading!G441<0, 0, Loading!G441) -> 0 | BO11: =IF(Loading!G489<0, 0, Loading!G489) -> 0 | BP11: =IF(Loading!G537<0, 0, Loading!G537) -> 0 | BQ11: =IF(Loading!G585<0, 0, Loading!G585) -> 0 | BR11: =IF(Loading!G633<0, 0, Loading!G633) -> 0 | BS11: =IF(Loading!G681<0, 0, Loading!G681) -> 0 | BT11: =IF(Loading!G729<0, 0, Loading!G729) -> 0 | BU11: =IF(Loading!H9<0, 0, Loading!H9) -> 0 | BV11: =IF(Loading!H57<0, 0, Loading!H57) -> 0 | BW11: =IF(Loading!H105<0, 0, Loading!H105) -> 0 | BX11: =IF(Loading!H153<0, 0, Loading!H153) -> 0 | BY11: =IF(Loading!H201<0, 0, Loading!H201) -> 0 | BZ11: =IF(Loading!H249<0, 0, Loading!H249) -> 0 | CA11: =IF(Loading!H297<0, 0, Loading!H297) -> 0 | CB11: =IF(Loading!H345<0, 0, Loading!H345) -> 0 | CC11: =IF(Loading!H393<0, 0, Loading!H393) -> 0 | CD11: =IF(Loading!H441<0, 0, Loading!H441) -> 0 | CE11: =IF(Loading!H489<0, 0, Loading!H489) -> 0 | CF11: =IF(Loading!H537<0, 0, Loading!H537) -> 0 | CG11: =IF(Loading!H585<0, 0, Loading!H585) -> 0 | CH11: =IF(Loading!H633<0, 0, Loading!H633) -> 0 | CI11: =IF(Loading!H681<0, 0, Loading!H681) -> 0 | CJ11: =IF(Loading!H729<0, 0, Loading!H729) -> 0 | CK11: =IF(Loading!I9<0, 0, Loading!I9) -> 0 | CL11: =IF(Loading!I57<0, 0, Loading!I57) -> 0 | CM11: =IF(Loading!I105<0, 0, Loading!I105) -> 0 | CN11: =IF(Loading!I153<0, 0, Loading!I153) -> 0 | CO11: =IF(Loading!I201<0, 0, Loading!I201) -> 0 | CP11: =IF(Loading!I249<0, 0, Loading!I249) -> 0 | CQ11: =IF(Loading!I297<0, 0, Loading!I297) -> 0 | CR11: =IF(Loading!I345<0, 0, Loading!I345) -> 0 | CS11: =IF(Loading!I393<0, 0, Loading!I393) -> 0 | CT11: =IF(Loading!I441<0, 0, Loading!I441) -> 0 | CU11: =IF(Loading!I489<0, 0, Loading!I489) -> 0 | CV11: =IF(Loading!I537<0, 0, Loading!I537) -> 0 | CW11: =IF(Loading!I585<0, 0, Loading!I585) -> 0 | CX11: =IF(Loading!I633<0, 0, Loading!I633) -> 0 | CY11: =IF(Loading!I681<0, 0, Loading!I681) -> 0 | CZ11: =IF(Loading!I729<0, 0, Loading!I729) -> 0 | DA11: =IF(Loading!J9<0, 0, Loading!J9) -> 0 | DB11: =IF(Loading!J57<0, 0, Loading!J57) -> 0 | DC11: =IF(Loading!J105<0, 0, Loading!J105) -> 0 | DD11: =IF(Loading!J153<0, 0, Loading!J153) -> 0 | DE11: =IF(Loading!J201<0, 0, Loading!J201) -> 0 | DF11: =IF(Loading!J249<0, 0, Loading!J249) -> 0 | DG11: =IF(Loading!J297<0, 0, Loading!J297) -> 0 | DH11: =IF(Loading!J345<0, 0, Loading!J345) -> 0 | DI11: =IF(Loading!J393<0, 0, Loading!J393) -> 0 | DJ11: =IF(Loading!J441<0, 0, Loading!J441) -> 0 | DK11: =IF(Loading!J489<0, 0, Loading!J489) -> 0 | DL11: =IF(Loading!J537<0, 0, Loading!J537) -> 0 | DM11: =IF(Loading!J585<0, 0, Loading!J585) -> 0 | DN11: =IF(Loading!J633<0, 0, Loading!J633) -> 0 | DO11: =IF(Loading!J681<0, 0, Loading!J681) -> 0 | DP11: =IF(Loading!J729<0, 0, Loading!J729) -> 0 | DQ11: =IF(Loading!K9<0, 0, Loading!K9) -> 0 | DR11: =IF(Loading!K57<0, 0, Loading!K57) -> 0 | DS11: =IF(Loading!K105<0, 0, Loading!K105) -> 0 | DT11: =IF(Loading!K153<0, 0, Loading!K153) -> 0 | DU11: =IF(Loading!K201<0, 0, Loading!K201) -> 0 | DV11: =IF(Loading!K249<0, 0, Loading!K249) -> 0 | DW11: =IF(Loading!K297<0, 0, Loading!K297) -> 0 | DX11: =IF(Loading!K345<0, 0, Loading!K345) -> 0
H12: POS2 | I12: =IF(Loading!D10<0, 0, Loading!D10) -> 0 | J12: =IF(Loading!D58<0, 0, Loading!D58) -> 0 | K12: =IF(Loading!D106<0, 0, Loading!D106) -> 0 | L12: =IF(Loading!D154<0, 0, Loading!D154) -> 0 | M12: =IF(Loading!D202<0, 0, Loading!D202) -> 0 | N12: =IF(Loading!D250<0, 0, Loading!D250) -> 0 | O12: =IF(Loading!D298<0, 0, Loading!D298) -> 0 | P12: =IF(Loading!D346<0, 0, Loading!D346) -> 0 | Q12: =IF(Loading!D394<0, 0, Loading!D394) -> 0 | R12: =IF(Loading!D442<0, 0, Loading!D442) -> 0 | S12: =IF(Loading!D490<0, 0, Loading!D490) -> 0 | T12: =IF(Loading!D538<0, 0, Loading!D538) -> 0 | U12: =IF(Loading!D586<0, 0, Loading!D586) -> 0 | V12: =IF(Loading!D634<0, 0, Loading!D634) -> 0 | W12: =IF(Loading!D682<0, 0, Loading!D682) -> 0 | X12: =IF(Loading!D730<0, 0, Loading!D730) -> 0 | Y12: =IF(Loading!E10<0, 0, Loading!E10) -> 0 | Z12: =IF(Loading!E58<0, 0, Loading!E58) -> 0 | AA12: =IF(Loading!E106<0, 0, Loading!E106) -> 0 | AB12: =IF(Loading!E154<0, 0, Loading!E154) -> 0 | AC12: =IF(Loading!E202<0, 0, Loading!E202) -> 0 | AD12: =IF(Loading!E250<0, 0, Loading!E250) -> 0 | AE12: =IF(Loading!E298<0, 0, Loading!E298) -> 0 | AF12: =IF(Loading!E346<0, 0, Loading!E346) -> 0 | AG12: =IF(Loading!E394<0, 0, Loading!E394) -> 0 | AH12: =IF(Loading!E442<0, 0, Loading!E442) -> 0 | AI12: =IF(Loading!E490<0, 0, Loading!E490) -> 0 | AJ12: =IF(Loading!E538<0, 0, Loading!E538) -> 0 | AK12: =IF(Loading!E586<0, 0, Loading!E586) -> 0 | AL12: =IF(Loading!E634<0, 0, Loading!E634) -> 0 | AM12: =IF(Loading!E682<0, 0, Loading!E682) -> 0 | AN12: =IF(Loading!E730<0, 0, Loading!E730) -> 0 | AO12: =IF(Loading!F10<0, 0, Loading!F10) -> 0 | AP12: =IF(Loading!F58<0, 0, Loading!F58) -> 0 | AQ12: =IF(Loading!F106<0, 0, Loading!F106) -> 0 | AR12: =IF(Loading!F154<0, 0, Loading!F154) -> 0 | AS12: =IF(Loading!F202<0, 0, Loading!F202) -> 0 | AT12: =IF(Loading!F250<0, 0, Loading!F250) -> 0 | AU12: =IF(Loading!F298<0, 0, Loading!F298) -> 0 | AV12: =IF(Loading!F346<0, 0, Loading!F346) -> 0 | AW12: =IF(Loading!F394<0, 0, Loading!F394) -> 0 | AX12: =IF(Loading!F442<0, 0, Loading!F442) -> 0 | AY12: =IF(Loading!F490<0, 0, Loading!F490) -> 0 | AZ12: =IF(Loading!F538<0, 0, Loading!F538) -> 0 | BA12: =IF(Loading!F586<0, 0, Loading!F586) -> 0 | BB12: =IF(Loading!F634<0, 0, Loading!F634) -> 0 | BC12: =IF(Loading!F682<0, 0, Loading!F682) -> 0 | BD12: =IF(Loading!F730<0, 0, Loading!F730) -> 0 | BE12: =IF(Loading!G10<0, 0, Loading!G10) -> 0 | BF12: =IF(Loading!G58<0, 0, Loading!G58) -> 0 | BG12: =IF(Loading!G106<0, 0, Loading!G106) -> 0 | BH12: =IF(Loading!G154<0, 0, Loading!G154) -> 0 | BI12: =IF(Loading!G202<0, 0, Loading!G202) -> 0 | BJ12: =IF(Loading!G250<0, 0, Loading!G250) -> 0 | BK12: =IF(Loading!G298<0, 0, Loading!G298) -> 0 | BL12: =IF(Loading!G346<0, 0, Loading!G346) -> 0 | BM12: =IF(Loading!G394<0, 0, Loading!G394) -> 0 | BN12: =IF(Loading!G442<0, 0, Loading!G442) -> 0 | BO12: =IF(Loading!G490<0, 0, Loading!G490) -> 0 | BP12: =IF(Loading!G538<0, 0, Loading!G538) -> 0 | BQ12: =IF(Loading!G586<0, 0, Loading!G586) -> 0 | BR12: =IF(Loading!G634<0, 0, Loading!G634) -> 0 | BS12: =IF(Loading!G682<0, 0, Loading!G682) -> 0 | BT12: =IF(Loading!G730<0, 0, Loading!G730) -> 0 | BU12: =IF(Loading!H10<0, 0, Loading!H10) -> 0 | BV12: =IF(Loading!H58<0, 0, Loading!H58) -> 0 | BW12: =IF(Loading!H106<0, 0, Loading!H106) -> 0 | BX12: =IF(Loading!H154<0, 0, Loading!H154) -> 0 | BY12: =IF(Loading!H202<0, 0, Loading!H202) -> 0 | BZ12: =IF(Loading!H250<0, 0, Loading!H250) -> 0 | CA12: =IF(Loading!H298<0, 0, Loading!H298) -> 0 | CB12: =IF(Loading!H346<0, 0, Loading!H346) -> 0 | CC12: =IF(Loading!H394<0, 0, Loading!H394) -> 0 | CD12: =IF(Loading!H442<0, 0, Loading!H442) -> 0 | CE12: =IF(Loading!H490<0, 0, Loading!H490) -> 0 | CF12: =IF(Loading!H538<0, 0, Loading!H538) -> 0 | CG12: =IF(Loading!H586<0, 0, Loading!H586) -> 0 | CH12: =IF(Loading!H634<0, 0, Loading!H634) -> 0 | CI12: =IF(Loading!H682<0, 0, Loading!H682) -> 0 | CJ12: =IF(Loading!H730<0, 0, Loading!H730) -> 0 | CK12: =IF(Loading!I10<0, 0, Loading!I10) -> 0 | CL12: =IF(Loading!I58<0, 0, Loading!I58) -> 0 | CM12: =IF(Loading!I106<0, 0, Loading!I106) -> 0 | CN12: =IF(Loading!I154<0, 0, Loading!I154) -> 0 | CO12: =IF(Loading!I202<0, 0, Loading!I202) -> 0 | CP12: =IF(Loading!I250<0, 0, Loading!I250) -> 0 | CQ12: =IF(Loading!I298<0, 0, Loading!I298) -> 0 | CR12: =IF(Loading!I346<0, 0, Loading!I346) -> 0 | CS12: =IF(Loading!I394<0, 0, Loading!I394) -> 0 | CT12: =IF(Loading!I442<0, 0, Loading!I442) -> 0 | CU12: =IF(Loading!I490<0, 0, Loading!I490) -> 0 | CV12: =IF(Loading!I538<0, 0, Loading!I538) -> 0 | CW12: =IF(Loading!I586<0, 0, Loading!I586) -> 0 | CX12: =IF(Loading!I634<0, 0, Loading!I634) -> 0 | CY12: =IF(Loading!I682<0, 0, Loading!I682) -> 0 | CZ12: =IF(Loading!I730<0, 0, Loading!I730) -> 0 | DA12: =IF(Loading!J10<0, 0, Loading!J10) -> 0 | DB12: =IF(Loading!J58<0, 0, Loading!J58) -> 0 | DC12: =IF(Loading!J106<0, 0, Loading!J106) -> 0 | DD12: =IF(Loading!J154<0, 0, Loading!J154) -> 0 | DE12: =IF(Loading!J202<0, 0, Loading!J202) -> 0 | DF12: =IF(Loading!J250<0, 0, Loading!J250) -> 0 | DG12: =IF(Loading!J298<0, 0, Loading!J298) -> 0 | DH12: =IF(Loading!J346<0, 0, Loading!J346) -> 0 | DI12: =IF(Loading!J394<0, 0, Loading!J394) -> 0 | DJ12: =IF(Loading!J442<0, 0, Loading!J442) -> 0 | DK12: =IF(Loading!J490<0, 0, Loading!J490) -> 0 | DL12: =IF(Loading!J538<0, 0, Loading!J538) -> 0 | DM12: =IF(Loading!J586<0, 0, Loading!J586) -> 0 | DN12: =IF(Loading!J634<0, 0, Loading!J634) -> 0 | DO12: =IF(Loading!J682<0, 0, Loading!J682) -> 0 | DP12: =IF(Loading!J730<0, 0, Loading!J730) -> 0 | DQ12: =IF(Loading!K10<0, 0, Loading!K10) -> 0 | DR12: =IF(Loading!K58<0, 0, Loading!K58) -> 0 | DS12: =IF(Loading!K106<0, 0, Loading!K106) -> 0 | DT12: =IF(Loading!K154<0, 0, Loading!K154) -> 0 | DU12: =IF(Loading!K202<0, 0, Loading!K202) -> 0 | DV12: =IF(Loading!K250<0, 0, Loading!K250) -> 0 | DW12: =IF(Loading!K298<0, 0, Loading!K298) -> 0 | DX12: =IF(Loading!K346<0, 0, Loading!K346) -> 0
H13: IgA | I13: =IF(Loading!D11<0, 0, Loading!D11) -> 0 | J13: =IF(Loading!D59<0, 0, Loading!D59) -> 0 | K13: =IF(Loading!D107<0, 0, Loading!D107) -> 0 | L13: =IF(Loading!D155<0, 0, Loading!D155) -> 0 | M13: =IF(Loading!D203<0, 0, Loading!D203) -> 0 | N13: =IF(Loading!D251<0, 0, Loading!D251) -> 0 | O13: =IF(Loading!D299<0, 0, Loading!D299) -> 0 | P13: =IF(Loading!D347<0, 0, Loading!D347) -> 0 | Q13: =IF(Loading!D395<0, 0, Loading!D395) -> 0 | R13: =IF(Loading!D443<0, 0, Loading!D443) -> 0 | S13: =IF(Loading!D491<0, 0, Loading!D491) -> 0 | T13: =IF(Loading!D539<0, 0, Loading!D539) -> 0 | U13: =IF(Loading!D587<0, 0, Loading!D587) -> 0 | V13: =IF(Loading!D635<0, 0, Loading!D635) -> 0 | W13: =IF(Loading!D683<0, 0, Loading!D683) -> 0 | X13: =IF(Loading!D731<0, 0, Loading!D731) -> 0 | Y13: =IF(Loading!E11<0, 0, Loading!E11) -> 0 | Z13: =IF(Loading!E59<0, 0, Loading!E59) -> 0 | AA13: =IF(Loading!E107<0, 0, Loading!E107) -> 0 | AB13: =IF(Loading!E155<0, 0, Loading!E155) -> 0 | AC13: =IF(Loading!E203<0, 0, Loading!E203) -> 0 | AD13: =IF(Loading!E251<0, 0, Loading!E251) -> 0 | AE13: =IF(Loading!E299<0, 0, Loading!E299) -> 0 | AF13: =IF(Loading!E347<0, 0, Loading!E347) -> 0 | AG13: =IF(Loading!E395<0, 0, Loading!E395) -> 0 | AH13: =IF(Loading!E443<0, 0, Loading!E443) -> 0 | AI13: =IF(Loading!E491<0, 0, Loading!E491) -> 0 | AJ13: =IF(Loading!E539<0, 0, Loading!E539) -> 0 | AK13: =IF(Loading!E587<0, 0, Loading!E587) -> 0 | AL13: =IF(Loading!E635<0, 0, Loading!E635) -> 0 | AM13: =IF(Loading!E683<0, 0, Loading!E683) -> 0 | AN13: =IF(Loading!E731<0, 0, Loading!E731) -> 0 | AO13: =IF(Loading!F11<0, 0, Loading!F11) -> 0 | AP13: =IF(Loading!F59<0, 0, Loading!F59) -> 0 | AQ13: =IF(Loading!F107<0, 0, Loading!F107) -> 0 | AR13: =IF(Loading!F155<0, 0, Loading!F155) -> 0 | AS13: =IF(Loading!F203<0, 0, Loading!F203) -> 0 | AT13: =IF(Loading!F251<0, 0, Loading!F251) -> 0 | AU13: =IF(Loading!F299<0, 0, Loading!F299) -> 0 | AV13: =IF(Loading!F347<0, 0, Loading!F347) -> 0 | AW13: =IF(Loading!F395<0, 0, Loading!F395) -> 0 | AX13: =IF(Loading!F443<0, 0, Loading!F443) -> 0 | AY13: =IF(Loading!F491<0, 0, Loading!F491) -> 0 | AZ13: =IF(Loading!F539<0, 0, Loading!F539) -> 0 | BA13: =IF(Loading!F587<0, 0, Loading!F587) -> 0 | BB13: =IF(Loading!F635<0, 0, Loading!F635) -> 0 | BC13: =IF(Loading!F683<0, 0, Loading!F683) -> 0 | BD13: =IF(Loading!F731<0, 0, Loading!F731) -> 0 | BE13: =IF(Loading!G11<0, 0, Loading!G11) -> 0 | BF13: =IF(Loading!G59<0, 0, Loading!G59) -> 0 | BG13: =IF(Loading!G107<0, 0, Loading!G107) -> 0 | BH13: =IF(Loading!G155<0, 0, Loading!G155) -> 0 | BI13: =IF(Loading!G203<0, 0, Loading!G203) -> 0 | BJ13: =IF(Loading!G251<0, 0, Loading!G251) -> 0 | BK13: =IF(Loading!G299<0, 0, Loading!G299) -> 0 | BL13: =IF(Loading!G347<0, 0, Loading!G347) -> 0 | BM13: =IF(Loading!G395<0, 0, Loading!G395) -> 0 | BN13: =IF(Loading!G443<0, 0, Loading!G443) -> 0 | BO13: =IF(Loading!G491<0, 0, Loading!G491) -> 0 | BP13: =IF(Loading!G539<0, 0, Loading!G539) -> 0 | BQ13: =IF(Loading!G587<0, 0, Loading!G587) -> 0 | BR13: =IF(Loading!G635<0, 0, Loading!G635) -> 0 | BS13: =IF(Loading!G683<0, 0, Loading!G683) -> 0 | BT13: =IF(Loading!G731<0, 0, Loading!G731) -> 0 | BU13: =IF(Loading!H11<0, 0, Loading!H11) -> 0 | BV13: =IF(Loading!H59<0, 0, Loading!H59) -> 0 | BW13: =IF(Loading!H107<0, 0, Loading!H107) -> 0 | BX13: =IF(Loading!H155<0, 0, Loading!H155) -> 0 | BY13: =IF(Loading!H203<0, 0, Loading!H203) -> 0 | BZ13: =IF(Loading!H251<0, 0, Loading!H251) -> 0 | CA13: =IF(Loading!H299<0, 0, Loading!H299) -> 0 | CB13: =IF(Loading!H347<0, 0, Loading!H347) -> 0 | CC13: =IF(Loading!H395<0, 0, Loading!H395) -> 0 | CD13: =IF(Loading!H443<0, 0, Loading!H443) -> 0 | CE13: =IF(Loading!H491<0, 0, Loading!H491) -> 0 | CF13: =IF(Loading!H539<0, 0, Loading!H539) -> 0 | CG13: =IF(Loading!H587<0, 0, Loading!H587) -> 0 | CH13: =IF(Loading!H635<0, 0, Loading!H635) -> 0 | CI13: =IF(Loading!H683<0, 0, Loading!H683) -> 0 | CJ13: =IF(Loading!H731<0, 0, Loading!H731) -> 0 | CK13: =IF(Loading!I11<0, 0, Loading!I11) -> 0 | CL13: =IF(Loading!I59<0, 0, Loading!I59) -> 0 | CM13: =IF(Loading!I107<0, 0, Loading!I107) -> 0 | CN13: =IF(Loading!I155<0, 0, Loading!I155) -> 0 | CO13: =IF(Loading!I203<0, 0, Loading!I203) -> 0 | CP13: =IF(Loading!I251<0, 0, Loading!I251) -> 0 | CQ13: =IF(Loading!I299<0, 0, Loading!I299) -> 0 | CR13: =IF(Loading!I347<0, 0, Loading!I347) -> 0 | CS13: =IF(Loading!I395<0, 0, Loading!I395) -> 0 | CT13: =IF(Loading!I443<0, 0, Loading!I443) -> 0 | CU13: =IF(Loading!I491<0, 0, Loading!I491) -> 0 | CV13: =IF(Loading!I539<0, 0, Loading!I539) -> 0 | CW13: =IF(Loading!I587<0, 0, Loading!I587) -> 0 | CX13: =IF(Loading!I635<0, 0, Loading!I635) -> 0 | CY13: =IF(Loading!I683<0, 0, Loading!I683) -> 0 | CZ13: =IF(Loading!I731<0, 0, Loading!I731) -> 0 | DA13: =IF(Loading!J11<0, 0, Loading!J11) -> 0 | DB13: =IF(Loading!J59<0, 0, Loading!J59) -> 0 | DC13: =IF(Loading!J107<0, 0, Loading!J107) -> 0 | DD13: =IF(Loading!J155<0, 0, Loading!J155) -> 0 | DE13: =IF(Loading!J203<0, 0, Loading!J203) -> 0 | DF13: =IF(Loading!J251<0, 0, Loading!J251) -> 0 | DG13: =IF(Loading!J299<0, 0, Loading!J299) -> 0 | DH13: =IF(Loading!J347<0, 0, Loading!J347) -> 0 | DI13: =IF(Loading!J395<0, 0, Loading!J395) -> 0 | DJ13: =IF(Loading!J443<0, 0, Loading!J443) -> 0 | DK13: =IF(Loading!J491<0, 0, Loading!J491) -> 0 | DL13: =IF(Loading!J539<0, 0, Loading!J539) -> 0 | DM13: =IF(Loading!J587<0, 0, Loading!J587) -> 0 | DN13: =IF(Loading!J635<0, 0, Loading!J635) -> 0 | DO13: =IF(Loading!J683<0, 0, Loading!J683) -> 0 | DP13: =IF(Loading!J731<0, 0, Loading!J731) -> 0 | DQ13: =IF(Loading!K11<0, 0, Loading!K11) -> 0 | DR13: =IF(Loading!K59<0, 0, Loading!K59) -> 0 | DS13: =IF(Loading!K107<0, 0, Loading!K107) -> 0 | DT13: =IF(Loading!K155<0, 0, Loading!K155) -> 0 | DU13: =IF(Loading!K203<0, 0, Loading!K203) -> 0 | DV13: =IF(Loading!K251<0, 0, Loading!K251) -> 0 | DW13: =IF(Loading!K299<0, 0, Loading!K299) -> 0 | DX13: =IF(Loading!K347<0, 0, Loading!K347) -> 0 | DZ13: =(1+$AE$2)*MEDIAN(I13:I16) -> 0 | EA13: =(1+$AE$2)*MEDIAN(J13:J16) -> 0 | EB13: =(1+$AE$2)*MEDIAN(K13:K16) -> 0 | EC13: =(1+$AE$2)*MEDIAN(L13:L16) -> 0 | ED13: =(1+$AE$2)*MEDIAN(M13:M16) -> 0 | EE13: =(1+$AE$2)*MEDIAN(N13:N16) -> 0 | EF13: =(1+$AE$2)*MEDIAN(O13:O16) -> 0 | EG13: =(1+$AE$2)*MEDIAN(P13:P16) -> 0 | ... IO13: =(1+$AE$2)*MEDIAN(DX13:DX16) -> 0
