Workbook
Name C_1: OFFSET([0]!Normalization, 3, 1,1, Data!$C$110)
Name C_10: OFFSET([0]!Normalization, 12, 1,1, Data!$C$110)
Name C_11: OFFSET([0]!Normalization, 13, 1,1, Data!$C$110)
Name C_12: OFFSET([0]!Normalization, 14, 1,1, Data!$C$110)
Name C_13: OFFSET([0]!Normalization, 15, 1,1, Data!$C$110)
Name C_14: OFFSET([0]!Normalization, 16, 1,1, Data!$C$110)
Name C_15: OFFSET([0]!Normalization, 17, 1,1, Data!$C$110)
Name C_16: OFFSET([0]!Normalization, 18, 1,1, Data!$C$110)
Name C_17: OFFSET([0]!Normalization, 19, 1,1, Data!$C$110)
Name C_18: OFFSET([0]!Normalization, 20, 1,1, Data!$C$110)
Name C_19: OFFSET([0]!Normalization, 21, 1,1, Data!$C$110)
Name C_2: OFFSET([0]!Normalization, 4, 1,1, Data!$C$110)
Name C_20: OFFSET([0]!Normalization, 22, 1,1, Data!$C$110)
Name C_21: OFFSET([0]!Normalization, 23, 1,1, Data!$C$110)
Name C_22: OFFSET([0]!Normalization, 24, 1,1, Data!$C$110)
Name C_23: OFFSET([0]!Normalization, 25, 1,1, Data!$C$110)
Name C_24: OFFSET([0]!Normalization, 26, 1,1, Data!$C$110)
Name C_25: OFFSET([0]!Normalization, 27, 1,1, Data!$C$110)
Name C_26: OFFSET([0]!Normalization, 28, 1,1, Data!$C$110)
Name C_27: OFFSET([0]!Normalization, 29, 1,1, Data!$C$110)
Name C_28: OFFSET([0]!Normalization, 30, 1,1, Data!$C$110)
Name C_29: OFFSET([0]!Normalization, 31, 1,1, Data!$C$110)
Name C_3: OFFSET([0]!Normalization, 5, 1,1, Data!$C$110)
Name C_30: OFFSET([0]!Normalization, 32, 1,1, Data!$C$110)
Name C_31: OFFSET([0]!Normalization, 33, 1,1, Data!$C$110)
Name C_32: OFFSET([0]!Normalization, 34, 1,1, Data!$C$110)
Name C_33: OFFSET([0]!Normalization, 35, 1,1, Data!$C$110)
Name C_34: OFFSET([0]!Normalization, 36, 1,1, Data!$C$110)
Name C_35: OFFSET([0]!Normalization, 37, 1,1, Data!$C$110)
Name C_36: OFFSET([0]!Normalization, 38, 1,1, Data!$C$110)
Name C_37: OFFSET([0]!Normalization, 39, 1,1, Data!$C$110)
Name C_38: OFFSET([0]!Normalization, 40, 1,1, Data!$C$110)
Name C_39: OFFSET([0]!Normalization, 41, 1,1, Data!$C$110)
Name C_4: OFFSET([0]!Normalization, 6, 1,1, Data!$C$110)
Name C_40: OFFSET([0]!Normalization, 42, 1,1, Data!$C$110)
Name C_41: OFFSET([0]!Normalization, 43, 1,1, Data!$C$110)
Name C_42: OFFSET([0]!Normalization, 44, 1,1, Data!$C$110)
Name C_43: OFFSET([0]!Normalization, 45, 1,1, Data!$C$110)
Name C_44: OFFSET([0]!Normalization, 46, 1,1, Data!$C$110)
Name C_45: OFFSET([0]!Normalization, 47, 1,1, Data!$C$110)
Name C_46: OFFSET([0]!Normalization, 48, 1,1, Data!$C$110)
Name C_47: OFFSET([0]!Normalization, 49, 1,1, Data!$C$110)
Name C_48: OFFSET([0]!Normalization, 50, 1,1, Data!$C$110)
Name C_49: OFFSET([0]!Normalization, 51, 1,1, Data!$C$110)
Name C_5: OFFSET([0]!Normalization, 7, 1,1, Data!$C$110)
Name C_50: OFFSET([0]!Normalization, 52, 1,1, Data!$C$110)
Name C_51: OFFSET([0]!Normalization, 53, 1,1, Data!$C$110)
Name C_52: OFFSET([0]!Normalization, 54, 1,1, Data!$C$110)
Name C_53: OFFSET([0]!Normalization, 55, 1,1, Data!$C$110)
Name C_54: OFFSET([0]!Normalization, 56, 1,1, Data!$C$110)
Name C_6: OFFSET([0]!Normalization, 8, 1,1, Data!$C$110)
Name C_7: OFFSET([0]!Normalization, 9, 1,1, Data!$C$110)
Name C_8: OFFSET([0]!Normalization, 10, 1,1, Data!$C$110)
Name C_9: OFFSET([0]!Normalization, 11, 1,1, Data!$C$110)
Name Normalization: Data!$B$111
Name P_1: OFFSET([0]!Normalization, 1, 1,1, Data!$C$110)
Name P_2: OFFSET([0]!Normalization, 2, 1,1, Data!$C$110)

Sheet Map
I3: G4 Series Software Instructions
B5: POS1 | C5: POS2 | F5: =B5 -> POS1
B6: IgA | C6: IgM | F6: =C5 -> POS2 | I6: There are FOUR sheets in this EXCEL based macro software:
B7: IgG1 | C7: IgG2a | F7: =B6 -> IgA | I7: 1. Map sheet: Array Map. G4 serial products use quadruplicate spots for each antibody
B8: IgG2b | C8: IgG2c | F8: =C6 -> IgM | I8: together with two positive controls (POS1 and POS2).
B9: Lambda | C9: Kappa | F9: =B7 -> IgG1 | I9: 2. Loading sheet: Load local background subtracted spot raw data here. These values are
F10: =C7 -> IgG2a | I10: usually displayed as “F532 median – B532” or “F532 mean – B532”. This software is
F11: =B8 -> IgG2b | I11: good for up to 30 slides.
F12: =C8 -> IgG2c | I12: 3. Data sheet: There are three tables in this sheet:
F13: =B9 -> Lambda | I13: a. Raw Data table: list the original quadruplicate value. Any outliers (35% above the
F14: =C9 -> Kappa | I14: median value of the triplicate spots) are automatically flagged.
F15: =B10 -> 0 | I15: b. Average table: list the average value of the quadruplicate spots with outliers’ exclusion.
F16: =C10 -> 0 | I16: c. Normalization table: All the values are normalized based upon POS-Ave, which is
F17: =B11 -> 0 | I17: calculated based upon the equal contribution of the two positive controls.
F18: =C11 -> 0 | I18: 4. Chart sheet: Clustered column chart for the individual marker and positive controls.
F19: =B12 -> 0
F20: =C12 -> 0
F21: =B13 -> 0
F22: =C13 -> 0
F23: =B14 -> 0
F24: =C14 -> 0
F25: =B15 -> 0
F26: =C15 -> 0
F27: =B16 -> 0
F28: =C16 -> 0
F29: =B17 -> 0
F30: =C17 -> 0
F31: =B18 -> 0
F32: =C18 -> 0

Sheet Loading
B2: Block | C2: Column | D2: Row | E2: Name | F2: Slide 1 | G2: Slide 2 | H2: Slide 3 | I2: Ab Test | J2: Slide 5 | K2: Slide 6 | L2: Slide 7 | M2: Slide 8 | N2: Slide 9 | O2: Slide 10 | P2: Slide 11 | Q2: Slide 12 | R2: Slide 13 | S2: Slide 14 | T2: Slide 15 | U2: Slide 16 | V2: Slide 17 | W2: Slide 18 | X2: Slide 19 | Y2: Slide 20 | Z2: Slide 21 | AA2: Slide 22 | AB2: Slide 23 | AC2: Slide 24 | AD2: Slide 25 | AE2: Slide 26 | AF2: Slide 27 | AG2: Slide 28 | AH2: Slide 29 | AI2: Slide 30
B3: 1 | C3: 1 | D3: 1 | E3: =Data!B5 -> POS1
B4: 1 | C4: 2 | D4: 1 | E4: =Data!B6 -> POS1
B5: 1 | C5: 3 | D5: 1 | E5: =Data!B7 -> POS1
B6: 1 | C6: 4 | D6: 1 | E6: =Data!B8 -> POS1
B7: 1 | C7: 5 | D7: 1 | E7: =Data!B9 -> POS2
B8: 1 | C8: 6 | D8: 1 | E8: =Data!B10 -> POS2
B9: 1 | C9: 7 | D9: 1 | E9: =Data!B11 -> POS2
B10: 1 | C10: 8 | D10: 1 | E10: =Data!B12 -> POS2
B11: 1 | C11: 1 | D11: 2 | E11: =Data!B13 -> IgA
B12: 1 | C12: 2 | D12: 2 | E12: =Data!B14 -> IgA
B13: 1 | C13: 3 | D13: 2 | E13: =Data!B15 -> IgA
B14: 1 | C14: 4 | D14: 2 | E14: =Data!B16 -> IgA
... B42: 1 | C42: 8 | D42: 5 | E42: =Data!B44 -> Kappa
B43: 2 | C43: 1 | D43: 1 | E43: =E3 -> POS1
B44: 2 | C44: 2 | D44: 1 | E44: =E4 -> POS1
B45: 2 | C45: 3 | D45: 1 | E45: =E5 -> POS1
B46: 2 | C46: 4 | D46: 1 | E46: =E6 -> POS1
B47: 2 | C47: 5 | D47: 1 | E47: =E7 -> POS2
B48: 2 | C48: 6 | D48: 1 | E48: =E8 -> POS2
B49: 2 | C49: 7 | D49: 1 | E49: =E9 -> POS2
B50: 2 | C50: 8 | D50: 1 | E50: =E10 -> POS2
B51: 2 | C51: 1 | D51: 2 | E51: =E11 -> IgA
B52: 2 | C52: 2 | D52: 2 | E52: =E12 -> IgA
B53: 2 | C53: 3 | D53: 2 | E53: =E13 -> IgA
B54: 2 | C54: 4 | D54: 2 | E54: =E14 -> IgA
... B642: 16 | C642: 8 | D642: 5 | E642: =E602 -> Kappa

Sheet Data
G2: Raw Input Data | W2: Outliers Definition | Y2: 0.35
C3: Slide 1 | S3: Slide 2 | AI3: Slide 3 | AY3: Slide 4 | BO3: Slide 5 | CE3: Slide 6 | CU3: Slide 7 | DK3: Slide 8 | EA3: Slide 9 | EQ3: Slide 10 | FG3: Slide 11 | FW3: Slide 12 | GM3: Slide 13 | HC3: Slide 14 | HS3: Slide 15 | II3: Slide 16 | IY3: Slide 17 | JO3: Slide 18 | KE3: Slide 19 | KU3: Slide 20 | LK3: Slide 21 | MA3: Slide 22 | MQ3: Slide 23 | NG3: Slide 24 | NW3: Slide 25 | OM3: Slide 26 | PC3: Slide 27 | PS3: Slide 28 | QI3: Slide 29 | QY3: Slide 30
B4: ID | C4: SA1 | D4: SA2 | E4: SA3 | F4: SA4 | G4: SA5 | H4: SA6 | I4: SA7 | J4: SA8 | K4: SA9 | L4: SA10 | M4: SA11 | N4: SA12 | O4: SA13 | P4: SA14 | Q4: SA15 | R4: SA16 | S4: SA17 | T4: SA18 | U4: SA19 | V4: SA20 | W4: SA21 | X4: SA22 | Y4: SA23 | Z4: SA24 | AA4: SA25 | AB4: SA26 | AC4: SA27 | AD4: SA28 | AE4: SA29 | AF4: SA30 | AG4: SA31 | AH4: SA32 | AI4: Std33 | AJ4: Std34 | AK4: Std35 | AL4: Std36 | AM4: Std37 | AN4: Std38 | AO4: Std39 | AP4: Std40 | AQ4: Std41 | AR4: Std42 | AS4: Std43 | AT4: Std44 | AU4: Std45 | AV4: Std46 | AW4: Std47 | AX4: Std48 | AY4: Std49 | AZ4: Std50 | BA4: Std51 | BB4: Std52 | BC4: Std53 | BD4: Std54 | BE4: Std55 | BF4: Std56 | BG4: Std57 | BH4: Std58 | BI4: Std59 | BJ4: Std60 | BK4: Std61 | BL4: Std62 | BM4: Std63 | BN4: Std64 | BO4: Std65 | BP4: Std66 | BQ4: Std67 | BR4: Std68 | BS4: Std69 | BT4: Std70 | BU4: Std71 | BV4: Std72 | BW4: Std73 | BX4: Std74 | BY4: Std75 | BZ4: Std76 | CA4: Std77 | CB4: Std78 | CC4: Std79 | CD4: Std80 | CE4: Std81 | CF4: Std82 | CG4: Std83 | CH4: Std84 | CI4: Std85 | CJ4: Std86 | CK4: Std87 | CL4: Std88 | CM4: Std89 | CN4: Std90 | CO4: Std91 | CP4: Std92 | CQ4: Std93 | CR4: Std94 | CS4: Std95 | CT4: Std96 | CU4: Std97 | CV4: Std98 | CW4: Std99 | CX4: Std100 | CY4: Std101 | CZ4: Std102 | DA4: Std103 | DB4: Std104 | DC4: Std105 | DD4: Std106 | DE4: Std107 | DF4: Std108 | DG4: Std109 | DH4: Std110 | DI4: Std111 | DJ4: Std112 | DK4: Std113 | DL4: Std114 | DM4: Std115 | DN4: Std116 | DO4: Std117 | DP4: Std118 | DQ4: Std119 | DR4: Std120 | DS4: Std121 | DT4: Std122 | DU4: Std123 | DV4: Std124 | DW4: Std125 | DX4: Std126 | DY4: Std127 | DZ4: Std128 | EA4: Std129 | EB4: Std130 | EC4: Std131 | ED4: Std132 | EE4: Std133 | EF4: Std134 | EG4: Std135 | EH4: Std136 | EI4: Std137 | EJ4: Std138 | EK4: Std139 | EL4: Std140 | EM4: Std141 | EN4: Std142 | EO4: Std143 | EP4: Std144 | EQ4: Std145 | ER4: Std146 | ES4: Std147 | ET4: Std148 | EU4: Std149 | EV4: Std150 | EW4: Std151 | EX4: Std152 | EY4: Std153 | EZ4: Std154 | FA4: Std155 | FB4: Std156 | FC4: Std157 | FD4: Std158 | FE4: Std159 | FF4: Std160 | FG4: Std161 | FH4: Std162 | FI4: Std163 | FJ4: Std164 | FK4: Std165 | FL4: Std166 | FM4: Std167 | FN4: Std168 | FO4: Std169 | FP4: Std170 | FQ4: Std171 | FR4: Std172 | FS4: Std173 | FT4: Std174 | FU4: Std175 | FV4: Std176 | FW4: Std177 | FX4: Std178 | FY4: Std179 | FZ4: Std180 | GA4: Std181 | GB4: Std182 | GC4: Std183 | GD4: Std184 | GE4: Std185 | GF4: Std186 | GG4: Std187 | GH4: Std188 | GI4: Std189 | GJ4: Std190 | GK4: Std191 | GL4: Std192 | GM4: Std193 | GN4: Std194 | GO4: Std195 | GP4: Std196 | GQ4: Std197 | GR4: Std198 | GS4: Std199 | GT4: Std200 | GU4: Std201 | GV4: Std202 | GW4: Std203 | GX4: Std204 | GY4: Std205 | GZ4: Std206 | HA4: Std207 | HB4: Std208 | HC4: Std209 | HD4: Std210 | HE4: Std211 | HF4: Std212 | HG4: Std213 | HH4: Std214 | HI4: Std215 | HJ4: Std216 | HK4: Std217 | HL4: Std218 | HM4: Std219 | HN4: Std220 | HO4: Std221 | HP4: Std222 | HQ4: Std223 | HR4: Std224 | HS4: Std225 | HT4: Std226 | HU4: Std227 | HV4: Std228 | HW4: Std229 | HX4: Std230 | HY4: Std231 | HZ4: Std232 | IA4: Std233 | IB4: Std234 | IC4: Std235 | ID4: Std236 | IE4: Std237 | IF4: Std238 | IG4: Std239 | IH4: Std240 | II4: Std241 | IJ4: Std242 | IK4: Std243 | IL4: Std244 | IM4: Std245 | IN4: Std246 | IO4: Std247 | IP4: Std248 | IQ4: Std249 | IR4: Std250 | IS4: Std251 | IT4: Std252 | IU4: Std253 | IV4: Std254 | IW4: Std255 | IX4: Std256 | IY4: Std257 | IZ4: Std258 | JA4: Std259 | JB4: Std260 | JC4: Std261 | JD4: Std262 | JE4: Std263 | JF4: Std264 | JG4: Std265 | JH4: Std266 | JI4: Std267 | JJ4: Std268 | JK4: Std269 | JL4: Std270 | JM4: Std271 | JN4: Std272 | JO4: Std273 | JP4: Std274 | JQ4: Std275 | JR4: Std276 | JS4: Std277 | JT4: Std278 | JU4: Std279 | JV4: Std280 | JW4: Std281 | JX4: Std282 | JY4: Std283 | JZ4: Std284 | KA4: Std285 | KB4: Std286 | KC4: Std287 | KD4: Std288 | KE4: Std289 | KF4: Std290 | KG4: Std291 | KH4: Std292 | KI4: Std293 | KJ4: Std294 | KK4: Std295 | KL4: Std296 | KM4: Std297 | KN4: Std298 | KO4: Std299 | KP4: Std300 | KQ4: Std301 | KR4: Std302 | KS4: Std303 | KT4: Std304 | KU4: Std305 | KV4: Std306 | KW4: Std307 | KX4: Std308 | KY4: Std309 | KZ4: Std310 | LA4: Std311 | LB4: Std312 | LC4: Std313 | LD4: Std314 | LE4: Std315 | LF4: Std316 | LG4: Std317 | LH4: Std318 | LI4: Std319 | LJ4: Std320 | LK4: Std321 | LL4: Std322 | LM4: Std323 | LN4: Std324 | LO4: Std325 | LP4: Std326 | LQ4: Std327 | LR4: Std328 | LS4: Std329 | LT4: Std330 | LU4: Std331 | LV4: Std332 | LW4: Std333 | LX4: Std334 | LY4: Std335 | LZ4: Std336 | MA4: Std337 | MB4: Std338 | MC4: Std339 | MD4: Std340 | ME4: Std341 | MF4: Std342 | MG4: Std343 | MH4: Std344 | MI4: Std345 | MJ4: Std346 | MK4: Std347 | ML4: Std348 | MM4: Std349 | MN4: Std350 | MO4: Std351 | MP4: Std352 | MQ4: Std353 | MR4: Std354 | MS4: Std355 | MT4: Std356 | MU4: Std357 | MV4: Std358 | MW4: Std359 | MX4: Std360 | MY4: Std361 | MZ4: Std362 | NA4: Std363 | NB4: Std364 | NC4: Std365 | ND4: Std366 | NE4: Std367 | NF4: Std368 | NG4: Std369 | NH4: Std370 | NI4: Std371 | NJ4: Std372 | NK4: Std373 | NL4: Std374 | NM4: Std375 | NN4: Std376 | NO4: Std377 | NP4: Std378 | NQ4: Std379 | NR4: Std380 | NS4: Std381 | NT4: Std382 | NU4: Std383 | NV4: Std384 | NW4: Std385 | NX4: Std386 | NY4: Std387 | NZ4: Std388 | OA4: Std389 | OB4: Std390 | OC4: Std391 | OD4: Std392 | OE4: Std393 | OF4: Std394 | OG4: Std395 | OH4: Std396 | OI4: Std397 | OJ4: Std398 | OK4: Std399 | OL4: Std400 | OM4: Std401 | ON4: Std402 | OO4: Std403 | OP4: Std404 | OQ4: Std405 | OR4: Std406 | OS4: Std407 | OT4: Std408 | OU4: Std409 | OV4: Std410 | OW4: Std411 | OX4: Std412 | OY4: Std413 | OZ4: Std414 | PA4: Std415 | PB4: Std416 | PC4: Std417 | PD4: Std418 | PE4: Std419 | PF4: Std420 | PG4: Std421 | PH4: Std422 | PI4: Std423 | PJ4: Std424 | PK4: Std425 | PL4: Std426 | PM4: Std427 | PN4: Std428 | PO4: Std429 | PP4: Std430 | PQ4: Std431 | PR4: Std432 | PS4: Std433 | PT4: Std434 | PU4: Std435 | PV4: Std436 | PW4: Std437 | PX4: Std438 | PY4: Std439 | PZ4: Std440 | QA4: Std441 | QB4: Std442 | QC4: Std443 | QD4: Std444 | QE4: Std445 | QF4: Std446 | QG4: Std447 | QH4: Std448 | QI4: Std449 | QJ4: Std450 | QK4: Std451 | QL4: Std452 | QM4: Std453 | QN4: Std454 | QO4: Std455 | QP4: Std456 | QQ4: Std457 | QR4: Std458 | QS4: Std459 | QT4: Std460 | QU4: Std461 | QV4: Std462 | QW4: Std463 | QX4: Std464 | QY4: Std465 | QZ4: Std466 | RA4: Std467 | RB4: Std468 | RC4: Std469 | RD4: Std470 | RE4: Std471 | RF4: Std472 | RG4: Std473 | RH4: Std474 | RI4: Std475 | RJ4: Std476 | RK4: Std477 | RL4: Std478 | RM4: Std479 | RN4: Std480 | SN4: =C4 -> SA1 | SO4: =D4 -> SA2 | SP4: =E4 -> SA3 | SQ4: =F4 -> SA4 | SR4: =G4 -> SA5 | SS4: =H4 -> SA6 | ST4: =I4 -> SA7 | SU4: =J4 -> SA8 | ... ALS4: =SH4 -> 0
B5: =Map!F5 -> POS1 | C5: =IF(Loading!F3<0, 0, Loading!F3) -> 0 | D5: =IF(Loading!F43<0, 0, Loading!F43) -> 0 | E5: =IF(Loading!F83<0, 0, Loading!F83) -> 0 | F5: =IF(Loading!F123<0, 0, Loading!F123) -> 0 | G5: =IF(Loading!F163<0, 0, Loading!F163) -> 0 | H5: =IF(Loading!F203<0, 0, Loading!F203) -> 0 | I5: =IF(Loading!F243<0, 0, Loading!F243) -> 0 | J5: =IF(Loading!F283<0, 0, Loading!F283) -> 0 | K5: =IF(Loading!F323<0, 0, Loading!F323) -> 0 | L5: =IF(Loading!F363<0, 0, Loading!F363) -> 0 | M5: =IF(Loading!F403<0, 0, Loading!F403) -> 0 | N5: =IF(Loading!F443<0, 0, Loading!F443) -> 0 | O5: =IF(Loading!F483<0, 0, Loading!F483) -> 0 | P5: =IF(Loading!F523<0, 0, Loading!F523) -> 0 | Q5: =IF(Loading!F563<0, 0, Loading!F563) -> 0 | R5: =IF(Loading!F603<0, 0, Loading!F603) -> 0 | S5: =IF(Loading!G3<0, 0, Loading!G3) -> 0 | T5: =IF(Loading!G43<0, 0, Loading!G43) -> 0 | U5: =IF(Loading!G83<0, 0, Loading!G83) -> 0 | V5: =IF(Loading!G123<0, 0, Loading!G123) -> 0 | W5: =IF(Loading!G163<0, 0, Loading!G163) -> 0 | X5: =IF(Loading!G203<0, 0, Loading!G203) -> 0 | Y5: =IF(Loading!G243<0, 0, Loading!G243) -> 0 | Z5: =IF(Loading!G283<0, 0, Loading!G283) -> 0 | AA5: =IF(Loading!G323<0, 0, Loading!G323) -> 0 | AB5: =IF(Loading!G363<0, 0, Loading!G363) -> 0 | AC5: =IF(Loading!G403<0, 0, Loading!G403) -> 0 | AD5: =IF(Loading!G443<0, 0, Loading!G443) -> 0 | AE5: =IF(Loading!G483<0, 0, Loading!G483) -> 0 | AF5: =IF(Loading!G523<0, 0, Loading!G523) -> 0 | AG5: =IF(Loading!G563<0, 0, Loading!G563) -> 0 | AH5: =IF(Loading!G603<0, 0, Loading!G603) -> 0 | AI5: =IF(Loading!H3<0, 0, Loading!H3) -> 0 | AJ5: =IF(Loading!H43<0, 0, Loading!H43) -> 0 | AK5: =IF(Loading!H83<0, 0, Loading!H83) -> 0 | AL5: =IF(Loading!H123<0, 0, Loading!H123) -> 0 | AM5: =IF(Loading!H163<0, 0, Loading!H163) -> 0 | AN5: =IF(Loading!H203<0, 0, Loading!H203) -> 0 | AO5: =IF(Loading!H243<0, 0, Loading!H243) -> 0 | AP5: =IF(Loading!H283<0, 0, Loading!H283) -> 0 | AQ5: =IF(Loading!H323<0, 0, Loading!H323) -> 0 | AR5: =IF(Loading!H363<0, 0, Loading!H363) -> 0 | AS5: =IF(Loading!H403<0, 0, Loading!H403) -> 0 | AT5: =IF(Loading!H443<0, 0, Loading!H443) -> 0 | AU5: =IF(Loading!H483<0, 0, Loading!H483) -> 0 | AV5: =IF(Loading!H523<0, 0, Loading!H523) -> 0 | AW5: =IF(Loading!H563<0, 0, Loading!H563) -> 0 | AX5: =IF(Loading!H603<0, 0, Loading!H603) -> 0 | AY5: =IF(Loading!I3<0, 0, Loading!I3) -> 0 | AZ5: =IF(Loading!I43<0, 0, Loading!I43) -> 0 | BA5: =IF(Loading!I83<0, 0, Loading!I83) -> 0 | BB5: =IF(Loading!I123<0, 0, Loading!I123) -> 0 | BC5: =IF(Loading!I163<0, 0, Loading!I163) -> 0 | BD5: =IF(Loading!I203<0, 0, Loading!I203) -> 0 | BE5: =IF(Loading!I243<0, 0, Loading!I243) -> 0 | BF5: =IF(Loading!I283<0, 0, Loading!I283) -> 0 | BG5: =IF(Loading!I323<0, 0, Loading!I323) -> 0 | BH5: =IF(Loading!I363<0, 0, Loading!I363) -> 0 | BI5: =IF(Loading!I403<0, 0, Loading!I403) -> 0 | BJ5: =IF(Loading!I443<0, 0, Loading!I443) -> 0 | BK5: =IF(Loading!I483<0, 0, Loading!I483) -> 0 | BL5: =IF(Loading!I523<0, 0, Loading!I523) -> 0 | BM5: =IF(Loading!I563<0, 0, Loading!I563) -> 0 | BN5: =IF(Loading!I603<0, 0, Loading!I603) -> 0 | BO5: =IF(Loading!J3<0, 0, Loading!J3) -> 0 | BP5: =IF(Loading!J43<0, 0, Loading!J43) -> 0 | BQ5: =IF(Loading!J83<0, 0, Loading!J83) -> 0 | BR5: =IF(Loading!J123<0, 0, Loading!J123) -> 0 | BS5: =IF(Loading!J163<0, 0, Loading!J163) -> 0 | BT5: =IF(Loading!J203<0, 0, Loading!J203) -> 0 | BU5: =IF(Loading!J243<0, 0, Loading!J243) -> 0 | BV5: =IF(Loading!J283<0, 0, Loading!J283) -> 0 | BW5: =IF(Loading!J323<0, 0, Loading!J323) -> 0 | BX5: =IF(Loading!J363<0, 0, Loading!J363) -> 0 | BY5: =IF(Loading!J403<0, 0, Loading!J403) -> 0 | BZ5: =IF(Loading!J443<0, 0, Loading!J443) -> 0 | CA5: =IF(Loading!J483<0, 0, Loading!J483) -> 0 | CB5: =IF(Loading!J523<0, 0, Loading!J523) -> 0 | CC5: =IF(Loading!J563<0, 0, Loading!J563) -> 0 | CD5: =IF(Loading!J603<0, 0, Loading!J603) -> 0 | CE5: =IF(Loading!K3<0, 0, Loading!K3) -> 0 | CF5: =IF(Loading!K43<0, 0, Loading!K43) -> 0 | CG5: =IF(Loading!K83<0, 0, Loading!K83) -> 0 | CH5: =IF(Loading!K123<0, 0, Loading!K123) -> 0 | CI5: =IF(Loading!K163<0, 0, Loading!K163) -> 0 | CJ5: =IF(Loading!K203<0, 0, Loading!K203) -> 0 | CK5: =IF(Loading!K243<0, 0, Loading!K243) -> 0 | CL5: =IF(Loading!K283<0, 0, Loading!K283) -> 0 | CM5: =IF(Loading!K323<0, 0, Loading!K323) -> 0 | CN5: =IF(Loading!K363<0, 0, Loading!K363) -> 0 | CO5: =IF(Loading!K403<0, 0, Loading!K403) -> 0 | CP5: =IF(Loading!K443<0, 0, Loading!K443) -> 0 | CQ5: =IF(Loading!K483<0, 0, Loading!K483) -> 0 | CR5: =IF(Loading!K523<0, 0, Loading!K523) -> 0 | CS5: =IF(Loading!K563<0, 0, Loading!K563) -> 0 | CT5: =IF(Loading!K603<0, 0, Loading!K603) -> 0 | CU5: =IF(Loading!L3<0, 0, Loading!L3) -> 0 | CV5: =IF(Loading!L43<0, 0, Loading!L43) -> 0 | CW5: =IF(Loading!L83<0, 0, Loading!L83) -> 0 | CX5: =IF(Loading!L123<0, 0, Loading!L123) -> 0 | CY5: =IF(Loading!L163<0, 0, Loading!L163) -> 0 | CZ5: =IF(Loading!L203<0, 0, Loading!L203) -> 0 | DA5: =IF(Loading!L243<0, 0, Loading!L243) -> 0 | DB5: =IF(Loading!L283<0, 0, Loading!L283) -> 0 | DC5: =IF(Loading!L323<0, 0, Loading!L323) -> 0 | DD5: =IF(Loading!L363<0, 0, Loading!L363) -> 0 | DE5: =IF(Loading!L403<0, 0, Loading!L403) -> 0 | DF5: =IF(Loading!L443<0, 0, Loading!L443) -> 0 | DG5: =IF(Loading!L483<0, 0, Loading!L483) -> 0 | DH5: =IF(Loading!L523<0, 0, Loading!L523) -> 0 | DI5: =IF(Loading!L563<0, 0, Loading!L563) -> 0 | DJ5: =IF(Loading!L603<0, 0, Loading!L603) -> 0 | DK5: =IF(Loading!M3<0, 0, Loading!M3) -> 0 | DL5: =IF(Loading!M43<0, 0, Loading!M43) -> 0 | DM5: =IF(Loading!M83<0, 0, Loading!M83) -> 0 | DN5: =IF(Loading!M123<0, 0, Loading!M123) -> 0 | DO5: =IF(Loading!M163<0, 0, Loading!M163) -> 0 | DP5: =IF(Loading!M203<0, 0, Loading!M203) -> 0 | DQ5: =IF(Loading!M243<0, 0, Loading!M243) -> 0 | DR5: =IF(Loading!M283<0, 0, Loading!M283) -> 0 | DS5: =IF(Loading!M323<0, 0, Loading!M323) -> 0 | DT5: =IF(Loading!M363<0, 0, Loading!M363) -> 0 | DU5: =IF(Loading!M403<0, 0, Loading!M403) -> 0 | DV5: =IF(Loading!M443<0, 0, Loading!M443) -> 0 | DW5: =IF(Loading!M483<0, 0, Loading!M483) -> 0 | DX5: =IF(Loading!M523<0, 0, Loading!M523) -> 0 | DY5: =IF(Loading!M563<0, 0, Loading!M563) -> 0 | DZ5: =IF(Loading!M603<0, 0, Loading!M603) -> 0 | EA5: =IF(Loading!N3<0, 0, Loading!N3) -> 0 | EB5: =IF(Loading!N43<0, 0, Loading!N43) -> 0 | EC5: =IF(Loading!N83<0, 0, Loading!N83) -> 0 | ED5: =IF(Loading!N123<0, 0, Loading!N123) -> 0 | EE5: =IF(Loading!N163<0, 0, Loading!N163) -> 0 | EF5: =IF(Loading!N203<0, 0, Loading!N203) -> 0 | EG5: =IF(Loading!N243<0, 0, Loading!N243) -> 0 | EH5: =IF(Loading!N283<0, 0, Loading!N283) -> 0 | EI5: =IF(Loading!N323<0, 0, Loading!N323) -> 0 | EJ5: =IF(Loading!N363<0, 0, Loading!N363) -> 0 | EK5: =IF(Loading!N403<0, 0, Loading!N403) -> 0 | EL5: =IF(Loading!N443<0, 0, Loading!N443) -> 0 | EM5: =IF(Loading!N483<0, 0, Loading!N483) -> 0 | EN5: =IF(Loading!N523<0, 0, Loading!N523) -> 0 | EO5: =IF(Loading!N563<0, 0, Loading!N563) -> 0 | EP5: =IF(Loading!N603<0, 0, Loading!N603) -> 0 | EQ5: =IF(Loading!O3<0, 0, Loading!O3) -> 0 | ER5: =IF(Loading!O43<0, 0, Loading!O43) -> 0 | ES5: =IF(Loading!O83<0, 0, Loading!O83) -> 0 | ET5: =IF(Loading!O123<0, 0, Loading!O123) -> 0 | EU5: =IF(Loading!O163<0, 0, Loading!O163) -> 0 | EV5: =IF(Loading!O203<0, 0, Loading!O203) -> 0 | EW5: =IF(Loading!O243<0, 0, Loading!O243) -> 0 | EX5: =IF(Loading!O283<0, 0, Loading!O283) -> 0 | EY5: =IF(Loading!O323<0, 0, Loading!O323) -> 0 | EZ5: =IF(Loading!O363<0, 0, Loading!O363) -> 0 | FA5: =IF(Loading!O403<0, 0, Loading!O403) -> 0 | FB5: =IF(Loading!O443<0, 0, Loading!O443) -> 0 | FC5: =IF(Loading!O483<0, 0, Loading!O483) -> 0 | FD5: =IF(Loading!O523<0, 0, Loading!O523) -> 0 | FE5: =IF(Loading!O563<0, 0, Loading!O563) -> 0 | FF5: =IF(Loading!O603<0, 0, Loading!O603) -> 0 | FG5: =IF(Loading!P3<0, 0, Loading!P3) -> 0 | FH5: =IF(Loading!P43<0, 0, Loading!P43) -> 0 | FI5: =IF(Loading!P83<0, 0, Loading!P83) -> 0 | FJ5: =IF(Loading!P123<0, 0, Loading!P123) -> 0 | FK5: =IF(Loading!P163<0, 0, Loading!P163) -> 0 | FL5: =IF(Loading!P203<0, 0, Loading!P203) -> 0 | FM5: =IF(Loading!P243<0, 0, Loading!P243) -> 0 | FN5: =IF(Loading!P283<0, 0, Loading!P283) -> 0 | FO5: =IF(Loading!P323<0, 0, Loading!P323) -> 0 | FP5: =IF(Loading!P363<0, 0, Loading!P363) -> 0 | FQ5: =IF(Loading!P403<0, 0, Loading!P403) -> 0 | FR5: =IF(Loading!P443<0, 0, Loading!P443) -> 0 | FS5: =IF(Loading!P483<0, 0, Loading!P483) -> 0 | FT5: =IF(Loading!P523<0, 0, Loading!P523) -> 0 | FU5: =IF(Loading!P563<0, 0, Loading!P563) -> 0 | FV5: =IF(Loading!P603<0, 0, Loading!P603) -> 0 | FW5: =IF(Loading!Q3<0, 0, Loading!Q3) -> 0 | FX5: =IF(Loading!Q43<0, 0, Loading!Q43) -> 0 | FY5: =IF(Loading!Q83<0, 0, Loading!Q83) -> 0 | FZ5: =IF(Loading!Q123<0, 0, Loading!Q123) -> 0 | GA5: =IF(Loading!Q163<0, 0, Loading!Q163) -> 0 | GB5: =IF(Loading!Q203<0, 0, Loading!Q203) -> 0 | GC5: =IF(Loading!Q243<0, 0, Loading!Q243) -> 0 | GD5: =IF(Loading!Q283<0, 0, Loading!Q283) -> 0 | GE5: =IF(Loading!Q323<0, 0, Loading!Q323) -> 0 | GF5: =IF(Loading!Q363<0, 0, Loading!Q363) -> 0 | GG5: =IF(Loading!Q403<0, 0, Loading!Q403) -> 0 | GH5: =IF(Loading!Q443<0, 0, Loading!Q443) -> 0 | GI5: =IF(Loading!Q483<0, 0, Loading!Q483) -> 0 | GJ5: =IF(Loading!Q523<0, 0, Loading!Q523) -> 0 | GK5: =IF(Loading!Q563<0, 0, Loading!Q563) -> 0 | GL5: =IF(Loading!Q603<0, 0, Loading!Q603) -> 0 | GM5: =IF(Loading!R3<0, 0, Loading!R3) -> 0 | GN5: =IF(Loading!R43<0, 0, Loading!R43) -> 0 | GO5: =IF(Loading!R83<0, 0, Loading!R83) -> 0 | GP5: =IF(Loading!R123<0, 0, Loading!R123) -> 0 | GQ5: =IF(Loading!R163<0, 0, Loading!R163) -> 0 | GR5: =IF(Loading!R203<0, 0, Loading!R203) -> 0 | GS5: =IF(Loading!R243<0, 0, Loading!R243) -> 0 | GT5: =IF(Loading!R283<0, 0, Loading!R283) -> 0 | GU5: =IF(Loading!R323<0, 0, Loading!R323) -> 0 | GV5: =IF(Loading!R363<0, 0, Loading!R363) -> 0 | GW5: =IF(Loading!R403<0, 0, Loading!R403) -> 0 | GX5: =IF(Loading!R443<0, 0, Loading!R443) -> 0 | GY5: =IF(Loading!R483<0, 0, Loading!R483) -> 0 | GZ5: =IF(Loading!R523<0, 0, Loading!R523) -> 0 | HA5: =IF(Loading!R563<0, 0, Loading!R563) -> 0 | HB5: =IF(Loading!R603<0, 0, Loading!R603) -> 0 | HC5: =IF(Loading!S3<0, 0, Loading!S3) -> 0 | HD5: =IF(Loading!S43<0, 0, Loading!S43) -> 0 | HE5: =IF(Loading!S83<0, 0, Loading!S83) -> 0 | HF5: =IF(Loading!S123<0, 0, Loading!S123) -> 0 | HG5: =IF(Loading!S163<0, 0, Loading!S163) -> 0 | HH5: =IF(Loading!S203<0, 0, Loading!S203) -> 0 | HI5: =IF(Loading!S243<0, 0, Loading!S243) -> 0 | HJ5: =IF(Loading!S283<0, 0, Loading!S283) -> 0 | HK5: =IF(Loading!S323<0, 0, Loading!S323) -> 0 | HL5: =IF(Loading!S363<0, 0, Loading!S363) -> 0 | HM5: =IF(Loading!S403<0, 0, Loading!S403) -> 0 | HN5: =IF(Loading!S443<0, 0, Loading!S443) -> 0 | HO5: =IF(Loading!S483<0, 0, Loading!S483) -> 0 | HP5: =IF(Loading!S523<0, 0, Loading!S523) -> 0 | HQ5: =IF(Loading!S563<0, 0, Loading!S563) -> 0 | HR5: =IF(Loading!S603<0, 0, Loading!S603) -> 0 | HS5: =IF(Loading!T3<0, 0, Loading!T3) -> 0 | HT5: =IF(Loading!T43<0, 0, Loading!T43) -> 0 | HU5: =IF(Loading!T83<0, 0, Loading!T83) -> 0 | HV5: =IF(Loading!T123<0, 0, Loading!T123) -> 0 | HW5: =IF(Loading!T163<0, 0, Loading!T163) -> 0 | HX5: =IF(Loading!T203<0, 0, Loading!T203) -> 0 | HY5: =IF(Loading!T243<0, 0, Loading!T243) -> 0 | HZ5: =IF(Loading!T283<0, 0, Loading!T283) -> 0 | IA5: =IF(Loading!T323<0, 0, Loading!T323) -> 0 | IB5: =IF(Loading!T363<0, 0, Loading!T363) -> 0 | IC5: =IF(Loading!T403<0, 0, Loading!T403) -> 0 | ID5: =IF(Loading!T443<0, 0, Loading!T443) -> 0 | IE5: =IF(Loading!T483<0, 0, Loading!T483) -> 0 | IF5: =IF(Loading!T523<0, 0, Loading!T523) -> 0 | IG5: =IF(Loading!T563<0, 0, Loading!T563) -> 0 | IH5: =IF(Loading!T603<0, 0, Loading!T603) -> 0 | II5: =IF(Loading!U3<0, 0, Loading!U3) -> 0 | IJ5: =IF(Loading!U43<0, 0, Loading!U43) -> 0 | IK5: =IF(Loading!U83<0, 0, Loading!U83) -> 0 | IL5: =IF(Loading!U123<0, 0, Loading!U123) -> 0 | IM5: =IF(Loading!U163<0, 0, Loading!U163) -> 0 | IN5: =IF(Loading!U203<0, 0, Loading!U203) -> 0 | IO5: =IF(Loading!U243<0, 0, Loading!U243) -> 0 | IP5: =IF(Loading!U283<0, 0, Loading!U283) -> 0 | IQ5: =IF(Loading!U323<0, 0, Loading!U323) -> 0 | IR5: =IF(Loading!U363<0, 0, Loading!U363) -> 0 | IS5: =IF(Loading!U403<0, 0, Loading!U403) -> 0 | IT5: =IF(Loading!U443<0, 0, Loading!U443) -> 0 | IU5: =IF(Loading!U483<0, 0, Loading!U483) -> 0 | IV5: =IF(Loading!U523<0, 0, Loading!U523) -> 0 | IW5: =IF(Loading!U563<0, 0, Loading!U563) -> 0 | IX5: =IF(Loading!U603<0, 0, Loading!U603) -> 0 | IY5: =IF(Loading!V3<0, 0, Loading!V3) -> 0 | IZ5: =IF(Loading!V43<0, 0, Loading!V43) -> 0 | JA5: =IF(Loading!V83<0, 0, Loading!V83) -> 0 | JB5: =IF(Loading!V123<0, 0, Loading!V123) -> 0 | JC5: =IF(Loading!V163<0, 0, Loading!V163) -> 0 | JD5: =IF(Loading!V203<0, 0, Loading!V203) -> 0 | JE5: =IF(Loading!V243<0, 0, Loading!V243) -> 0 | JF5: =IF(Loading!V283<0, 0, Loading!V283) -> 0 | JG5: =IF(Loading!V323<0, 0, Loading!V323) -> 0 | JH5: =IF(Loading!V363<0, 0, Loading!V363) -> 0 | JI5: =IF(Loading!V403<0, 0, Loading!V403) -> 0 | JJ5: =IF(Loading!V443<0, 0, Loading!V443) -> 0 | JK5: =IF(Loading!V483<0, 0, Loading!V483) -> 0 | JL5: =IF(Loading!V523<0, 0, Loading!V523) -> 0 | JM5: =IF(Loading!V563<0, 0, Loading!V563) -> 0 | JN5: =IF(Loading!V603<0, 0, Loading!V603) -> 0 | JO5: =IF(Loading!W3<0, 0, Loading!W3) -> 0 | JP5: =IF(Loading!W43<0, 0, Loading!W43) -> 0 | JQ5: =IF(Loading!W83<0, 0, Loading!W83) -> 0 | JR5: =IF(Loading!W123<0, 0, Loading!W123) -> 0 | JS5: =IF(Loading!W163<0, 0, Loading!W163) -> 0 | JT5: =IF(Loading!W203<0, 0, Loading!W203) -> 0 | JU5: =IF(Loading!W243<0, 0, Loading!W243) -> 0 | JV5: =IF(Loading!W283<0, 0, Loading!W283) -> 0 | JW5: =IF(Loading!W323<0, 0, Loading!W323) -> 0 | JX5: =IF(Loading!W363<0, 0, Loading!W363) -> 0 | JY5: =IF(Loading!W403<0, 0, Loading!W403) -> 0 | JZ5: =IF(Loading!W443<0, 0, Loading!W443) -> 0 | KA5: =IF(Loading!W483<0, 0, Loading!W483) -> 0 | KB5: =IF(Loading!W523<0, 0, Loading!W523) -> 0 | KC5: =IF(Loading!W563<0, 0, Loading!W563) -> 0 | KD5: =IF(Loading!W603<0, 0, Loading!W603) -> 0 | KE5: =IF(Loading!X3<0, 0, Loading!X3) -> 0 | KF5: =IF(Loading!X43<0, 0, Loading!X43) -> 0 | KG5: =IF(Loading!X83<0, 0, Loading!X83) -> 0 | KH5: =IF(Loading!X123<0, 0, Loading!X123) -> 0 | KI5: =IF(Loading!X163<0, 0, Loading!X163) -> 0 | KJ5: =IF(Loading!X203<0, 0, Loading!X203) -> 0 | KK5: =IF(Loading!X243<0, 0, Loading!X243) -> 0 | KL5: =IF(Loading!X283<0, 0, Loading!X283) -> 0 | KM5: =IF(Loading!X323<0, 0, Loading!X323) -> 0 | KN5: =IF(Loading!X363<0, 0, Loading!X363) -> 0 | KO5: =IF(Loading!X403<0, 0, Loading!X403) -> 0 | KP5: =IF(Loading!X443<0, 0, Loading!X443) -> 0 | KQ5: =IF(Loading!X483<0, 0, Loading!X483) -> 0 | KR5: =IF(Loading!X523<0, 0, Loading!X523) -> 0 | KS5: =IF(Loading!X563<0, 0, Loading!X563) -> 0 | KT5: =IF(Loading!X603<0, 0, Loading!X603) -> 0 | KU5: =IF(Loading!Y3<0, 0, Loading!Y3) -> 0 | KV5: =IF(Loading!Y43<0, 0, Loading!Y43) -> 0 | KW5: =IF(Loading!Y83<0, 0, Loading!Y83) -> 0 | KX5: =IF(Loading!Y123<0, 0, Loading!Y123) -> 0 | KY5: =IF(Loading!Y163<0, 0, Loading!Y163) -> 0 | KZ5: =IF(Loading!Y203<0, 0, Loading!Y203) -> 0 | LA5: =IF(Loading!Y243<0, 0, Loading!Y243) -> 0 | LB5: =IF(Loading!Y283<0, 0, Loading!Y283) -> 0 | LC5: =IF(Loading!Y323<0, 0, Loading!Y323) -> 0 | LD5: =IF(Loading!Y363<0, 0, Loading!Y363) -> 0 | LE5: =IF(Loading!Y403<0, 0, Loading!Y403) -> 0 | LF5: =IF(Loading!Y443<0, 0, Loading!Y443) -> 0 | LG5: =IF(Loading!Y483<0, 0, Loading!Y483) -> 0 | LH5: =IF(Loading!Y523<0, 0, Loading!Y523) -> 0 | LI5: =IF(Loading!Y563<0, 0, Loading!Y563) -> 0 | LJ5: =IF(Loading!Y603<0, 0, Loading!Y603) -> 0 | LK5: =IF(Loading!Z3<0, 0, Loading!Z3) -> 0 | LL5: =IF(Loading!Z43<0, 0, Loading!Z43) -> 0 | LM5: =IF(Loading!Z83<0, 0, Loading!Z83) -> 0 | LN5: =IF(Loading!Z123<0, 0, Loading!Z123) -> 0 | LO5: =IF(Loading!Z163<0, 0, Loading!Z163) -> 0 | LP5: =IF(Loading!Z203<0, 0, Loading!Z203) -> 0 | LQ5: =IF(Loading!Z243<0, 0, Loading!Z243) -> 0 | LR5: =IF(Loading!Z283<0, 0, Loading!Z283) -> 0 | LS5: =IF(Loading!Z323<0, 0, Loading!Z323) -> 0 | LT5: =IF(Loading!Z363<0, 0, Loading!Z363) -> 0 | LU5: =IF(Loading!Z403<0, 0, Loading!Z403) -> 0 | LV5: =IF(Loading!Z443<0, 0, Loading!Z443) -> 0 | LW5: =IF(Loading!Z483<0, 0, Loading!Z483) -> 0 | LX5: =IF(Loading!Z523<0, 0, Loading!Z523) -> 0 | LY5: =IF(Loading!Z563<0, 0, Loading!Z563) -> 0 | LZ5: =IF(Loading!Z603<0, 0, Loading!Z603) -> 0 | MA5: =IF(Loading!AA3<0, 0, Loading!AA3) -> 0 | MB5: =IF(Loading!AA43<0, 0, Loading!AA43) -> 0 | MC5: =IF(Loading!AA83<0, 0, Loading!AA83) -> 0 | MD5: =IF(Loading!AA123<0, 0, Loading!AA123) -> 0 | ME5: =IF(Loading!AA163<0, 0, Loading!AA163) -> 0 | MF5: =IF(Loading!AA203<0, 0, Loading!AA203) -> 0 | MG5: =IF(Loading!AA243<0, 0, Loading!AA243) -> 0 | MH5: =IF(Loading!AA283<0, 0, Loading!AA283) -> 0 | MI5: =IF(Loading!AA323<0, 0, Loading!AA323) -> 0 | MJ5: =IF(Loading!AA363<0, 0, Loading!AA363) -> 0 | MK5: =IF(Loading!AA403<0, 0, Loading!AA403) -> 0 | ML5: =IF(Loading!AA443<0, 0, Loading!AA443) -> 0 | MM5: =IF(Loading!AA483<0, 0, Loading!AA483) -> 0 | MN5: =IF(Loading!AA523<0, 0, Loading!AA523) -> 0 | MO5: =IF(Loading!AA563<0, 0, Loading!AA563) -> 0 | MP5: =IF(Loading!AA603<0, 0, Loading!AA603) -> 0 | MQ5: =IF(Loading!AB3<0, 0, Loading!AB3) -> 0 | MR5: =IF(Loading!AB43<0, 0, Loading!AB43) -> 0 | MS5: =IF(Loading!AB83<0, 0, Loading!AB83) -> 0 | MT5: =IF(Loading!AB123<0, 0, Loading!AB123) -> 0 | MU5: =IF(Loading!AB163<0, 0, Loading!AB163) -> 0 | MV5: =IF(Loading!AB203<0, 0, Loading!AB203) -> 0 | MW5: =IF(Loading!AB243<0, 0, Loading!AB243) -> 0 | MX5: =IF(Loading!AB283<0, 0, Loading!AB283) -> 0 | MY5: =IF(Loading!AB323<0, 0, Loading!AB323) -> 0 | MZ5: =IF(Loading!AB363<0, 0, Loading!AB363) -> 0 | NA5: =IF(Loading!AB403<0, 0, Loading!AB403) -> 0 | NB5: =IF(Loading!AB443<0, 0, Loading!AB443) -> 0 | NC5: =IF(Loading!AB483<0, 0, Loading!AB483) -> 0 | ND5: =IF(Loading!AB523<0, 0, Loading!AB523) -> 0 | NE5: =IF(Loading!AB563<0, 0, Loading!AB563) -> 0 | NF5: =IF(Loading!AB603<0, 0, Loading!AB603) -> 0 | NG5: =IF(Loading!AC3<0, 0, Loading!AC3) -> 0 | NH5: =IF(Loading!AC43<0, 0, Loading!AC43) -> 0 | NI5: =IF(Loading!AC83<0, 0, Loading!AC83) -> 0 | NJ5: =IF(Loading!AC123<0, 0, Loading!AC123) -> 0 | NK5: =IF(Loading!AC163<0, 0, Loading!AC163) -> 0 | NL5: =IF(Loading!AC203<0, 0, Loading!AC203) -> 0 | NM5: =IF(Loading!AC243<0, 0, Loading!AC243) -> 0 | NN5: =IF(Loading!AC283<0, 0, Loading!AC283) -> 0 | NO5: =IF(Loading!AC323<0, 0, Loading!AC323) -> 0 | NP5: =IF(Loading!AC363<0, 0, Loading!AC363) -> 0 | NQ5: =IF(Loading!AC403<0, 0, Loading!AC403) -> 0 | NR5: =IF(Loading!AC443<0, 0, Loading!AC443) -> 0 | NS5: =IF(Loading!AC483<0, 0, Loading!AC483) -> 0 | NT5: =IF(Loading!AC523<0, 0, Loading!AC523) -> 0 | NU5: =IF(Loading!AC563<0, 0, Loading!AC563) -> 0 | NV5: =IF(Loading!AC603<0, 0, Loading!AC603) -> 0 | NW5: =IF(Loading!AD3<0, 0, Loading!AD3) -> 0 | NX5: =IF(Loading!AD43<0, 0, Loading!AD43) -> 0 | NY5: =IF(Loading!AD83<0, 0, Loading!AD83) -> 0 | NZ5: =IF(Loading!AD123<0, 0, Loading!AD123) -> 0 | OA5: =IF(Loading!AD163<0, 0, Loading!AD163) -> 0 | OB5: =IF(Loading!AD203<0, 0, Loading!AD203) -> 0 | OC5: =IF(Loading!AD243<0, 0, Loading!AD243) -> 0 | OD5: =IF(Loading!AD283<0, 0, Loading!AD283) -> 0 | OE5: =IF(Loading!AD323<0, 0, Loading!AD323) -> 0 | OF5: =IF(Loading!AD363<0, 0, Loading!AD363) -> 0 | OG5: =IF(Loading!AD403<0, 0, Loading!AD403) -> 0 | OH5: =IF(Loading!AD443<0, 0, Loading!AD443) -> 0 | OI5: =IF(Loading!AD483<0, 0, Loading!AD483) -> 0 | OJ5: =IF(Loading!AD523<0, 0, Loading!AD523) -> 0 | OK5: =IF(Loading!AD563<0, 0, Loading!AD563) -> 0 | OL5: =IF(Loading!AD603<0, 0, Loading!AD603) -> 0 | OM5: =IF(Loading!AE3<0, 0, Loading!AE3) -> 0 | ON5: =IF(Loading!AE43<0, 0, Loading!AE43) -> 0 | OO5: =IF(Loading!AE83<0, 0, Loading!AE83) -> 0 | OP5: =IF(Loading!AE123<0, 0, Loading!AE123) -> 0 | OQ5: =IF(Loading!AE163<0, 0, Loading!AE163) -> 0 | OR5: =IF(Loading!AE203<0, 0, Loading!AE203) -> 0 | OS5: =IF(Loading!AE243<0, 0, Loading!AE243) -> 0 | OT5: =IF(Loading!AE283<0, 0, Loading!AE283) -> 0 | OU5: =IF(Loading!AE323<0, 0, Loading!AE323) -> 0 | OV5: =IF(Loading!AE363<0, 0, Loading!AE363) -> 0 | OW5: =IF(Loading!AE403<0, 0, Loading!AE403) -> 0 | OX5: =IF(Loading!AE443<0, 0, Loading!AE443) -> 0 | OY5: =IF(Loading!AE483<0, 0, Loading!AE483) -> 0 | OZ5: =IF(Loading!AE523<0, 0, Loading!AE523) -> 0 | PA5: =IF(Loading!AE563<0, 0, Loading!AE563) -> 0 | PB5: =IF(Loading!AE603<0, 0, Loading!AE603) -> 0 | PC5: =IF(Loading!AF3<0, 0, Loading!AF3) -> 0 | PD5: =IF(Loading!AF43<0, 0, Loading!AF43) -> 0 | PE5: =IF(Loading!AF83<0, 0, Loading!AF83) -> 0 | PF5: =IF(Loading!AF123<0, 0, Loading!AF123) -> 0 | PG5: =IF(Loading!AF163<0, 0, Loading!AF163) -> 0 | PH5: =IF(Loading!AF203<0, 0, Loading!AF203) -> 0 | PI5: =IF(Loading!AF243<0, 0, Loading!AF243) -> 0 | PJ5: =IF(Loading!AF283<0, 0, Loading!AF283) -> 0 | PK5: =IF(Loading!AF323<0, 0, Loading!AF323) -> 0 | PL5: =IF(Loading!AF363<0, 0, Loading!AF363) -> 0 | PM5: =IF(Loading!AF403<0, 0, Loading!AF403) -> 0 | PN5: =IF(Loading!AF443<0, 0, Loading!AF443) -> 0 | PO5: =IF(Loading!AF483<0, 0, Loading!AF483) -> 0 | PP5: =IF(Loading!AF523<0, 0, Loading!AF523) -> 0 | PQ5: =IF(Loading!AF563<0, 0, Loading!AF563) -> 0 | PR5: =IF(Loading!AF603<0, 0, Loading!AF603) -> 0 | PS5: =IF(Loading!AG3<0, 0, Loading!AG3) -> 0 | PT5: =IF(Loading!AG43<0, 0, Loading!AG43) -> 0 | PU5: =IF(Loading!AG83<0, 0, Loading!AG83) -> 0 | PV5: =IF(Loading!AG123<0, 0, Loading!AG123) -> 0 | PW5: =IF(Loading!AG163<0, 0, Loading!AG163) -> 0 | PX5: =IF(Loading!AG203<0, 0, Loading!AG203) -> 0 | PY5: =IF(Loading!AG243<0, 0, Loading!AG243) -> 0 | PZ5: =IF(Loading!AG283<0, 0, Loading!AG283) -> 0 | QA5: =IF(Loading!AG323<0, 0, Loading!AG323) -> 0 | QB5: =IF(Loading!AG363<0, 0, Loading!AG363) -> 0 | QC5: =IF(Loading!AG403<0, 0, Loading!AG403) -> 0 | QD5: =IF(Loading!AG443<0, 0, Loading!AG443) -> 0 | QE5: =IF(Loading!AG483<0, 0, Loading!AG483) -> 0 | QF5: =IF(Loading!AG523<0, 0, Loading!AG523) -> 0 | QG5: =IF(Loading!AG563<0, 0, Loading!AG563) -> 0 | QH5: =IF(Loading!AG603<0, 0, Loading!AG603) -> 0 | QI5: =IF(Loading!AH3<0, 0, Loading!AH3) -> 0 | QJ5: =IF(Loading!AH43<0, 0, Loading!AH43) -> 0 | QK5: =IF(Loading!AH83<0, 0, Loading!AH83) -> 0 | QL5: =IF(Loading!AH123<0, 0, Loading!AH123) -> 0 | QM5: =IF(Loading!AH163<0, 0, Loading!AH163) -> 0 | QN5: =IF(Loading!AH203<0, 0, Loading!AH203) -> 0 | QO5: =IF(Loading!AH243<0, 0, Loading!AH243) -> 0 | QP5: =IF(Loading!AH283<0, 0, Loading!AH283) -> 0 | QQ5: =IF(Loading!AH323<0, 0, Loading!AH323) -> 0 | QR5: =IF(Loading!AH363<0, 0, Loading!AH363) -> 0 | QS5: =IF(Loading!AH403<0, 0, Loading!AH403) -> 0 | QT5: =IF(Loading!AH443<0, 0, Loading!AH443) -> 0 | QU5: =IF(Loading!AH483<0, 0, Loading!AH483) -> 0 | QV5: =IF(Loading!AH523<0, 0, Loading!AH523) -> 0 | QW5: =IF(Loading!AH563<0, 0, Loading!AH563) -> 0 | QX5: =IF(Loading!AH603<0, 0, Loading!AH603) -> 0 | QY5: =IF(Loading!AI3<0, 0, Loading!AI3) -> 0 | QZ5: =IF(Loading!AI43<0, 0, Loading!AI43) -> 0 | RA5: =IF(Loading!AI83<0, 0, Loading!AI83) -> 0 | RB5: =IF(Loading!AI123<0, 0, Loading!AI123) -> 0 | RC5: =IF(Loading!AI163<0, 0, Loading!AI163) -> 0 | RD5: =IF(Loading!AI203<0, 0, Loading!AI203) -> 0 | RE5: =IF(Loading!AI243<0, 0, Loading!AI243) -> 0 | RF5: =IF(Loading!AI283<0, 0, Loading!AI283) -> 0 | RG5: =IF(Loading!AI323<0, 0, Loading!AI323) -> 0 | RH5: =IF(Loading!AI363<0, 0, Loading!AI363) -> 0 | RI5: =IF(Loading!AI403<0, 0, Loading!AI403) -> 0 | RJ5: =IF(Loading!AI443<0, 0, Loading!AI443) -> 0 | RK5: =IF(Loading!AI483<0, 0, Loading!AI483) -> 0 | RL5: =IF(Loading!AI523<0, 0, Loading!AI523) -> 0 | RM5: =IF(Loading!AI563<0, 0, Loading!AI563) -> 0 | RN5: =IF(Loading!AI603<0, 0, Loading!AI603) -> 0 | SN5: =(1+$Y$2)*MEDIAN(C5:C8) -> 0 | SO5: =(1+$Y$2)*MEDIAN(D5:D8) -> 0 | SP5: =(1+$Y$2)*MEDIAN(E5:E8) -> 0 | SQ5: =(1+$Y$2)*MEDIAN(F5:F8) -> 0 | SR5: =(1+$Y$2)*MEDIAN(G5:G8) -> 0 | SS5: =(1+$Y$2)*MEDIAN(H5:H8) -> 0 | ST5: =(1+$Y$2)*MEDIAN(I5:I8) -> 0 | SU5: =(1+$Y$2)*MEDIAN(J5:J8) -> 0 | ... ALS5: =(1+$Y$2)*MEDIAN(SH5:SH8) -> #NUM!
B6: =B5 -> POS1 | C6: =IF(Loading!F4<0, 0, Loading!F4) -> 0 | D6: =IF(Loading!F44<0, 0, Loading!F44) -> 0 | E6: =IF(Loading!F84<0, 0, Loading!F84) -> 0 | F6: =IF(Loading!F124<0, 0, Loading!F124) -> 0 | G6: =IF(Loading!F164<0, 0, Loading!F164) -> 0 | H6: =IF(Loading!F204<0, 0, Loading!F204) -> 0 | I6: =IF(Loading!F244<0, 0, Loading!F244) -> 0 | J6: =IF(Loading!F284<0, 0, Loading!F284) -> 0 | K6: =IF(Loading!F324<0, 0, Loading!F324) -> 0 | L6: =IF(Loading!F364<0, 0, Loading!F364) -> 0 | M6: =IF(Loading!F404<0, 0, Loading!F404) -> 0 | N6: =IF(Loading!F444<0, 0, Loading!F444) -> 0 | O6: =IF(Loading!F484<0, 0, Loading!F484) -> 0 | P6: =IF(Loading!F524<0, 0, Loading!F524) -> 0 | Q6: =IF(Loading!F564<0, 0, Loading!F564) -> 0 | R6: =IF(Loading!F604<0, 0, Loading!F604) -> 0 | S6: =IF(Loading!G4<0, 0, Loading!G4) -> 0 | T6: =IF(Loading!G44<0, 0, Loading!G44) -> 0 | U6: =IF(Loading!G84<0, 0, Loading!G84) -> 0 | V6: =IF(Loading!G124<0, 0, Loading!G124) -> 0 | W6: =IF(Loading!G164<0, 0, Loading!G164) -> 0 | X6: =IF(Loading!G204<0, 0, Loading!G204) -> 0 | Y6: =IF(Loading!G244<0, 0, Loading!G244) -> 0 | Z6: =IF(Loading!G284<0, 0, Loading!G284) -> 0 | AA6: =IF(Loading!G324<0, 0, Loading!G324) -> 0 | AB6: =IF(Loading!G364<0, 0, Loading!G364) -> 0 | AC6: =IF(Loading!G404<0, 0, Loading!G404) -> 0 | AD6: =IF(Loading!G444<0, 0, Loading!G444) -> 0 | AE6: =IF(Loading!G484<0, 0, Loading!G484) -> 0 | AF6: =IF(Loading!G524<0, 0, Loading!G524) -> 0 | AG6: =IF(Loading!G564<0, 0, Loading!G564) -> 0 | AH6: =IF(Loading!G604<0, 0, Loading!G604) -> 0 | AI6: =IF(Loading!H4<0, 0, Loading!H4) -> 0 | AJ6: =IF(Loading!H44<0, 0, Loading!H44) -> 0 | AK6: =IF(Loading!H84<0, 0, Loading!H84) -> 0 | AL6: =IF(Loading!H124<0, 0, Loading!H124) -> 0 | AM6: =IF(Loading!H164<0, 0, Loading!H164) -> 0 | AN6: =IF(Loading!H204<0, 0, Loading!H204) -> 0 | AO6: =IF(Loading!H244<0, 0, Loading!H244) -> 0 | AP6: =IF(Loading!H284<0, 0, Loading!H284) -> 0 | AQ6: =IF(Loading!H324<0, 0, Loading!H324) -> 0 | AR6: =IF(Loading!H364<0, 0, Loading!H364) -> 0 | AS6: =IF(Loading!H404<0, 0, Loading!H404) -> 0 | AT6: =IF(Loading!H444<0, 0, Loading!H444) -> 0 | AU6: =IF(Loading!H484<0, 0, Loading!H484) -> 0 | AV6: =IF(Loading!H524<0, 0, Loading!H524) -> 0 | AW6: =IF(Loading!H564<0, 0, Loading!H564) -> 0 | AX6: =IF(Loading!H604<0, 0, Loading!H604) -> 0 | AY6: =IF(Loading!I4<0, 0, Loading!I4) -> 0 | AZ6: =IF(Loading!I44<0, 0, Loading!I44) -> 0 | BA6: =IF(Loading!I84<0, 0, Loading!I84) -> 0 | BB6: =IF(Loading!I124<0, 0, Loading!I124) -> 0 | BC6: =IF(Loading!I164<0, 0, Loading!I164) -> 0 | BD6: =IF(Loading!I204<0, 0, Loading!I204) -> 0 | BE6: =IF(Loading!I244<0, 0, Loading!I244) -> 0 | BF6: =IF(Loading!I284<0, 0, Loading!I284) -> 0 | BG6: =IF(Loading!I324<0, 0, Loading!I324) -> 0 | BH6: =IF(Loading!I364<0, 0, Loading!I364) -> 0 | BI6: =IF(Loading!I404<0, 0, Loading!I404) -> 0 | BJ6: =IF(Loading!I444<0, 0, Loading!I444) -> 0 | BK6: =IF(Loading!I484<0, 0, Loading!I484) -> 0 | BL6: =IF(Loading!I524<0, 0, Loading!I524) -> 0 | BM6: =IF(Loading!I564<0, 0, Loading!I564) -> 0 | BN6: =IF(Loading!I604<0, 0, Loading!I604) -> 0 | BO6: =IF(Loading!J4<0, 0, Loading!J4) -> 0 | BP6: =IF(Loading!J44<0, 0, Loading!J44) -> 0 | BQ6: =IF(Loading!J84<0, 0, Loading!J84) -> 0 | BR6: =IF(Loading!J124<0, 0, Loading!J124) -> 0 | BS6: =IF(Loading!J164<0, 0, Loading!J164) -> 0 | BT6: =IF(Loading!J204<0, 0, Loading!J204) -> 0 | BU6: =IF(Loading!J244<0, 0, Loading!J244) -> 0 | BV6: =IF(Loading!J284<0, 0, Loading!J284) -> 0 | BW6: =IF(Loading!J324<0, 0, Loading!J324) -> 0 | BX6: =IF(Loading!J364<0, 0, Loading!J364) -> 0 | BY6: =IF(Loading!J404<0, 0, Loading!J404) -> 0 | BZ6: =IF(Loading!J444<0, 0, Loading!J444) -> 0 | CA6: =IF(Loading!J484<0, 0, Loading!J484) -> 0 | CB6: =IF(Loading!J524<0, 0, Loading!J524) -> 0 | CC6: =IF(Loading!J564<0, 0, Loading!J564) -> 0 | CD6: =IF(Loading!J604<0, 0, Loading!J604) -> 0 | CE6: =IF(Loading!K4<0, 0, Loading!K4) -> 0 | CF6: =IF(Loading!K44<0, 0, Loading!K44) -> 0 | CG6: =IF(Loading!K84<0, 0, Loading!K84) -> 0 | CH6: =IF(Loading!K124<0, 0, Loading!K124) -> 0 | CI6: =IF(Loading!K164<0, 0, Loading!K164) -> 0 | CJ6: =IF(Loading!K204<0, 0, Loading!K204) -> 0 | CK6: =IF(Loading!K244<0, 0, Loading!K244) -> 0 | CL6: =IF(Loading!K284<0, 0, Loading!K284) -> 0 | CM6: =IF(Loading!K324<0, 0, Loading!K324) -> 0 | CN6: =IF(Loading!K364<0, 0, Loading!K364) -> 0 | CO6: =IF(Loading!K404<0, 0, Loading!K404) -> 0 | CP6: =IF(Loading!K444<0, 0, Loading!K444) -> 0 | CQ6: =IF(Loading!K484<0, 0, Loading!K484) -> 0 | CR6: =IF(Loading!K524<0, 0, Loading!K524) -> 0 | CS6: =IF(Loading!K564<0, 0, Loading!K564) -> 0 | CT6: =IF(Loading!K604<0, 0, Loading!K604) -> 0 | CU6: =IF(Loading!L4<0, 0, Loading!L4) -> 0 | CV6: =IF(Loading!L44<0, 0, Loading!L44) -> 0 | CW6: =IF(Loading!L84<0, 0, Loading!L84) -> 0 | CX6: =IF(Loading!L124<0, 0, Loading!L124) -> 0 | CY6: =IF(Loading!L164<0, 0, Loading!L164) -> 0 | CZ6: =IF(Loading!L204<0, 0, Loading!L204) -> 0 | DA6: =IF(Loading!L244<0, 0, Loading!L244) -> 0 | DB6: =IF(Loading!L284<0, 0, Loading!L284) -> 0 | DC6: =IF(Loading!L324<0, 0, Loading!L324) -> 0 | DD6: =IF(Loading!L364<0, 0, Loading!L364) -> 0 | DE6: =IF(Loading!L404<0, 0, Loading!L404) -> 0 | DF6: =IF(Loading!L444<0, 0, Loading!L444) -> 0 | DG6: =IF(Loading!L484<0, 0, Loading!L484) -> 0 | DH6: =IF(Loading!L524<0, 0, Loading!L524) -> 0 | DI6: =IF(Loading!L564<0, 0, Loading!L564) -> 0 | DJ6: =IF(Loading!L604<0, 0, Loading!L604) -> 0 | DK6: =IF(Loading!M4<0, 0, Loading!M4) -> 0 | DL6: =IF(Loading!M44<0, 0, Loading!M44) -> 0 | DM6: =IF(Loading!M84<0, 0, Loading!M84) -> 0 | DN6: =IF(Loading!M124<0, 0, Loading!M124) -> 0 | DO6: =IF(Loading!M164<0, 0, Loading!M164) -> 0 | DP6: =IF(Loading!M204<0, 0, Loading!M204) -> 0 | DQ6: =IF(Loading!M244<0, 0, Loading!M244) -> 0 | DR6: =IF(Loading!M284<0, 0, Loading!M284) -> 0 | DS6: =IF(Loading!M324<0, 0, Loading!M324) -> 0 | DT6: =IF(Loading!M364<0, 0, Loading!M364) -> 0 | DU6: =IF(Loading!M404<0, 0, Loading!M404) -> 0 | DV6: =IF(Loading!M444<0, 0, Loading!M444) -> 0 | DW6: =IF(Loading!M484<0, 0, Loading!M484) -> 0 | DX6: =IF(Loading!M524<0, 0, Loading!M524) -> 0 | DY6: =IF(Loading!M564<0, 0, Loading!M564) -> 0 | DZ6: =IF(Loading!M604<0, 0, Loading!M604) -> 0 | EA6: =IF(Loading!N4<0, 0, Loading!N4) -> 0 | EB6: =IF(Loading!N44<0, 0, Loading!N44) -> 0 | EC6: =IF(Loading!N84<0, 0, Loading!N84) -> 0 | ED6: =IF(Loading!N124<0, 0, Loading!N124) -> 0 | EE6: =IF(Loading!N164<0, 0, Loading!N164) -> 0 | EF6: =IF(Loading!N204<0, 0, Loading!N204) -> 0 | EG6: =IF(Loading!N244<0, 0, Loading!N244) -> 0 | EH6: =IF(Loading!N284<0, 0, Loading!N284) -> 0 | EI6: =IF(Loading!N324<0, 0, Loading!N324) -> 0 | EJ6: =IF(Loading!N364<0, 0, Loading!N364) -> 0 | EK6: =IF(Loading!N404<0, 0, Loading!N404) -> 0 | EL6: =IF(Loading!N444<0, 0, Loading!N444) -> 0 | EM6: =IF(Loading!N484<0, 0, Loading!N484) -> 0 | EN6: =IF(Loading!N524<0, 0, Loading!N524) -> 0 | EO6: =IF(Loading!N564<0, 0, Loading!N564) -> 0 | EP6: =IF(Loading!N604<0, 0, Loading!N604) -> 0 | EQ6: =IF(Loading!O4<0, 0, Loading!O4) -> 0 | ER6: =IF(Loading!O44<0, 0, Loading!O44) -> 0 | ES6: =IF(Loading!O84<0, 0, Loading!O84) -> 0 | ET6: =IF(Loading!O124<0, 0, Loading!O124) -> 0 | EU6: =IF(Loading!O164<0, 0, Loading!O164) -> 0 | EV6: =IF(Loading!O204<0, 0, Loading!O204) -> 0 | EW6: =IF(Loading!O244<0, 0, Loading!O244) -> 0 | EX6: =IF(Loading!O284<0, 0, Loading!O284) -> 0 | EY6: =IF(Loading!O324<0, 0, Loading!O324) -> 0 | EZ6: =IF(Loading!O364<0, 0, Loading!O364) -> 0 | FA6: =IF(Loading!O404<0, 0, Loading!O404) -> 0 | FB6: =IF(Loading!O444<0, 0, Loading!O444) -> 0 | FC6: =IF(Loading!O484<0, 0, Loading!O484) -> 0 | FD6: =IF(Loading!O524<0, 0, Loading!O524) -> 0 | FE6: =IF(Loading!O564<0, 0, Loading!O564) -> 0 | FF6: =IF(Loading!O604<0, 0, Loading!O604) -> 0 | FG6: =IF(Loading!P4<0, 0, Loading!P4) -> 0 | FH6: =IF(Loading!P44<0, 0, Loading!P44) -> 0 | FI6: =IF(Loading!P84<0, 0, Loading!P84) -> 0 | FJ6: =IF(Loading!P124<0, 0, Loading!P124) -> 0 | FK6: =IF(Loading!P164<0, 0, Loading!P164) -> 0 | FL6: =IF(Loading!P204<0, 0, Loading!P204) -> 0 | FM6: =IF(Loading!P244<0, 0, Loading!P244) -> 0 | FN6: =IF(Loading!P284<0, 0, Loading!P284) -> 0 | FO6: =IF(Loading!P324<0, 0, Loading!P324) -> 0 | FP6: =IF(Loading!P364<0, 0, Loading!P364) -> 0 | FQ6: =IF(Loading!P404<0, 0, Loading!P404) -> 0 | FR6: =IF(Loading!P444<0, 0, Loading!P444) -> 0 | FS6: =IF(Loading!P484<0, 0, Loading!P484) -> 0 | FT6: =IF(Loading!P524<0, 0, Loading!P524) -> 0 | FU6: =IF(Loading!P564<0, 0, Loading!P564) -> 0 | FV6: =IF(Loading!P604<0, 0, Loading!P604) -> 0 | FW6: =IF(Loading!Q4<0, 0, Loading!Q4) -> 0 | FX6: =IF(Loading!Q44<0, 0, Loading!Q44) -> 0 | FY6: =IF(Loading!Q84<0, 0, Loading!Q84) -> 0 | FZ6: =IF(Loading!Q124<0, 0, Loading!Q124) -> 0 | GA6: =IF(Loading!Q164<0, 0, Loading!Q164) -> 0 | GB6: =IF(Loading!Q204<0, 0, Loading!Q204) -> 0 | GC6: =IF(Loading!Q244<0, 0, Loading!Q244) -> 0 | GD6: =IF(Loading!Q284<0, 0, Loading!Q284) -> 0 | GE6: =IF(Loading!Q324<0, 0, Loading!Q324) -> 0 | GF6: =IF(Loading!Q364<0, 0, Loading!Q364) -> 0 | GG6: =IF(Loading!Q404<0, 0, Loading!Q404) -> 0 | GH6: =IF(Loading!Q444<0, 0, Loading!Q444) -> 0 | GI6: =IF(Loading!Q484<0, 0, Loading!Q484) -> 0 | GJ6: =IF(Loading!Q524<0, 0, Loading!Q524) -> 0 | GK6: =IF(Loading!Q564<0, 0, Loading!Q564) -> 0 | GL6: =IF(Loading!Q604<0, 0, Loading!Q604) -> 0 | GM6: =IF(Loading!R4<0, 0, Loading!R4) -> 0 | GN6: =IF(Loading!R44<0, 0, Loading!R44) -> 0 | GO6: =IF(Loading!R84<0, 0, Loading!R84) -> 0 | GP6: =IF(Loading!R124<0, 0, Loading!R124) -> 0 | GQ6: =IF(Loading!R164<0, 0, Loading!R164) -> 0 | GR6: =IF(Loading!R204<0, 0, Loading!R204) -> 0 | GS6: =IF(Loading!R244<0, 0, Loading!R244) -> 0 | GT6: =IF(Loading!R284<0, 0, Loading!R284) -> 0 | GU6: =IF(Loading!R324<0, 0, Loading!R324) -> 0 | GV6: =IF(Loading!R364<0, 0, Loading!R364) -> 0 | GW6: =IF(Loading!R404<0, 0, Loading!R404) -> 0 | GX6: =IF(Loading!R444<0, 0, Loading!R444) -> 0 | GY6: =IF(Loading!R484<0, 0, Loading!R484) -> 0 | GZ6: =IF(Loading!R524<0, 0, Loading!R524) -> 0 | HA6: =IF(Loading!R564<0, 0, Loading!R564) -> 0 | HB6: =IF(Loading!R604<0, 0, Loading!R604) -> 0 | HC6: =IF(Loading!S4<0, 0, Loading!S4) -> 0 | HD6: =IF(Loading!S44<0, 0, Loading!S44) -> 0 | HE6: =IF(Loading!S84<0, 0, Loading!S84) -> 0 | HF6: =IF(Loading!S124<0, 0, Loading!S124) -> 0 | HG6: =IF(Loading!S164<0, 0, Loading!S164) -> 0 | HH6: =IF(Loading!S204<0, 0, Loading!S204) -> 0 | HI6: =IF(Loading!S244<0, 0, Loading!S244) -> 0 | HJ6: =IF(Loading!S284<0, 0, Loading!S284) -> 0 | HK6: =IF(Loading!S324<0, 0, Loading!S324) -> 0 | HL6: =IF(Loading!S364<0, 0, Loading!S364) -> 0 | HM6: =IF(Loading!S404<0, 0, Loading!S404) -> 0 | HN6: =IF(Loading!S444<0, 0, Loading!S444) -> 0 | HO6: =IF(Loading!S484<0, 0, Loading!S484) -> 0 | HP6: =IF(Loading!S524<0, 0, Loading!S524) -> 0 | HQ6: =IF(Loading!S564<0, 0, Loading!S564) -> 0 | HR6: =IF(Loading!S604<0, 0, Loading!S604) -> 0 | HS6: =IF(Loading!T4<0, 0, Loading!T4) -> 0 | HT6: =IF(Loading!T44<0, 0, Loading!T44) -> 0 | HU6: =IF(Loading!T84<0, 0, Loading!T84) -> 0 | HV6: =IF(Loading!T124<0, 0, Loading!T124) -> 0 | HW6: =IF(Loading!T164<0, 0, Loading!T164) -> 0 | HX6: =IF(Loading!T204<0, 0, Loading!T204) -> 0 | HY6: =IF(Loading!T244<0, 0, Loading!T244) -> 0 | HZ6: =IF(Loading!T284<0, 0, Loading!T284) -> 0 | IA6: =IF(Loading!T324<0, 0, Loading!T324) -> 0 | IB6: =IF(Loading!T364<0, 0, Loading!T364) -> 0 | IC6: =IF(Loading!T404<0, 0, Loading!T404) -> 0 | ID6: =IF(Loading!T444<0, 0, Loading!T444) -> 0 | IE6: =IF(Loading!T484<0, 0, Loading!T484) -> 0 | IF6: =IF(Loading!T524<0, 0, Loading!T524) -> 0 | IG6: =IF(Loading!T564<0, 0, Loading!T564) -> 0 | IH6: =IF(Loading!T604<0, 0, Loading!T604) -> 0 | II6: =IF(Loading!U4<0, 0, Loading!U4) -> 0 | IJ6: =IF(Loading!U44<0, 0, Loading!U44) -> 0 | IK6: =IF(Loading!U84<0, 0, Loading!U84) -> 0 | IL6: =IF(Loading!U124<0, 0, Loading!U124) -> 0 | IM6: =IF(Loading!U164<0, 0, Loading!U164) -> 0 | IN6: =IF(Loading!U204<0, 0, Loading!U204) -> 0 | IO6: =IF(Loading!U244<0, 0, Loading!U244) -> 0 | IP6: =IF(Loading!U284<0, 0, Loading!U284) -> 0 | IQ6: =IF(Loading!U324<0, 0, Loading!U324) -> 0 | IR6: =IF(Loading!U364<0, 0, Loading!U364) -> 0 | IS6: =IF(Loading!U404<0, 0, Loading!U404) -> 0 | IT6: =IF(Loading!U444<0, 0, Loading!U444) -> 0 | IU6: =IF(Loading!U484<0, 0, Loading!U484) -> 0 | IV6: =IF(Loading!U524<0, 0, Loading!U524) -> 0 | IW6: =IF(Loading!U564<0, 0, Loading!U564) -> 0 | IX6: =IF(Loading!U604<0, 0, Loading!U604) -> 0 | IY6: =IF(Loading!V4<0, 0, Loading!V4) -> 0 | IZ6: =IF(Loading!V44<0, 0, Loading!V44) -> 0 | JA6: =IF(Loading!V84<0, 0, Loading!V84) -> 0 | JB6: =IF(Loading!V124<0, 0, Loading!V124) -> 0 | JC6: =IF(Loading!V164<0, 0, Loading!V164) -> 0 | JD6: =IF(Loading!V204<0, 0, Loading!V204) -> 0 | JE6: =IF(Loading!V244<0, 0, Loading!V244) -> 0 | JF6: =IF(Loading!V284<0, 0, Loading!V284) -> 0 | JG6: =IF(Loading!V324<0, 0, Loading!V324) -> 0 | JH6: =IF(Loading!V364<0, 0, Loading!V364) -> 0 | JI6: =IF(Loading!V404<0, 0, Loading!V404) -> 0 | JJ6: =IF(Loading!V444<0, 0, Loading!V444) -> 0 | JK6: =IF(Loading!V484<0, 0, Loading!V484) -> 0 | JL6: =IF(Loading!V524<0, 0, Loading!V524) -> 0 | JM6: =IF(Loading!V564<0, 0, Loading!V564) -> 0 | JN6: =IF(Loading!V604<0, 0, Loading!V604) -> 0 | JO6: =IF(Loading!W4<0, 0, Loading!W4) -> 0 | JP6: =IF(Loading!W44<0, 0, Loading!W44) -> 0 | JQ6: =IF(Loading!W84<0, 0, Loading!W84) -> 0 | JR6: =IF(Loading!W124<0, 0, Loading!W124) -> 0 | JS6: =IF(Loading!W164<0, 0, Loading!W164) -> 0 | JT6: =IF(Loading!W204<0, 0, Loading!W204) -> 0 | JU6: =IF(Loading!W244<0, 0, Loading!W244) -> 0 | JV6: =IF(Loading!W284<0, 0, Loading!W284) -> 0 | JW6: =IF(Loading!W324<0, 0, Loading!W324) -> 0 | JX6: =IF(Loading!W364<0, 0, Loading!W364) -> 0 | JY6: =IF(Loading!W404<0, 0, Loading!W404) -> 0 | JZ6: =IF(Loading!W444<0, 0, Loading!W444) -> 0 | KA6: =IF(Loading!W484<0, 0, Loading!W484) -> 0 | KB6: =IF(Loading!W524<0, 0, Loading!W524) -> 0 | KC6: =IF(Loading!W564<0, 0, Loading!W564) -> 0 | KD6: =IF(Loading!W604<0, 0, Loading!W604) -> 0 | KE6: =IF(Loading!X4<0, 0, Loading!X4) -> 0 | KF6: =IF(Loading!X44<0, 0, Loading!X44) -> 0 | KG6: =IF(Loading!X84<0, 0, Loading!X84) -> 0 | KH6: =IF(Loading!X124<0, 0, Loading!X124) -> 0 | KI6: =IF(Loading!X164<0, 0, Loading!X164) -> 0 | KJ6: =IF(Loading!X204<0, 0, Loading!X204) -> 0 | KK6: =IF(Loading!X244<0, 0, Loading!X244) -> 0 | KL6: =IF(Loading!X284<0, 0, Loading!X284) -> 0 | KM6: =IF(Loading!X324<0, 0, Loading!X324) -> 0 | KN6: =IF(Loading!X364<0, 0, Loading!X364) -> 0 | KO6: =IF(Loading!X404<0, 0, Loading!X404) -> 0 | KP6: =IF(Loading!X444<0, 0, Loading!X444) -> 0 | KQ6: =IF(Loading!X484<0, 0, Loading!X484) -> 0 | KR6: =IF(Loading!X524<0, 0, Loading!X524) -> 0 | KS6: =IF(Loading!X564<0, 0, Loading!X564) -> 0 | KT6: =IF(Loading!X604<0, 0, Loading!X604) -> 0 | KU6: =IF(Loading!Y4<0, 0, Loading!Y4) -> 0 | KV6: =IF(Loading!Y44<0, 0, Loading!Y44) -> 0 | KW6: =IF(Loading!Y84<0, 0, Loading!Y84) -> 0 | KX6: =IF(Loading!Y124<0, 0, Loading!Y124) -> 0 | KY6: =IF(Loading!Y164<0, 0, Loading!Y164) -> 0 | KZ6: =IF(Loading!Y204<0, 0, Loading!Y204) -> 0 | LA6: =IF(Loading!Y244<0, 0, Loading!Y244) -> 0 | LB6: =IF(Loading!Y284<0, 0, Loading!Y284) -> 0 | LC6: =IF(Loading!Y324<0, 0, Loading!Y324) -> 0 | LD6: =IF(Loading!Y364<0, 0, Loading!Y364) -> 0 | LE6: =IF(Loading!Y404<0, 0, Loading!Y404) -> 0 | LF6: =IF(Loading!Y444<0, 0, Loading!Y444) -> 0 | LG6: =IF(Loading!Y484<0, 0, Loading!Y484) -> 0 | LH6: =IF(Loading!Y524<0, 0, Loading!Y524) -> 0 | LI6: =IF(Loading!Y564<0, 0, Loading!Y564) -> 0 | LJ6: =IF(Loading!Y604<0, 0, Loading!Y604) -> 0 | LK6: =IF(Loading!Z4<0, 0, Loading!Z4) -> 0 | LL6: =IF(Loading!Z44<0, 0, Loading!Z44) -> 0 | LM6: =IF(Loading!Z84<0, 0, Loading!Z84) -> 0 | LN6: =IF(Loading!Z124<0, 0, Loading!Z124) -> 0 | LO6: =IF(Loading!Z164<0, 0, Loading!Z164) -> 0 | LP6: =IF(Loading!Z204<0, 0, Loading!Z204) -> 0 | LQ6: =IF(Loading!Z244<0, 0, Loading!Z244) -> 0 | LR6: =IF(Loading!Z284<0, 0, Loading!Z284) -> 0 | LS6: =IF(Loading!Z324<0, 0, Loading!Z324) -> 0 | LT6: =IF(Loading!Z364<0, 0, Loading!Z364) -> 0 | LU6: =IF(Loading!Z404<0, 0, Loading!Z404) -> 0 | LV6: =IF(Loading!Z444<0, 0, Loading!Z444) -> 0 | LW6: =IF(Loading!Z484<0, 0, Loading!Z484) -> 0 | LX6: =IF(Loading!Z524<0, 0, Loading!Z524) -> 0 | LY6: =IF(Loading!Z564<0, 0, Loading!Z564) -> 0 | LZ6: =IF(Loading!Z604<0, 0, Loading!Z604) -> 0 | MA6: =IF(Loading!AA4<0, 0, Loading!AA4) -> 0 | MB6: =IF(Loading!AA44<0, 0, Loading!AA44) -> 0 | MC6: =IF(Loading!AA84<0, 0, Loading!AA84) -> 0 | MD6: =IF(Loading!AA124<0, 0, Loading!AA124) -> 0 | ME6: =IF(Loading!AA164<0, 0, Loading!AA164) -> 0 | MF6: =IF(Loading!AA204<0, 0, Loading!AA204) -> 0 | MG6: =IF(Loading!AA244<0, 0, Loading!AA244) -> 0 | MH6: =IF(Loading!AA284<0, 0, Loading!AA284) -> 0 | MI6: =IF(Loading!AA324<0, 0, Loading!AA324) -> 0 | MJ6: =IF(Loading!AA364<0, 0, Loading!AA364) -> 0 | MK6: =IF(Loading!AA404<0, 0, Loading!AA404) -> 0 | ML6: =IF(Loading!AA444<0, 0, Loading!AA444) -> 0 | MM6: =IF(Loading!AA484<0, 0, Loading!AA484) -> 0 | MN6: =IF(Loading!AA524<0, 0, Loading!AA524) -> 0 | MO6: =IF(Loading!AA564<0, 0, Loading!AA564) -> 0 | MP6: =IF(Loading!AA604<0, 0, Loading!AA604) -> 0 | MQ6: =IF(Loading!AB4<0, 0, Loading!AB4) -> 0 | MR6: =IF(Loading!AB44<0, 0, Loading!AB44) -> 0 | MS6: =IF(Loading!AB84<0, 0, Loading!AB84) -> 0 | MT6: =IF(Loading!AB124<0, 0, Loading!AB124) -> 0 | MU6: =IF(Loading!AB164<0, 0, Loading!AB164) -> 0 | MV6: =IF(Loading!AB204<0, 0, Loading!AB204) -> 0 | MW6: =IF(Loading!AB244<0, 0, Loading!AB244) -> 0 | MX6: =IF(Loading!AB284<0, 0, Loading!AB284) -> 0 | MY6: =IF(Loading!AB324<0, 0, Loading!AB324) -> 0 | MZ6: =IF(Loading!AB364<0, 0, Loading!AB364) -> 0 | NA6: =IF(Loading!AB404<0, 0, Loading!AB404) -> 0 | NB6: =IF(Loading!AB444<0, 0, Loading!AB444) -> 0 | NC6: =IF(Loading!AB484<0, 0, Loading!AB484) -> 0 | ND6: =IF(Loading!AB524<0, 0, Loading!AB524) -> 0 | NE6: =IF(Loading!AB564<0, 0, Loading!AB564) -> 0 | NF6: =IF(Loading!AB604<0, 0, Loading!AB604) -> 0 | NG6: =IF(Loading!AC4<0, 0, Loading!AC4) -> 0 | NH6: =IF(Loading!AC44<0, 0, Loading!AC44) -> 0 | NI6: =IF(Loading!AC84<0, 0, Loading!AC84) -> 0 | NJ6: =IF(Loading!AC124<0, 0, Loading!AC124) -> 0 | NK6: =IF(Loading!AC164<0, 0, Loading!AC164) -> 0 | NL6: =IF(Loading!AC204<0, 0, Loading!AC204) -> 0 | NM6: =IF(Loading!AC244<0, 0, Loading!AC244) -> 0 | NN6: =IF(Loading!AC284<0, 0, Loading!AC284) -> 0 | NO6: =IF(Loading!AC324<0, 0, Loading!AC324) -> 0 | NP6: =IF(Loading!AC364<0, 0, Loading!AC364) -> 0 | NQ6: =IF(Loading!AC404<0, 0, Loading!AC404) -> 0 | NR6: =IF(Loading!AC444<0, 0, Loading!AC444) -> 0 | NS6: =IF(Loading!AC484<0, 0, Loading!AC484) -> 0 | NT6: =IF(Loading!AC524<0, 0, Loading!AC524) -> 0 | NU6: =IF(Loading!AC564<0, 0, Loading!AC564) -> 0 | NV6: =IF(Loading!AC604<0, 0, Loading!AC604) -> 0 | NW6: =IF(Loading!AD4<0, 0, Loading!AD4) -> 0 | NX6: =IF(Loading!AD44<0, 0, Loading!AD44) -> 0 | NY6: =IF(Loading!AD84<0, 0, Loading!AD84) -> 0 | NZ6: =IF(Loading!AD124<0, 0, Loading!AD124) -> 0 | OA6: =IF(Loading!AD164<0, 0, Loading!AD164) -> 0 | OB6: =IF(Loading!AD204<0, 0, Loading!AD204) -> 0 | OC6: =IF(Loading!AD244<0, 0, Loading!AD244) -> 0 | OD6: =IF(Loading!AD284<0, 0, Loading!AD284) -> 0 | OE6: =IF(Loading!AD324<0, 0, Loading!AD324) -> 0 | OF6: =IF(Loading!AD364<0, 0, Loading!AD364) -> 0 | OG6: =IF(Loading!AD404<0, 0, Loading!AD404) -> 0 | OH6: =IF(Loading!AD444<0, 0, Loading!AD444) -> 0 | OI6: =IF(Loading!AD484<0, 0, Loading!AD484) -> 0 | OJ6: =IF(Loading!AD524<0, 0, Loading!AD524) -> 0 | OK6: =IF(Loading!AD564<0, 0, Loading!AD564) -> 0 | OL6: =IF(Loading!AD604<0, 0, Loading!AD604) -> 0 | OM6: =IF(Loading!AE4<0, 0, Loading!AE4) -> 0 | ON6: =IF(Loading!AE44<0, 0, Loading!AE44) -> 0 | OO6: =IF(Loading!AE84<0, 0, Loading!AE84) -> 0 | OP6: =IF(Loading!AE124<0, 0, Loading!AE124) -> 0 | OQ6: =IF(Loading!AE164<0, 0, Loading!AE164) -> 0 | OR6: =IF(Loading!AE204<0, 0, Loading!AE204) -> 0 | OS6: =IF(Loading!AE244<0, 0, Loading!AE244) -> 0 | OT6: =IF(Loading!AE284<0, 0, Loading!AE284) -> 0 | OU6: =IF(Loading!AE324<0, 0, Loading!AE324) -> 0 | OV6: =IF(Loading!AE364<0, 0, Loading!AE364) -> 0 | OW6: =IF(Loading!AE404<0, 0, Loading!AE404) -> 0 | OX6: =IF(Loading!AE444<0, 0, Loading!AE444) -> 0 | OY6: =IF(Loading!AE484<0, 0, Loading!AE484) -> 0 | OZ6: =IF(Loading!AE524<0, 0, Loading!AE524) -> 0 | PA6: =IF(Loading!AE564<0, 0, Loading!AE564) -> 0 | PB6: =IF(Loading!AE604<0, 0, Loading!AE604) -> 0 | PC6: =IF(Loading!AF4<0, 0, Loading!AF4) -> 0 | PD6: =IF(Loading!AF44<0, 0, Loading!AF44) -> 0 | PE6: =IF(Loading!AF84<0, 0, Loading!AF84) -> 0 | PF6: =IF(Loading!AF124<0, 0, Loading!AF124) -> 0 | PG6: =IF(Loading!AF164<0, 0, Loading!AF164) -> 0 | PH6: =IF(Loading!AF204<0, 0, Loading!AF204) -> 0 | PI6: =IF(Loading!AF244<0, 0, Loading!AF244) -> 0 | PJ6: =IF(Loading!AF284<0, 0, Loading!AF284) -> 0 | PK6: =IF(Loading!AF324<0, 0, Loading!AF324) -> 0 | PL6: =IF(Loading!AF364<0, 0, Loading!AF364) -> 0 | PM6: =IF(Loading!AF404<0, 0, Loading!AF404) -> 0 | PN6: =IF(Loading!AF444<0, 0, Loading!AF444) -> 0 | PO6: =IF(Loading!AF484<0, 0, Loading!AF484) -> 0 | PP6: =IF(Loading!AF524<0, 0, Loading!AF524) -> 0 | PQ6: =IF(Loading!AF564<0, 0, Loading!AF564) -> 0 | PR6: =IF(Loading!AF604<0, 0, Loading!AF604) -> 0 | PS6: =IF(Loading!AG4<0, 0, Loading!AG4) -> 0 | PT6: =IF(Loading!AG44<0, 0, Loading!AG44) -> 0 | PU6: =IF(Loading!AG84<0, 0, Loading!AG84) -> 0 | PV6: =IF(Loading!AG124<0, 0, Loading!AG124) -> 0 | PW6: =IF(Loading!AG164<0, 0, Loading!AG164) -> 0 | PX6: =IF(Loading!AG204<0, 0, Loading!AG204) -> 0 | PY6: =IF(Loading!AG244<0, 0, Loading!AG244) -> 0 | PZ6: =IF(Loading!AG284<0, 0, Loading!AG284) -> 0 | QA6: =IF(Loading!AG324<0, 0, Loading!AG324) -> 0 | QB6: =IF(Loading!AG364<0, 0, Loading!AG364) -> 0 | QC6: =IF(Loading!AG404<0, 0, Loading!AG404) -> 0 | QD6: =IF(Loading!AG444<0, 0, Loading!AG444) -> 0 | QE6: =IF(Loading!AG484<0, 0, Loading!AG484) -> 0 | QF6: =IF(Loading!AG524<0, 0, Loading!AG524) -> 0 | QG6: =IF(Loading!AG564<0, 0, Loading!AG564) -> 0 | QH6: =IF(Loading!AG604<0, 0, Loading!AG604) -> 0 | QI6: =IF(Loading!AH4<0, 0, Loading!AH4) -> 0 | QJ6: =IF(Loading!AH44<0, 0, Loading!AH44) -> 0 | QK6: =IF(Loading!AH84<0, 0, Loading!AH84) -> 0 | QL6: =IF(Loading!AH124<0, 0, Loading!AH124) -> 0 | QM6: =IF(Loading!AH164<0, 0, Loading!AH164) -> 0 | QN6: =IF(Loading!AH204<0, 0, Loading!AH204) -> 0 | QO6: =IF(Loading!AH244<0, 0, Loading!AH244) -> 0 | QP6: =IF(Loading!AH284<0, 0, Loading!AH284) -> 0 | QQ6: =IF(Loading!AH324<0, 0, Loading!AH324) -> 0 | QR6: =IF(Loading!AH364<0, 0, Loading!AH364) -> 0 | QS6: =IF(Loading!AH404<0, 0, Loading!AH404) -> 0 | QT6: =IF(Loading!AH444<0, 0, Loading!AH444) -> 0 | QU6: =IF(Loading!AH484<0, 0, Loading!AH484) -> 0 | QV6: =IF(Loading!AH524<0, 0, Loading!AH524) -> 0 | QW6: =IF(Loading!AH564<0, 0, Loading!AH564) -> 0 | QX6: =IF(Loading!AH604<0, 0, Loading!AH604) -> 0 | QY6: =IF(Loading!AI4<0, 0, Loading!AI4) -> 0 | QZ6: =IF(Loading!AI44<0, 0, Loading!AI44) -> 0 | RA6: =IF(Loading!AI84<0, 0, Loading!AI84) -> 0 | RB6: =IF(Loading!AI124<0, 0, Loading!AI124) -> 0 | RC6: =IF(Loading!AI164<0, 0, Loading!AI164) -> 0 | RD6: =IF(Loading!AI204<0, 0, Loading!AI204) -> 0 | RE6: =IF(Loading!AI244<0, 0, Loading!AI244) -> 0 | RF6: =IF(Loading!AI284<0, 0, Loading!AI284) -> 0 | RG6: =IF(Loading!AI324<0, 0, Loading!AI324) -> 0 | RH6: =IF(Loading!AI364<0, 0, Loading!AI364) -> 0 | RI6: =IF(Loading!AI404<0, 0, Loading!AI404) -> 0 | RJ6: =IF(Loading!AI444<0, 0, Loading!AI444) -> 0 | RK6: =IF(Loading!AI484<0, 0, Loading!AI484) -> 0 | RL6: =IF(Loading!AI524<0, 0, Loading!AI524) -> 0 | RM6: =IF(Loading!AI564<0, 0, Loading!AI564) -> 0 | RN6: =IF(Loading!AI604<0, 0, Loading!AI604) -> 0 | SN6: =(1-$Y$2)*MEDIAN(C5:C8) -> 0 | SO6: =(1-$Y$2)*MEDIAN(D5:D8) -> 0 | SP6: =(1-$Y$2)*MEDIAN(E5:E8) -> 0 | SQ6: =(1-$Y$2)*MEDIAN(F5:F8) -> 0 | SR6: =(1-$Y$2)*MEDIAN(G5:G8) -> 0 | SS6: =(1-$Y$2)*MEDIAN(H5:H8) -> 0 | ST6: =(1-$Y$2)*MEDIAN(I5:I8) -> 0 | SU6: =(1-$Y$2)*MEDIAN(J5:J8) -> 0 | ... ALS6: =(1-$Y$2)*MEDIAN(SH5:SH8) -> #NUM!
B7: =B6 -> POS1 | C7: =IF(Loading!F5<0, 0, Loading!F5) -> 0 | D7: =IF(Loading!F45<0, 0, Loading!F45) -> 0 | E7: =IF(Loading!F85<0, 0, Loading!F85) -> 0 | F7: =IF(Loading!F125<0, 0, Loading!F125) -> 0 | G7: =IF(Loading!F165<0, 0, Loading!F165) -> 0 | H7: =IF(Loading!F205<0, 0, Loading!F205) -> 0 | I7: =IF(Loading!F245<0, 0, Loading!F245) -> 0 | J7: =IF(Loading!F285<0, 0, Loading!F285) -> 0 | K7: =IF(Loading!F325<0, 0, Loading!F325) -> 0 | L7: =IF(Loading!F365<0, 0, Loading!F365) -> 0 | M7: =IF(Loading!F405<0, 0, Loading!F405) -> 0 | N7: =IF(Loading!F445<0, 0, Loading!F445) -> 0 | O7: =IF(Loading!F485<0, 0, Loading!F485) -> 0 | P7: =IF(Loading!F525<0, 0, Loading!F525) -> 0 | Q7: =IF(Loading!F565<0, 0, Loading!F565) -> 0 | R7: =IF(Loading!F605<0, 0, Loading!F605) -> 0 | S7: =IF(Loading!G5<0, 0, Loading!G5) -> 0 | T7: =IF(Loading!G45<0, 0, Loading!G45) -> 0 | U7: =IF(Loading!G85<0, 0, Loading!G85) -> 0 | V7: =IF(Loading!G125<0, 0, Loading!G125) -> 0 | W7: =IF(Loading!G165<0, 0, Loading!G165) -> 0 | X7: =IF(Loading!G205<0, 0, Loading!G205) -> 0 | Y7: =IF(Loading!G245<0, 0, Loading!G245) -> 0 | Z7: =IF(Loading!G285<0, 0, Loading!G285) -> 0 | AA7: =IF(Loading!G325<0, 0, Loading!G325) -> 0 | AB7: =IF(Loading!G365<0, 0, Loading!G365) -> 0 | AC7: =IF(Loading!G405<0, 0, Loading!G405) -> 0 | AD7: =IF(Loading!G445<0, 0, Loading!G445) -> 0 | AE7: =IF(Loading!G485<0, 0, Loading!G485) -> 0 | AF7: =IF(Loading!G525<0, 0, Loading!G525) -> 0 | AG7: =IF(Loading!G565<0, 0, Loading!G565) -> 0 | AH7: =IF(Loading!G605<0, 0, Loading!G605) -> 0 | AI7: =IF(Loading!H5<0, 0, Loading!H5) -> 0 | AJ7: =IF(Loading!H45<0, 0, Loading!H45) -> 0 | AK7: =IF(Loading!H85<0, 0, Loading!H85) -> 0 | AL7: =IF(Loading!H125<0, 0, Loading!H125) -> 0 | AM7: =IF(Loading!H165<0, 0, Loading!H165) -> 0 | AN7: =IF(Loading!H205<0, 0, Loading!H205) -> 0 | AO7: =IF(Loading!H245<0, 0, Loading!H245) -> 0 | AP7: =IF(Loading!H285<0, 0, Loading!H285) -> 0 | AQ7: =IF(Loading!H325<0, 0, Loading!H325) -> 0 | AR7: =IF(Loading!H365<0, 0, Loading!H365) -> 0 | AS7: =IF(Loading!H405<0, 0, Loading!H405) -> 0 | AT7: =IF(Loading!H445<0, 0, Loading!H445) -> 0 | AU7: =IF(Loading!H485<0, 0, Loading!H485) -> 0 | AV7: =IF(Loading!H525<0, 0, Loading!H525) -> 0 | AW7: =IF(Loading!H565<0, 0, Loading!H565) -> 0 | AX7: =IF(Loading!H605<0, 0, Loading!H605) -> 0 | AY7: =IF(Loading!I5<0, 0, Loading!I5) -> 0 | AZ7: =IF(Loading!I45<0, 0, Loading!I45) -> 0 | BA7: =IF(Loading!I85<0, 0, Loading!I85) -> 0 | BB7: =IF(Loading!I125<0, 0, Loading!I125) -> 0 | BC7: =IF(Loading!I165<0, 0, Loading!I165) -> 0 | BD7: =IF(Loading!I205<0, 0, Loading!I205) -> 0 | BE7: =IF(Loading!I245<0, 0, Loading!I245) -> 0 | BF7: =IF(Loading!I285<0, 0, Loading!I285) -> 0 | BG7: =IF(Loading!I325<0, 0, Loading!I325) -> 0 | BH7: =IF(Loading!I365<0, 0, Loading!I365) -> 0 | BI7: =IF(Loading!I405<0, 0, Loading!I405) -> 0 | BJ7: =IF(Loading!I445<0, 0, Loading!I445) -> 0 | BK7: =IF(Loading!I485<0, 0, Loading!I485) -> 0 | BL7: =IF(Loading!I525<0, 0, Loading!I525) -> 0 | BM7: =IF(Loading!I565<0, 0, Loading!I565) -> 0 | BN7: =IF(Loading!I605<0, 0, Loading!I605) -> 0 | BO7: =IF(Loading!J5<0, 0, Loading!J5) -> 0 | BP7: =IF(Loading!J45<0, 0, Loading!J45) -> 0 | BQ7: =IF(Loading!J85<0, 0, Loading!J85) -> 0 | BR7: =IF(Loading!J125<0, 0, Loading!J125) -> 0 | BS7: =IF(Loading!J165<0, 0, Loading!J165) -> 0 | BT7: =IF(Loading!J205<0, 0, Loading!J205) -> 0 | BU7: =IF(Loading!J245<0, 0, Loading!J245) -> 0 | BV7: =IF(Loading!J285<0, 0, Loading!J285) -> 0 | BW7: =IF(Loading!J325<0, 0, Loading!J325) -> 0 | BX7: =IF(Loading!J365<0, 0, Loading!J365) -> 0 | BY7: =IF(Loading!J405<0, 0, Loading!J405) -> 0 | BZ7: =IF(Loading!J445<0, 0, Loading!J445) -> 0 | CA7: =IF(Loading!J485<0, 0, Loading!J485) -> 0 | CB7: =IF(Loading!J525<0, 0, Loading!J525) -> 0 | CC7: =IF(Loading!J565<0, 0, Loading!J565) -> 0 | CD7: =IF(Loading!J605<0, 0, Loading!J605) -> 0 | CE7: =IF(Loading!K5<0, 0, Loading!K5) -> 0 | CF7: =IF(Loading!K45<0, 0, Loading!K45) -> 0 | CG7: =IF(Loading!K85<0, 0, Loading!K85) -> 0 | CH7: =IF(Loading!K125<0, 0, Loading!K125) -> 0 | CI7: =IF(Loading!K165<0, 0, Loading!K165) -> 0 | CJ7: =IF(Loading!K205<0, 0, Loading!K205) -> 0 | CK7: =IF(Loading!K245<0, 0, Loading!K245) -> 0 | CL7: =IF(Loading!K285<0, 0, Loading!K285) -> 0 | CM7: =IF(Loading!K325<0, 0, Loading!K325) -> 0 | CN7: =IF(Loading!K365<0, 0, Loading!K365) -> 0 | CO7: =IF(Loading!K405<0, 0, Loading!K405) -> 0 | CP7: =IF(Loading!K445<0, 0, Loading!K445) -> 0 | CQ7: =IF(Loading!K485<0, 0, Loading!K485) -> 0 | CR7: =IF(Loading!K525<0, 0, Loading!K525) -> 0 | CS7: =IF(Loading!K565<0, 0, Loading!K565) -> 0 | CT7: =IF(Loading!K605<0, 0, Loading!K605) -> 0 | CU7: =IF(Loading!L5<0, 0, Loading!L5) -> 0 | CV7: =IF(Loading!L45<0, 0, Loading!L45) -> 0 | CW7: =IF(Loading!L85<0, 0, Loading!L85) -> 0 | CX7: =IF(Loading!L125<0, 0, Loading!L125) -> 0 | CY7: =IF(Loading!L165<0, 0, Loading!L165) -> 0 | CZ7: =IF(Loading!L205<0, 0, Loading!L205) -> 0 | DA7: =IF(Loading!L245<0, 0, Loading!L245) -> 0 | DB7: =IF(Loading!L285<0, 0, Loading!L285) -> 0 | DC7: =IF(Loading!L325<0, 0, Loading!L325) -> 0 | DD7: =IF(Loading!L365<0, 0, Loading!L365) -> 0 | DE7: =IF(Loading!L405<0, 0, Loading!L405) -> 0 | DF7: =IF(Loading!L445<0, 0, Loading!L445) -> 0 | DG7: =IF(Loading!L485<0, 0, Loading!L485) -> 0 | DH7: =IF(Loading!L525<0, 0, Loading!L525) -> 0 | DI7: =IF(Loading!L565<0, 0, Loading!L565) -> 0 | DJ7: =IF(Loading!L605<0, 0, Loading!L605) -> 0 | DK7: =IF(Loading!M5<0, 0, Loading!M5) -> 0 | DL7: =IF(Loading!M45<0, 0, Loading!M45) -> 0 | DM7: =IF(Loading!M85<0, 0, Loading!M85) -> 0 | DN7: =IF(Loading!M125<0, 0, Loading!M125) -> 0 | DO7: =IF(Loading!M165<0, 0, Loading!M165) -> 0 | DP7: =IF(Loading!M205<0, 0, Loading!M205) -> 0 | DQ7: =IF(Loading!M245<0, 0, Loading!M245) -> 0 | DR7: =IF(Loading!M285<0, 0, Loading!M285) -> 0 | DS7: =IF(Loading!M325<0, 0, Loading!M325) -> 0 | DT7: =IF(Loading!M365<0, 0, Loading!M365) -> 0 | DU7: =IF(Loading!M405<0, 0, Loading!M405) -> 0 | DV7: =IF(Loading!M445<0, 0, Loading!M445) -> 0 | DW7: =IF(Loading!M485<0, 0, Loading!M485) -> 0 | DX7: =IF(Loading!M525<0, 0, Loading!M525) -> 0 | DY7: =IF(Loading!M565<0, 0, Loading!M565) -> 0 | DZ7: =IF(Loading!M605<0, 0, Loading!M605) -> 0 | EA7: =IF(Loading!N5<0, 0, Loading!N5) -> 0 | EB7: =IF(Loading!N45<0, 0, Loading!N45) -> 0 | EC7: =IF(Loading!N85<0, 0, Loading!N85) -> 0 | ED7: =IF(Loading!N125<0, 0, Loading!N125) -> 0 | EE7: =IF(Loading!N165<0, 0, Loading!N165) -> 0 | EF7: =IF(Loading!N205<0, 0, Loading!N205) -> 0 | EG7: =IF(Loading!N245<0, 0, Loading!N245) -> 0 | EH7: =IF(Loading!N285<0, 0, Loading!N285) -> 0 | EI7: =IF(Loading!N325<0, 0, Loading!N325) -> 0 | EJ7: =IF(Loading!N365<0, 0, Loading!N365) -> 0 | EK7: =IF(Loading!N405<0, 0, Loading!N405) -> 0 | EL7: =IF(Loading!N445<0, 0, Loading!N445) -> 0 | EM7: =IF(Loading!N485<0, 0, Loading!N485) -> 0 | EN7: =IF(Loading!N525<0, 0, Loading!N525) -> 0 | EO7: =IF(Loading!N565<0, 0, Loading!N565) -> 0 | EP7: =IF(Loading!N605<0, 0, Loading!N605) -> 0 | EQ7: =IF(Loading!O5<0, 0, Loading!O5) -> 0 | ER7: =IF(Loading!O45<0, 0, Loading!O45) -> 0 | ES7: =IF(Loading!O85<0, 0, Loading!O85) -> 0 | ET7: =IF(Loading!O125<0, 0, Loading!O125) -> 0 | EU7: =IF(Loading!O165<0, 0, Loading!O165) -> 0 | EV7: =IF(Loading!O205<0, 0, Loading!O205) -> 0 | EW7: =IF(Loading!O245<0, 0, Loading!O245) -> 0 | EX7: =IF(Loading!O285<0, 0, Loading!O285) -> 0 | EY7: =IF(Loading!O325<0, 0, Loading!O325) -> 0 | EZ7: =IF(Loading!O365<0, 0, Loading!O365) -> 0 | FA7: =IF(Loading!O405<0, 0, Loading!O405) -> 0 | FB7: =IF(Loading!O445<0, 0, Loading!O445) -> 0 | FC7: =IF(Loading!O485<0, 0, Loading!O485) -> 0 | FD7: =IF(Loading!O525<0, 0, Loading!O525) -> 0 | FE7: =IF(Loading!O565<0, 0, Loading!O565) -> 0 | FF7: =IF(Loading!O605<0, 0, Loading!O605) -> 0 | FG7: =IF(Loading!P5<0, 0, Loading!P5) -> 0 | FH7: =IF(Loading!P45<0, 0, Loading!P45) -> 0 | FI7: =IF(Loading!P85<0, 0, Loading!P85) -> 0 | FJ7: =IF(Loading!P125<0, 0, Loading!P125) -> 0 | FK7: =IF(Loading!P165<0, 0, Loading!P165) -> 0 | FL7: =IF(Loading!P205<0, 0, Loading!P205) -> 0 | FM7: =IF(Loading!P245<0, 0, Loading!P245) -> 0 | FN7: =IF(Loading!P285<0, 0, Loading!P285) -> 0 | FO7: =IF(Loading!P325<0, 0, Loading!P325) -> 0 | FP7: =IF(Loading!P365<0, 0, Loading!P365) -> 0 | FQ7: =IF(Loading!P405<0, 0, Loading!P405) -> 0 | FR7: =IF(Loading!P445<0, 0, Loading!P445) -> 0 | FS7: =IF(Loading!P485<0, 0, Loading!P485) -> 0 | FT7: =IF(Loading!P525<0, 0, Loading!P525) -> 0 | FU7: =IF(Loading!P565<0, 0, Loading!P565) -> 0 | FV7: =IF(Loading!P605<0, 0, Loading!P605) -> 0 | FW7: =IF(Loading!Q5<0, 0, Loading!Q5) -> 0 | FX7: =IF(Loading!Q45<0, 0, Loading!Q45) -> 0 | FY7: =IF(Loading!Q85<0, 0, Loading!Q85) -> 0 | FZ7: =IF(Loading!Q125<0, 0, Loading!Q125) -> 0 | GA7: =IF(Loading!Q165<0, 0, Loading!Q165) -> 0 | GB7: =IF(Loading!Q205<0, 0, Loading!Q205) -> 0 | GC7: =IF(Loading!Q245<0, 0, Loading!Q245) -> 0 | GD7: =IF(Loading!Q285<0, 0, Loading!Q285) -> 0 | GE7: =IF(Loading!Q325<0, 0, Loading!Q325) -> 0 | GF7: =IF(Loading!Q365<0, 0, Loading!Q365) -> 0 | GG7: =IF(Loading!Q405<0, 0, Loading!Q405) -> 0 | GH7: =IF(Loading!Q445<0, 0, Loading!Q445) -> 0 | GI7: =IF(Loading!Q485<0, 0, Loading!Q485) -> 0 | GJ7: =IF(Loading!Q525<0, 0, Loading!Q525) -> 0 | GK7: =IF(Loading!Q565<0, 0, Loading!Q565) -> 0 | GL7: =IF(Loading!Q605<0, 0, Loading!Q605) -> 0 | GM7: =IF(Loading!R5<0, 0, Loading!R5) -> 0 | GN7: =IF(Loading!R45<0, 0, Loading!R45) -> 0 | GO7: =IF(Loading!R85<0, 0, Loading!R85) -> 0 | GP7: =IF(Loading!R125<0, 0, Loading!R125) -> 0 | GQ7: =IF(Loading!R165<0, 0, Loading!R165) -> 0 | GR7: =IF(Loading!R205<0, 0, Loading!R205) -> 0 | GS7: =IF(Loading!R245<0, 0, Loading!R245) -> 0 | GT7: =IF(Loading!R285<0, 0, Loading!R285) -> 0 | GU7: =IF(Loading!R325<0, 0, Loading!R325) -> 0 | GV7: =IF(Loading!R365<0, 0, Loading!R365) -> 0 | GW7: =IF(Loading!R405<0, 0, Loading!R405) -> 0 | GX7: =IF(Loading!R445<0, 0, Loading!R445) -> 0 | GY7: =IF(Loading!R485<0, 0, Loading!R485) -> 0 | GZ7: =IF(Loading!R525<0, 0, Loading!R525) -> 0 | HA7: =IF(Loading!R565<0, 0, Loading!R565) -> 0 | HB7: =IF(Loading!R605<0, 0, Loading!R605) -> 0 | HC7: =IF(Loading!S5<0, 0, Loading!S5) -> 0 | HD7: =IF(Loading!S45<0, 0, Loading!S45) -> 0 | HE7: =IF(Loading!S85<0, 0, Loading!S85) -> 0 | HF7: =IF(Loading!S125<0, 0, Loading!S125) -> 0 | HG7: =IF(Loading!S165<0, 0, Loading!S165) -> 0 | HH7: =IF(Loading!S205<0, 0, Loading!S205) -> 0 | HI7: =IF(Loading!S245<0, 0, Loading!S245) -> 0 | HJ7: =IF(Loading!S285<0, 0, Loading!S285) -> 0 | HK7: =IF(Loading!S325<0, 0, Loading!S325) -> 0 | HL7: =IF(Loading!S365<0, 0, Loading!S365) -> 0 | HM7: =IF(Loading!S405<0, 0, Loading!S405) -> 0 | HN7: =IF(Loading!S445<0, 0, Loading!S445) -> 0 | HO7: =IF(Loading!S485<0, 0, Loading!S485) -> 0 | HP7: =IF(Loading!S525<0, 0, Loading!S525) -> 0 | HQ7: =IF(Loading!S565<0, 0, Loading!S565) -> 0 | HR7: =IF(Loading!S605<0, 0, Loading!S605) -> 0 | HS7: =IF(Loading!T5<0, 0, Loading!T5) -> 0 | HT7: =IF(Loading!T45<0, 0, Loading!T45) -> 0 | HU7: =IF(Loading!T85<0, 0, Loading!T85) -> 0 | HV7: =IF(Loading!T125<0, 0, Loading!T125) -> 0 | HW7: =IF(Loading!T165<0, 0, Loading!T165) -> 0 | HX7: =IF(Loading!T205<0, 0, Loading!T205) -> 0 | HY7: =IF(Loading!T245<0, 0, Loading!T245) -> 0 | HZ7: =IF(Loading!T285<0, 0, Loading!T285) -> 0 | IA7: =IF(Loading!T325<0, 0, Loading!T325) -> 0 | IB7: =IF(Loading!T365<0, 0, Loading!T365) -> 0 | IC7: =IF(Loading!T405<0, 0, Loading!T405) -> 0 | ID7: =IF(Loading!T445<0, 0, Loading!T445) -> 0 | IE7: =IF(Loading!T485<0, 0, Loading!T485) -> 0 | IF7: =IF(Loading!T525<0, 0, Loading!T525) -> 0 | IG7: =IF(Loading!T565<0, 0, Loading!T565) -> 0 | IH7: =IF(Loading!T605<0, 0, Loading!T605) -> 0 | II7: =IF(Loading!U5<0, 0, Loading!U5) -> 0 | IJ7: =IF(Loading!U45<0, 0, Loading!U45) -> 0 | IK7: =IF(Loading!U85<0, 0, Loading!U85) -> 0 | IL7: =IF(Loading!U125<0, 0, Loading!U125) -> 0 | IM7: =IF(Loading!U165<0, 0, Loading!U165) -> 0 | IN7: =IF(Loading!U205<0, 0, Loading!U205) -> 0 | IO7: =IF(Loading!U245<0, 0, Loading!U245) -> 0 | IP7: =IF(Loading!U285<0, 0, Loading!U285) -> 0 | IQ7: =IF(Loading!U325<0, 0, Loading!U325) -> 0 | IR7: =IF(Loading!U365<0, 0, Loading!U365) -> 0 | IS7: =IF(Loading!U405<0, 0, Loading!U405) -> 0 | IT7: =IF(Loading!U445<0, 0, Loading!U445) -> 0 | IU7: =IF(Loading!U485<0, 0, Loading!U485) -> 0 | IV7: =IF(Loading!U525<0, 0, Loading!U525) -> 0 | IW7: =IF(Loading!U565<0, 0, Loading!U565) -> 0 | IX7: =IF(Loading!U605<0, 0, Loading!U605) -> 0 | IY7: =IF(Loading!V5<0, 0, Loading!V5) -> 0 | IZ7: =IF(Loading!V45<0, 0, Loading!V45) -> 0 | JA7: =IF(Loading!V85<0, 0, Loading!V85) -> 0 | JB7: =IF(Loading!V125<0, 0, Loading!V125) -> 0 | JC7: =IF(Loading!V165<0, 0, Loading!V165) -> 0 | JD7: =IF(Loading!V205<0, 0, Loading!V205) -> 0 | JE7: =IF(Loading!V245<0, 0, Loading!V245) -> 0 | JF7: =IF(Loading!V285<0, 0, Loading!V285) -> 0 | JG7: =IF(Loading!V325<0, 0, Loading!V325) -> 0 | JH7: =IF(Loading!V365<0, 0, Loading!V365) -> 0 | JI7: =IF(Loading!V405<0, 0, Loading!V405) -> 0 | JJ7: =IF(Loading!V445<0, 0, Loading!V445) -> 0 | JK7: =IF(Loading!V485<0, 0, Loading!V485) -> 0 | JL7: =IF(Loading!V525<0, 0, Loading!V525) -> 0 | JM7: =IF(Loading!V565<0, 0, Loading!V565) -> 0 | JN7: =IF(Loading!V605<0, 0, Loading!V605) -> 0 | JO7: =IF(Loading!W5<0, 0, Loading!W5) -> 0 | JP7: =IF(Loading!W45<0, 0, Loading!W45) -> 0 | JQ7: =IF(Loading!W85<0, 0, Loading!W85) -> 0 | JR7: =IF(Loading!W125<0, 0, Loading!W125) -> 0 | JS7: =IF(Loading!W165<0, 0, Loading!W165) -> 0 | JT7: =IF(Loading!W205<0, 0, Loading!W205) -> 0 | JU7: =IF(Loading!W245<0, 0, Loading!W245) -> 0 | JV7: =IF(Loading!W285<0, 0, Loading!W285) -> 0 | JW7: =IF(Loading!W325<0, 0, Loading!W325) -> 0 | JX7: =IF(Loading!W365<0, 0, Loading!W365) -> 0 | JY7: =IF(Loading!W405<0, 0, Loading!W405) -> 0 | JZ7: =IF(Loading!W445<0, 0, Loading!W445) -> 0 | KA7: =IF(Loading!W485<0, 0, Loading!W485) -> 0 | KB7: =IF(Loading!W525<0, 0, Loading!W525) -> 0 | KC7: =IF(Loading!W565<0, 0, Loading!W565) -> 0 | KD7: =IF(Loading!W605<0, 0, Loading!W605) -> 0 | KE7: =IF(Loading!X5<0, 0, Loading!X5) -> 0 | KF7: =IF(Loading!X45<0, 0, Loading!X45) -> 0 | KG7: =IF(Loading!X85<0, 0, Loading!X85) -> 0 | KH7: =IF(Loading!X125<0, 0, Loading!X125) -> 0 | KI7: =IF(Loading!X165<0, 0, Loading!X165) -> 0 | KJ7: =IF(Loading!X205<0, 0, Loading!X205) -> 0 | KK7: =IF(Loading!X245<0, 0, Loading!X245) -> 0 | KL7: =IF(Loading!X285<0, 0, Loading!X285) -> 0 | KM7: =IF(Loading!X325<0, 0, Loading!X325) -> 0 | KN7: =IF(Loading!X365<0, 0, Loading!X365) -> 0 | KO7: =IF(Loading!X405<0, 0, Loading!X405) -> 0 | KP7: =IF(Loading!X445<0, 0, Loading!X445) -> 0 | KQ7: =IF(Loading!X485<0, 0, Loading!X485) -> 0 | KR7: =IF(Loading!X525<0, 0, Loading!X525) -> 0 | KS7: =IF(Loading!X565<0, 0, Loading!X565) -> 0 | KT7: =IF(Loading!X605<0, 0, Loading!X605) -> 0 | KU7: =IF(Loading!Y5<0, 0, Loading!Y5) -> 0 | KV7: =IF(Loading!Y45<0, 0, Loading!Y45) -> 0 | KW7: =IF(Loading!Y85<0, 0, Loading!Y85) -> 0 | KX7: =IF(Loading!Y125<0, 0, Loading!Y125) -> 0 | KY7: =IF(Loading!Y165<0, 0, Loading!Y165) -> 0 | KZ7: =IF(Loading!Y205<0, 0, Loading!Y205) -> 0 | LA7: =IF(Loading!Y245<0, 0, Loading!Y245) -> 0 | LB7: =IF(Loading!Y285<0, 0, Loading!Y285) -> 0 | LC7: =IF(Loading!Y325<0, 0, Loading!Y325) -> 0 | LD7: =IF(Loading!Y365<0, 0, Loading!Y365) -> 0 | LE7: =IF(Loading!Y405<0, 0, Loading!Y405) -> 0 | LF7: =IF(Loading!Y445<0, 0, Loading!Y445) -> 0 | LG7: =IF(Loading!Y485<0, 0, Loading!Y485) -> 0 | LH7: =IF(Loading!Y525<0, 0, Loading!Y525) -> 0 | LI7: =IF(Loading!Y565<0, 0, Loading!Y565) -> 0 | LJ7: =IF(Loading!Y605<0, 0, Loading!Y605) -> 0 | LK7: =IF(Loading!Z5<0, 0, Loading!Z5) -> 0 | LL7: =IF(Loading!Z45<0, 0, Loading!Z45) -> 0 | LM7: =IF(Loading!Z85<0, 0, Loading!Z85) -> 0 | LN7: =IF(Loading!Z125<0, 0, Loading!Z125) -> 0 | LO7: =IF(Loading!Z165<0, 0, Loading!Z165) -> 0 | LP7: =IF(Loading!Z205<0, 0, Loading!Z205) -> 0 | LQ7: =IF(Loading!Z245<0, 0, Loading!Z245) -> 0 | LR7: =IF(Loading!Z285<0, 0, Loading!Z285) -> 0 | LS7: =IF(Loading!Z325<0, 0, Loading!Z325) -> 0 | LT7: =IF(Loading!Z365<0, 0, Loading!Z365) -> 0 | LU7: =IF(Loading!Z405<0, 0, Loading!Z405) -> 0 | LV7: =IF(Loading!Z445<0, 0, Loading!Z445) -> 0 | LW7: =IF(Loading!Z485<0, 0, Loading!Z485) -> 0 | LX7: =IF(Loading!Z525<0, 0, Loading!Z525) -> 0 | LY7: =IF(Loading!Z565<0, 0, Loading!Z565) -> 0 | LZ7: =IF(Loading!Z605<0, 0, Loading!Z605) -> 0 | MA7: =IF(Loading!AA5<0, 0, Loading!AA5) -> 0 | MB7: =IF(Loading!AA45<0, 0, Loading!AA45) -> 0 | MC7: =IF(Loading!AA85<0, 0, Loading!AA85) -> 0 | MD7: =IF(Loading!AA125<0, 0, Loading!AA125) -> 0 | ME7: =IF(Loading!AA165<0, 0, Loading!AA165) -> 0 | MF7: =IF(Loading!AA205<0, 0, Loading!AA205) -> 0 | MG7: =IF(Loading!AA245<0, 0, Loading!AA245) -> 0 | MH7: =IF(Loading!AA285<0, 0, Loading!AA285) -> 0 | MI7: =IF(Loading!AA325<0, 0, Loading!AA325) -> 0 | MJ7: =IF(Loading!AA365<0, 0, Loading!AA365) -> 0 | MK7: =IF(Loading!AA405<0, 0, Loading!AA405) -> 0 | ML7: =IF(Loading!AA445<0, 0, Loading!AA445) -> 0 | MM7: =IF(Loading!AA485<0, 0, Loading!AA485) -> 0 | MN7: =IF(Loading!AA525<0, 0, Loading!AA525) -> 0 | MO7: =IF(Loading!AA565<0, 0, Loading!AA565) -> 0 | MP7: =IF(Loading!AA605<0, 0, Loading!AA605) -> 0 | MQ7: =IF(Loading!AB5<0, 0, Loading!AB5) -> 0 | MR7: =IF(Loading!AB45<0, 0, Loading!AB45) -> 0 | MS7: =IF(Loading!AB85<0, 0, Loading!AB85) -> 0 | MT7: =IF(Loading!AB125<0, 0, Loading!AB125) -> 0 | MU7: =IF(Loading!AB165<0, 0, Loading!AB165) -> 0 | MV7: =IF(Loading!AB205<0, 0, Loading!AB205) -> 0 | MW7: =IF(Loading!AB245<0, 0, Loading!AB245) -> 0 | MX7: =IF(Loading!AB285<0, 0, Loading!AB285) -> 0 | MY7: =IF(Loading!AB325<0, 0, Loading!AB325) -> 0 | MZ7: =IF(Loading!AB365<0, 0, Loading!AB365) -> 0 | NA7: =IF(Loading!AB405<0, 0, Loading!AB405) -> 0 | NB7: =IF(Loading!AB445<0, 0, Loading!AB445) -> 0 | NC7: =IF(Loading!AB485<0, 0, Loading!AB485) -> 0 | ND7: =IF(Loading!AB525<0, 0, Loading!AB525) -> 0 | NE7: =IF(Loading!AB565<0, 0, Loading!AB565) -> 0 | NF7: =IF(Loading!AB605<0, 0, Loading!AB605) -> 0 | NG7: =IF(Loading!AC5<0, 0, Loading!AC5) -> 0 | NH7: =IF(Loading!AC45<0, 0, Loading!AC45) -> 0 | NI7: =IF(Loading!AC85<0, 0, Loading!AC85) -> 0 | NJ7: =IF(Loading!AC125<0, 0, Loading!AC125) -> 0 | NK7: =IF(Loading!AC165<0, 0, Loading!AC165) -> 0 | NL7: =IF(Loading!AC205<0, 0, Loading!AC205) -> 0 | NM7: =IF(Loading!AC245<0, 0, Loading!AC245) -> 0 | NN7: =IF(Loading!AC285<0, 0, Loading!AC285) -> 0 | NO7: =IF(Loading!AC325<0, 0, Loading!AC325) -> 0 | NP7: =IF(Loading!AC365<0, 0, Loading!AC365) -> 0 | NQ7: =IF(Loading!AC405<0, 0, Loading!AC405) -> 0 | NR7: =IF(Loading!AC445<0, 0, Loading!AC445) -> 0 | NS7: =IF(Loading!AC485<0, 0, Loading!AC485) -> 0 | NT7: =IF(Loading!AC525<0, 0, Loading!AC525) -> 0 | NU7: =IF(Loading!AC565<0, 0, Loading!AC565) -> 0 | NV7: =IF(Loading!AC605<0, 0, Loading!AC605) -> 0 | NW7: =IF(Loading!AD5<0, 0, Loading!AD5) -> 0 | NX7: =IF(Loading!AD45<0, 0, Loading!AD45) -> 0 | NY7: =IF(Loading!AD85<0, 0, Loading!AD85) -> 0 | NZ7: =IF(Loading!AD125<0, 0, Loading!AD125) -> 0 | OA7: =IF(Loading!AD165<0, 0, Loading!AD165) -> 0 | OB7: =IF(Loading!AD205<0, 0, Loading!AD205) -> 0 | OC7: =IF(Loading!AD245<0, 0, Loading!AD245) -> 0 | OD7: =IF(Loading!AD285<0, 0, Loading!AD285) -> 0 | OE7: =IF(Loading!AD325<0, 0, Loading!AD325) -> 0 | OF7: =IF(Loading!AD365<0, 0, Loading!AD365) -> 0 | OG7: =IF(Loading!AD405<0, 0, Loading!AD405) -> 0 | OH7: =IF(Loading!AD445<0, 0, Loading!AD445) -> 0 | OI7: =IF(Loading!AD485<0, 0, Loading!AD485) -> 0 | OJ7: =IF(Loading!AD525<0, 0, Loading!AD525) -> 0 | OK7: =IF(Loading!AD565<0, 0, Loading!AD565) -> 0 | OL7: =IF(Loading!AD605<0, 0, Loading!AD605) -> 0 | OM7: =IF(Loading!AE5<0, 0, Loading!AE5) -> 0 | ON7: =IF(Loading!AE45<0, 0, Loading!AE45) -> 0 | OO7: =IF(Loading!AE85<0, 0, Loading!AE85) -> 0 | OP7: =IF(Loading!AE125<0, 0, Loading!AE125) -> 0 | OQ7: =IF(Loading!AE165<0, 0, Loading!AE165) -> 0 | OR7: =IF(Loading!AE205<0, 0, Loading!AE205) -> 0 | OS7: =IF(Loading!AE245<0, 0, Loading!AE245) -> 0 | OT7: =IF(Loading!AE285<0, 0, Loading!AE285) -> 0 | OU7: =IF(Loading!AE325<0, 0, Loading!AE325) -> 0 | OV7: =IF(Loading!AE365<0, 0, Loading!AE365) -> 0 | OW7: =IF(Loading!AE405<0, 0, Loading!AE405) -> 0 | OX7: =IF(Loading!AE445<0, 0, Loading!AE445) -> 0 | OY7: =IF(Loading!AE485<0, 0, Loading!AE485) -> 0 | OZ7: =IF(Loading!AE525<0, 0, Loading!AE525) -> 0 | PA7: =IF(Loading!AE565<0, 0, Loading!AE565) -> 0 | PB7: =IF(Loading!AE605<0, 0, Loading!AE605) -> 0 | PC7: =IF(Loading!AF5<0, 0, Loading!AF5) -> 0 | PD7: =IF(Loading!AF45<0, 0, Loading!AF45) -> 0 | PE7: =IF(Loading!AF85<0, 0, Loading!AF85) -> 0 | PF7: =IF(Loading!AF125<0, 0, Loading!AF125) -> 0 | PG7: =IF(Loading!AF165<0, 0, Loading!AF165) -> 0 | PH7: =IF(Loading!AF205<0, 0, Loading!AF205) -> 0 | PI7: =IF(Loading!AF245<0, 0, Loading!AF245) -> 0 | PJ7: =IF(Loading!AF285<0, 0, Loading!AF285) -> 0 | PK7: =IF(Loading!AF325<0, 0, Loading!AF325) -> 0 | PL7: =IF(Loading!AF365<0, 0, Loading!AF365) -> 0 | PM7: =IF(Loading!AF405<0, 0, Loading!AF405) -> 0 | PN7: =IF(Loading!AF445<0, 0, Loading!AF445) -> 0 | PO7: =IF(Loading!AF485<0, 0, Loading!AF485) -> 0 | PP7: =IF(Loading!AF525<0, 0, Loading!AF525) -> 0 | PQ7: =IF(Loading!AF565<0, 0, Loading!AF565) -> 0 | PR7: =IF(Loading!AF605<0, 0, Loading!AF605) -> 0 | PS7: =IF(Loading!AG5<0, 0, Loading!AG5) -> 0 | PT7: =IF(Loading!AG45<0, 0, Loading!AG45) -> 0 | PU7: =IF(Loading!AG85<0, 0, Loading!AG85) -> 0 | PV7: =IF(Loading!AG125<0, 0, Loading!AG125) -> 0 | PW7: =IF(Loading!AG165<0, 0, Loading!AG165) -> 0 | PX7: =IF(Loading!AG205<0, 0, Loading!AG205) -> 0 | PY7: =IF(Loading!AG245<0, 0, Loading!AG245) -> 0 | PZ7: =IF(Loading!AG285<0, 0, Loading!AG285) -> 0 | QA7: =IF(Loading!AG325<0, 0, Loading!AG325) -> 0 | QB7: =IF(Loading!AG365<0, 0, Loading!AG365) -> 0 | QC7: =IF(Loading!AG405<0, 0, Loading!AG405) -> 0 | QD7: =IF(Loading!AG445<0, 0, Loading!AG445) -> 0 | QE7: =IF(Loading!AG485<0, 0, Loading!AG485) -> 0 | QF7: =IF(Loading!AG525<0, 0, Loading!AG525) -> 0 | QG7: =IF(Loading!AG565<0, 0, Loading!AG565) -> 0 | QH7: =IF(Loading!AG605<0, 0, Loading!AG605) -> 0 | QI7: =IF(Loading!AH5<0, 0, Loading!AH5) -> 0 | QJ7: =IF(Loading!AH45<0, 0, Loading!AH45) -> 0 | QK7: =IF(Loading!AH85<0, 0, Loading!AH85) -> 0 | QL7: =IF(Loading!AH125<0, 0, Loading!AH125) -> 0 | QM7: =IF(Loading!AH165<0, 0, Loading!AH165) -> 0 | QN7: =IF(Loading!AH205<0, 0, Loading!AH205) -> 0 | QO7: =IF(Loading!AH245<0, 0, Loading!AH245) -> 0 | QP7: =IF(Loading!AH285<0, 0, Loading!AH285) -> 0 | QQ7: =IF(Loading!AH325<0, 0, Loading!AH325) -> 0 | QR7: =IF(Loading!AH365<0, 0, Loading!AH365) -> 0 | QS7: =IF(Loading!AH405<0, 0, Loading!AH405) -> 0 | QT7: =IF(Loading!AH445<0, 0, Loading!AH445) -> 0 | QU7: =IF(Loading!AH485<0, 0, Loading!AH485) -> 0 | QV7: =IF(Loading!AH525<0, 0, Loading!AH525) -> 0 | QW7: =IF(Loading!AH565<0, 0, Loading!AH565) -> 0 | QX7: =IF(Loading!AH605<0, 0, Loading!AH605) -> 0 | QY7: =IF(Loading!AI5<0, 0, Loading!AI5) -> 0 | QZ7: =IF(Loading!AI45<0, 0, Loading!AI45) -> 0 | RA7: =IF(Loading!AI85<0, 0, Loading!AI85) -> 0 | RB7: =IF(Loading!AI125<0, 0, Loading!AI125) -> 0 | RC7: =IF(Loading!AI165<0, 0, Loading!AI165) -> 0 | RD7: =IF(Loading!AI205<0, 0, Loading!AI205) -> 0 | RE7: =IF(Loading!AI245<0, 0, Loading!AI245) -> 0 | RF7: =IF(Loading!AI285<0, 0, Loading!AI285) -> 0 | RG7: =IF(Loading!AI325<0, 0, Loading!AI325) -> 0 | RH7: =IF(Loading!AI365<0, 0, Loading!AI365) -> 0 | RI7: =IF(Loading!AI405<0, 0, Loading!AI405) -> 0 | RJ7: =IF(Loading!AI445<0, 0, Loading!AI445) -> 0 | RK7: =IF(Loading!AI485<0, 0, Loading!AI485) -> 0 | RL7: =IF(Loading!AI525<0, 0, Loading!AI525) -> 0 | RM7: =IF(Loading!AI565<0, 0, Loading!AI565) -> 0 | RN7: =IF(Loading!AI605<0, 0, Loading!AI605) -> 0
B8: =B7 -> POS1 | C8: =IF(Loading!F6<0, 0, Loading!F6) -> 0 | D8: =IF(Loading!F46<0, 0, Loading!F46) -> 0 | E8: =IF(Loading!F86<0, 0, Loading!F86) -> 0 | F8: =IF(Loading!F126<0, 0, Loading!F126) -> 0 | G8: =IF(Loading!F166<0, 0, Loading!F166) -> 0 | H8: =IF(Loading!F206<0, 0, Loading!F206) -> 0 | I8: =IF(Loading!F246<0, 0, Loading!F246) -> 0 | J8: =IF(Loading!F286<0, 0, Loading!F286) -> 0 | K8: =IF(Loading!F326<0, 0, Loading!F326) -> 0 | L8: =IF(Loading!F366<0, 0, Loading!F366) -> 0 | M8: =IF(Loading!F406<0, 0, Loading!F406) -> 0 | N8: =IF(Loading!F446<0, 0, Loading!F446) -> 0 | O8: =IF(Loading!F486<0, 0, Loading!F486) -> 0 | P8: =IF(Loading!F526<0, 0, Loading!F526) -> 0 | Q8: =IF(Loading!F566<0, 0, Loading!F566) -> 0 | R8: =IF(Loading!F606<0, 0, Loading!F606) -> 0 | S8: =IF(Loading!G6<0, 0, Loading!G6) -> 0 | T8: =IF(Loading!G46<0, 0, Loading!G46) -> 0 | U8: =IF(Loading!G86<0, 0, Loading!G86) -> 0 | V8: =IF(Loading!G126<0, 0, Loading!G126) -> 0 | W8: =IF(Loading!G166<0, 0, Loading!G166) -> 0 | X8: =IF(Loading!G206<0, 0, Loading!G206) -> 0 | Y8: =IF(Loading!G246<0, 0, Loading!G246) -> 0 | Z8: =IF(Loading!G286<0, 0, Loading!G286) -> 0 | AA8: =IF(Loading!G326<0, 0, Loading!G326) -> 0 | AB8: =IF(Loading!G366<0, 0, Loading!G366) -> 0 | AC8: =IF(Loading!G406<0, 0, Loading!G406) -> 0 | AD8: =IF(Loading!G446<0, 0, Loading!G446) -> 0 | AE8: =IF(Loading!G486<0, 0, Loading!G486) -> 0 | AF8: =IF(Loading!G526<0, 0, Loading!G526) -> 0 | AG8: =IF(Loading!G566<0, 0, Loading!G566) -> 0 | AH8: =IF(Loading!G606<0, 0, Loading!G606) -> 0 | AI8: =IF(Loading!H6<0, 0, Loading!H6) -> 0 | AJ8: =IF(Loading!H46<0, 0, Loading!H46) -> 0 | AK8: =IF(Loading!H86<0, 0, Loading!H86) -> 0 | AL8: =IF(Loading!H126<0, 0, Loading!H126) -> 0 | AM8: =IF(Loading!H166<0, 0, Loading!H166) -> 0 | AN8: =IF(Loading!H206<0, 0, Loading!H206) -> 0 | AO8: =IF(Loading!H246<0, 0, Loading!H246) -> 0 | AP8: =IF(Loading!H286<0, 0, Loading!H286) -> 0 | AQ8: =IF(Loading!H326<0, 0, Loading!H326) -> 0 | AR8: =IF(Loading!H366<0, 0, Loading!H366) -> 0 | AS8: =IF(Loading!H406<0, 0, Loading!H406) -> 0 | AT8: =IF(Loading!H446<0, 0, Loading!H446) -> 0 | AU8: =IF(Loading!H486<0, 0, Loading!H486) -> 0 | AV8: =IF(Loading!H526<0, 0, Loading!H526) -> 0 | AW8: =IF(Loading!H566<0, 0, Loading!H566) -> 0 | AX8: =IF(Loading!H606<0, 0, Loading!H606) -> 0 | AY8: =IF(Loading!I6<0, 0, Loading!I6) -> 0 | AZ8: =IF(Loading!I46<0, 0, Loading!I46) -> 0 | BA8: =IF(Loading!I86<0, 0, Loading!I86) -> 0 | BB8: =IF(Loading!I126<0, 0, Loading!I126) -> 0 | BC8: =IF(Loading!I166<0, 0, Loading!I166) -> 0 | BD8: =IF(Loading!I206<0, 0, Loading!I206) -> 0 | BE8: =IF(Loading!I246<0, 0, Loading!I246) -> 0 | BF8: =IF(Loading!I286<0, 0, Loading!I286) -> 0 | BG8: =IF(Loading!I326<0, 0, Loading!I326) -> 0 | BH8: =IF(Loading!I366<0, 0, Loading!I366) -> 0 | BI8: =IF(Loading!I406<0, 0, Loading!I406) -> 0 | BJ8: =IF(Loading!I446<0, 0, Loading!I446) -> 0 | BK8: =IF(Loading!I486<0, 0, Loading!I486) -> 0 | BL8: =IF(Loading!I526<0, 0, Loading!I526) -> 0 | BM8: =IF(Loading!I566<0, 0, Loading!I566) -> 0 | BN8: =IF(Loading!I606<0, 0, Loading!I606) -> 0 | BO8: =IF(Loading!J6<0, 0, Loading!J6) -> 0 | BP8: =IF(Loading!J46<0, 0, Loading!J46) -> 0 | BQ8: =IF(Loading!J86<0, 0, Loading!J86) -> 0 | BR8: =IF(Loading!J126<0, 0, Loading!J126) -> 0 | BS8: =IF(Loading!J166<0, 0, Loading!J166) -> 0 | BT8: =IF(Loading!J206<0, 0, Loading!J206) -> 0 | BU8: =IF(Loading!J246<0, 0, Loading!J246) -> 0 | BV8: =IF(Loading!J286<0, 0, Loading!J286) -> 0 | BW8: =IF(Loading!J326<0, 0, Loading!J326) -> 0 | BX8: =IF(Loading!J366<0, 0, Loading!J366) -> 0 | BY8: =IF(Loading!J406<0, 0, Loading!J406) -> 0 | BZ8: =IF(Loading!J446<0, 0, Loading!J446) -> 0 | CA8: =IF(Loading!J486<0, 0, Loading!J486) -> 0 | CB8: =IF(Loading!J526<0, 0, Loading!J526) -> 0 | CC8: =IF(Loading!J566<0, 0, Loading!J566) -> 0 | CD8: =IF(Loading!J606<0, 0, Loading!J606) -> 0 | CE8: =IF(Loading!K6<0, 0, Loading!K6) -> 0 | CF8: =IF(Loading!K46<0, 0, Loading!K46) -> 0 | CG8: =IF(Loading!K86<0, 0, Loading!K86) -> 0 | CH8: =IF(Loading!K126<0, 0, Loading!K126) -> 0 | CI8: =IF(Loading!K166<0, 0, Loading!K166) -> 0 | CJ8: =IF(Loading!K206<0, 0, Loading!K206) -> 0 | CK8: =IF(Loading!K246<0, 0, Loading!K246) -> 0 | CL8: =IF(Loading!K286<0, 0, Loading!K286) -> 0 | CM8: =IF(Loading!K326<0, 0, Loading!K326) -> 0 | CN8: =IF(Loading!K366<0, 0, Loading!K366) -> 0 | CO8: =IF(Loading!K406<0, 0, Loading!K406) -> 0 | CP8: =IF(Loading!K446<0, 0, Loading!K446) -> 0 | CQ8: =IF(Loading!K486<0, 0, Loading!K486) -> 0 | CR8: =IF(Loading!K526<0, 0, Loading!K526) -> 0 | CS8: =IF(Loading!K566<0, 0, Loading!K566) -> 0 | CT8: =IF(Loading!K606<0, 0, Loading!K606) -> 0 | CU8: =IF(Loading!L6<0, 0, Loading!L6) -> 0 | CV8: =IF(Loading!L46<0, 0, Loading!L46) -> 0 | CW8: =IF(Loading!L86<0, 0, Loading!L86) -> 0 | CX8: =IF(Loading!L126<0, 0, Loading!L126) -> 0 | CY8: =IF(Loading!L166<0, 0, Loading!L166) -> 0 | CZ8: =IF(Loading!L206<0, 0, Loading!L206) -> 0 | DA8: =IF(Loading!L246<0, 0, Loading!L246) -> 0 | DB8: =IF(Loading!L286<0, 0, Loading!L286) -> 0 | DC8: =IF(Loading!L326<0, 0, Loading!L326) -> 0 | DD8: =IF(Loading!L366<0, 0, Loading!L366) -> 0 | DE8: =IF(Loading!L406<0, 0, Loading!L406) -> 0 | DF8: =IF(Loading!L446<0, 0, Loading!L446) -> 0 | DG8: =IF(Loading!L486<0, 0, Loading!L486) -> 0 | DH8: =IF(Loading!L526<0, 0, Loading!L526) -> 0 | DI8: =IF(Loading!L566<0, 0, Loading!L566) -> 0 | DJ8: =IF(Loading!L606<0, 0, Loading!L606) -> 0 | DK8: =IF(Loading!M6<0, 0, Loading!M6) -> 0 | DL8: =IF(Loading!M46<0, 0, Loading!M46) -> 0 | DM8: =IF(Loading!M86<0, 0, Loading!M86) -> 0 | DN8: =IF(Loading!M126<0, 0, Loading!M126) -> 0 | DO8: =IF(Loading!M166<0, 0, Loading!M166) -> 0 | DP8: =IF(Loading!M206<0, 0, Loading!M206) -> 0 | DQ8: =IF(Loading!M246<0, 0, Loading!M246) -> 0 | DR8: =IF(Loading!M286<0, 0, Loading!M286) -> 0 | DS8: =IF(Loading!M326<0, 0, Loading!M326) -> 0 | DT8: =IF(Loading!M366<0, 0, Loading!M366) -> 0 | DU8: =IF(Loading!M406<0, 0, Loading!M406) -> 0 | DV8: =IF(Loading!M446<0, 0, Loading!M446) -> 0 | DW8: =IF(Loading!M486<0, 0, Loading!M486) -> 0 | DX8: =IF(Loading!M526<0, 0, Loading!M526) -> 0 | DY8: =IF(Loading!M566<0, 0, Loading!M566) -> 0 | DZ8: =IF(Loading!M606<0, 0, Loading!M606) -> 0 | EA8: =IF(Loading!N6<0, 0, Loading!N6) -> 0 | EB8: =IF(Loading!N46<0, 0, Loading!N46) -> 0 | EC8: =IF(Loading!N86<0, 0, Loading!N86) -> 0 | ED8: =IF(Loading!N126<0, 0, Loading!N126) -> 0 | EE8: =IF(Loading!N166<0, 0, Loading!N166) -> 0 | EF8: =IF(Loading!N206<0, 0, Loading!N206) -> 0 | EG8: =IF(Loading!N246<0, 0, Loading!N246) -> 0 | EH8: =IF(Loading!N286<0, 0, Loading!N286) -> 0 | EI8: =IF(Loading!N326<0, 0, Loading!N326) -> 0 | EJ8: =IF(Loading!N366<0, 0, Loading!N366) -> 0 | EK8: =IF(Loading!N406<0, 0, Loading!N406) -> 0 | EL8: =IF(Loading!N446<0, 0, Loading!N446) -> 0 | EM8: =IF(Loading!N486<0, 0, Loading!N486) -> 0 | EN8: =IF(Loading!N526<0, 0, Loading!N526) -> 0 | EO8: =IF(Loading!N566<0, 0, Loading!N566) -> 0 | EP8: =IF(Loading!N606<0, 0, Loading!N606) -> 0 | EQ8: =IF(Loading!O6<0, 0, Loading!O6) -> 0 | ER8: =IF(Loading!O46<0, 0, Loading!O46) -> 0 | ES8: =IF(Loading!O86<0, 0, Loading!O86) -> 0 | ET8: =IF(Loading!O126<0, 0, Loading!O126) -> 0 | EU8: =IF(Loading!O166<0, 0, Loading!O166) -> 0 | EV8: =IF(Loading!O206<0, 0, Loading!O206) -> 0 | EW8: =IF(Loading!O246<0, 0, Loading!O246) -> 0 | EX8: =IF(Loading!O286<0, 0, Loading!O286) -> 0 | EY8: =IF(Loading!O326<0, 0, Loading!O326) -> 0 | EZ8: =IF(Loading!O366<0, 0, Loading!O366) -> 0 | FA8: =IF(Loading!O406<0, 0, Loading!O406) -> 0 | FB8: =IF(Loading!O446<0, 0, Loading!O446) -> 0 | FC8: =IF(Loading!O486<0, 0, Loading!O486) -> 0 | FD8: =IF(Loading!O526<0, 0, Loading!O526) -> 0 | FE8: =IF(Loading!O566<0, 0, Loading!O566) -> 0 | FF8: =IF(Loading!O606<0, 0, Loading!O606) -> 0 | FG8: =IF(Loading!P6<0, 0, Loading!P6) -> 0 | FH8: =IF(Loading!P46<0, 0, Loading!P46) -> 0 | FI8: =IF(Loading!P86<0, 0, Loading!P86) -> 0 | FJ8: =IF(Loading!P126<0, 0, Loading!P126) -> 0 | FK8: =IF(Loading!P166<0, 0, Loading!P166) -> 0 | FL8: =IF(Loading!P206<0, 0, Loading!P206) -> 0 | FM8: =IF(Loading!P246<0, 0, Loading!P246) -> 0 | FN8: =IF(Loading!P286<0, 0, Loading!P286) -> 0 | FO8: =IF(Loading!P326<0, 0, Loading!P326) -> 0 | FP8: =IF(Loading!P366<0, 0, Loading!P366) -> 0 | FQ8: =IF(Loading!P406<0, 0, Loading!P406) -> 0 | FR8: =IF(Loading!P446<0, 0, Loading!P446) -> 0 | FS8: =IF(Loading!P486<0, 0, Loading!P486) -> 0 | FT8: =IF(Loading!P526<0, 0, Loading!P526) -> 0 | FU8: =IF(Loading!P566<0, 0, Loading!P566) -> 0 | FV8: =IF(Loading!P606<0, 0, Loading!P606) -> 0 | FW8: =IF(Loading!Q6<0, 0, Loading!Q6) -> 0 | FX8: =IF(Loading!Q46<0, 0, Loading!Q46) -> 0 | FY8: =IF(Loading!Q86<0, 0, Loading!Q86) -> 0 | FZ8: =IF(Loading!Q126<0, 0, Loading!Q126) -> 0 | GA8: =IF(Loading!Q166<0, 0, Loading!Q166) -> 0 | GB8: =IF(Loading!Q206<0, 0, Loading!Q206) -> 0 | GC8: =IF(Loading!Q246<0, 0, Loading!Q246) -> 0 | GD8: =IF(Loading!Q286<0, 0, Loading!Q286) -> 0 | GE8: =IF(Loading!Q326<0, 0, Loading!Q326) -> 0 | GF8: =IF(Loading!Q366<0, 0, Loading!Q366) -> 0 | GG8: =IF(Loading!Q406<0, 0, Loading!Q406) -> 0 | GH8: =IF(Loading!Q446<0, 0, Loading!Q446) -> 0 | GI8: =IF(Loading!Q486<0, 0, Loading!Q486) -> 0 | GJ8: =IF(Loading!Q526<0, 0, Loading!Q526) -> 0 | GK8: =IF(Loading!Q566<0, 0, Loading!Q566) -> 0 | GL8: =IF(Loading!Q606<0, 0, Loading!Q606) -> 0 | GM8: =IF(Loading!R6<0, 0, Loading!R6) -> 0 | GN8: =IF(Loading!R46<0, 0, Loading!R46) -> 0 | GO8: =IF(Loading!R86<0, 0, Loading!R86) -> 0 | GP8: =IF(Loading!R126<0, 0, Loading!R126) -> 0 | GQ8: =IF(Loading!R166<0, 0, Loading!R166) -> 0 | GR8: =IF(Loading!R206<0, 0, Loading!R206) -> 0 | GS8: =IF(Loading!R246<0, 0, Loading!R246) -> 0 | GT8: =IF(Loading!R286<0, 0, Loading!R286) -> 0 | GU8: =IF(Loading!R326<0, 0, Loading!R326) -> 0 | GV8: =IF(Loading!R366<0, 0, Loading!R366) -> 0 | GW8: =IF(Loading!R406<0, 0, Loading!R406) -> 0 | GX8: =IF(Loading!R446<0, 0, Loading!R446) -> 0 | GY8: =IF(Loading!R486<0, 0, Loading!R486) -> 0 | GZ8: =IF(Loading!R526<0, 0, Loading!R526) -> 0 | HA8: =IF(Loading!R566<0, 0, Loading!R566) -> 0 | HB8: =IF(Loading!R606<0, 0, Loading!R606) -> 0 | HC8: =IF(Loading!S6<0, 0, Loading!S6) -> 0 | HD8: =IF(Loading!S46<0, 0, Loading!S46) -> 0 | HE8: =IF(Loading!S86<0, 0, Loading!S86) -> 0 | HF8: =IF(Loading!S126<0, 0, Loading!S126) -> 0 | HG8: =IF(Loading!S166<0, 0, Loading!S166) -> 0 | HH8: =IF(Loading!S206<0, 0, Loading!S206) -> 0 | HI8: =IF(Loading!S246<0, 0, Loading!S246) -> 0 | HJ8: =IF(Loading!S286<0, 0, Loading!S286) -> 0 | HK8: =IF(Loading!S326<0, 0, Loading!S326) -> 0 | HL8: =IF(Loading!S366<0, 0, Loading!S366) -> 0 | HM8: =IF(Loading!S406<0, 0, Loading!S406) -> 0 | HN8: =IF(Loading!S446<0, 0, Loading!S446) -> 0 | HO8: =IF(Loading!S486<0, 0, Loading!S486) -> 0 | HP8: =IF(Loading!S526<0, 0, Loading!S526) -> 0 | HQ8: =IF(Loading!S566<0, 0, Loading!S566) -> 0 | HR8: =IF(Loading!S606<0, 0, Loading!S606) -> 0 | HS8: =IF(Loading!T6<0, 0, Loading!T6) -> 0 | HT8: =IF(Loading!T46<0, 0, Loading!T46) -> 0 | HU8: =IF(Loading!T86<0, 0, Loading!T86) -> 0 | HV8: =IF(Loading!T126<0, 0, Loading!T126) -> 0 | HW8: =IF(Loading!T166<0, 0, Loading!T166) -> 0 | HX8: =IF(Loading!T206<0, 0, Loading!T206) -> 0 | HY8: =IF(Loading!T246<0, 0, Loading!T246) -> 0 | HZ8: =IF(Loading!T286<0, 0, Loading!T286) -> 0 | IA8: =IF(Loading!T326<0, 0, Loading!T326) -> 0 | IB8: =IF(Loading!T366<0, 0, Loading!T366) -> 0 | IC8: =IF(Loading!T406<0, 0, Loading!T406) -> 0 | ID8: =IF(Loading!T446<0, 0, Loading!T446) -> 0 | IE8: =IF(Loading!T486<0, 0, Loading!T486) -> 0 | IF8: =IF(Loading!T526<0, 0, Loading!T526) -> 0 | IG8: =IF(Loading!T566<0, 0, Loading!T566) -> 0 | IH8: =IF(Loading!T606<0, 0, Loading!T606) -> 0 | II8: =IF(Loading!U6<0, 0, Loading!U6) -> 0 | IJ8: =IF(Loading!U46<0, 0, Loading!U46) -> 0 | IK8: =IF(Loading!U86<0, 0, Loading!U86) -> 0 | IL8: =IF(Loading!U126<0, 0, Loading!U126) -> 0 | IM8: =IF(Loading!U166<0, 0, Loading!U166) -> 0 | IN8: =IF(Loading!U206<0, 0, Loading!U206) -> 0 | IO8: =IF(Loading!U246<0, 0, Loading!U246) -> 0 | IP8: =IF(Loading!U286<0, 0, Loading!U286) -> 0 | IQ8: =IF(Loading!U326<0, 0, Loading!U326) -> 0 | IR8: =IF(Loading!U366<0, 0, Loading!U366) -> 0 | IS8: =IF(Loading!U406<0, 0, Loading!U406) -> 0 | IT8: =IF(Loading!U446<0, 0, Loading!U446) -> 0 | IU8: =IF(Loading!U486<0, 0, Loading!U486) -> 0 | IV8: =IF(Loading!U526<0, 0, Loading!U526) -> 0 | IW8: =IF(Loading!U566<0, 0, Loading!U566) -> 0 | IX8: =IF(Loading!U606<0, 0, Loading!U606) -> 0 | IY8: =IF(Loading!V6<0, 0, Loading!V6) -> 0 | IZ8: =IF(Loading!V46<0, 0, Loading!V46) -> 0 | JA8: =IF(Loading!V86<0, 0, Loading!V86) -> 0 | JB8: =IF(Loading!V126<0, 0, Loading!V126) -> 0 | JC8: =IF(Loading!V166<0, 0, Loading!V166) -> 0 | JD8: =IF(Loading!V206<0, 0, Loading!V206) -> 0 | JE8: =IF(Loading!V246<0, 0, Loading!V246) -> 0 | JF8: =IF(Loading!V286<0, 0, Loading!V286) -> 0 | JG8: =IF(Loading!V326<0, 0, Loading!V326) -> 0 | JH8: =IF(Loading!V366<0, 0, Loading!V366) -> 0 | JI8: =IF(Loading!V406<0, 0, Loading!V406) -> 0 | JJ8: =IF(Loading!V446<0, 0, Loading!V446) -> 0 | JK8: =IF(Loading!V486<0, 0, Loading!V486) -> 0 | JL8: =IF(Loading!V526<0, 0, Loading!V526) -> 0 | JM8: =IF(Loading!V566<0, 0, Loading!V566) -> 0 | JN8: =IF(Loading!V606<0, 0, Loading!V606) -> 0 | JO8: =IF(Loading!W6<0, 0, Loading!W6) -> 0 | JP8: =IF(Loading!W46<0, 0, Loading!W46) -> 0 | JQ8: =IF(Loading!W86<0, 0, Loading!W86) -> 0 | JR8: =IF(Loading!W126<0, 0, Loading!W126) -> 0 | JS8: =IF(Loading!W166<0, 0, Loading!W166) -> 0 | JT8: =IF(Loading!W206<0, 0, Loading!W206) -> 0 | JU8: =IF(Loading!W246<0, 0, Loading!W246) -> 0 | JV8: =IF(Loading!W286<0, 0, Loading!W286) -> 0 | JW8: =IF(Loading!W326<0, 0, Loading!W326) -> 0 | JX8: =IF(Loading!W366<0, 0, Loading!W366) -> 0 | JY8: =IF(Loading!W406<0, 0, Loading!W406) -> 0 | JZ8: =IF(Loading!W446<0, 0, Loading!W446) -> 0 | KA8: =IF(Loading!W486<0, 0, Loading!W486) -> 0 | KB8: =IF(Loading!W526<0, 0, Loading!W526) -> 0 | KC8: =IF(Loading!W566<0, 0, Loading!W566) -> 0 | KD8: =IF(Loading!W606<0, 0, Loading!W606) -> 0 | KE8: =IF(Loading!X6<0, 0, Loading!X6) -> 0 | KF8: =IF(Loading!X46<0, 0, Loading!X46) -> 0 | KG8: =IF(Loading!X86<0, 0, Loading!X86) -> 0 | KH8: =IF(Loading!X126<0, 0, Loading!X126) -> 0 | KI8: =IF(Loading!X166<0, 0, Loading!X166) -> 0 | KJ8: =IF(Loading!X206<0, 0, Loading!X206) -> 0 | KK8: =IF(Loading!X246<0, 0, Loading!X246) -> 0 | KL8: =IF(Loading!X286<0, 0, Loading!X286) -> 0 | KM8: =IF(Loading!X326<0, 0, Loading!X326) -> 0 | KN8: =IF(Loading!X366<0, 0, Loading!X366) -> 0 | KO8: =IF(Loading!X406<0, 0, Loading!X406) -> 0 | KP8: =IF(Loading!X446<0, 0, Loading!X446) -> 0 | KQ8: =IF(Loading!X486<0, 0, Loading!X486) -> 0 | KR8: =IF(Loading!X526<0, 0, Loading!X526) -> 0 | KS8: =IF(Loading!X566<0, 0, Loading!X566) -> 0 | KT8: =IF(Loading!X606<0, 0, Loading!X606) -> 0 | KU8: =IF(Loading!Y6<0, 0, Loading!Y6) -> 0 | KV8: =IF(Loading!Y46<0, 0, Loading!Y46) -> 0 | KW8: =IF(Loading!Y86<0, 0, Loading!Y86) -> 0 | KX8: =IF(Loading!Y126<0, 0, Loading!Y126) -> 0 | KY8: =IF(Loading!Y166<0, 0, Loading!Y166) -> 0 | KZ8: =IF(Loading!Y206<0, 0, Loading!Y206) -> 0 | LA8: =IF(Loading!Y246<0, 0, Loading!Y246) -> 0 | LB8: =IF(Loading!Y286<0, 0, Loading!Y286) -> 0 | LC8: =IF(Loading!Y326<0, 0, Loading!Y326) -> 0 | LD8: =IF(Loading!Y366<0, 0, Loading!Y366) -> 0 | LE8: =IF(Loading!Y406<0, 0, Loading!Y406) -> 0 | LF8: =IF(Loading!Y446<0, 0, Loading!Y446) -> 0 | LG8: =IF(Loading!Y486<0, 0, Loading!Y486) -> 0 | LH8: =IF(Loading!Y526<0, 0, Loading!Y526) -> 0 | LI8: =IF(Loading!Y566<0, 0, Loading!Y566) -> 0 | LJ8: =IF(Loading!Y606<0, 0, Loading!Y606) -> 0 | LK8: =IF(Loading!Z6<0, 0, Loading!Z6) -> 0 | LL8: =IF(Loading!Z46<0, 0, Loading!Z46) -> 0 | LM8: =IF(Loading!Z86<0, 0, Loading!Z86) -> 0 | LN8: =IF(Loading!Z126<0, 0, Loading!Z126) -> 0 | LO8: =IF(Loading!Z166<0, 0, Loading!Z166) -> 0 | LP8: =IF(Loading!Z206<0, 0, Loading!Z206) -> 0 | LQ8: =IF(Loading!Z246<0, 0, Loading!Z246) -> 0 | LR8: =IF(Loading!Z286<0, 0, Loading!Z286) -> 0 | LS8: =IF(Loading!Z326<0, 0, Loading!Z326) -> 0 | LT8: =IF(Loading!Z366<0, 0, Loading!Z366) -> 0 | LU8: =IF(Loading!Z406<0, 0, Loading!Z406) -> 0 | LV8: =IF(Loading!Z446<0, 0, Loading!Z446) -> 0 | LW8: =IF(Loading!Z486<0, 0, Loading!Z486) -> 0 | LX8: =IF(Loading!Z526<0, 0, Loading!Z526) -> 0 | LY8: =IF(Loading!Z566<0, 0, Loading!Z566) -> 0 | LZ8: =IF(Loading!Z606<0, 0, Loading!Z606) -> 0 | MA8: =IF(Loading!AA6<0, 0, Loading!AA6) -> 0 | MB8: =IF(Loading!AA46<0, 0, Loading!AA46) -> 0 | MC8: =IF(Loading!AA86<0, 0, Loading!AA86) -> 0 | MD8: =IF(Loading!AA126<0, 0, Loading!AA126) -> 0 | ME8: =IF(Loading!AA166<0, 0, Loading!AA166) -> 0 | MF8: =IF(Loading!AA206<0, 0, Loading!AA206) -> 0 | MG8: =IF(Loading!AA246<0, 0, Loading!AA246) -> 0 | MH8: =IF(Loading!AA286<0, 0, Loading!AA286) -> 0 | MI8: =IF(Loading!AA326<0, 0, Loading!AA326) -> 0 | MJ8: =IF(Loading!AA366<0, 0, Loading!AA366) -> 0 | MK8: =IF(Loading!AA406<0, 0, Loading!AA406) -> 0 | ML8: =IF(Loading!AA446<0, 0, Loading!AA446) -> 0 | MM8: =IF(Loading!AA486<0, 0, Loading!AA486) -> 0 | MN8: =IF(Loading!AA526<0, 0, Loading!AA526) -> 0 | MO8: =IF(Loading!AA566<0, 0, Loading!AA566) -> 0 | MP8: =IF(Loading!AA606<0, 0, Loading!AA606) -> 0 | MQ8: =IF(Loading!AB6<0, 0, Loading!AB6) -> 0 | MR8: =IF(Loading!AB46<0, 0, Loading!AB46) -> 0 | MS8: =IF(Loading!AB86<0, 0, Loading!AB86) -> 0 | MT8: =IF(Loading!AB126<0, 0, Loading!AB126) -> 0 | MU8: =IF(Loading!AB166<0, 0, Loading!AB166) -> 0 | MV8: =IF(Loading!AB206<0, 0, Loading!AB206) -> 0 | MW8: =IF(Loading!AB246<0, 0, Loading!AB246) -> 0 | MX8: =IF(Loading!AB286<0, 0, Loading!AB286) -> 0 | MY8: =IF(Loading!AB326<0, 0, Loading!AB326) -> 0 | MZ8: =IF(Loading!AB366<0, 0, Loading!AB366) -> 0 | NA8: =IF(Loading!AB406<0, 0, Loading!AB406) -> 0 | NB8: =IF(Loading!AB446<0, 0, Loading!AB446) -> 0 | NC8: =IF(Loading!AB486<0, 0, Loading!AB486) -> 0 | ND8: =IF(Loading!AB526<0, 0, Loading!AB526) -> 0 | NE8: =IF(Loading!AB566<0, 0, Loading!AB566) -> 0 | NF8: =IF(Loading!AB606<0, 0, Loading!AB606) -> 0 | NG8: =IF(Loading!AC6<0, 0, Loading!AC6) -> 0 | NH8: =IF(Loading!AC46<0, 0, Loading!AC46) -> 0 | NI8: =IF(Loading!AC86<0, 0, Loading!AC86) -> 0 | NJ8: =IF(Loading!AC126<0, 0, Loading!AC126) -> 0 | NK8: =IF(Loading!AC166<0, 0, Loading!AC166) -> 0 | NL8: =IF(Loading!AC206<0, 0, Loading!AC206) -> 0 | NM8: =IF(Loading!AC246<0, 0, Loading!AC246) -> 0 | NN8: =IF(Loading!AC286<0, 0, Loading!AC286) -> 0 | NO8: =IF(Loading!AC326<0, 0, Loading!AC326) -> 0 | NP8: =IF(Loading!AC366<0, 0, Loading!AC366) -> 0 | NQ8: =IF(Loading!AC406<0, 0, Loading!AC406) -> 0 | NR8: =IF(Loading!AC446<0, 0, Loading!AC446) -> 0 | NS8: =IF(Loading!AC486<0, 0, Loading!AC486) -> 0 | NT8: =IF(Loading!AC526<0, 0, Loading!AC526) -> 0 | NU8: =IF(Loading!AC566<0, 0, Loading!AC566) -> 0 | NV8: =IF(Loading!AC606<0, 0, Loading!AC606) -> 0 | NW8: =IF(Loading!AD6<0, 0, Loading!AD6) -> 0 | NX8: =IF(Loading!AD46<0, 0, Loading!AD46) -> 0 | NY8: =IF(Loading!AD86<0, 0, Loading!AD86) -> 0 | NZ8: =IF(Loading!AD126<0, 0, Loading!AD126) -> 0 | OA8: =IF(Loading!AD166<0, 0, Loading!AD166) -> 0 | OB8: =IF(Loading!AD206<0, 0, Loading!AD206) -> 0 | OC8: =IF(Loading!AD246<0, 0, Loading!AD246) -> 0 | OD8: =IF(Loading!AD286<0, 0, Loading!AD286) -> 0 | OE8: =IF(Loading!AD326<0, 0, Loading!AD326) -> 0 | OF8: =IF(Loading!AD366<0, 0, Loading!AD366) -> 0 | OG8: =IF(Loading!AD406<0, 0, Loading!AD406) -> 0 | OH8: =IF(Loading!AD446<0, 0, Loading!AD446) -> 0 | OI8: =IF(Loading!AD486<0, 0, Loading!AD486) -> 0 | OJ8: =IF(Loading!AD526<0, 0, Loading!AD526) -> 0 | OK8: =IF(Loading!AD566<0, 0, Loading!AD566) -> 0 | OL8: =IF(Loading!AD606<0, 0, Loading!AD606) -> 0 | OM8: =IF(Loading!AE6<0, 0, Loading!AE6) -> 0 | ON8: =IF(Loading!AE46<0, 0, Loading!AE46) -> 0 | OO8: =IF(Loading!AE86<0, 0, Loading!AE86) -> 0 | OP8: =IF(Loading!AE126<0, 0, Loading!AE126) -> 0 | OQ8: =IF(Loading!AE166<0, 0, Loading!AE166) -> 0 | OR8: =IF(Loading!AE206<0, 0, Loading!AE206) -> 0 | OS8: =IF(Loading!AE246<0, 0, Loading!AE246) -> 0 | OT8: =IF(Loading!AE286<0, 0, Loading!AE286) -> 0 | OU8: =IF(Loading!AE326<0, 0, Loading!AE326) -> 0 | OV8: =IF(Loading!AE366<0, 0, Loading!AE366) -> 0 | OW8: =IF(Loading!AE406<0, 0, Loading!AE406) -> 0 | OX8: =IF(Loading!AE446<0, 0, Loading!AE446) -> 0 | OY8: =IF(Loading!AE486<0, 0, Loading!AE486) -> 0 | OZ8: =IF(Loading!AE526<0, 0, Loading!AE526) -> 0 | PA8: =IF(Loading!AE566<0, 0, Loading!AE566) -> 0 | PB8: =IF(Loading!AE606<0, 0, Loading!AE606) -> 0 | PC8: =IF(Loading!AF6<0, 0, Loading!AF6) -> 0 | PD8: =IF(Loading!AF46<0, 0, Loading!AF46) -> 0 | PE8: =IF(Loading!AF86<0, 0, Loading!AF86) -> 0 | PF8: =IF(Loading!AF126<0, 0, Loading!AF126) -> 0 | PG8: =IF(Loading!AF166<0, 0, Loading!AF166) -> 0 | PH8: =IF(Loading!AF206<0, 0, Loading!AF206) -> 0 | PI8: =IF(Loading!AF246<0, 0, Loading!AF246) -> 0 | PJ8: =IF(Loading!AF286<0, 0, Loading!AF286) -> 0 | PK8: =IF(Loading!AF326<0, 0, Loading!AF326) -> 0 | PL8: =IF(Loading!AF366<0, 0, Loading!AF366) -> 0 | PM8: =IF(Loading!AF406<0, 0, Loading!AF406) -> 0 | PN8: =IF(Loading!AF446<0, 0, Loading!AF446) -> 0 | PO8: =IF(Loading!AF486<0, 0, Loading!AF486) -> 0 | PP8: =IF(Loading!AF526<0, 0, Loading!AF526) -> 0 | PQ8: =IF(Loading!AF566<0, 0, Loading!AF566) -> 0 | PR8: =IF(Loading!AF606<0, 0, Loading!AF606) -> 0 | PS8: =IF(Loading!AG6<0, 0, Loading!AG6) -> 0 | PT8: =IF(Loading!AG46<0, 0, Loading!AG46) -> 0 | PU8: =IF(Loading!AG86<0, 0, Loading!AG86) -> 0 | PV8: =IF(Loading!AG126<0, 0, Loading!AG126) -> 0 | PW8: =IF(Loading!AG166<0, 0, Loading!AG166) -> 0 | PX8: =IF(Loading!AG206<0, 0, Loading!AG206) -> 0 | PY8: =IF(Loading!AG246<0, 0, Loading!AG246) -> 0 | PZ8: =IF(Loading!AG286<0, 0, Loading!AG286) -> 0 | QA8: =IF(Loading!AG326<0, 0, Loading!AG326) -> 0 | QB8: =IF(Loading!AG366<0, 0, Loading!AG366) -> 0 | QC8: =IF(Loading!AG406<0, 0, Loading!AG406) -> 0 | QD8: =IF(Loading!AG446<0, 0, Loading!AG446) -> 0 | QE8: =IF(Loading!AG486<0, 0, Loading!AG486) -> 0 | QF8: =IF(Loading!AG526<0, 0, Loading!AG526) -> 0 | QG8: =IF(Loading!AG566<0, 0, Loading!AG566) -> 0 | QH8: =IF(Loading!AG606<0, 0, Loading!AG606) -> 0 | QI8: =IF(Loading!AH6<0, 0, Loading!AH6) -> 0 | QJ8: =IF(Loading!AH46<0, 0, Loading!AH46) -> 0 | QK8: =IF(Loading!AH86<0, 0, Loading!AH86) -> 0 | QL8: =IF(Loading!AH126<0, 0, Loading!AH126) -> 0 | QM8: =IF(Loading!AH166<0, 0, Loading!AH166) -> 0 | QN8: =IF(Loading!AH206<0, 0, Loading!AH206) -> 0 | QO8: =IF(Loading!AH246<0, 0, Loading!AH246) -> 0 | QP8: =IF(Loading!AH286<0, 0, Loading!AH286) -> 0 | QQ8: =IF(Loading!AH326<0, 0, Loading!AH326) -> 0 | QR8: =IF(Loading!AH366<0, 0, Loading!AH366) -> 0 | QS8: =IF(Loading!AH406<0, 0, Loading!AH406) -> 0 | QT8: =IF(Loading!AH446<0, 0, Loading!AH446) -> 0 | QU8: =IF(Loading!AH486<0, 0, Loading!AH486) -> 0 | QV8: =IF(Loading!AH526<0, 0, Loading!AH526) -> 0 | QW8: =IF(Loading!AH566<0, 0, Loading!AH566) -> 0 | QX8: =IF(Loading!AH606<0, 0, Loading!AH606) -> 0 | QY8: =IF(Loading!AI6<0, 0, Loading!AI6) -> 0 | QZ8: =IF(Loading!AI46<0, 0, Loading!AI46) -> 0 | RA8: =IF(Loading!AI86<0, 0, Loading!AI86) -> 0 | RB8: =IF(Loading!AI126<0, 0, Loading!AI126) -> 0 | RC8: =IF(Loading!AI166<0, 0, Loading!AI166) -> 0 | RD8: =IF(Loading!AI206<0, 0, Loading!AI206) -> 0 | RE8: =IF(Loading!AI246<0, 0, Loading!AI246) -> 0 | RF8: =IF(Loading!AI286<0, 0, Loading!AI286) -> 0 | RG8: =IF(Loading!AI326<0, 0, Loading!AI326) -> 0 | RH8: =IF(Loading!AI366<0, 0, Loading!AI366) -> 0 | RI8: =IF(Loading!AI406<0, 0, Loading!AI406) -> 0 | RJ8: =IF(Loading!AI446<0, 0, Loading!AI446) -> 0 | RK8: =IF(Loading!AI486<0, 0, Loading!AI486) -> 0 | RL8: =IF(Loading!AI526<0, 0, Loading!AI526) -> 0 | RM8: =IF(Loading!AI566<0, 0, Loading!AI566) -> 0 | RN8: =IF(Loading!AI606<0, 0, Loading!AI606) -> 0
B9: =Map!F6 -> POS2 | C9: =IF(Loading!F7<0, 0, Loading!F7) -> 0 | D9: =IF(Loading!F47<0, 0, Loading!F47) -> 0 | E9: =IF(Loading!F87<0, 0, Loading!F87) -> 0 | F9: =IF(Loading!F127<0, 0, Loading!F127) -> 0 | G9: =IF(Loading!F167<0, 0, Loading!F167) -> 0 | H9: =IF(Loading!F207<0, 0, Loading!F207) -> 0 | I9: =IF(Loading!F247<0, 0, Loading!F247) -> 0 | J9: =IF(Loading!F287<0, 0, Loading!F287) -> 0 | K9: =IF(Loading!F327<0, 0, Loading!F327) -> 0 | L9: =IF(Loading!F367<0, 0, Loading!F367) -> 0 | M9: =IF(Loading!F407<0, 0, Loading!F407) -> 0 | N9: =IF(Loading!F447<0, 0, Loading!F447) -> 0 | O9: =IF(Loading!F487<0, 0, Loading!F487) -> 0 | P9: =IF(Loading!F527<0, 0, Loading!F527) -> 0 | Q9: =IF(Loading!F567<0, 0, Loading!F567) -> 0 | R9: =IF(Loading!F607<0, 0, Loading!F607) -> 0 | S9: =IF(Loading!G7<0, 0, Loading!G7) -> 0 | T9: =IF(Loading!G47<0, 0, Loading!G47) -> 0 | U9: =IF(Loading!G87<0, 0, Loading!G87) -> 0 | V9: =IF(Loading!G127<0, 0, Loading!G127) -> 0 | W9: =IF(Loading!G167<0, 0, Loading!G167) -> 0 | X9: =IF(Loading!G207<0, 0, Loading!G207) -> 0 | Y9: =IF(Loading!G247<0, 0, Loading!G247) -> 0 | Z9: =IF(Loading!G287<0, 0, Loading!G287) -> 0 | AA9: =IF(Loading!G327<0, 0, Loading!G327) -> 0 | AB9: =IF(Loading!G367<0, 0, Loading!G367) -> 0 | AC9: =IF(Loading!G407<0, 0, Loading!G407) -> 0 | AD9: =IF(Loading!G447<0, 0, Loading!G447) -> 0 | AE9: =IF(Loading!G487<0, 0, Loading!G487) -> 0 | AF9: =IF(Loading!G527<0, 0, Loading!G527) -> 0 | AG9: =IF(Loading!G567<0, 0, Loading!G567) -> 0 | AH9: =IF(Loading!G607<0, 0, Loading!G607) -> 0 | AI9: =IF(Loading!H7<0, 0, Loading!H7) -> 0 | AJ9: =IF(Loading!H47<0, 0, Loading!H47) -> 0 | AK9: =IF(Loading!H87<0, 0, Loading!H87) -> 0 | AL9: =IF(Loading!H127<0, 0, Loading!H127) -> 0 | AM9: =IF(Loading!H167<0, 0, Loading!H167) -> 0 | AN9: =IF(Loading!H207<0, 0, Loading!H207) -> 0 | AO9: =IF(Loading!H247<0, 0, Loading!H247) -> 0 | AP9: =IF(Loading!H287<0, 0, Loading!H287) -> 0 | AQ9: =IF(Loading!H327<0, 0, Loading!H327) -> 0 | AR9: =IF(Loading!H367<0, 0, Loading!H367) -> 0 | AS9: =IF(Loading!H407<0, 0, Loading!H407) -> 0 | AT9: =IF(Loading!H447<0, 0, Loading!H447) -> 0 | AU9: =IF(Loading!H487<0, 0, Loading!H487) -> 0 | AV9: =IF(Loading!H527<0, 0, Loading!H527) -> 0 | AW9: =IF(Loading!H567<0, 0, Loading!H567) -> 0 | AX9: =IF(Loading!H607<0, 0, Loading!H607) -> 0 | AY9: =IF(Loading!I7<0, 0, Loading!I7) -> 0 | AZ9: =IF(Loading!I47<0, 0, Loading!I47) -> 0 | BA9: =IF(Loading!I87<0, 0, Loading!I87) -> 0 | BB9: =IF(Loading!I127<0, 0, Loading!I127) -> 0 | BC9: =IF(Loading!I167<0, 0, Loading!I167) -> 0 | BD9: =IF(Loading!I207<0, 0, Loading!I207) -> 0 | BE9: =IF(Loading!I247<0, 0, Loading!I247) -> 0 | BF9: =IF(Loading!I287<0, 0, Loading!I287) -> 0 | BG9: =IF(Loading!I327<0, 0, Loading!I327) -> 0 | BH9: =IF(Loading!I367<0, 0, Loading!I367) -> 0 | BI9: =IF(Loading!I407<0, 0, Loading!I407) -> 0 | BJ9: =IF(Loading!I447<0, 0, Loading!I447) -> 0 | BK9: =IF(Loading!I487<0, 0, Loading!I487) -> 0 | BL9: =IF(Loading!I527<0, 0, Loading!I527) -> 0 | BM9: =IF(Loading!I567<0, 0, Loading!I567) -> 0 | BN9: =IF(Loading!I607<0, 0, Loading!I607) -> 0 | BO9: =IF(Loading!J7<0, 0, Loading!J7) -> 0 | BP9: =IF(Loading!J47<0, 0, Loading!J47) -> 0 | BQ9: =IF(Loading!J87<0, 0, Loading!J87) -> 0 | BR9: =IF(Loading!J127<0, 0, Loading!J127) -> 0 | BS9: =IF(Loading!J167<0, 0, Loading!J167) -> 0 | BT9: =IF(Loading!J207<0, 0, Loading!J207) -> 0 | BU9: =IF(Loading!J247<0, 0, Loading!J247) -> 0 | BV9: =IF(Loading!J287<0, 0, Loading!J287) -> 0 | BW9: =IF(Loading!J327<0, 0, Loading!J327) -> 0 | BX9: =IF(Loading!J367<0, 0, Loading!J367) -> 0 | BY9: =IF(Loading!J407<0, 0, Loading!J407) -> 0 | BZ9: =IF(Loading!J447<0, 0, Loading!J447) -> 0 | CA9: =IF(Loading!J487<0, 0, Loading!J487) -> 0 | CB9: =IF(Loading!J527<0, 0, Loading!J527) -> 0 | CC9: =IF(Loading!J567<0, 0, Loading!J567) -> 0 | CD9: =IF(Loading!J607<0, 0, Loading!J607) -> 0 | CE9: =IF(Loading!K7<0, 0, Loading!K7) -> 0 | CF9: =IF(Loading!K47<0, 0, Loading!K47) -> 0 | CG9: =IF(Loading!K87<0, 0, Loading!K87) -> 0 | CH9: =IF(Loading!K127<0, 0, Loading!K127) -> 0 | CI9: =IF(Loading!K167<0, 0, Loading!K167) -> 0 | CJ9: =IF(Loading!K207<0, 0, Loading!K207) -> 0 | CK9: =IF(Loading!K247<0, 0, Loading!K247) -> 0 | CL9: =IF(Loading!K287<0, 0, Loading!K287) -> 0 | CM9: =IF(Loading!K327<0, 0, Loading!K327) -> 0 | CN9: =IF(Loading!K367<0, 0, Loading!K367) -> 0 | CO9: =IF(Loading!K407<0, 0, Loading!K407) -> 0 | CP9: =IF(Loading!K447<0, 0, Loading!K447) -> 0 | CQ9: =IF(Loading!K487<0, 0, Loading!K487) -> 0 | CR9: =IF(Loading!K527<0, 0, Loading!K527) -> 0 | CS9: =IF(Loading!K567<0, 0, Loading!K567) -> 0 | CT9: =IF(Loading!K607<0, 0, Loading!K607) -> 0 | CU9: =IF(Loading!L7<0, 0, Loading!L7) -> 0 | CV9: =IF(Loading!L47<0, 0, Loading!L47) -> 0 | CW9: =IF(Loading!L87<0, 0, Loading!L87) -> 0 | CX9: =IF(Loading!L127<0, 0, Loading!L127) -> 0 | CY9: =IF(Loading!L167<0, 0, Loading!L167) -> 0 | CZ9: =IF(Loading!L207<0, 0, Loading!L207) -> 0 | DA9: =IF(Loading!L247<0, 0, Loading!L247) -> 0 | DB9: =IF(Loading!L287<0, 0, Loading!L287) -> 0 | DC9: =IF(Loading!L327<0, 0, Loading!L327) -> 0 | DD9: =IF(Loading!L367<0, 0, Loading!L367) -> 0 | DE9: =IF(Loading!L407<0, 0, Loading!L407) -> 0 | DF9: =IF(Loading!L447<0, 0, Loading!L447) -> 0 | DG9: =IF(Loading!L487<0, 0, Loading!L487) -> 0 | DH9: =IF(Loading!L527<0, 0, Loading!L527) -> 0 | DI9: =IF(Loading!L567<0, 0, Loading!L567) -> 0 | DJ9: =IF(Loading!L607<0, 0, Loading!L607) -> 0 | DK9: =IF(Loading!M7<0, 0, Loading!M7) -> 0 | DL9: =IF(Loading!M47<0, 0, Loading!M47) -> 0 | DM9: =IF(Loading!M87<0, 0, Loading!M87) -> 0 | DN9: =IF(Loading!M127<0, 0, Loading!M127) -> 0 | DO9: =IF(Loading!M167<0, 0, Loading!M167) -> 0 | DP9: =IF(Loading!M207<0, 0, Loading!M207) -> 0 | DQ9: =IF(Loading!M247<0, 0, Loading!M247) -> 0 | DR9: =IF(Loading!M287<0, 0, Loading!M287) -> 0 | DS9: =IF(Loading!M327<0, 0, Loading!M327) -> 0 | DT9: =IF(Loading!M367<0, 0, Loading!M367) -> 0 | DU9: =IF(Loading!M407<0, 0, Loading!M407) -> 0 | DV9: =IF(Loading!M447<0, 0, Loading!M447) -> 0 | DW9: =IF(Loading!M487<0, 0, Loading!M487) -> 0 | DX9: =IF(Loading!M527<0, 0, Loading!M527) -> 0 | DY9: =IF(Loading!M567<0, 0, Loading!M567) -> 0 | DZ9: =IF(Loading!M607<0, 0, Loading!M607) -> 0 | EA9: =IF(Loading!N7<0, 0, Loading!N7) -> 0 | EB9: =IF(Loading!N47<0, 0, Loading!N47) -> 0 | EC9: =IF(Loading!N87<0, 0, Loading!N87) -> 0 | ED9: =IF(Loading!N127<0, 0, Loading!N127) -> 0 | EE9: =IF(Loading!N167<0, 0, Loading!N167) -> 0 | EF9: =IF(Loading!N207<0, 0, Loading!N207) -> 0 | EG9: =IF(Loading!N247<0, 0, Loading!N247) -> 0 | EH9: =IF(Loading!N287<0, 0, Loading!N287) -> 0 | EI9: =IF(Loading!N327<0, 0, Loading!N327) -> 0 | EJ9: =IF(Loading!N367<0, 0, Loading!N367) -> 0 | EK9: =IF(Loading!N407<0, 0, Loading!N407) -> 0 | EL9: =IF(Loading!N447<0, 0, Loading!N447) -> 0 | EM9: =IF(Loading!N487<0, 0, Loading!N487) -> 0 | EN9: =IF(Loading!N527<0, 0, Loading!N527) -> 0 | EO9: =IF(Loading!N567<0, 0, Loading!N567) -> 0 | EP9: =IF(Loading!N607<0, 0, Loading!N607) -> 0 | EQ9: =IF(Loading!O7<0, 0, Loading!O7) -> 0 | ER9: =IF(Loading!O47<0, 0, Loading!O47) -> 0 | ES9: =IF(Loading!O87<0, 0, Loading!O87) -> 0 | ET9: =IF(Loading!O127<0, 0, Loading!O127) -> 0 | EU9: =IF(Loading!O167<0, 0, Loading!O167) -> 0 | EV9: =IF(Loading!O207<0, 0, Loading!O207) -> 0 | EW9: =IF(Loading!O247<0, 0, Loading!O247) -> 0 | EX9: =IF(Loading!O287<0, 0, Loading!O287) -> 0 | EY9: =IF(Loading!O327<0, 0, Loading!O327) -> 0 | EZ9: =IF(Loading!O367<0, 0, Loading!O367) -> 0 | FA9: =IF(Loading!O407<0, 0, Loading!O407) -> 0 | FB9: =IF(Loading!O447<0, 0, Loading!O447) -> 0 | FC9: =IF(Loading!O487<0, 0, Loading!O487) -> 0 | FD9: =IF(Loading!O527<0, 0, Loading!O527) -> 0 | FE9: =IF(Loading!O567<0, 0, Loading!O567) -> 0 | FF9: =IF(Loading!O607<0, 0, Loading!O607) -> 0 | FG9: =IF(Loading!P7<0, 0, Loading!P7) -> 0 | FH9: =IF(Loading!P47<0, 0, Loading!P47) -> 0 | FI9: =IF(Loading!P87<0, 0, Loading!P87) -> 0 | FJ9: =IF(Loading!P127<0, 0, Loading!P127) -> 0 | FK9: =IF(Loading!P167<0, 0, Loading!P167) -> 0 | FL9: =IF(Loading!P207<0, 0, Loading!P207) -> 0 | FM9: =IF(Loading!P247<0, 0, Loading!P247) -> 0 | FN9: =IF(Loading!P287<0, 0, Loading!P287) -> 0 | FO9: =IF(Loading!P327<0, 0, Loading!P327) -> 0 | FP9: =IF(Loading!P367<0, 0, Loading!P367) -> 0 | FQ9: =IF(Loading!P407<0, 0, Loading!P407) -> 0 | FR9: =IF(Loading!P447<0, 0, Loading!P447) -> 0 | FS9: =IF(Loading!P487<0, 0, Loading!P487) -> 0 | FT9: =IF(Loading!P527<0, 0, Loading!P527) -> 0 | FU9: =IF(Loading!P567<0, 0, Loading!P567) -> 0 | FV9: =IF(Loading!P607<0, 0, Loading!P607) -> 0 | FW9: =IF(Loading!Q7<0, 0, Loading!Q7) -> 0 | FX9: =IF(Loading!Q47<0, 0, Loading!Q47) -> 0 | FY9: =IF(Loading!Q87<0, 0, Loading!Q87) -> 0 | FZ9: =IF(Loading!Q127<0, 0, Loading!Q127) -> 0 | GA9: =IF(Loading!Q167<0, 0, Loading!Q167) -> 0 | GB9: =IF(Loading!Q207<0, 0, Loading!Q207) -> 0 | GC9: =IF(Loading!Q247<0, 0, Loading!Q247) -> 0 | GD9: =IF(Loading!Q287<0, 0, Loading!Q287) -> 0 | GE9: =IF(Loading!Q327<0, 0, Loading!Q327) -> 0 | GF9: =IF(Loading!Q367<0, 0, Loading!Q367) -> 0 | GG9: =IF(Loading!Q407<0, 0, Loading!Q407) -> 0 | GH9: =IF(Loading!Q447<0, 0, Loading!Q447) -> 0 | GI9: =IF(Loading!Q487<0, 0, Loading!Q487) -> 0 | GJ9: =IF(Loading!Q527<0, 0, Loading!Q527) -> 0 | GK9: =IF(Loading!Q567<0, 0, Loading!Q567) -> 0 | GL9: =IF(Loading!Q607<0, 0, Loading!Q607) -> 0 | GM9: =IF(Loading!R7<0, 0, Loading!R7) -> 0 | GN9: =IF(Loading!R47<0, 0, Loading!R47) -> 0 | GO9: =IF(Loading!R87<0, 0, Loading!R87) -> 0 | GP9: =IF(Loading!R127<0, 0, Loading!R127) -> 0 | GQ9: =IF(Loading!R167<0, 0, Loading!R167) -> 0 | GR9: =IF(Loading!R207<0, 0, Loading!R207) -> 0 | GS9: =IF(Loading!R247<0, 0, Loading!R247) -> 0 | GT9: =IF(Loading!R287<0, 0, Loading!R287) -> 0 | GU9: =IF(Loading!R327<0, 0, Loading!R327) -> 0 | GV9: =IF(Loading!R367<0, 0, Loading!R367) -> 0 | GW9: =IF(Loading!R407<0, 0, Loading!R407) -> 0 | GX9: =IF(Loading!R447<0, 0, Loading!R447) -> 0 | GY9: =IF(Loading!R487<0, 0, Loading!R487) -> 0 | GZ9: =IF(Loading!R527<0, 0, Loading!R527) -> 0 | HA9: =IF(Loading!R567<0, 0, Loading!R567) -> 0 | HB9: =IF(Loading!R607<0, 0, Loading!R607) -> 0 | HC9: =IF(Loading!S7<0, 0, Loading!S7) -> 0 | HD9: =IF(Loading!S47<0, 0, Loading!S47) -> 0 | HE9: =IF(Loading!S87<0, 0, Loading!S87) -> 0 | HF9: =IF(Loading!S127<0, 0, Loading!S127) -> 0 | HG9: =IF(Loading!S167<0, 0, Loading!S167) -> 0 | HH9: =IF(Loading!S207<0, 0, Loading!S207) -> 0 | HI9: =IF(Loading!S247<0, 0, Loading!S247) -> 0 | HJ9: =IF(Loading!S287<0, 0, Loading!S287) -> 0 | HK9: =IF(Loading!S327<0, 0, Loading!S327) -> 0 | HL9: =IF(Loading!S367<0, 0, Loading!S367) -> 0 | HM9: =IF(Loading!S407<0, 0, Loading!S407) -> 0 | HN9: =IF(Loading!S447<0, 0, Loading!S447) -> 0 | HO9: =IF(Loading!S487<0, 0, Loading!S487) -> 0 | HP9: =IF(Loading!S527<0, 0, Loading!S527) -> 0 | HQ9: =IF(Loading!S567<0, 0, Loading!S567) -> 0 | HR9: =IF(Loading!S607<0, 0, Loading!S607) -> 0 | HS9: =IF(Loading!T7<0, 0, Loading!T7) -> 0 | HT9: =IF(Loading!T47<0, 0, Loading!T47) -> 0 | HU9: =IF(Loading!T87<0, 0, Loading!T87) -> 0 | HV9: =IF(Loading!T127<0, 0, Loading!T127) -> 0 | HW9: =IF(Loading!T167<0, 0, Loading!T167) -> 0 | HX9: =IF(Loading!T207<0, 0, Loading!T207) -> 0 | HY9: =IF(Loading!T247<0, 0, Loading!T247) -> 0 | HZ9: =IF(Loading!T287<0, 0, Loading!T287) -> 0 | IA9: =IF(Loading!T327<0, 0, Loading!T327) -> 0 | IB9: =IF(Loading!T367<0, 0, Loading!T367) -> 0 | IC9: =IF(Loading!T407<0, 0, Loading!T407) -> 0 | ID9: =IF(Loading!T447<0, 0, Loading!T447) -> 0 | IE9: =IF(Loading!T487<0, 0, Loading!T487) -> 0 | IF9: =IF(Loading!T527<0, 0, Loading!T527) -> 0 | IG9: =IF(Loading!T567<0, 0, Loading!T567) -> 0 | IH9: =IF(Loading!T607<0, 0, Loading!T607) -> 0 | II9: =IF(Loading!U7<0, 0, Loading!U7) -> 0 | IJ9: =IF(Loading!U47<0, 0, Loading!U47) -> 0 | IK9: =IF(Loading!U87<0, 0, Loading!U87) -> 0 | IL9: =IF(Loading!U127<0, 0, Loading!U127) -> 0 | IM9: =IF(Loading!U167<0, 0, Loading!U167) -> 0 | IN9: =IF(Loading!U207<0, 0, Loading!U207) -> 0 | IO9: =IF(Loading!U247<0, 0, Loading!U247) -> 0 | IP9: =IF(Loading!U287<0, 0, Loading!U287) -> 0 | IQ9: =IF(Loading!U327<0, 0, Loading!U327) -> 0 | IR9: =IF(Loading!U367<0, 0, Loading!U367) -> 0 | IS9: =IF(Loading!U407<0, 0, Loading!U407) -> 0 | IT9: =IF(Loading!U447<0, 0, Loading!U447) -> 0 | IU9: =IF(Loading!U487<0, 0, Loading!U487) -> 0 | IV9: =IF(Loading!U527<0, 0, Loading!U527) -> 0 | IW9: =IF(Loading!U567<0, 0, Loading!U567) -> 0 | IX9: =IF(Loading!U607<0, 0, Loading!U607) -> 0 | IY9: =IF(Loading!V7<0, 0, Loading!V7) -> 0 | IZ9: =IF(Loading!V47<0, 0, Loading!V47) -> 0 | JA9: =IF(Loading!V87<0, 0, Loading!V87) -> 0 | JB9: =IF(Loading!V127<0, 0, Loading!V127) -> 0 | JC9: =IF(Loading!V167<0, 0, Loading!V167) -> 0 | JD9: =IF(Loading!V207<0, 0, Loading!V207) -> 0 | JE9: =IF(Loading!V247<0, 0, Loading!V247) -> 0 | JF9: =IF(Loading!V287<0, 0, Loading!V287) -> 0 | JG9: =IF(Loading!V327<0, 0, Loading!V327) -> 0 | JH9: =IF(Loading!V367<0, 0, Loading!V367) -> 0 | JI9: =IF(Loading!V407<0, 0, Loading!V407) -> 0 | JJ9: =IF(Loading!V447<0, 0, Loading!V447) -> 0 | JK9: =IF(Loading!V487<0, 0, Loading!V487) -> 0 | JL9: =IF(Loading!V527<0, 0, Loading!V527) -> 0 | JM9: =IF(Loading!V567<0, 0, Loading!V567) -> 0 | JN9: =IF(Loading!V607<0, 0, Loading!V607) -> 0 | JO9: =IF(Loading!W7<0, 0, Loading!W7) -> 0 | JP9: =IF(Loading!W47<0, 0, Loading!W47) -> 0 | JQ9: =IF(Loading!W87<0, 0, Loading!W87) -> 0 | JR9: =IF(Loading!W127<0, 0, Loading!W127) -> 0 | JS9: =IF(Loading!W167<0, 0, Loading!W167) -> 0 | JT9: =IF(Loading!W207<0, 0, Loading!W207) -> 0 | JU9: =IF(Loading!W247<0, 0, Loading!W247) -> 0 | JV9: =IF(Loading!W287<0, 0, Loading!W287) -> 0 | JW9: =IF(Loading!W327<0, 0, Loading!W327) -> 0 | JX9: =IF(Loading!W367<0, 0, Loading!W367) -> 0 | JY9: =IF(Loading!W407<0, 0, Loading!W407) -> 0 | JZ9: =IF(Loading!W447<0, 0, Loading!W447) -> 0 | KA9: =IF(Loading!W487<0, 0, Loading!W487) -> 0 | KB9: =IF(Loading!W527<0, 0, Loading!W527) -> 0 | KC9: =IF(Loading!W567<0, 0, Loading!W567) -> 0 | KD9: =IF(Loading!W607<0, 0, Loading!W607) -> 0 | KE9: =IF(Loading!X7<0, 0, Loading!X7) -> 0 | KF9: =IF(Loading!X47<0, 0, Loading!X47) -> 0 | KG9: =IF(Loading!X87<0, 0, Loading!X87) -> 0 | KH9: =IF(Loading!X127<0, 0, Loading!X127) -> 0 | KI9: =IF(Loading!X167<0, 0, Loading!X167) -> 0 | KJ9: =IF(Loading!X207<0, 0, Loading!X207) -> 0 | KK9: =IF(Loading!X247<0, 0, Loading!X247) -> 0 | KL9: =IF(Loading!X287<0, 0, Loading!X287) -> 0 | KM9: =IF(Loading!X327<0, 0, Loading!X327) -> 0 | KN9: =IF(Loading!X367<0, 0, Loading!X367) -> 0 | KO9: =IF(Loading!X407<0, 0, Loading!X407) -> 0 | KP9: =IF(Loading!X447<0, 0, Loading!X447) -> 0 | KQ9: =IF(Loading!X487<0, 0, Loading!X487) -> 0 | KR9: =IF(Loading!X527<0, 0, Loading!X527) -> 0 | KS9: =IF(Loading!X567<0, 0, Loading!X567) -> 0 | KT9: =IF(Loading!X607<0, 0, Loading!X607) -> 0 | KU9: =IF(Loading!Y7<0, 0, Loading!Y7) -> 0 | KV9: =IF(Loading!Y47<0, 0, Loading!Y47) -> 0 | KW9: =IF(Loading!Y87<0, 0, Loading!Y87) -> 0 | KX9: =IF(Loading!Y127<0, 0, Loading!Y127) -> 0 | KY9: =IF(Loading!Y167<0, 0, Loading!Y167) -> 0 | KZ9: =IF(Loading!Y207<0, 0, Loading!Y207) -> 0 | LA9: =IF(Loading!Y247<0, 0, Loading!Y247) -> 0 | LB9: =IF(Loading!Y287<0, 0, Loading!Y287) -> 0 | LC9: =IF(Loading!Y327<0, 0, Loading!Y327) -> 0 | LD9: =IF(Loading!Y367<0, 0, Loading!Y367) -> 0 | LE9: =IF(Loading!Y407<0, 0, Loading!Y407) -> 0 | LF9: =IF(Loading!Y447<0, 0, Loading!Y447) -> 0 | LG9: =IF(Loading!Y487<0, 0, Loading!Y487) -> 0 | LH9: =IF(Loading!Y527<0, 0, Loading!Y527) -> 0 | LI9: =IF(Loading!Y567<0, 0, Loading!Y567) -> 0 | LJ9: =IF(Loading!Y607<0, 0, Loading!Y607) -> 0 | LK9: =IF(Loading!Z7<0, 0, Loading!Z7) -> 0 | LL9: =IF(Loading!Z47<0, 0, Loading!Z47) -> 0 | LM9: =IF(Loading!Z87<0, 0, Loading!Z87) -> 0 | LN9: =IF(Loading!Z127<0, 0, Loading!Z127) -> 0 | LO9: =IF(Loading!Z167<0, 0, Loading!Z167) -> 0 | LP9: =IF(Loading!Z207<0, 0, Loading!Z207) -> 0 | LQ9: =IF(Loading!Z247<0, 0, Loading!Z247) -> 0 | LR9: =IF(Loading!Z287<0, 0, Loading!Z287) -> 0 | LS9: =IF(Loading!Z327<0, 0, Loading!Z327) -> 0 | LT9: =IF(Loading!Z367<0, 0, Loading!Z367) -> 0 | LU9: =IF(Loading!Z407<0, 0, Loading!Z407) -> 0 | LV9: =IF(Loading!Z447<0, 0, Loading!Z447) -> 0 | LW9: =IF(Loading!Z487<0, 0, Loading!Z487) -> 0 | LX9: =IF(Loading!Z527<0, 0, Loading!Z527) -> 0 | LY9: =IF(Loading!Z567<0, 0, Loading!Z567) -> 0 | LZ9: =IF(Loading!Z607<0, 0, Loading!Z607) -> 0 | MA9: =IF(Loading!AA7<0, 0, Loading!AA7) -> 0 | MB9: =IF(Loading!AA47<0, 0, Loading!AA47) -> 0 | MC9: =IF(Loading!AA87<0, 0, Loading!AA87) -> 0 | MD9: =IF(Loading!AA127<0, 0, Loading!AA127) -> 0 | ME9: =IF(Loading!AA167<0, 0, Loading!AA167) -> 0 | MF9: =IF(Loading!AA207<0, 0, Loading!AA207) -> 0 | MG9: =IF(Loading!AA247<0, 0, Loading!AA247) -> 0 | MH9: =IF(Loading!AA287<0, 0, Loading!AA287) -> 0 | MI9: =IF(Loading!AA327<0, 0, Loading!AA327) -> 0 | MJ9: =IF(Loading!AA367<0, 0, Loading!AA367) -> 0 | MK9: =IF(Loading!AA407<0, 0, Loading!AA407) -> 0 | ML9: =IF(Loading!AA447<0, 0, Loading!AA447) -> 0 | MM9: =IF(Loading!AA487<0, 0, Loading!AA487) -> 0 | MN9: =IF(Loading!AA527<0, 0, Loading!AA527) -> 0 | MO9: =IF(Loading!AA567<0, 0, Loading!AA567) -> 0 | MP9: =IF(Loading!AA607<0, 0, Loading!AA607) -> 0 | MQ9: =IF(Loading!AB7<0, 0, Loading!AB7) -> 0 | MR9: =IF(Loading!AB47<0, 0, Loading!AB47) -> 0 | MS9: =IF(Loading!AB87<0, 0, Loading!AB87) -> 0 | MT9: =IF(Loading!AB127<0, 0, Loading!AB127) -> 0 | MU9: =IF(Loading!AB167<0, 0, Loading!AB167) -> 0 | MV9: =IF(Loading!AB207<0, 0, Loading!AB207) -> 0 | MW9: =IF(Loading!AB247<0, 0, Loading!AB247) -> 0 | MX9: =IF(Loading!AB287<0, 0, Loading!AB287) -> 0 | MY9: =IF(Loading!AB327<0, 0, Loading!AB327) -> 0 | MZ9: =IF(Loading!AB367<0, 0, Loading!AB367) -> 0 | NA9: =IF(Loading!AB407<0, 0, Loading!AB407) -> 0 | NB9: =IF(Loading!AB447<0, 0, Loading!AB447) -> 0 | NC9: =IF(Loading!AB487<0, 0, Loading!AB487) -> 0 | ND9: =IF(Loading!AB527<0, 0, Loading!AB527) -> 0 | NE9: =IF(Loading!AB567<0, 0, Loading!AB567) -> 0 | NF9: =IF(Loading!AB607<0, 0, Loading!AB607) -> 0 | NG9: =IF(Loading!AC7<0, 0, Loading!AC7) -> 0 | NH9: =IF(Loading!AC47<0, 0, Loading!AC47) -> 0 | NI9: =IF(Loading!AC87<0, 0, Loading!AC87) -> 0 | NJ9: =IF(Loading!AC127<0, 0, Loading!AC127) -> 0 | NK9: =IF(Loading!AC167<0, 0, Loading!AC167) -> 0 | NL9: =IF(Loading!AC207<0, 0, Loading!AC207) -> 0 | NM9: =IF(Loading!AC247<0, 0, Loading!AC247) -> 0 | NN9: =IF(Loading!AC287<0, 0, Loading!AC287) -> 0 | NO9: =IF(Loading!AC327<0, 0, Loading!AC327) -> 0 | NP9: =IF(Loading!AC367<0, 0, Loading!AC367) -> 0 | NQ9: =IF(Loading!AC407<0, 0, Loading!AC407) -> 0 | NR9: =IF(Loading!AC447<0, 0, Loading!AC447) -> 0 | NS9: =IF(Loading!AC487<0, 0, Loading!AC487) -> 0 | NT9: =IF(Loading!AC527<0, 0, Loading!AC527) -> 0 | NU9: =IF(Loading!AC567<0, 0, Loading!AC567) -> 0 | NV9: =IF(Loading!AC607<0, 0, Loading!AC607) -> 0 | NW9: =IF(Loading!AD7<0, 0, Loading!AD7) -> 0 | NX9: =IF(Loading!AD47<0, 0, Loading!AD47) -> 0 | NY9: =IF(Loading!AD87<0, 0, Loading!AD87) -> 0 | NZ9: =IF(Loading!AD127<0, 0, Loading!AD127) -> 0 | OA9: =IF(Loading!AD167<0, 0, Loading!AD167) -> 0 | OB9: =IF(Loading!AD207<0, 0, Loading!AD207) -> 0 | OC9: =IF(Loading!AD247<0, 0, Loading!AD247) -> 0 | OD9: =IF(Loading!AD287<0, 0, Loading!AD287) -> 0 | OE9: =IF(Loading!AD327<0, 0, Loading!AD327) -> 0 | OF9: =IF(Loading!AD367<0, 0, Loading!AD367) -> 0 | OG9: =IF(Loading!AD407<0, 0, Loading!AD407) -> 0 | OH9: =IF(Loading!AD447<0, 0, Loading!AD447) -> 0 | OI9: =IF(Loading!AD487<0, 0, Loading!AD487) -> 0 | OJ9: =IF(Loading!AD527<0, 0, Loading!AD527) -> 0 | OK9: =IF(Loading!AD567<0, 0, Loading!AD567) -> 0 | OL9: =IF(Loading!AD607<0, 0, Loading!AD607) -> 0 | OM9: =IF(Loading!AE7<0, 0, Loading!AE7) -> 0 | ON9: =IF(Loading!AE47<0, 0, Loading!AE47) -> 0 | OO9: =IF(Loading!AE87<0, 0, Loading!AE87) -> 0 | OP9: =IF(Loading!AE127<0, 0, Loading!AE127) -> 0 | OQ9: =IF(Loading!AE167<0, 0, Loading!AE167) -> 0 | OR9: =IF(Loading!AE207<0, 0, Loading!AE207) -> 0 | OS9: =IF(Loading!AE247<0, 0, Loading!AE247) -> 0 | OT9: =IF(Loading!AE287<0, 0, Loading!AE287) -> 0 | OU9: =IF(Loading!AE327<0, 0, Loading!AE327) -> 0 | OV9: =IF(Loading!AE367<0, 0, Loading!AE367) -> 0 | OW9: =IF(Loading!AE407<0, 0, Loading!AE407) -> 0 | OX9: =IF(Loading!AE447<0, 0, Loading!AE447) -> 0 | OY9: =IF(Loading!AE487<0, 0, Loading!AE487) -> 0 | OZ9: =IF(Loading!AE527<0, 0, Loading!AE527) -> 0 | PA9: =IF(Loading!AE567<0, 0, Loading!AE567) -> 0 | PB9: =IF(Loading!AE607<0, 0, Loading!AE607) -> 0 | PC9: =IF(Loading!AF7<0, 0, Loading!AF7) -> 0 | PD9: =IF(Loading!AF47<0, 0, Loading!AF47) -> 0 | PE9: =IF(Loading!AF87<0, 0, Loading!AF87) -> 0 | PF9: =IF(Loading!AF127<0, 0, Loading!AF127) -> 0 | PG9: =IF(Loading!AF167<0, 0, Loading!AF167) -> 0 | PH9: =IF(Loading!AF207<0, 0, Loading!AF207) -> 0 | PI9: =IF(Loading!AF247<0, 0, Loading!AF247) -> 0 | PJ9: =IF(Loading!AF287<0, 0, Loading!AF287) -> 0 | PK9: =IF(Loading!AF327<0, 0, Loading!AF327) -> 0 | PL9: =IF(Loading!AF367<0, 0, Loading!AF367) -> 0 | PM9: =IF(Loading!AF407<0, 0, Loading!AF407) -> 0 | PN9: =IF(Loading!AF447<0, 0, Loading!AF447) -> 0 | PO9: =IF(Loading!AF487<0, 0, Loading!AF487) -> 0 | PP9: =IF(Loading!AF527<0, 0, Loading!AF527) -> 0 | PQ9: =IF(Loading!AF567<0, 0, Loading!AF567) -> 0 | PR9: =IF(Loading!AF607<0, 0, Loading!AF607) -> 0 | PS9: =IF(Loading!AG7<0, 0, Loading!AG7) -> 0 | PT9: =IF(Loading!AG47<0, 0, Loading!AG47) -> 0 | PU9: =IF(Loading!AG87<0, 0, Loading!AG87) -> 0 | PV9: =IF(Loading!AG127<0, 0, Loading!AG127) -> 0 | PW9: =IF(Loading!AG167<0, 0, Loading!AG167) -> 0 | PX9: =IF(Loading!AG207<0, 0, Loading!AG207) -> 0 | PY9: =IF(Loading!AG247<0, 0, Loading!AG247) -> 0 | PZ9: =IF(Loading!AG287<0, 0, Loading!AG287) -> 0 | QA9: =IF(Loading!AG327<0, 0, Loading!AG327) -> 0 | QB9: =IF(Loading!AG367<0, 0, Loading!AG367) -> 0 | QC9: =IF(Loading!AG407<0, 0, Loading!AG407) -> 0 | QD9: =IF(Loading!AG447<0, 0, Loading!AG447) -> 0 | QE9: =IF(Loading!AG487<0, 0, Loading!AG487) -> 0 | QF9: =IF(Loading!AG527<0, 0, Loading!AG527) -> 0 | QG9: =IF(Loading!AG567<0, 0, Loading!AG567) -> 0 | QH9: =IF(Loading!AG607<0, 0, Loading!AG607) -> 0 | QI9: =IF(Loading!AH7<0, 0, Loading!AH7) -> 0 | QJ9: =IF(Loading!AH47<0, 0, Loading!AH47) -> 0 | QK9: =IF(Loading!AH87<0, 0, Loading!AH87) -> 0 | QL9: =IF(Loading!AH127<0, 0, Loading!AH127) -> 0 | QM9: =IF(Loading!AH167<0, 0, Loading!AH167) -> 0 | QN9: =IF(Loading!AH207<0, 0, Loading!AH207) -> 0 | QO9: =IF(Loading!AH247<0, 0, Loading!AH247) -> 0 | QP9: =IF(Loading!AH287<0, 0, Loading!AH287) -> 0 | QQ9: =IF(Loading!AH327<0, 0, Loading!AH327) -> 0 | QR9: =IF(Loading!AH367<0, 0, Loading!AH367) -> 0 | QS9: =IF(Loading!AH407<0, 0, Loading!AH407) -> 0 | QT9: =IF(Loading!AH447<0, 0, Loading!AH447) -> 0 | QU9: =IF(Loading!AH487<0, 0, Loading!AH487) -> 0 | QV9: =IF(Loading!AH527<0, 0, Loading!AH527) -> 0 | QW9: =IF(Loading!AH567<0, 0, Loading!AH567) -> 0 | QX9: =IF(Loading!AH607<0, 0, Loading!AH607) -> 0 | QY9: =IF(Loading!AI7<0, 0, Loading!AI7) -> 0 | QZ9: =IF(Loading!AI47<0, 0, Loading!AI47) -> 0 | RA9: =IF(Loading!AI87<0, 0, Loading!AI87) -> 0 | RB9: =IF(Loading!AI127<0, 0, Loading!AI127) -> 0 | RC9: =IF(Loading!AI167<0, 0, Loading!AI167) -> 0 | RD9: =IF(Loading!AI207<0, 0, Loading!AI207) -> 0 | RE9: =IF(Loading!AI247<0, 0, Loading!AI247) -> 0 | RF9: =IF(Loading!AI287<0, 0, Loading!AI287) -> 0 | RG9: =IF(Loading!AI327<0, 0, Loading!AI327) -> 0 | RH9: =IF(Loading!AI367<0, 0, Loading!AI367) -> 0 | RI9: =IF(Loading!AI407<0, 0, Loading!AI407) -> 0 | RJ9: =IF(Loading!AI447<0, 0, Loading!AI447) -> 0 | RK9: =IF(Loading!AI487<0, 0, Loading!AI487) -> 0 | RL9: =IF(Loading!AI527<0, 0, Loading!AI527) -> 0 | RM9: =IF(Loading!AI567<0, 0, Loading!AI567) -> 0 | RN9: =IF(Loading!AI607<0, 0, Loading!AI607) -> 0 | SN9: =(1+$Y$2)*MEDIAN(C9:C12) -> 0 | SO9: =(1+$Y$2)*MEDIAN(D9:D12) -> 0 | SP9: =(1+$Y$2)*MEDIAN(E9:E12) -> 0 | SQ9: =(1+$Y$2)*MEDIAN(F9:F12) -> 0 | SR9: =(1+$Y$2)*MEDIAN(G9:G12) -> 0 | SS9: =(1+$Y$2)*MEDIAN(H9:H12) -> 0 | ST9: =(1+$Y$2)*MEDIAN(I9:I12) -> 0 | SU9: =(1+$Y$2)*MEDIAN(J9:J12) -> 0 | ... ALS9: =(1+$Y$2)*MEDIAN(SH9:SH12) -> #NUM!
B10: =B9 -> POS2 | C10: =IF(Loading!F8<0, 0, Loading!F8) -> 0 | D10: =IF(Loading!F48<0, 0, Loading!F48) -> 0 | E10: =IF(Loading!F88<0, 0, Loading!F88) -> 0 | F10: =IF(Loading!F128<0, 0, Loading!F128) -> 0 | G10: =IF(Loading!F168<0, 0, Loading!F168) -> 0 | H10: =IF(Loading!F208<0, 0, Loading!F208) -> 0 | I10: =IF(Loading!F248<0, 0, Loading!F248) -> 0 | J10: =IF(Loading!F288<0, 0, Loading!F288) -> 0 | K10: =IF(Loading!F328<0, 0, Loading!F328) -> 0 | L10: =IF(Loading!F368<0, 0, Loading!F368) -> 0 | M10: =IF(Loading!F408<0, 0, Loading!F408) -> 0 | N10: =IF(Loading!F448<0, 0, Loading!F448) -> 0 | O10: =IF(Loading!F488<0, 0, Loading!F488) -> 0 | P10: =IF(Loading!F528<0, 0, Loading!F528) -> 0 | Q10: =IF(Loading!F568<0, 0, Loading!F568) -> 0 | R10: =IF(Loading!F608<0, 0, Loading!F608) -> 0 | S10: =IF(Loading!G8<0, 0, Loading!G8) -> 0 | T10: =IF(Loading!G48<0, 0, Loading!G48) -> 0 | U10: =IF(Loading!G88<0, 0, Loading!G88) -> 0 | V10: =IF(Loading!G128<0, 0, Loading!G128) -> 0 | W10: =IF(Loading!G168<0, 0, Loading!G168) -> 0 | X10: =IF(Loading!G208<0, 0, Loading!G208) -> 0 | Y10: =IF(Loading!G248<0, 0, Loading!G248) -> 0 | Z10: =IF(Loading!G288<0, 0, Loading!G288) -> 0 | AA10: =IF(Loading!G328<0, 0, Loading!G328) -> 0 | AB10: =IF(Loading!G368<0, 0, Loading!G368) -> 0 | AC10: =IF(Loading!G408<0, 0, Loading!G408) -> 0 | AD10: =IF(Loading!G448<0, 0, Loading!G448) -> 0 | AE10: =IF(Loading!G488<0, 0, Loading!G488) -> 0 | AF10: =IF(Loading!G528<0, 0, Loading!G528) -> 0 | AG10: =IF(Loading!G568<0, 0, Loading!G568) -> 0 | AH10: =IF(Loading!G608<0, 0, Loading!G608) -> 0 | AI10: =IF(Loading!H8<0, 0, Loading!H8) -> 0 | AJ10: =IF(Loading!H48<0, 0, Loading!H48) -> 0 | AK10: =IF(Loading!H88<0, 0, Loading!H88) -> 0 | AL10: =IF(Loading!H128<0, 0, Loading!H128) -> 0 | AM10: =IF(Loading!H168<0, 0, Loading!H168) -> 0 | AN10: =IF(Loading!H208<0, 0, Loading!H208) -> 0 | AO10: =IF(Loading!H248<0, 0, Loading!H248) -> 0 | AP10: =IF(Loading!H288<0, 0, Loading!H288) -> 0 | AQ10: =IF(Loading!H328<0, 0, Loading!H328) -> 0 | AR10: =IF(Loading!H368<0, 0, Loading!H368) -> 0 | AS10: =IF(Loading!H408<0, 0, Loading!H408) -> 0 | AT10: =IF(Loading!H448<0, 0, Loading!H448) -> 0 | AU10: =IF(Loading!H488<0, 0, Loading!H488) -> 0 | AV10: =IF(Loading!H528<0, 0, Loading!H528) -> 0 | AW10: =IF(Loading!H568<0, 0, Loading!H568) -> 0 | AX10: =IF(Loading!H608<0, 0, Loading!H608) -> 0 | AY10: =IF(Loading!I8<0, 0, Loading!I8) -> 0 | AZ10: =IF(Loading!I48<0, 0, Loading!I48) -> 0 | BA10: =IF(Loading!I88<0, 0, Loading!I88) -> 0 | BB10: =IF(Loading!I128<0, 0, Loading!I128) -> 0 | BC10: =IF(Loading!I168<0, 0, Loading!I168) -> 0 | BD10: =IF(Loading!I208<0, 0, Loading!I208) -> 0 | BE10: =IF(Loading!I248<0, 0, Loading!I248) -> 0 | BF10: =IF(Loading!I288<0, 0, Loading!I288) -> 0 | BG10: =IF(Loading!I328<0, 0, Loading!I328) -> 0 | BH10: =IF(Loading!I368<0, 0, Loading!I368) -> 0 | BI10: =IF(Loading!I408<0, 0, Loading!I408) -> 0 | BJ10: =IF(Loading!I448<0, 0, Loading!I448) -> 0 | BK10: =IF(Loading!I488<0, 0, Loading!I488) -> 0 | BL10: =IF(Loading!I528<0, 0, Loading!I528) -> 0 | BM10: =IF(Loading!I568<0, 0, Loading!I568) -> 0 | BN10: =IF(Loading!I608<0, 0, Loading!I608) -> 0 | BO10: =IF(Loading!J8<0, 0, Loading!J8) -> 0 | BP10: =IF(Loading!J48<0, 0, Loading!J48) -> 0 | BQ10: =IF(Loading!J88<0, 0, Loading!J88) -> 0 | BR10: =IF(Loading!J128<0, 0, Loading!J128) -> 0 | BS10: =IF(Loading!J168<0, 0, Loading!J168) -> 0 | BT10: =IF(Loading!J208<0, 0, Loading!J208) -> 0 | BU10: =IF(Loading!J248<0, 0, Loading!J248) -> 0 | BV10: =IF(Loading!J288<0, 0, Loading!J288) -> 0 | BW10: =IF(Loading!J328<0, 0, Loading!J328) -> 0 | BX10: =IF(Loading!J368<0, 0, Loading!J368) -> 0 | BY10: =IF(Loading!J408<0, 0, Loading!J408) -> 0 | BZ10: =IF(Loading!J448<0, 0, Loading!J448) -> 0 | CA10: =IF(Loading!J488<0, 0, Loading!J488) -> 0 | CB10: =IF(Loading!J528<0, 0, Loading!J528) -> 0 | CC10: =IF(Loading!J568<0, 0, Loading!J568) -> 0 | CD10: =IF(Loading!J608<0, 0, Loading!J608) -> 0 | CE10: =IF(Loading!K8<0, 0, Loading!K8) -> 0 | CF10: =IF(Loading!K48<0, 0, Loading!K48) -> 0 | CG10: =IF(Loading!K88<0, 0, Loading!K88) -> 0 | CH10: =IF(Loading!K128<0, 0, Loading!K128) -> 0 | CI10: =IF(Loading!K168<0, 0, Loading!K168) -> 0 | CJ10: =IF(Loading!K208<0, 0, Loading!K208) -> 0 | CK10: =IF(Loading!K248<0, 0, Loading!K248) -> 0 | CL10: =IF(Loading!K288<0, 0, Loading!K288) -> 0 | CM10: =IF(Loading!K328<0, 0, Loading!K328) -> 0 | CN10: =IF(Loading!K368<0, 0, Loading!K368) -> 0 | CO10: =IF(Loading!K408<0, 0, Loading!K408) -> 0 | CP10: =IF(Loading!K448<0, 0, Loading!K448) -> 0 | CQ10: =IF(Loading!K488<0, 0, Loading!K488) -> 0 | CR10: =IF(Loading!K528<0, 0, Loading!K528) -> 0 | CS10: =IF(Loading!K568<0, 0, Loading!K568) -> 0 | CT10: =IF(Loading!K608<0, 0, Loading!K608) -> 0 | CU10: =IF(Loading!L8<0, 0, Loading!L8) -> 0 | CV10: =IF(Loading!L48<0, 0, Loading!L48) -> 0 | CW10: =IF(Loading!L88<0, 0, Loading!L88) -> 0 | CX10: =IF(Loading!L128<0, 0, Loading!L128) -> 0 | CY10: =IF(Loading!L168<0, 0, Loading!L168) -> 0 | CZ10: =IF(Loading!L208<0, 0, Loading!L208) -> 0 | DA10: =IF(Loading!L248<0, 0, Loading!L248) -> 0 | DB10: =IF(Loading!L288<0, 0, Loading!L288) -> 0 | DC10: =IF(Loading!L328<0, 0, Loading!L328) -> 0 | DD10: =IF(Loading!L368<0, 0, Loading!L368) -> 0 | DE10: =IF(Loading!L408<0, 0, Loading!L408) -> 0 | DF10: =IF(Loading!L448<0, 0, Loading!L448) -> 0 | DG10: =IF(Loading!L488<0, 0, Loading!L488) -> 0 | DH10: =IF(Loading!L528<0, 0, Loading!L528) -> 0 | DI10: =IF(Loading!L568<0, 0, Loading!L568) -> 0 | DJ10: =IF(Loading!L608<0, 0, Loading!L608) -> 0 | DK10: =IF(Loading!M8<0, 0, Loading!M8) -> 0 | DL10: =IF(Loading!M48<0, 0, Loading!M48) -> 0 | DM10: =IF(Loading!M88<0, 0, Loading!M88) -> 0 | DN10: =IF(Loading!M128<0, 0, Loading!M128) -> 0 | DO10: =IF(Loading!M168<0, 0, Loading!M168) -> 0 | DP10: =IF(Loading!M208<0, 0, Loading!M208) -> 0 | DQ10: =IF(Loading!M248<0, 0, Loading!M248) -> 0 | DR10: =IF(Loading!M288<0, 0, Loading!M288) -> 0 | DS10: =IF(Loading!M328<0, 0, Loading!M328) -> 0 | DT10: =IF(Loading!M368<0, 0, Loading!M368) -> 0 | DU10: =IF(Loading!M408<0, 0, Loading!M408) -> 0 | DV10: =IF(Loading!M448<0, 0, Loading!M448) -> 0 | DW10: =IF(Loading!M488<0, 0, Loading!M488) -> 0 | DX10: =IF(Loading!M528<0, 0, Loading!M528) -> 0 | DY10: =IF(Loading!M568<0, 0, Loading!M568) -> 0 | DZ10: =IF(Loading!M608<0, 0, Loading!M608) -> 0 | EA10: =IF(Loading!N8<0, 0, Loading!N8) -> 0 | EB10: =IF(Loading!N48<0, 0, Loading!N48) -> 0 | EC10: =IF(Loading!N88<0, 0, Loading!N88) -> 0 | ED10: =IF(Loading!N128<0, 0, Loading!N128) -> 0 | EE10: =IF(Loading!N168<0, 0, Loading!N168) -> 0 | EF10: =IF(Loading!N208<0, 0, Loading!N208) -> 0 | EG10: =IF(Loading!N248<0, 0, Loading!N248) -> 0 | EH10: =IF(Loading!N288<0, 0, Loading!N288) -> 0 | EI10: =IF(Loading!N328<0, 0, Loading!N328) -> 0 | EJ10: =IF(Loading!N368<0, 0, Loading!N368) -> 0 | EK10: =IF(Loading!N408<0, 0, Loading!N408) -> 0 | EL10: =IF(Loading!N448<0, 0, Loading!N448) -> 0 | EM10: =IF(Loading!N488<0, 0, Loading!N488) -> 0 | EN10: =IF(Loading!N528<0, 0, Loading!N528) -> 0 | EO10: =IF(Loading!N568<0, 0, Loading!N568) -> 0 | EP10: =IF(Loading!N608<0, 0, Loading!N608) -> 0 | EQ10: =IF(Loading!O8<0, 0, Loading!O8) -> 0 | ER10: =IF(Loading!O48<0, 0, Loading!O48) -> 0 | ES10: =IF(Loading!O88<0, 0, Loading!O88) -> 0 | ET10: =IF(Loading!O128<0, 0, Loading!O128) -> 0 | EU10: =IF(Loading!O168<0, 0, Loading!O168) -> 0 | EV10: =IF(Loading!O208<0, 0, Loading!O208) -> 0 | EW10: =IF(Loading!O248<0, 0, Loading!O248) -> 0 | EX10: =IF(Loading!O288<0, 0, Loading!O288) -> 0 | EY10: =IF(Loading!O328<0, 0, Loading!O328) -> 0 | EZ10: =IF(Loading!O368<0, 0, Loading!O368) -> 0 | FA10: =IF(Loading!O408<0, 0, Loading!O408) -> 0 | FB10: =IF(Loading!O448<0, 0, Loading!O448) -> 0 | FC10: =IF(Loading!O488<0, 0, Loading!O488) -> 0 | FD10: =IF(Loading!O528<0, 0, Loading!O528) -> 0 | FE10: =IF(Loading!O568<0, 0, Loading!O568) -> 0 | FF10: =IF(Loading!O608<0, 0, Loading!O608) -> 0 | FG10: =IF(Loading!P8<0, 0, Loading!P8) -> 0 | FH10: =IF(Loading!P48<0, 0, Loading!P48) -> 0 | FI10: =IF(Loading!P88<0, 0, Loading!P88) -> 0 | FJ10: =IF(Loading!P128<0, 0, Loading!P128) -> 0 | FK10: =IF(Loading!P168<0, 0, Loading!P168) -> 0 | FL10: =IF(Loading!P208<0, 0, Loading!P208) -> 0 | FM10: =IF(Loading!P248<0, 0, Loading!P248) -> 0 | FN10: =IF(Loading!P288<0, 0, Loading!P288) -> 0 | FO10: =IF(Loading!P328<0, 0, Loading!P328) -> 0 | FP10: =IF(Loading!P368<0, 0, Loading!P368) -> 0 | FQ10: =IF(Loading!P408<0, 0, Loading!P408) -> 0 | FR10: =IF(Loading!P448<0, 0, Loading!P448) -> 0 | FS10: =IF(Loading!P488<0, 0, Loading!P488) -> 0 | FT10: =IF(Loading!P528<0, 0, Loading!P528) -> 0 | FU10: =IF(Loading!P568<0, 0, Loading!P568) -> 0 | FV10: =IF(Loading!P608<0, 0, Loading!P608) -> 0 | FW10: =IF(Loading!Q8<0, 0, Loading!Q8) -> 0 | FX10: =IF(Loading!Q48<0, 0, Loading!Q48) -> 0 | FY10: =IF(Loading!Q88<0, 0, Loading!Q88) -> 0 | FZ10: =IF(Loading!Q128<0, 0, Loading!Q128) -> 0 | GA10: =IF(Loading!Q168<0, 0, Loading!Q168) -> 0 | GB10: =IF(Loading!Q208<0, 0, Loading!Q208) -> 0 | GC10: =IF(Loading!Q248<0, 0, Loading!Q248) -> 0 | GD10: =IF(Loading!Q288<0, 0, Loading!Q288) -> 0 | GE10: =IF(Loading!Q328<0, 0, Loading!Q328) -> 0 | GF10: =IF(Loading!Q368<0, 0, Loading!Q368) -> 0 | GG10: =IF(Loading!Q408<0, 0, Loading!Q408) -> 0 | GH10: =IF(Loading!Q448<0, 0, Loading!Q448) -> 0 | GI10: =IF(Loading!Q488<0, 0, Loading!Q488) -> 0 | GJ10: =IF(Loading!Q528<0, 0, Loading!Q528) -> 0 | GK10: =IF(Loading!Q568<0, 0, Loading!Q568) -> 0 | GL10: =IF(Loading!Q608<0, 0, Loading!Q608) -> 0 | GM10: =IF(Loading!R8<0, 0, Loading!R8) -> 0 | GN10: =IF(Loading!R48<0, 0, Loading!R48) -> 0 | GO10: =IF(Loading!R88<0, 0, Loading!R88) -> 0 | GP10: =IF(Loading!R128<0, 0, Loading!R128) -> 0 | GQ10: =IF(Loading!R168<0, 0, Loading!R168) -> 0 | GR10: =IF(Loading!R208<0, 0, Loading!R208) -> 0 | GS10: =IF(Loading!R248<0, 0, Loading!R248) -> 0 | GT10: =IF(Loading!R288<0, 0, Loading!R288) -> 0 | GU10: =IF(Loading!R328<0, 0, Loading!R328) -> 0 | GV10: =IF(Loading!R368<0, 0, Loading!R368) -> 0 | GW10: =IF(Loading!R408<0, 0, Loading!R408) -> 0 | GX10: =IF(Loading!R448<0, 0, Loading!R448) -> 0 | GY10: =IF(Loading!R488<0, 0, Loading!R488) -> 0 | GZ10: =IF(Loading!R528<0, 0, Loading!R528) -> 0 | HA10: =IF(Loading!R568<0, 0, Loading!R568) -> 0 | HB10: =IF(Loading!R608<0, 0, Loading!R608) -> 0 | HC10: =IF(Loading!S8<0, 0, Loading!S8) -> 0 | HD10: =IF(Loading!S48<0, 0, Loading!S48) -> 0 | HE10: =IF(Loading!S88<0, 0, Loading!S88) -> 0 | HF10: =IF(Loading!S128<0, 0, Loading!S128) -> 0 | HG10: =IF(Loading!S168<0, 0, Loading!S168) -> 0 | HH10: =IF(Loading!S208<0, 0, Loading!S208) -> 0 | HI10: =IF(Loading!S248<0, 0, Loading!S248) -> 0 | HJ10: =IF(Loading!S288<0, 0, Loading!S288) -> 0 | HK10: =IF(Loading!S328<0, 0, Loading!S328) -> 0 | HL10: =IF(Loading!S368<0, 0, Loading!S368) -> 0 | HM10: =IF(Loading!S408<0, 0, Loading!S408) -> 0 | HN10: =IF(Loading!S448<0, 0, Loading!S448) -> 0 | HO10: =IF(Loading!S488<0, 0, Loading!S488) -> 0 | HP10: =IF(Loading!S528<0, 0, Loading!S528) -> 0 | HQ10: =IF(Loading!S568<0, 0, Loading!S568) -> 0 | HR10: =IF(Loading!S608<0, 0, Loading!S608) -> 0 | HS10: =IF(Loading!T8<0, 0, Loading!T8) -> 0 | HT10: =IF(Loading!T48<0, 0, Loading!T48) -> 0 | HU10: =IF(Loading!T88<0, 0, Loading!T88) -> 0 | HV10: =IF(Loading!T128<0, 0, Loading!T128) -> 0 | HW10: =IF(Loading!T168<0, 0, Loading!T168) -> 0 | HX10: =IF(Loading!T208<0, 0, Loading!T208) -> 0 | HY10: =IF(Loading!T248<0, 0, Loading!T248) -> 0 | HZ10: =IF(Loading!T288<0, 0, Loading!T288) -> 0 | IA10: =IF(Loading!T328<0, 0, Loading!T328) -> 0 | IB10: =IF(Loading!T368<0, 0, Loading!T368) -> 0 | IC10: =IF(Loading!T408<0, 0, Loading!T408) -> 0 | ID10: =IF(Loading!T448<0, 0, Loading!T448) -> 0 | IE10: =IF(Loading!T488<0, 0, Loading!T488) -> 0 | IF10: =IF(Loading!T528<0, 0, Loading!T528) -> 0 | IG10: =IF(Loading!T568<0, 0, Loading!T568) -> 0 | IH10: =IF(Loading!T608<0, 0, Loading!T608) -> 0 | II10: =IF(Loading!U8<0, 0, Loading!U8) -> 0 | IJ10: =IF(Loading!U48<0, 0, Loading!U48) -> 0 | IK10: =IF(Loading!U88<0, 0, Loading!U88) -> 0 | IL10: =IF(Loading!U128<0, 0, Loading!U128) -> 0 | IM10: =IF(Loading!U168<0, 0, Loading!U168) -> 0 | IN10: =IF(Loading!U208<0, 0, Loading!U208) -> 0 | IO10: =IF(Loading!U248<0, 0, Loading!U248) -> 0 | IP10: =IF(Loading!U288<0, 0, Loading!U288) -> 0 | IQ10: =IF(Loading!U328<0, 0, Loading!U328) -> 0 | IR10: =IF(Loading!U368<0, 0, Loading!U368) -> 0 | IS10: =IF(Loading!U408<0, 0, Loading!U408) -> 0 | IT10: =IF(Loading!U448<0, 0, Loading!U448) -> 0 | IU10: =IF(Loading!U488<0, 0, Loading!U488) -> 0 | IV10: =IF(Loading!U528<0, 0, Loading!U528) -> 0 | IW10: =IF(Loading!U568<0, 0, Loading!U568) -> 0 | IX10: =IF(Loading!U608<0, 0, Loading!U608) -> 0 | IY10: =IF(Loading!V8<0, 0, Loading!V8) -> 0 | IZ10: =IF(Loading!V48<0, 0, Loading!V48) -> 0 | JA10: =IF(Loading!V88<0, 0, Loading!V88) -> 0 | JB10: =IF(Loading!V128<0, 0, Loading!V128) -> 0 | JC10: =IF(Loading!V168<0, 0, Loading!V168) -> 0 | JD10: =IF(Loading!V208<0, 0, Loading!V208) -> 0 | JE10: =IF(Loading!V248<0, 0, Loading!V248) -> 0 | JF10: =IF(Loading!V288<0, 0, Loading!V288) -> 0 | JG10: =IF(Loading!V328<0, 0, Loading!V328) -> 0 | JH10: =IF(Loading!V368<0, 0, Loading!V368) -> 0 | JI10: =IF(Loading!V408<0, 0, Loading!V408) -> 0 | JJ10: =IF(Loading!V448<0, 0, Loading!V448) -> 0 | JK10: =IF(Loading!V488<0, 0, Loading!V488) -> 0 | JL10: =IF(Loading!V528<0, 0, Loading!V528) -> 0 | JM10: =IF(Loading!V568<0, 0, Loading!V568) -> 0 | JN10: =IF(Loading!V608<0, 0, Loading!V608) -> 0 | JO10: =IF(Loading!W8<0, 0, Loading!W8) -> 0 | JP10: =IF(Loading!W48<0, 0, Loading!W48) -> 0 | JQ10: =IF(Loading!W88<0, 0, Loading!W88) -> 0 | JR10: =IF(Loading!W128<0, 0, Loading!W128) -> 0 | JS10: =IF(Loading!W168<0, 0, Loading!W168) -> 0 | JT10: =IF(Loading!W208<0, 0, Loading!W208) -> 0 | JU10: =IF(Loading!W248<0, 0, Loading!W248) -> 0 | JV10: =IF(Loading!W288<0, 0, Loading!W288) -> 0 | JW10: =IF(Loading!W328<0, 0, Loading!W328) -> 0 | JX10: =IF(Loading!W368<0, 0, Loading!W368) -> 0 | JY10: =IF(Loading!W408<0, 0, Loading!W408) -> 0 | JZ10: =IF(Loading!W448<0, 0, Loading!W448) -> 0 | KA10: =IF(Loading!W488<0, 0, Loading!W488) -> 0 | KB10: =IF(Loading!W528<0, 0, Loading!W528) -> 0 | KC10: =IF(Loading!W568<0, 0, Loading!W568) -> 0 | KD10: =IF(Loading!W608<0, 0, Loading!W608) -> 0 | KE10: =IF(Loading!X8<0, 0, Loading!X8) -> 0 | KF10: =IF(Loading!X48<0, 0, Loading!X48) -> 0 | KG10: =IF(Loading!X88<0, 0, Loading!X88) -> 0 | KH10: =IF(Loading!X128<0, 0, Loading!X128) -> 0 | KI10: =IF(Loading!X168<0, 0, Loading!X168) -> 0 | KJ10: =IF(Loading!X208<0, 0, Loading!X208) -> 0 | KK10: =IF(Loading!X248<0, 0, Loading!X248) -> 0 | KL10: =IF(Loading!X288<0, 0, Loading!X288) -> 0 | KM10: =IF(Loading!X328<0, 0, Loading!X328) -> 0 | KN10: =IF(Loading!X368<0, 0, Loading!X368) -> 0 | KO10: =IF(Loading!X408<0, 0, Loading!X408) -> 0 | KP10: =IF(Loading!X448<0, 0, Loading!X448) -> 0 | KQ10: =IF(Loading!X488<0, 0, Loading!X488) -> 0 | KR10: =IF(Loading!X528<0, 0, Loading!X528) -> 0 | KS10: =IF(Loading!X568<0, 0, Loading!X568) -> 0 | KT10: =IF(Loading!X608<0, 0, Loading!X608) -> 0 | KU10: =IF(Loading!Y8<0, 0, Loading!Y8) -> 0 | KV10: =IF(Loading!Y48<0, 0, Loading!Y48) -> 0 | KW10: =IF(Loading!Y88<0, 0, Loading!Y88) -> 0 | KX10: =IF(Loading!Y128<0, 0, Loading!Y128) -> 0 | KY10: =IF(Loading!Y168<0, 0, Loading!Y168) -> 0 | KZ10: =IF(Loading!Y208<0, 0, Loading!Y208) -> 0 | LA10: =IF(Loading!Y248<0, 0, Loading!Y248) -> 0 | LB10: =IF(Loading!Y288<0, 0, Loading!Y288) -> 0 | LC10: =IF(Loading!Y328<0, 0, Loading!Y328) -> 0 | LD10: =IF(Loading!Y368<0, 0, Loading!Y368) -> 0 | LE10: =IF(Loading!Y408<0, 0, Loading!Y408) -> 0 | LF10: =IF(Loading!Y448<0, 0, Loading!Y448) -> 0 | LG10: =IF(Loading!Y488<0, 0, Loading!Y488) -> 0 | LH10: =IF(Loading!Y528<0, 0, Loading!Y528) -> 0 | LI10: =IF(Loading!Y568<0, 0, Loading!Y568) -> 0 | LJ10: =IF(Loading!Y608<0, 0, Loading!Y608) -> 0 | LK10: =IF(Loading!Z8<0, 0, Loading!Z8) -> 0 | LL10: =IF(Loading!Z48<0, 0, Loading!Z48) -> 0 | LM10: =IF(Loading!Z88<0, 0, Loading!Z88) -> 0 | LN10: =IF(Loading!Z128<0, 0, Loading!Z128) -> 0 | LO10: =IF(Loading!Z168<0, 0, Loading!Z168) -> 0 | LP10: =IF(Loading!Z208<0, 0, Loading!Z208) -> 0 | LQ10: =IF(Loading!Z248<0, 0, Loading!Z248) -> 0 | LR10: =IF(Loading!Z288<0, 0, Loading!Z288) -> 0 | LS10: =IF(Loading!Z328<0, 0, Loading!Z328) -> 0 | LT10: =IF(Loading!Z368<0, 0, Loading!Z368) -> 0 | LU10: =IF(Loading!Z408<0, 0, Loading!Z408) -> 0 | LV10: =IF(Loading!Z448<0, 0, Loading!Z448) -> 0 | LW10: =IF(Loading!Z488<0, 0, Loading!Z488) -> 0 | LX10: =IF(Loading!Z528<0, 0, Loading!Z528) -> 0 | LY10: =IF(Loading!Z568<0, 0, Loading!Z568) -> 0 | LZ10: =IF(Loading!Z608<0, 0, Loading!Z608) -> 0 | MA10: =IF(Loading!AA8<0, 0, Loading!AA8) -> 0 | MB10: =IF(Loading!AA48<0, 0, Loading!AA48) -> 0 | MC10: =IF(Loading!AA88<0, 0, Loading!AA88) -> 0 | MD10: =IF(Loading!AA128<0, 0, Loading!AA128) -> 0 | ME10: =IF(Loading!AA168<0, 0, Loading!AA168) -> 0 | MF10: =IF(Loading!AA208<0, 0, Loading!AA208) -> 0 | MG10: =IF(Loading!AA248<0, 0, Loading!AA248) -> 0 | MH10: =IF(Loading!AA288<0, 0, Loading!AA288) -> 0 | MI10: =IF(Loading!AA328<0, 0, Loading!AA328) -> 0 | MJ10: =IF(Loading!AA368<0, 0, Loading!AA368) -> 0 | MK10: =IF(Loading!AA408<0, 0, Loading!AA408) -> 0 | ML10: =IF(Loading!AA448<0, 0, Loading!AA448) -> 0 | MM10: =IF(Loading!AA488<0, 0, Loading!AA488) -> 0 | MN10: =IF(Loading!AA528<0, 0, Loading!AA528) -> 0 | MO10: =IF(Loading!AA568<0, 0, Loading!AA568) -> 0 | MP10: =IF(Loading!AA608<0, 0, Loading!AA608) -> 0 | MQ10: =IF(Loading!AB8<0, 0, Loading!AB8) -> 0 | MR10: =IF(Loading!AB48<0, 0, Loading!AB48) -> 0 | MS10: =IF(Loading!AB88<0, 0, Loading!AB88) -> 0 | MT10: =IF(Loading!AB128<0, 0, Loading!AB128) -> 0 | MU10: =IF(Loading!AB168<0, 0, Loading!AB168) -> 0 | MV10: =IF(Loading!AB208<0, 0, Loading!AB208) -> 0 | MW10: =IF(Loading!AB248<0, 0, Loading!AB248) -> 0 | MX10: =IF(Loading!AB288<0, 0, Loading!AB288) -> 0 | MY10: =IF(Loading!AB328<0, 0, Loading!AB328) -> 0 | MZ10: =IF(Loading!AB368<0, 0, Loading!AB368) -> 0 | NA10: =IF(Loading!AB408<0, 0, Loading!AB408) -> 0 | NB10: =IF(Loading!AB448<0, 0, Loading!AB448) -> 0 | NC10: =IF(Loading!AB488<0, 0, Loading!AB488) -> 0 | ND10: =IF(Loading!AB528<0, 0, Loading!AB528) -> 0 | NE10: =IF(Loading!AB568<0, 0, Loading!AB568) -> 0 | NF10: =IF(Loading!AB608<0, 0, Loading!AB608) -> 0 | NG10: =IF(Loading!AC8<0, 0, Loading!AC8) -> 0 | NH10: =IF(Loading!AC48<0, 0, Loading!AC48) -> 0 | NI10: =IF(Loading!AC88<0, 0, Loading!AC88) -> 0 | NJ10: =IF(Loading!AC128<0, 0, Loading!AC128) -> 0 | NK10: =IF(Loading!AC168<0, 0, Loading!AC168) -> 0 | NL10: =IF(Loading!AC208<0, 0, Loading!AC208) -> 0 | NM10: =IF(Loading!AC248<0, 0, Loading!AC248) -> 0 | NN10: =IF(Loading!AC288<0, 0, Loading!AC288) -> 0 | NO10: =IF(Loading!AC328<0, 0, Loading!AC328) -> 0 | NP10: =IF(Loading!AC368<0, 0, Loading!AC368) -> 0 | NQ10: =IF(Loading!AC408<0, 0, Loading!AC408) -> 0 | NR10: =IF(Loading!AC448<0, 0, Loading!AC448) -> 0 | NS10: =IF(Loading!AC488<0, 0, Loading!AC488) -> 0 | NT10: =IF(Loading!AC528<0, 0, Loading!AC528) -> 0 | NU10: =IF(Loading!AC568<0, 0, Loading!AC568) -> 0 | NV10: =IF(Loading!AC608<0, 0, Loading!AC608) -> 0 | NW10: =IF(Loading!AD8<0, 0, Loading!AD8) -> 0 | NX10: =IF(Loading!AD48<0, 0, Loading!AD48) -> 0 | NY10: =IF(Loading!AD88<0, 0, Loading!AD88) -> 0 | NZ10: =IF(Loading!AD128<0, 0, Loading!AD128) -> 0 | OA10: =IF(Loading!AD168<0, 0, Loading!AD168) -> 0 | OB10: =IF(Loading!AD208<0, 0, Loading!AD208) -> 0 | OC10: =IF(Loading!AD248<0, 0, Loading!AD248) -> 0 | OD10: =IF(Loading!AD288<0, 0, Loading!AD288) -> 0 | OE10: =IF(Loading!AD328<0, 0, Loading!AD328) -> 0 | OF10: =IF(Loading!AD368<0, 0, Loading!AD368) -> 0 | OG10: =IF(Loading!AD408<0, 0, Loading!AD408) -> 0 | OH10: =IF(Loading!AD448<0, 0, Loading!AD448) -> 0 | OI10: =IF(Loading!AD488<0, 0, Loading!AD488) -> 0 | OJ10: =IF(Loading!AD528<0, 0, Loading!AD528) -> 0 | OK10: =IF(Loading!AD568<0, 0, Loading!AD568) -> 0 | OL10: =IF(Loading!AD608<0, 0, Loading!AD608) -> 0 | OM10: =IF(Loading!AE8<0, 0, Loading!AE8) -> 0 | ON10: =IF(Loading!AE48<0, 0, Loading!AE48) -> 0 | OO10: =IF(Loading!AE88<0, 0, Loading!AE88) -> 0 | OP10: =IF(Loading!AE128<0, 0, Loading!AE128) -> 0 | OQ10: =IF(Loading!AE168<0, 0, Loading!AE168) -> 0 | OR10: =IF(Loading!AE208<0, 0, Loading!AE208) -> 0 | OS10: =IF(Loading!AE248<0, 0, Loading!AE248) -> 0 | OT10: =IF(Loading!AE288<0, 0, Loading!AE288) -> 0 | OU10: =IF(Loading!AE328<0, 0, Loading!AE328) -> 0 | OV10: =IF(Loading!AE368<0, 0, Loading!AE368) -> 0 | OW10: =IF(Loading!AE408<0, 0, Loading!AE408) -> 0 | OX10: =IF(Loading!AE448<0, 0, Loading!AE448) -> 0 | OY10: =IF(Loading!AE488<0, 0, Loading!AE488) -> 0 | OZ10: =IF(Loading!AE528<0, 0, Loading!AE528) -> 0 | PA10: =IF(Loading!AE568<0, 0, Loading!AE568) -> 0 | PB10: =IF(Loading!AE608<0, 0, Loading!AE608) -> 0 | PC10: =IF(Loading!AF8<0, 0, Loading!AF8) -> 0 | PD10: =IF(Loading!AF48<0, 0, Loading!AF48) -> 0 | PE10: =IF(Loading!AF88<0, 0, Loading!AF88) -> 0 | PF10: =IF(Loading!AF128<0, 0, Loading!AF128) -> 0 | PG10: =IF(Loading!AF168<0, 0, Loading!AF168) -> 0 | PH10: =IF(Loading!AF208<0, 0, Loading!AF208) -> 0 | PI10: =IF(Loading!AF248<0, 0, Loading!AF248) -> 0 | PJ10: =IF(Loading!AF288<0, 0, Loading!AF288) -> 0 | PK10: =IF(Loading!AF328<0, 0, Loading!AF328) -> 0 | PL10: =IF(Loading!AF368<0, 0, Loading!AF368) -> 0 | PM10: =IF(Loading!AF408<0, 0, Loading!AF408) -> 0 | PN10: =IF(Loading!AF448<0, 0, Loading!AF448) -> 0 | PO10: =IF(Loading!AF488<0, 0, Loading!AF488) -> 0 | PP10: =IF(Loading!AF528<0, 0, Loading!AF528) -> 0 | PQ10: =IF(Loading!AF568<0, 0, Loading!AF568) -> 0 | PR10: =IF(Loading!AF608<0, 0, Loading!AF608) -> 0 | PS10: =IF(Loading!AG8<0, 0, Loading!AG8) -> 0 | PT10: =IF(Loading!AG48<0, 0, Loading!AG48) -> 0 | PU10: =IF(Loading!AG88<0, 0, Loading!AG88) -> 0 | PV10: =IF(Loading!AG128<0, 0, Loading!AG128) -> 0 | PW10: =IF(Loading!AG168<0, 0, Loading!AG168) -> 0 | PX10: =IF(Loading!AG208<0, 0, Loading!AG208) -> 0 | PY10: =IF(Loading!AG248<0, 0, Loading!AG248) -> 0 | PZ10: =IF(Loading!AG288<0, 0, Loading!AG288) -> 0 | QA10: =IF(Loading!AG328<0, 0, Loading!AG328) -> 0 | QB10: =IF(Loading!AG368<0, 0, Loading!AG368) -> 0 | QC10: =IF(Loading!AG408<0, 0, Loading!AG408) -> 0 | QD10: =IF(Loading!AG448<0, 0, Loading!AG448) -> 0 | QE10: =IF(Loading!AG488<0, 0, Loading!AG488) -> 0 | QF10: =IF(Loading!AG528<0, 0, Loading!AG528) -> 0 | QG10: =IF(Loading!AG568<0, 0, Loading!AG568) -> 0 | QH10: =IF(Loading!AG608<0, 0, Loading!AG608) -> 0 | QI10: =IF(Loading!AH8<0, 0, Loading!AH8) -> 0 | QJ10: =IF(Loading!AH48<0, 0, Loading!AH48) -> 0 | QK10: =IF(Loading!AH88<0, 0, Loading!AH88) -> 0 | QL10: =IF(Loading!AH128<0, 0, Loading!AH128) -> 0 | QM10: =IF(Loading!AH168<0, 0, Loading!AH168) -> 0 | QN10: =IF(Loading!AH208<0, 0, Loading!AH208) -> 0 | QO10: =IF(Loading!AH248<0, 0, Loading!AH248) -> 0 | QP10: =IF(Loading!AH288<0, 0, Loading!AH288) -> 0 | QQ10: =IF(Loading!AH328<0, 0, Loading!AH328) -> 0 | QR10: =IF(Loading!AH368<0, 0, Loading!AH368) -> 0 | QS10: =IF(Loading!AH408<0, 0, Loading!AH408) -> 0 | QT10: =IF(Loading!AH448<0, 0, Loading!AH448) -> 0 | QU10: =IF(Loading!AH488<0, 0, Loading!AH488) -> 0 | QV10: =IF(Loading!AH528<0, 0, Loading!AH528) -> 0 | QW10: =IF(Loading!AH568<0, 0, Loading!AH568) -> 0 | QX10: =IF(Loading!AH608<0, 0, Loading!AH608) -> 0 | QY10: =IF(Loading!AI8<0, 0, Loading!AI8) -> 0 | QZ10: =IF(Loading!AI48<0, 0, Loading!AI48) -> 0 | RA10: =IF(Loading!AI88<0, 0, Loading!AI88) -> 0 | RB10: =IF(Loading!AI128<0, 0, Loading!AI128) -> 0 | RC10: =IF(Loading!AI168<0, 0, Loading!AI168) -> 0 | RD10: =IF(Loading!AI208<0, 0, Loading!AI208) -> 0 | RE10: =IF(Loading!AI248<0, 0, Loading!AI248) -> 0 | RF10: =IF(Loading!AI288<0, 0, Loading!AI288) -> 0 | RG10: =IF(Loading!AI328<0, 0, Loading!AI328) -> 0 | RH10: =IF(Loading!AI368<0, 0, Loading!AI368) -> 0 | RI10: =IF(Loading!AI408<0, 0, Loading!AI408) -> 0 | RJ10: =IF(Loading!AI448<0, 0, Loading!AI448) -> 0 | RK10: =IF(Loading!AI488<0, 0, Loading!AI488) -> 0 | RL10: =IF(Loading!AI528<0, 0, Loading!AI528) -> 0 | RM10: =IF(Loading!AI568<0, 0, Loading!AI568) -> 0 | RN10: =IF(Loading!AI608<0, 0, Loading!AI608) -> 0 | SN10: =(1-$Y$2)*MEDIAN(C9:C12) -> 0 | SO10: =(1-$Y$2)*MEDIAN(D9:D12) -> 0 | SP10: =(1-$Y$2)*MEDIAN(E9:E12) -> 0 | SQ10: =(1-$Y$2)*MEDIAN(F9:F12) -> 0 | SR10: =(1-$Y$2)*MEDIAN(G9:G12) -> 0 | SS10: =(1-$Y$2)*MEDIAN(H9:H12) -> 0 | ST10: =(1-$Y$2)*MEDIAN(I9:I12) -> 0 | SU10: =(1-$Y$2)*MEDIAN(J9:J12) -> 0 | ... ALS10: =(1-$Y$2)*MEDIAN(SH9:SH12) -> #NUM!
B11: =B10 -> POS2 | C11: =IF(Loading!F9<0, 0, Loading!F9) -> 0 | D11: =IF(Loading!F49<0, 0, Loading!F49) -> 0 | E11: =IF(Loading!F89<0, 0, Loading!F89) -> 0 | F11: =IF(Loading!F129<0, 0, Loading!F129) -> 0 | G11: =IF(Loading!F169<0, 0, Loading!F169) -> 0 | H11: =IF(Loading!F209<0, 0, Loading!F209) -> 0 | I11: =IF(Loading!F249<0, 0, Loading!F249) -> 0 | J11: =IF(Loading!F289<0, 0, Loading!F289) -> 0 | K11: =IF(Loading!F329<0, 0, Loading!F329) -> 0 | L11: =IF(Loading!F369<0, 0, Loading!F369) -> 0 | M11: =IF(Loading!F409<0, 0, Loading!F409) -> 0 | N11: =IF(Loading!F449<0, 0, Loading!F449) -> 0 | O11: =IF(Loading!F489<0, 0, Loading!F489) -> 0 | P11: =IF(Loading!F529<0, 0, Loading!F529) -> 0 | Q11: =IF(Loading!F569<0, 0, Loading!F569) -> 0 | R11: =IF(Loading!F609<0, 0, Loading!F609) -> 0 | S11: =IF(Loading!G9<0, 0, Loading!G9) -> 0 | T11: =IF(Loading!G49<0, 0, Loading!G49) -> 0 | U11: =IF(Loading!G89<0, 0, Loading!G89) -> 0 | V11: =IF(Loading!G129<0, 0, Loading!G129) -> 0 | W11: =IF(Loading!G169<0, 0, Loading!G169) -> 0 | X11: =IF(Loading!G209<0, 0, Loading!G209) -> 0 | Y11: =IF(Loading!G249<0, 0, Loading!G249) -> 0 | Z11: =IF(Loading!G289<0, 0, Loading!G289) -> 0 | AA11: =IF(Loading!G329<0, 0, Loading!G329) -> 0 | AB11: =IF(Loading!G369<0, 0, Loading!G369) -> 0 | AC11: =IF(Loading!G409<0, 0, Loading!G409) -> 0 | AD11: =IF(Loading!G449<0, 0, Loading!G449) -> 0 | AE11: =IF(Loading!G489<0, 0, Loading!G489) -> 0 | AF11: =IF(Loading!G529<0, 0, Loading!G529) -> 0 | AG11: =IF(Loading!G569<0, 0, Loading!G569) -> 0 | AH11: =IF(Loading!G609<0, 0, Loading!G609) -> 0 | AI11: =IF(Loading!H9<0, 0, Loading!H9) -> 0 | AJ11: =IF(Loading!H49<0, 0, Loading!H49) -> 0 | AK11: =IF(Loading!H89<0, 0, Loading!H89) -> 0 | AL11: =IF(Loading!H129<0, 0, Loading!H129) -> 0 | AM11: =IF(Loading!H169<0, 0, Loading!H169) -> 0 | AN11: =IF(Loading!H209<0, 0, Loading!H209) -> 0 | AO11: =IF(Loading!H249<0, 0, Loading!H249) -> 0 | AP11: =IF(Loading!H289<0, 0, Loading!H289) -> 0 | AQ11: =IF(Loading!H329<0, 0, Loading!H329) -> 0 | AR11: =IF(Loading!H369<0, 0, Loading!H369) -> 0 | AS11: =IF(Loading!H409<0, 0, Loading!H409) -> 0 | AT11: =IF(Loading!H449<0, 0, Loading!H449) -> 0 | AU11: =IF(Loading!H489<0, 0, Loading!H489) -> 0 | AV11: =IF(Loading!H529<0, 0, Loading!H529) -> 0 | AW11: =IF(Loading!H569<0, 0, Loading!H569) -> 0 | AX11: =IF(Loading!H609<0, 0, Loading!H609) -> 0 | AY11: =IF(Loading!I9<0, 0, Loading!I9) -> 0 | AZ11: =IF(Loading!I49<0, 0, Loading!I49) -> 0 | BA11: =IF(Loading!I89<0, 0, Loading!I89) -> 0 | BB11: =IF(Loading!I129<0, 0, Loading!I129) -> 0 | BC11: =IF(Loading!I169<0, 0, Loading!I169) -> 0 | BD11: =IF(Loading!I209<0, 0, Loading!I209) -> 0 | BE11: =IF(Loading!I249<0, 0, Loading!I249) -> 0 | BF11: =IF(Loading!I289<0, 0, Loading!I289) -> 0 | BG11: =IF(Loading!I329<0, 0, Loading!I329) -> 0 | BH11: =IF(Loading!I369<0, 0, Loading!I369) -> 0 | BI11: =IF(Loading!I409<0, 0, Loading!I409) -> 0 | BJ11: =IF(Loading!I449<0, 0, Loading!I449) -> 0 | BK11: =IF(Loading!I489<0, 0, Loading!I489) -> 0 | BL11: =IF(Loading!I529<0, 0, Loading!I529) -> 0 | BM11: =IF(Loading!I569<0, 0, Loading!I569) -> 0 | BN11: =IF(Loading!I609<0, 0, Loading!I609) -> 0 | BO11: =IF(Loading!J9<0, 0, Loading!J9) -> 0 | BP11: =IF(Loading!J49<0, 0, Loading!J49) -> 0 | BQ11: =IF(Loading!J89<0, 0, Loading!J89) -> 0 | BR11: =IF(Loading!J129<0, 0, Loading!J129) -> 0 | BS11: =IF(Loading!J169<0, 0, Loading!J169) -> 0 | BT11: =IF(Loading!J209<0, 0, Loading!J209) -> 0 | BU11: =IF(Loading!J249<0, 0, Loading!J249) -> 0 | BV11: =IF(Loading!J289<0, 0, Loading!J289) -> 0 | BW11: =IF(Loading!J329<0, 0, Loading!J329) -> 0 | BX11: =IF(Loading!J369<0, 0, Loading!J369) -> 0 | BY11: =IF(Loading!J409<0, 0, Loading!J409) -> 0 | BZ11: =IF(Loading!J449<0, 0, Loading!J449) -> 0 | CA11: =IF(Loading!J489<0, 0, Loading!J489) -> 0 | CB11: =IF(Loading!J529<0, 0, Loading!J529) -> 0 | CC11: =IF(Loading!J569<0, 0, Loading!J569) -> 0 | CD11: =IF(Loading!J609<0, 0, Loading!J609) -> 0 | CE11: =IF(Loading!K9<0, 0, Loading!K9) -> 0 | CF11: =IF(Loading!K49<0, 0, Loading!K49) -> 0 | CG11: =IF(Loading!K89<0, 0, Loading!K89) -> 0 | CH11: =IF(Loading!K129<0, 0, Loading!K129) -> 0 | CI11: =IF(Loading!K169<0, 0, Loading!K169) -> 0 | CJ11: =IF(Loading!K209<0, 0, Loading!K209) -> 0 | CK11: =IF(Loading!K249<0, 0, Loading!K249) -> 0 | CL11: =IF(Loading!K289<0, 0, Loading!K289) -> 0 | CM11: =IF(Loading!K329<0, 0, Loading!K329) -> 0 | CN11: =IF(Loading!K369<0, 0, Loading!K369) -> 0 | CO11: =IF(Loading!K409<0, 0, Loading!K409) -> 0 | CP11: =IF(Loading!K449<0, 0, Loading!K449) -> 0 | CQ11: =IF(Loading!K489<0, 0, Loading!K489) -> 0 | CR11: =IF(Loading!K529<0, 0, Loading!K529) -> 0 | CS11: =IF(Loading!K569<0, 0, Loading!K569) -> 0 | CT11: =IF(Loading!K609<0, 0, Loading!K609) -> 0 | CU11: =IF(Loading!L9<0, 0, Loading!L9) -> 0 | CV11: =IF(Loading!L49<0, 0, Loading!L49) -> 0 | CW11: =IF(Loading!L89<0, 0, Loading!L89) -> 0 | CX11: =IF(Loading!L129<0, 0, Loading!L129) -> 0 | CY11: =IF(Loading!L169<0, 0, Loading!L169) -> 0 | CZ11: =IF(Loading!L209<0, 0, Loading!L209) -> 0 | DA11: =IF(Loading!L249<0, 0, Loading!L249) -> 0 | DB11: =IF(Loading!L289<0, 0, Loading!L289) -> 0 | DC11: =IF(Loading!L329<0, 0, Loading!L329) -> 0 | DD11: =IF(Loading!L369<0, 0, Loading!L369) -> 0 | DE11: =IF(Loading!L409<0, 0, Loading!L409) -> 0 | DF11: =IF(Loading!L449<0, 0, Loading!L449) -> 0 | DG11: =IF(Loading!L489<0, 0, Loading!L489) -> 0 | DH11: =IF(Loading!L529<0, 0, Loading!L529) -> 0 | DI11: =IF(Loading!L569<0, 0, Loading!L569) -> 0 | DJ11: =IF(Loading!L609<0, 0, Loading!L609) -> 0 | DK11: =IF(Loading!M9<0, 0, Loading!M9) -> 0 | DL11: =IF(Loading!M49<0, 0, Loading!M49) -> 0 | DM11: =IF(Loading!M89<0, 0, Loading!M89) -> 0 | DN11: =IF(Loading!M129<0, 0, Loading!M129) -> 0 | DO11: =IF(Loading!M169<0, 0, Loading!M169) -> 0 | DP11: =IF(Loading!M209<0, 0, Loading!M209) -> 0 | DQ11: =IF(Loading!M249<0, 0, Loading!M249) -> 0 | DR11: =IF(Loading!M289<0, 0, Loading!M289) -> 0 | DS11: =IF(Loading!M329<0, 0, Loading!M329) -> 0 | DT11: =IF(Loading!M369<0, 0, Loading!M369) -> 0 | DU11: =IF(Loading!M409<0, 0, Loading!M409) -> 0 | DV11: =IF(Loading!M449<0, 0, Loading!M449) -> 0 | DW11: =IF(Loading!M489<0, 0, Loading!M489) -> 0 | DX11: =IF(Loading!M529<0, 0, Loading!M529) -> 0 | DY11: =IF(Loading!M569<0, 0, Loading!M569) -> 0 | DZ11: =IF(Loading!M609<0, 0, Loading!M609) -> 0 | EA11: =IF(Loading!N9<0, 0, Loading!N9) -> 0 | EB11: =IF(Loading!N49<0, 0, Loading!N49) -> 0 | EC11: =IF(Loading!N89<0, 0, Loading!N89) -> 0 | ED11: =IF(Loading!N129<0, 0, Loading!N129) -> 0 | EE11: =IF(Loading!N169<0, 0, Loading!N169) -> 0 | EF11: =IF(Loading!N209<0, 0, Loading!N209) -> 0 | EG11: =IF(Loading!N249<0, 0, Loading!N249) -> 0 | EH11: =IF(Loading!N289<0, 0, Loading!N289) -> 0 | EI11: =IF(Loading!N329<0, 0, Loading!N329) -> 0 | EJ11: =IF(Loading!N369<0, 0, Loading!N369) -> 0 | EK11: =IF(Loading!N409<0, 0, Loading!N409) -> 0 | EL11: =IF(Loading!N449<0, 0, Loading!N449) -> 0 | EM11: =IF(Loading!N489<0, 0, Loading!N489) -> 0 | EN11: =IF(Loading!N529<0, 0, Loading!N529) -> 0 | EO11: =IF(Loading!N569<0, 0, Loading!N569) -> 0 | EP11: =IF(Loading!N609<0, 0, Loading!N609) -> 0 | EQ11: =IF(Loading!O9<0, 0, Loading!O9) -> 0 | ER11: =IF(Loading!O49<0, 0, Loading!O49) -> 0 | ES11: =IF(Loading!O89<0, 0, Loading!O89) -> 0 | ET11: =IF(Loading!O129<0, 0, Loading!O129) -> 0 | EU11: =IF(Loading!O169<0, 0, Loading!O169) -> 0 | EV11: =IF(Loading!O209<0, 0, Loading!O209) -> 0 | EW11: =IF(Loading!O249<0, 0, Loading!O249) -> 0 | EX11: =IF(Loading!O289<0, 0, Loading!O289) -> 0 | EY11: =IF(Loading!O329<0, 0, Loading!O329) -> 0 | EZ11: =IF(Loading!O369<0, 0, Loading!O369) -> 0 | FA11: =IF(Loading!O409<0, 0, Loading!O409) -> 0 | FB11: =IF(Loading!O449<0, 0, Loading!O449) -> 0 | FC11: =IF(Loading!O489<0, 0, Loading!O489) -> 0 | FD11: =IF(Loading!O529<0, 0, Loading!O529) -> 0 | FE11: =IF(Loading!O569<0, 0, Loading!O569) -> 0 | FF11: =IF(Loading!O609<0, 0, Loading!O609) -> 0 | FG11: =IF(Loading!P9<0, 0, Loading!P9) -> 0 | FH11: =IF(Loading!P49<0, 0, Loading!P49) -> 0 | FI11: =IF(Loading!P89<0, 0, Loading!P89) -> 0 | FJ11: =IF(Loading!P129<0, 0, Loading!P129) -> 0 | FK11: =IF(Loading!P169<0, 0, Loading!P169) -> 0 | FL11: =IF(Loading!P209<0, 0, Loading!P209) -> 0 | FM11: =IF(Loading!P249<0, 0, Loading!P249) -> 0 | FN11: =IF(Loading!P289<0, 0, Loading!P289) -> 0 | FO11: =IF(Loading!P329<0, 0, Loading!P329) -> 0 | FP11: =IF(Loading!P369<0, 0, Loading!P369) -> 0 | FQ11: =IF(Loading!P409<0, 0, Loading!P409) -> 0 | FR11: =IF(Loading!P449<0, 0, Loading!P449) -> 0 | FS11: =IF(Loading!P489<0, 0, Loading!P489) -> 0 | FT11: =IF(Loading!P529<0, 0, Loading!P529) -> 0 | FU11: =IF(Loading!P569<0, 0, Loading!P569) -> 0 | FV11: =IF(Loading!P609<0, 0, Loading!P609) -> 0 | FW11: =IF(Loading!Q9<0, 0, Loading!Q9) -> 0 | FX11: =IF(Loading!Q49<0, 0, Loading!Q49) -> 0 | FY11: =IF(Loading!Q89<0, 0, Loading!Q89) -> 0 | FZ11: =IF(Loading!Q129<0, 0, Loading!Q129) -> 0 | GA11: =IF(Loading!Q169<0, 0, Loading!Q169) -> 0 | GB11: =IF(Loading!Q209<0, 0, Loading!Q209) -> 0 | GC11: =IF(Loading!Q249<0, 0, Loading!Q249) -> 0 | GD11: =IF(Loading!Q289<0, 0, Loading!Q289) -> 0 | GE11: =IF(Loading!Q329<0, 0, Loading!Q329) -> 0 | GF11: =IF(Loading!Q369<0, 0, Loading!Q369) -> 0 | GG11: =IF(Loading!Q409<0, 0, Loading!Q409) -> 0 | GH11: =IF(Loading!Q449<0, 0, Loading!Q449) -> 0 | GI11: =IF(Loading!Q489<0, 0, Loading!Q489) -> 0 | GJ11: =IF(Loading!Q529<0, 0, Loading!Q529) -> 0 | GK11: =IF(Loading!Q569<0, 0, Loading!Q569) -> 0 | GL11: =IF(Loading!Q609<0, 0, Loading!Q609) -> 0 | GM11: =IF(Loading!R9<0, 0, Loading!R9) -> 0 | GN11: =IF(Loading!R49<0, 0, Loading!R49) -> 0 | GO11: =IF(Loading!R89<0, 0, Loading!R89) -> 0 | GP11: =IF(Loading!R129<0, 0, Loading!R129) -> 0 | GQ11: =IF(Loading!R169<0, 0, Loading!R169) -> 0 | GR11: =IF(Loading!R209<0, 0, Loading!R209) -> 0 | GS11: =IF(Loading!R249<0, 0, Loading!R249) -> 0 | GT11: =IF(Loading!R289<0, 0, Loading!R289) -> 0 | GU11: =IF(Loading!R329<0, 0, Loading!R329) -> 0 | GV11: =IF(Loading!R369<0, 0, Loading!R369) -> 0 | GW11: =IF(Loading!R409<0, 0, Loading!R409) -> 0 | GX11: =IF(Loading!R449<0, 0, Loading!R449) -> 0 | GY11: =IF(Loading!R489<0, 0, Loading!R489) -> 0 | GZ11: =IF(Loading!R529<0, 0, Loading!R529) -> 0 | HA11: =IF(Loading!R569<0, 0, Loading!R569) -> 0 | HB11: =IF(Loading!R609<0, 0, Loading!R609) -> 0 | HC11: =IF(Loading!S9<0, 0, Loading!S9) -> 0 | HD11: =IF(Loading!S49<0, 0, Loading!S49) -> 0 | HE11: =IF(Loading!S89<0, 0, Loading!S89) -> 0 | HF11: =IF(Loading!S129<0, 0, Loading!S129) -> 0 | HG11: =IF(Loading!S169<0, 0, Loading!S169) -> 0 | HH11: =IF(Loading!S209<0, 0, Loading!S209) -> 0 | HI11: =IF(Loading!S249<0, 0, Loading!S249) -> 0 | HJ11: =IF(Loading!S289<0, 0, Loading!S289) -> 0 | HK11: =IF(Loading!S329<0, 0, Loading!S329) -> 0 | HL11: =IF(Loading!S369<0, 0, Loading!S369) -> 0 | HM11: =IF(Loading!S409<0, 0, Loading!S409) -> 0 | HN11: =IF(Loading!S449<0, 0, Loading!S449) -> 0 | HO11: =IF(Loading!S489<0, 0, Loading!S489) -> 0 | HP11: =IF(Loading!S529<0, 0, Loading!S529) -> 0 | HQ11: =IF(Loading!S569<0, 0, Loading!S569) -> 0 | HR11: =IF(Loading!S609<0, 0, Loading!S609) -> 0 | HS11: =IF(Loading!T9<0, 0, Loading!T9) -> 0 | HT11: =IF(Loading!T49<0, 0, Loading!T49) -> 0 | HU11: =IF(Loading!T89<0, 0, Loading!T89) -> 0 | HV11: =IF(Loading!T129<0, 0, Loading!T129) -> 0 | HW11: =IF(Loading!T169<0, 0, Loading!T169) -> 0 | HX11: =IF(Loading!T209<0, 0, Loading!T209) -> 0 | HY11: =IF(Loading!T249<0, 0, Loading!T249) -> 0 | HZ11: =IF(Loading!T289<0, 0, Loading!T289) -> 0 | IA11: =IF(Loading!T329<0, 0, Loading!T329) -> 0 | IB11: =IF(Loading!T369<0, 0, Loading!T369) -> 0 | IC11: =IF(Loading!T409<0, 0, Loading!T409) -> 0 | ID11: =IF(Loading!T449<0, 0, Loading!T449) -> 0 | IE11: =IF(Loading!T489<0, 0, Loading!T489) -> 0 | IF11: =IF(Loading!T529<0, 0, Loading!T529) -> 0 | IG11: =IF(Loading!T569<0, 0, Loading!T569) -> 0 | IH11: =IF(Loading!T609<0, 0, Loading!T609) -> 0 | II11: =IF(Loading!U9<0, 0, Loading!U9) -> 0 | IJ11: =IF(Loading!U49<0, 0, Loading!U49) -> 0 | IK11: =IF(Loading!U89<0, 0, Loading!U89) -> 0 | IL11: =IF(Loading!U129<0, 0, Loading!U129) -> 0 | IM11: =IF(Loading!U169<0, 0, Loading!U169) -> 0 | IN11: =IF(Loading!U209<0, 0, Loading!U209) -> 0 | IO11: =IF(Loading!U249<0, 0, Loading!U249) -> 0 | IP11: =IF(Loading!U289<0, 0, Loading!U289) -> 0 | IQ11: =IF(Loading!U329<0, 0, Loading!U329) -> 0 | IR11: =IF(Loading!U369<0, 0, Loading!U369) -> 0 | IS11: =IF(Loading!U409<0, 0, Loading!U409) -> 0 | IT11: =IF(Loading!U449<0, 0, Loading!U449) -> 0 | IU11: =IF(Loading!U489<0, 0, Loading!U489) -> 0 | IV11: =IF(Loading!U529<0, 0, Loading!U529) -> 0 | IW11: =IF(Loading!U569<0, 0, Loading!U569) -> 0 | IX11: =IF(Loading!U609<0, 0, Loading!U609) -> 0 | IY11: =IF(Loading!V9<0, 0, Loading!V9) -> 0 | IZ11: =IF(Loading!V49<0, 0, Loading!V49) -> 0 | JA11: =IF(Loading!V89<0, 0, Loading!V89) -> 0 | JB11: =IF(Loading!V129<0, 0, Loading!V129) -> 0 | JC11: =IF(Loading!V169<0, 0, Loading!V169) -> 0 | JD11: =IF(Loading!V209<0, 0, Loading!V209) -> 0 | JE11: =IF(Loading!V249<0, 0, Loading!V249) -> 0 | JF11: =IF(Loading!V289<0, 0, Loading!V289) -> 0 | JG11: =IF(Loading!V329<0, 0, Loading!V329) -> 0 | JH11: =IF(Loading!V369<0, 0, Loading!V369) -> 0 | JI11: =IF(Loading!V409<0, 0, Loading!V409) -> 0 | JJ11: =IF(Loading!V449<0, 0, Loading!V449) -> 0 | JK11: =IF(Loading!V489<0, 0, Loading!V489) -> 0 | JL11: =IF(Loading!V529<0, 0, Loading!V529) -> 0 | JM11: =IF(Loading!V569<0, 0, Loading!V569) -> 0 | JN11: =IF(Loading!V609<0, 0, Loading!V609) -> 0 | JO11: =IF(Loading!W9<0, 0, Loading!W9) -> 0 | JP11: =IF(Loading!W49<0, 0, Loading!W49) -> 0 | JQ11: =IF(Loading!W89<0, 0, Loading!W89) -> 0 | JR11: =IF(Loading!W129<0, 0, Loading!W129) -> 0 | JS11: =IF(Loading!W169<0, 0, Loading!W169) -> 0 | JT11: =IF(Loading!W209<0, 0, Loading!W209) -> 0 | JU11: =IF(Loading!W249<0, 0, Loading!W249) -> 0 | JV11: =IF(Loading!W289<0, 0, Loading!W289) -> 0 | JW11: =IF(Loading!W329<0, 0, Loading!W329) -> 0 | JX11: =IF(Loading!W369<0, 0, Loading!W369) -> 0 | JY11: =IF(Loading!W409<0, 0, Loading!W409) -> 0 | JZ11: =IF(Loading!W449<0, 0, Loading!W449) -> 0 | KA11: =IF(Loading!W489<0, 0, Loading!W489) -> 0 | KB11: =IF(Loading!W529<0, 0, Loading!W529) -> 0 | KC11: =IF(Loading!W569<0, 0, Loading!W569) -> 0 | KD11: =IF(Loading!W609<0, 0, Loading!W609) -> 0 | KE11: =IF(Loading!X9<0, 0, Loading!X9) -> 0 | KF11: =IF(Loading!X49<0, 0, Loading!X49) -> 0 | KG11: =IF(Loading!X89<0, 0, Loading!X89) -> 0 | KH11: =IF(Loading!X129<0, 0, Loading!X129) -> 0 | KI11: =IF(Loading!X169<0, 0, Loading!X169) -> 0 | KJ11: =IF(Loading!X209<0, 0, Loading!X209) -> 0 | KK11: =IF(Loading!X249<0, 0, Loading!X249) -> 0 | KL11: =IF(Loading!X289<0, 0, Loading!X289) -> 0 | KM11: =IF(Loading!X329<0, 0, Loading!X329) -> 0 | KN11: =IF(Loading!X369<0, 0, Loading!X369) -> 0 | KO11: =IF(Loading!X409<0, 0, Loading!X409) -> 0 | KP11: =IF(Loading!X449<0, 0, Loading!X449) -> 0 | KQ11: =IF(Loading!X489<0, 0, Loading!X489) -> 0 | KR11: =IF(Loading!X529<0, 0, Loading!X529) -> 0 | KS11: =IF(Loading!X569<0, 0, Loading!X569) -> 0 | KT11: =IF(Loading!X609<0, 0, Loading!X609) -> 0 | KU11: =IF(Loading!Y9<0, 0, Loading!Y9) -> 0 | KV11: =IF(Loading!Y49<0, 0, Loading!Y49) -> 0 | KW11: =IF(Loading!Y89<0, 0, Loading!Y89) -> 0 | KX11: =IF(Loading!Y129<0, 0, Loading!Y129) -> 0 | KY11: =IF(Loading!Y169<0, 0, Loading!Y169) -> 0 | KZ11: =IF(Loading!Y209<0, 0, Loading!Y209) -> 0 | LA11: =IF(Loading!Y249<0, 0, Loading!Y249) -> 0 | LB11: =IF(Loading!Y289<0, 0, Loading!Y289) -> 0 | LC11: =IF(Loading!Y329<0, 0, Loading!Y329) -> 0 | LD11: =IF(Loading!Y369<0, 0, Loading!Y369) -> 0 | LE11: =IF(Loading!Y409<0, 0, Loading!Y409) -> 0 | LF11: =IF(Loading!Y449<0, 0, Loading!Y449) -> 0 | LG11: =IF(Loading!Y489<0, 0, Loading!Y489) -> 0 | LH11: =IF(Loading!Y529<0, 0, Loading!Y529) -> 0 | LI11: =IF(Loading!Y569<0, 0, Loading!Y569) -> 0 | LJ11: =IF(Loading!Y609<0, 0, Loading!Y609) -> 0 | LK11: =IF(Loading!Z9<0, 0, Loading!Z9) -> 0 | LL11: =IF(Loading!Z49<0, 0, Loading!Z49) -> 0 | LM11: =IF(Loading!Z89<0, 0, Loading!Z89) -> 0 | LN11: =IF(Loading!Z129<0, 0, Loading!Z129) -> 0 | LO11: =IF(Loading!Z169<0, 0, Loading!Z169) -> 0 | LP11: =IF(Loading!Z209<0, 0, Loading!Z209) -> 0 | LQ11: =IF(Loading!Z249<0, 0, Loading!Z249) -> 0 | LR11: =IF(Loading!Z289<0, 0, Loading!Z289) -> 0 | LS11: =IF(Loading!Z329<0, 0, Loading!Z329) -> 0 | LT11: =IF(Loading!Z369<0, 0, Loading!Z369) -> 0 | LU11: =IF(Loading!Z409<0, 0, Loading!Z409) -> 0 | LV11: =IF(Loading!Z449<0, 0, Loading!Z449) -> 0 | LW11: =IF(Loading!Z489<0, 0, Loading!Z489) -> 0 | LX11: =IF(Loading!Z529<0, 0, Loading!Z529) -> 0 | LY11: =IF(Loading!Z569<0, 0, Loading!Z569) -> 0 | LZ11: =IF(Loading!Z609<0, 0, Loading!Z609) -> 0 | MA11: =IF(Loading!AA9<0, 0, Loading!AA9) -> 0 | MB11: =IF(Loading!AA49<0, 0, Loading!AA49) -> 0 | MC11: =IF(Loading!AA89<0, 0, Loading!AA89) -> 0 | MD11: =IF(Loading!AA129<0, 0, Loading!AA129) -> 0 | ME11: =IF(Loading!AA169<0, 0, Loading!AA169) -> 0 | MF11: =IF(Loading!AA209<0, 0, Loading!AA209) -> 0 | MG11: =IF(Loading!AA249<0, 0, Loading!AA249) -> 0 | MH11: =IF(Loading!AA289<0, 0, Loading!AA289) -> 0 | MI11: =IF(Loading!AA329<0, 0, Loading!AA329) -> 0 | MJ11: =IF(Loading!AA369<0, 0, Loading!AA369) -> 0 | MK11: =IF(Loading!AA409<0, 0, Loading!AA409) -> 0 | ML11: =IF(Loading!AA449<0, 0, Loading!AA449) -> 0 | MM11: =IF(Loading!AA489<0, 0, Loading!AA489) -> 0 | MN11: =IF(Loading!AA529<0, 0, Loading!AA529) -> 0 | MO11: =IF(Loading!AA569<0, 0, Loading!AA569) -> 0 | MP11: =IF(Loading!AA609<0, 0, Loading!AA609) -> 0 | MQ11: =IF(Loading!AB9<0, 0, Loading!AB9) -> 0 | MR11: =IF(Loading!AB49<0, 0, Loading!AB49) -> 0 | MS11: =IF(Loading!AB89<0, 0, Loading!AB89) -> 0 | MT11: =IF(Loading!AB129<0, 0, Loading!AB129) -> 0 | MU11: =IF(Loading!AB169<0, 0, Loading!AB169) -> 0 | MV11: =IF(Loading!AB209<0, 0, Loading!AB209) -> 0 | MW11: =IF(Loading!AB249<0, 0, Loading!AB249) -> 0 | MX11: =IF(Loading!AB289<0, 0, Loading!AB289) -> 0 | MY11: =IF(Loading!AB329<0, 0, Loading!AB329) -> 0 | MZ11: =IF(Loading!AB369<0, 0, Loading!AB369) -> 0 | NA11: =IF(Loading!AB409<0, 0, Loading!AB409) -> 0 | NB11: =IF(Loading!AB449<0, 0, Loading!AB449) -> 0 | NC11: =IF(Loading!AB489<0, 0, Loading!AB489) -> 0 | ND11: =IF(Loading!AB529<0, 0, Loading!AB529) -> 0 | NE11: =IF(Loading!AB569<0, 0, Loading!AB569) -> 0 | NF11: =IF(Loading!AB609<0, 0, Loading!AB609) -> 0 | NG11: =IF(Loading!AC9<0, 0, Loading!AC9) -> 0 | NH11: =IF(Loading!AC49<0, 0, Loading!AC49) -> 0 | NI11: =IF(Loading!AC89<0, 0, Loading!AC89) -> 0 | NJ11: =IF(Loading!AC129<0, 0, Loading!AC129) -> 0 | NK11: =IF(Loading!AC169<0, 0, Loading!AC169) -> 0 | NL11: =IF(Loading!AC209<0, 0, Loading!AC209) -> 0 | NM11: =IF(Loading!AC249<0, 0, Loading!AC249) -> 0 | NN11: =IF(Loading!AC289<0, 0, Loading!AC289) -> 0 | NO11: =IF(Loading!AC329<0, 0, Loading!AC329) -> 0 | NP11: =IF(Loading!AC369<0, 0, Loading!AC369) -> 0 | NQ11: =IF(Loading!AC409<0, 0, Loading!AC409) -> 0 | NR11: =IF(Loading!AC449<0, 0, Loading!AC449) -> 0 | NS11: =IF(Loading!AC489<0, 0, Loading!AC489) -> 0 | NT11: =IF(Loading!AC529<0, 0, Loading!AC529) -> 0 | NU11: =IF(Loading!AC569<0, 0, Loading!AC569) -> 0 | NV11: =IF(Loading!AC609<0, 0, Loading!AC609) -> 0 | NW11: =IF(Loading!AD9<0, 0, Loading!AD9) -> 0 | NX11: =IF(Loading!AD49<0, 0, Loading!AD49) -> 0 | NY11: =IF(Loading!AD89<0, 0, Loading!AD89) -> 0 | NZ11: =IF(Loading!AD129<0, 0, Loading!AD129) -> 0 | OA11: =IF(Loading!AD169<0, 0, Loading!AD169) -> 0 | OB11: =IF(Loading!AD209<0, 0, Loading!AD209) -> 0 | OC11: =IF(Loading!AD249<0, 0, Loading!AD249) -> 0 | OD11: =IF(Loading!AD289<0, 0, Loading!AD289) -> 0 | OE11: =IF(Loading!AD329<0, 0, Loading!AD329) -> 0 | OF11: =IF(Loading!AD369<0, 0, Loading!AD369) -> 0 | OG11: =IF(Loading!AD409<0, 0, Loading!AD409) -> 0 | OH11: =IF(Loading!AD449<0, 0, Loading!AD449) -> 0 | OI11: =IF(Loading!AD489<0, 0, Loading!AD489) -> 0 | OJ11: =IF(Loading!AD529<0, 0, Loading!AD529) -> 0 | OK11: =IF(Loading!AD569<0, 0, Loading!AD569) -> 0 | OL11: =IF(Loading!AD609<0, 0, Loading!AD609) -> 0 | OM11: =IF(Loading!AE9<0, 0, Loading!AE9) -> 0 | ON11: =IF(Loading!AE49<0, 0, Loading!AE49) -> 0 | OO11: =IF(Loading!AE89<0, 0, Loading!AE89) -> 0 | OP11: =IF(Loading!AE129<0, 0, Loading!AE129) -> 0 | OQ11: =IF(Loading!AE169<0, 0, Loading!AE169) -> 0 | OR11: =IF(Loading!AE209<0, 0, Loading!AE209) -> 0 | OS11: =IF(Loading!AE249<0, 0, Loading!AE249) -> 0 | OT11: =IF(Loading!AE289<0, 0, Loading!AE289) -> 0 | OU11: =IF(Loading!AE329<0, 0, Loading!AE329) -> 0 | OV11: =IF(Loading!AE369<0, 0, Loading!AE369) -> 0 | OW11: =IF(Loading!AE409<0, 0, Loading!AE409) -> 0 | OX11: =IF(Loading!AE449<0, 0, Loading!AE449) -> 0 | OY11: =IF(Loading!AE489<0, 0, Loading!AE489) -> 0 | OZ11: =IF(Loading!AE529<0, 0, Loading!AE529) -> 0 | PA11: =IF(Loading!AE569<0, 0, Loading!AE569) -> 0 | PB11: =IF(Loading!AE609<0, 0, Loading!AE609) -> 0 | PC11: =IF(Loading!AF9<0, 0, Loading!AF9) -> 0 | PD11: =IF(Loading!AF49<0, 0, Loading!AF49) -> 0 | PE11: =IF(Loading!AF89<0, 0, Loading!AF89) -> 0 | PF11: =IF(Loading!AF129<0, 0, Loading!AF129) -> 0 | PG11: =IF(Loading!AF169<0, 0, Loading!AF169) -> 0 | PH11: =IF(Loading!AF209<0, 0, Loading!AF209) -> 0 | PI11: =IF(Loading!AF249<0, 0, Loading!AF249) -> 0 | PJ11: =IF(Loading!AF289<0, 0, Loading!AF289) -> 0 | PK11: =IF(Loading!AF329<0, 0, Loading!AF329) -> 0 | PL11: =IF(Loading!AF369<0, 0, Loading!AF369) -> 0 | PM11: =IF(Loading!AF409<0, 0, Loading!AF409) -> 0 | PN11: =IF(Loading!AF449<0, 0, Loading!AF449) -> 0 | PO11: =IF(Loading!AF489<0, 0, Loading!AF489) -> 0 | PP11: =IF(Loading!AF529<0, 0, Loading!AF529) -> 0 | PQ11: =IF(Loading!AF569<0, 0, Loading!AF569) -> 0 | PR11: =IF(Loading!AF609<0, 0, Loading!AF609) -> 0 | PS11: =IF(Loading!AG9<0, 0, Loading!AG9) -> 0 | PT11: =IF(Loading!AG49<0, 0, Loading!AG49) -> 0 | PU11: =IF(Loading!AG89<0, 0, Loading!AG89) -> 0 | PV11: =IF(Loading!AG129<0, 0, Loading!AG129) -> 0 | PW11: =IF(Loading!AG169<0, 0, Loading!AG169) -> 0 | PX11: =IF(Loading!AG209<0, 0, Loading!AG209) -> 0 | PY11: =IF(Loading!AG249<0, 0, Loading!AG249) -> 0 | PZ11: =IF(Loading!AG289<0, 0, Loading!AG289) -> 0 | QA11: =IF(Loading!AG329<0, 0, Loading!AG329) -> 0 | QB11: =IF(Loading!AG369<0, 0, Loading!AG369) -> 0 | QC11: =IF(Loading!AG409<0, 0, Loading!AG409) -> 0 | QD11: =IF(Loading!AG449<0, 0, Loading!AG449) -> 0 | QE11: =IF(Loading!AG489<0, 0, Loading!AG489) -> 0 | QF11: =IF(Loading!AG529<0, 0, Loading!AG529) -> 0 | QG11: =IF(Loading!AG569<0, 0, Loading!AG569) -> 0 | QH11: =IF(Loading!AG609<0, 0, Loading!AG609) -> 0 | QI11: =IF(Loading!AH9<0, 0, Loading!AH9) -> 0 | QJ11: =IF(Loading!AH49<0, 0, Loading!AH49) -> 0 | QK11: =IF(Loading!AH89<0, 0, Loading!AH89) -> 0 | QL11: =IF(Loading!AH129<0, 0, Loading!AH129) -> 0 | QM11: =IF(Loading!AH169<0, 0, Loading!AH169) -> 0 | QN11: =IF(Loading!AH209<0, 0, Loading!AH209) -> 0 | QO11: =IF(Loading!AH249<0, 0, Loading!AH249) -> 0 | QP11: =IF(Loading!AH289<0, 0, Loading!AH289) -> 0 | QQ11: =IF(Loading!AH329<0, 0, Loading!AH329) -> 0 | QR11: =IF(Loading!AH369<0, 0, Loading!AH369) -> 0 | QS11: =IF(Loading!AH409<0, 0, Loading!AH409) -> 0 | QT11: =IF(Loading!AH449<0, 0, Loading!AH449) -> 0 | QU11: =IF(Loading!AH489<0, 0, Loading!AH489) -> 0 | QV11: =IF(Loading!AH529<0, 0, Loading!AH529) -> 0 | QW11: =IF(Loading!AH569<0, 0, Loading!AH569) -> 0 | QX11: =IF(Loading!AH609<0, 0, Loading!AH609) -> 0 | QY11: =IF(Loading!AI9<0, 0, Loading!AI9) -> 0 | QZ11: =IF(Loading!AI49<0, 0, Loading!AI49) -> 0 | RA11: =IF(Loading!AI89<0, 0, Loading!AI89) -> 0 | RB11: =IF(Loading!AI129<0, 0, Loading!AI129) -> 0 | RC11: =IF(Loading!AI169<0, 0, Loading!AI169) -> 0 | RD11: =IF(Loading!AI209<0, 0, Loading!AI209) -> 0 | RE11: =IF(Loading!AI249<0, 0, Loading!AI249) -> 0 | RF11: =IF(Loading!AI289<0, 0, Loading!AI289) -> 0 | RG11: =IF(Loading!AI329<0, 0, Loading!AI329) -> 0 | RH11: =IF(Loading!AI369<0, 0, Loading!AI369) -> 0 | RI11: =IF(Loading!AI409<0, 0, Loading!AI409) -> 0 | RJ11: =IF(Loading!AI449<0, 0, Loading!AI449) -> 0 | RK11: =IF(Loading!AI489<0, 0, Loading!AI489) -> 0 | RL11: =IF(Loading!AI529<0, 0, Loading!AI529) -> 0 | RM11: =IF(Loading!AI569<0, 0, Loading!AI569) -> 0 | RN11: =IF(Loading!AI609<0, 0, Loading!AI609) -> 0
