Workbook
Name C_1: OFFSET([0]!Normalization, 3, 1,1, Data!$C$110)
Name C_10: OFFSET([0]!Normalization, 12, 1,1, Data!$C$110)
Name C_11: OFFSET([0]!Normalization, 13, 1,1, Data!$C$110)
Name C_12: OFFSET([0]!Normalization, 14, 1,1, Data!$C$110)
Name C_13: OFFSET([0]!Normalization, 15, 1,1, Data!$C$110)
Name C_14: OFFSET([0]!Normalization, 16, 1,1, Data!$C$110)
Name C_15: OFFSET([0]!Normalization, 17, 1,1, Data!$C$110)
Name C_16: OFFSET([0]!Normalization, 18, 1,1, Data!$C$110)
Name C_17: OFFSET([0]!Normalization, 19, 1,1, Data!$C$110)
Name C_18: OFFSET([0]!Normalization, 20, 1,1, Data!$C$110)
Name C_19: OFFSET([0]!Normalization, 21, 1,1, Data!$C$110)
Name C_2: OFFSET([0]!Normalization, 4, 1,1, Data!$C$110)
Name C_20: OFFSET([0]!Normalization, 22, 1,1, Data!$C$110)
Name C_21: OFFSET([0]!Normalization, 23, 1,1, Data!$C$110)
Name C_22: OFFSET([0]!Normalization, 24, 1,1, Data!$C$110)
Name C_23: OFFSET([0]!Normalization, 25, 1,1, Data!$C$110)
Name C_24: OFFSET([0]!Normalization, 26, 1,1, Data!$C$110)
Name C_25: OFFSET([0]!Normalization, 27, 1,1, Data!$C$110)
Name C_26: OFFSET([0]!Normalization, 28, 1,1, Data!$C$110)
Name C_27: OFFSET([0]!Normalization, 29, 1,1, Data!$C$110)
Name C_28: OFFSET([0]!Normalization, 30, 1,1, Data!$C$110)
Name C_29: OFFSET([0]!Normalization, 31, 1,1, Data!$C$110)
Name C_3: OFFSET([0]!Normalization, 5, 1,1, Data!$C$110)
Name C_30: OFFSET([0]!Normalization, 32, 1,1, Data!$C$110)
Name C_31: OFFSET([0]!Normalization, 33, 1,1, Data!$C$110)
Name C_32: OFFSET([0]!Normalization, 34, 1,1, Data!$C$110)
Name C_33: OFFSET([0]!Normalization, 35, 1,1, Data!$C$110)
Name C_34: OFFSET([0]!Normalization, 36, 1,1, Data!$C$110)
Name C_35: OFFSET([0]!Normalization, 37, 1,1, Data!$C$110)
Name C_36: OFFSET([0]!Normalization, 38, 1,1, Data!$C$110)
Name C_37: OFFSET([0]!Normalization, 39, 1,1, Data!$C$110)
Name C_38: OFFSET([0]!Normalization, 40, 1,1, Data!$C$110)
Name C_39: OFFSET([0]!Normalization, 41, 1,1, Data!$C$110)
Name C_4: OFFSET([0]!Normalization, 6, 1,1, Data!$C$110)
Name C_40: OFFSET([0]!Normalization, 42, 1,1, Data!$C$110)
Name C_41: OFFSET([0]!Normalization, 43, 1,1, Data!$C$110)
Name C_42: OFFSET([0]!Normalization, 44, 1,1, Data!$C$110)
Name C_43: OFFSET([0]!Normalization, 45, 1,1, Data!$C$110)
Name C_44: OFFSET([0]!Normalization, 46, 1,1, Data!$C$110)
Name C_45: OFFSET([0]!Normalization, 47, 1,1, Data!$C$110)
Name C_46: OFFSET([0]!Normalization, 48, 1,1, Data!$C$110)
Name C_47: OFFSET([0]!Normalization, 49, 1,1, Data!$C$110)
Name C_48: OFFSET([0]!Normalization, 50, 1,1, Data!$C$110)
Name C_49: OFFSET([0]!Normalization, 51, 1,1, Data!$C$110)
Name C_5: OFFSET([0]!Normalization, 7, 1,1, Data!$C$110)
Name C_50: OFFSET([0]!Normalization, 52, 1,1, Data!$C$110)
Name C_51: OFFSET([0]!Normalization, 53, 1,1, Data!$C$110)
Name C_52: OFFSET([0]!Normalization, 54, 1,1, Data!$C$110)
Name C_53: OFFSET([0]!Normalization, 55, 1,1, Data!$C$110)
Name C_54: OFFSET([0]!Normalization, 56, 1,1, Data!$C$110)
Name C_6: OFFSET([0]!Normalization, 8, 1,1, Data!$C$110)
Name C_7: OFFSET([0]!Normalization, 9, 1,1, Data!$C$110)
Name C_8: OFFSET([0]!Normalization, 10, 1,1, Data!$C$110)
Name C_9: OFFSET([0]!Normalization, 11, 1,1, Data!$C$110)
Name Normalization: Data!$B$111
Name P_1: OFFSET([0]!Normalization, 1, 1,1, Data!$C$110)
Name P_2: OFFSET([0]!Normalization, 2, 1,1, Data!$C$110)

Sheet Map
I3: G4 Series Software Instructions
B5: POS1 | C5: POS2 | F5: =B5 -> POS1
B6: IgA | C6: IgM | F6: =C5 -> POS2 | I6: There are FOUR sheets in this EXCEL based macro software:
B7: IgG1 | C7: IgG2a | F7: =B6 -> IgA | I7: 1. Map sheet: Array Map. G4 serial products use quadruplicate spots for each antibody
B8: IgG2b | C8: IgG2c | F8: =C6 -> IgM | I8: together with two positive controls (POS1 and POS2).
B9: Lambda | C9: Kappa | F9: =B7 -> IgG1 | I9: 2. Loading sheet: Load local background subtracted spot raw data here. These values are
F10: =C7 -> IgG2a | I10: usually displayed as “F532 median – B532” or “F532 mean – B532”. This software is
F11: =B8 -> IgG2b | I11: good for up to 30 slides.
F12: =C8 -> IgG2c | I12: 3. Data sheet: There are three tables in this sheet:
F13: =B9 -> Lambda | I13: a. Raw Data table: list the original quadruplicate value. Any outliers (35% above the
F14: =C9 -> Kappa | I14: median value of the triplicate spots) are automatically flagged.
F15: =B10 -> 0 | I15: b. Average table: list the average value of the quadruplicate spots with outliers’ exclusion.
F16: =C10 -> 0 | I16: c. Normalization table: All the values are normalized based upon POS-Ave, which is
F17: =B11 -> 0 | I17: calculated based upon the equal contribution of the two positive controls.
F18: =C11 -> 0 | I18: 4. Chart sheet: Clustered column chart for the individual marker and positive controls.
F19: =B12 -> 0
F20: =C12 -> 0
F21: =B13 -> 0
F22: =C13 -> 0
F23: =B14 -> 0
F24: =C14 -> 0
F25: =B15 -> 0
F26: =C15 -> 0
F27: =B16 -> 0
F28: =C16 -> 0
F29: =B17 -> 0
F30: =C17 -> 0
F31: =B18 -> 0
F32: =C18 -> 0

Sheet Loading
B2: Block | C2: Column | D2: Row | E2: Name | F2: Slide 1 | G2: Slide 2 | H2: Slide 3 | I2: Ab Test | J2: Slide 5 | K2: Slide 6 | L2: Slide 7 | M2: Slide 8 | N2: Slide 9 | O2: Slide 10 | P2: Slide 11 | Q2: Slide 12 | R2: Slide 13 | S2: Slide 14 | T2: Slide 15 | U2: Slide 16 | V2: Slide 17 | W2: Slide 18 | X2: Slide 19 | Y2: Slide 20 | Z2: Slide 21 | AA2: Slide 22 | AB2: Slide 23 | AC2: Slide 24 | AD2: Slide 25 | AE2: Slide 26 | AF2: Slide 27 | AG2: Slide 28 | AH2: Slide 29 | AI2: Slide 30
B3: 1 | C3: 1 | D3: 1 | E3: =Data!B5 -> POS1
B4: 1 | C4: 2 | D4: 1 | E4: =Data!B6 -> POS1
B5: 1 | C5: 3 | D5: 1 | E5: =Data!B7 -> POS1
B6: 1 | C6: 4 | D6: 1 | E6: =Data!B8 -> POS1
B7: 1 | C7: 5 | D7: 1 | E7: =Data!B9 -> POS2
B8: 1 | C8: 6 | D8: 1 | E8: =Data!B10 -> POS2
B9: 1 | C9: 7 | D9: 1 | E9: =Data!B11 -> POS2
B10: 1 | C10: 8 | D10: 1 | E10: =Data!B12 -> POS2
B11: 1 | C11: 1 | D11: 2 | E11: =Data!B13 -> IgA
B12: 1 | C12: 2 | D12: 2 | E12: =Data!B14 -> IgA
B13: 1 | C13: 3 | D13: 2 | E13: =Data!B15 -> IgA
B14: 1 | C14: 4 | D14: 2 | E14: =Data!B16 -> IgA
... B42: 1 | C42: 8 | D42: 5 | E42: =Data!B44 -> Kappa
B43: 2 | C43: 1 | D43: 1 | E43: =E3 -> POS1
B44: 2 | C44: 2 | D44: 1 | E44: =E4 -> POS1
B45: 2 | C45: 3 | D45: 1 | E45: =E5 -> POS1
B46: 2 | C46: 4 | D46: 1 | E46: =E6 -> POS1
B47: 2 | C47: 5 | D47: 1 | E47: =E7 -> POS2
B48: 2 | C48: 6 | D48: 1 | E48: =E8 -> POS2
B49: 2 | C49: 7 | D49: 1 | E49: =E9 -> POS2
B50: 2 | C50: 8 | D50: 1 | E50: =E10 -> POS2
B51: 2 | C51: 1 | D51: 2 | E51: =E11 -> IgA
B52: 2 | C52: 2 | D52: 2 | E52: =E12 -> IgA
B53: 2 | C53: 3 | D53: 2 | E53: =E13 -> IgA
B54: 2 | C54: 4 | D54: 2 | E54: =E14 -> IgA
... B642: 16 | C642: 8 | D642: 5 | E642: =E602 -> Kappa

Sheet Data
G2: Raw Input Data | W2: Outliers Definition | Y2: 0.35
C3: Slide 1 | S3: Slide 2 | AI3: Slide 3 | AY3: Slide 4 | BO3: Slide 5 | CE3: Slide 6 | CU3: Slide 7 | DK3: Slide 8 | EA3: Slide 9 | EQ3: Slide 10 | FG3: Slide 11 | FW3: Slide 12 | GM3: Slide 13 | HC3: Slide 14 | HS3: Slide 15 | II3: Slide 16 | IY3: Slide 17 | JO3: Slide 18 | KE3: Slide 19 | KU3: Slide 20 | LK3: Slide 21 | MA3: Slide 22 | MQ3: Slide 23 | NG3: Slide 24 | NW3: Slide 25 | OM3: Slide 26 | PC3: Slide 27 | PS3: Slide 28 | QI3: Slide 29 | QY3: Slide 30
B4: ID | C4: SA1 | D4: SA2 | E4: SA3 | F4: SA4 | G4: SA5 | H4: SA6 | I4: SA7 | J4: SA8 | K4: SA9 | L4: SA10 | M4: SA11 | N4: SA12 | O4: SA13 | P4: SA14 | Q4: SA15 | R4: SA16 | S4: SA17 | T4: SA18 | U4: SA19 | V4: SA20 | W4: SA21 | X4: SA22 | Y4: SA23 | Z4: SA24 | AA4: SA25 | AB4: SA26 | AC4: SA27 | AD4: SA28 | AE4: SA29 | AF4: SA30 | AG4: SA31 | AH4: SA32 | AI4: Std33 | AJ4: Std34 | AK4: Std35 | AL4: Std36 | AM4: Std37 | AN4: Std38 | AO4: Std39 | AP4: Std40 | AQ4: Std41 | AR4: Std42 | AS4: Std43 | AT4: Std44 | AU4: Std45 | AV4: Std46 | AW4: Std47 | AX4: Std48 | AY4: Std49 | AZ4: Std50 | BA4: Std51 | BB4: Std52 | BC4: Std53 | BD4: Std54 | BE4: Std55 | BF4: Std56 | BG4: Std57 | BH4: Std58 | BI4: Std59 | BJ4: Std60 | BK4: Std61 | BL4: Std62 | BM4: Std63 | BN4: Std64 | BO4: Std65 | BP4: Std66 | BQ4: Std67 | BR4: Std68 | BS4: Std69 | BT4: Std70 | BU4: Std71 | BV4: Std72 | BW4: Std73 | BX4: Std74 | BY4: Std75 | BZ4: Std76 | CA4: Std77 | CB4: Std78 | CC4: Std79 | CD4: Std80 | CE4: Std81 | CF4: Std82 | CG4: Std83 | CH4: Std84 | CI4: Std85 | CJ4: Std86 | CK4: Std87 | CL4: Std88 | CM4: Std89 | CN4: Std90 | CO4: Std91 | CP4: Std92 | CQ4: Std93 | CR4: Std94 | CS4: Std95 | CT4: Std96 | CU4: Std97 | CV4: Std98 | CW4: Std99 | CX4: Std100 | CY4: Std101 | CZ4: Std102 | DA4: Std103 | DB4: Std104 | DC4: Std105 | DD4: Std106 | DE4: Std107 | DF4: Std108 | DG4: Std109 | DH4: Std110 | DI4: Std111 | DJ4: Std112 | DK4: Std113 | DL4: Std114 | DM4: Std115 | DN4: Std116 | DO4: Std117 | DP4: Std118 | DQ4: Std119 | DR4: Std120 | DS4: Std121 | DT4: Std122 | DU4: Std123 | DV4: Std124 | DW4: Std125 | DX4: Std126 | DY4: Std127 | DZ4: Std128 | EA4: Std129 | EB4: Std130 | EC4: Std131 | ED4: Std132 | EE4: Std133 | EF4: Std134 | EG4: Std135 | EH4: Std136 | EI4: Std137 | EJ4: Std138 | EK4: Std139 | EL4: Std140 | EM4: Std141 | EN4: Std142 | EO4: Std143 | EP4: Std144 | EQ4: Std145 | ER4: Std146 | ES4: Std147 | ET4: Std148 | EU4: Std149 | EV4: Std150 | EW4: Std151 | EX4: Std152 | EY4: Std153 | EZ4: Std154 | FA4: Std155 | FB4: Std156 | FC4: Std157 | FD4: Std158 | FE4: Std159 | FF4: Std160 | FG4: Std161 | FH4: Std162 | FI4: Std163 | FJ4: Std164 | FK4: Std165 | FL4: Std166 | FM4: Std167 | FN4: Std168 | FO4: Std169 | FP4: Std170 | FQ4: Std171 | FR4: Std172 | FS4: Std173 | FT4: Std174 | FU4: Std175 | FV4: Std176 | FW4: Std177 | FX4: Std178 | FY4: Std179 | FZ4: Std180 | GA4: Std181 | GB4: Std182 | GC4: Std183 | GD4: Std184 | GE4: Std185 | GF4: Std186 | GG4: Std187 | GH4: Std188 | GI4: Std189 | GJ4: Std190 | GK4: Std191 | GL4: Std192 | GM4: Std193 | GN4: Std194 | GO4: Std195 | GP4: Std196 | GQ4: Std197 | GR4: Std198 | GS4: Std199 | GT4: Std200 | GU4: Std201 | GV4: Std202 | GW4: Std203 | GX4: Std204 | GY4: Std205 | GZ4: Std206 | HA4: Std207 | HB4: Std208 | HC4: Std209 | HD4: Std210 | HE4: Std211 | HF4: Std212 | HG4: Std213 | HH4: Std214 | HI4: Std215 | HJ4: Std216 | HK4: Std217 | HL4: Std218 | HM4: Std219 | HN4: Std220 | HO4: Std221 | HP4: Std222 | HQ4: Std223 | HR4: Std224 | HS4: Std225 | HT4: Std226 | HU4: Std227 | HV4: Std228 | HW4: Std229 | HX4: Std230 | HY4: Std231 | HZ4: Std232 | IA4: Std233 | IB4: Std234 | IC4: Std235 | ID4: Std236 | IE4: Std237 | IF4: Std238 | IG4: Std239 | IH4: Std240 | II4: Std241 | IJ4: Std242 | IK4: Std243 | IL4: Std244 | IM4: Std245 | IN4: Std246 | IO4: Std247 | IP4: Std248 | IQ4: Std249 | IR4: Std250 | IS4: Std251 | IT4: Std252 | IU4: Std253 | IV4: Std254 | IW4: Std255 | IX4: Std256 | IY4: Std257 | IZ4: Std258 | JA4: Std259 | JB4: Std260 | JC4: Std261 | JD4: Std262 | JE4: Std263 | JF4: Std264 | JG4: Std265 | JH4: Std266 | JI4: Std267 | JJ4: Std268 | JK4: Std269 | JL4: Std270 | JM4: Std271 | JN4: Std272 | JO4: Std273 | JP4: Std274 | JQ4: Std275 | JR4: Std276 | JS4: Std277 | JT4: Std278 | JU4: Std279 | JV4: Std280 | JW4: Std281 | JX4: Std282 | JY4: Std283 | JZ4: Std284 | KA4: Std285 | KB4: Std286 | KC4: Std287 | KD4: Std288 | KE4: Std289 | KF4: Std290 | KG4: Std291 | KH4: Std292 | KI4: Std293 | KJ4: Std294 | KK4: Std295 | KL4: Std296 | KM4: Std297 | KN4: Std298 | KO4: Std299 | KP4: Std300 | KQ4: Std301 | KR4: Std302 | KS4: Std303 | KT4: Std304 | KU4: Std305 | KV4: Std306 | KW4: Std307 | KX4: Std308 | KY4: Std309 | KZ4: Std310 | LA4: Std311 | LB4: Std312 | LC4: Std313 | LD4: Std314 | LE4: Std315 | LF4: Std316 | LG4: Std317 | LH4: Std318 | LI4: Std319 | LJ4: Std320 | LK4: Std321 | LL4: Std322 | LM4: Std323 | LN4: Std324 | LO4: Std325 | LP4: Std326 | LQ4: Std327 | LR4: Std328 | LS4: Std329 | LT4: Std330 | LU4: Std331 | LV4: Std332 | LW4: Std333 | LX4: Std334 | LY4: Std335 | LZ4: Std336 | MA4: Std337 | MB4: Std338 | MC4: Std339 | MD4: Std340 | ME4: Std341 | MF4: Std342 | MG4: Std343 | MH4: Std344 | MI4: Std345 | MJ4: Std346 | MK4: Std347 | ML4: Std348 | MM4: Std349 | MN4: Std350 | MO4: Std351 | MP4: Std352 | MQ4: Std353 | MR4: Std354 | MS4: Std355 | MT4: Std356 | MU4: Std357 | MV4: Std358 | MW4: Std359 | MX4: Std360 | MY4: Std361 | MZ4: Std362 | NA4: Std363 | NB4: Std364 | NC4: Std365 | ND4: Std366 | NE4: Std367 | NF4: Std368 | NG4: Std369 | NH4: Std370 | NI4: Std371 | NJ4: Std372 | NK4: Std373 | NL4: Std374 | NM4: Std375 | NN4: Std376 | NO4: Std377 | NP4: Std378 | NQ4: Std379 | NR4: Std380 | NS4: Std381 | NT4: Std382 | NU4: Std383 | NV4: Std384 | NW4: Std385 | NX4: Std386 | NY4: Std387 | NZ4: Std388 | OA4: Std389 | OB4: Std390 | OC4: Std391 | OD4: Std392 | OE4: Std393 | OF4: Std394 | OG4: Std395 | OH4: Std396 | OI4: Std397 | OJ4: Std398 | OK4: Std399 | OL4: Std400 | OM4: Std401 | ON4: Std402 | OO4: Std403 | OP4: Std404 | OQ4: Std405 | OR4: Std406 | OS4: Std407 | OT4: Std408 | OU4: Std409 | OV4: Std410 | OW4: Std411 | OX4: Std412 | OY4: Std413 | OZ4: Std414 | PA4: Std415 | PB4: Std416 | PC4: Std417 | PD4: Std418 | PE4: Std419 | PF4: Std420 | PG4: Std421 | PH4: Std422 | PI4: Std423 | PJ4: Std424 | PK4: Std425 | PL4: Std426 | PM4: Std427 | PN4: Std428 | PO4: Std429 | PP4: Std430 | PQ4: Std431 | PR4: Std432 | PS4: Std433 | PT4: Std434 | PU4: Std435 | PV4: Std436 | PW4: Std437 | PX4: Std438 | PY4: Std439 | PZ4: Std440 | QA4: Std441 | QB4: Std442 | QC4: Std443 | QD4: Std444 | QE4: Std445 | QF4: Std446 | QG4: Std447 | QH4: Std448 | QI4: Std449 | QJ4: Std450 | QK4: Std451 | QL4: Std452 | QM4: Std453 | QN4: Std454 | QO4: Std455 | QP4: Std456 | QQ4: Std457 | QR4: Std458 | QS4: Std459 | QT4: Std460 | QU4: Std461 | QV4: Std462 | QW4: Std463 | QX4: Std464 | QY4: Std465 | QZ4: Std466 | RA4: Std467 | RB4: Std468 | RC4: Std469 | RD4: Std470 | RE4: Std471 | RF4: Std472 | RG4: Std473 | RH4: Std474 | RI4: Std475 | RJ4: Std476 | RK4: Std477 | RL4: Std478 | RM4: Std479 | RN4: Std480 | SN4: =C4 -> SA1 | SO4: =D4 -> SA2 | SP4: =E4 -> SA3 | SQ4: =F4 -> SA4 | SR4: =G4 -> SA5 | SS4: =H4 -> SA6 | ST4: =I4 -> SA7 | SU4: =J4 -> SA8 | ... ALS4: =SH4 -> 0
B5: =Map!F5 -> POS1 | C5: =IF(Loading!F3<0, 0, Loading!F3) -> 0 | D5: =IF(Loading!F43<0, 0, Loading!F43) -> 0 | E5: =IF(Loading!F83<0, 0, Loading!F83) -> 0 | F5: =IF(Loading!F123<0, 0, Loading!F123) -> 0 | G5: =IF(Loading!F163<0, 0, Loading!F163) -> 0 | H5: =IF(Loading!F203<0, 0, Loading!F203) -> 0 | I5: =IF(Loading!F243<0, 0, Loading!F243) -> 0 | J5: =IF(Loading!F283<0, 0, Loading!F283) -> 0 | K5: =IF(Loading!F323<0, 0, Loading!F323) -> 0 | L5: =IF(Loading!F363<0, 0, Loading!F363) -> 0 | M5: =IF(Loading!F403<0, 0, Loading!F403) -> 0 | N5: =IF(Loading!F443<0, 0, Loading!F443) -> 0 | O5: =IF(Loading!F483<0, 0, Loading!F483) -> 0 | P5: =IF(Loading!F523<0, 0, Loading!F523) -> 0 | Q5: =IF(Loading!F563<0, 0, Loading!F563) -> 0 | R5: =IF(Loading!F603<0, 0, Loading!F603) -> 0 | S5: =IF(Loading!G3<0, 0, Loading!G3) -> 0 | T5: =IF(Loading!G43<0, 0, Loading!G43) -> 0 | U5: =IF(Loading!G83<0, 0, Loading!G83) -> 0 | V5: =IF(Loading!G123<0, 0, Loading!G123) -> 0 | W5: =IF(Loading!G163<0, 0, Loading!G163) -> 0 | X5: =IF(Loading!G203<0, 0, Loading!G203) -> 0 | Y5: =IF(Loading!G243<0, 0, Loading!G243) -> 0 | Z5: =IF(Loading!G283<0, 0, Loading!G283) -> 0 | AA5: =IF(Loading!G323<0, 0, Loading!G323) -> 0 | AB5: =IF(Loading!G363<0, 0, Loading!G363) -> 0 | AC5: =IF(Loading!G403<0, 0, Loading!G403) -> 0 | AD5: =IF(Loading!G443<0, 0, Loading!G443) -> 0 | AE5: =IF(Loading!G483<0, 0, Loading!G483) -> 0 | AF5: =IF(Loading!G523<0, 0, Loading!G523) -> 0 | AG5: =IF(Loading!G563<0, 0, Loading!G563) -> 0 | AH5: =IF(Loading!G603<0, 0, Loading!G603) -> 0 | AI5: =IF(Loading!H3<0, 0, Loading!H3) -> 0 | AJ5: =IF(Loading!H43<0, 0, Loading!H43) -> 0 | AK5: =IF(Loading!H83<0, 0, Loading!H83) -> 0 | AL5: =IF(Loading!H123<0, 0, Loading!H123) -> 0 | AM5: =IF(Loading!H163<0, 0, Loading!H163) -> 0 | AN5: =IF(Loading!H203<0, 0, Loading!H203) -> 0 | AO5: =IF(Loading!H243<0, 0, Loading!H243) -> 0 | AP5: =IF(Loading!H283<0, 0, Loading!H283) -> 0 | AQ5: =IF(Loading!H323<0, 0, Loading!H323) -> 0 | AR5: =IF(Loading!H363<0, 0, Loading!H363) -> 0 | AS5: =IF(Loading!H403<0, 0, Loading!H403) -> 0 | AT5: =IF(Loading!H443<0, 0, Loading!H443) -> 0 | AU5: =IF(Loading!H483<0, 0, Loading!H483) -> 0 | AV5: =IF(Loading!H523<0, 0, Loading!H523) -> 0 | AW5: =IF(Loading!H563<0, 0, Loading!H563) -> 0 | AX5: =IF(Loading!H603<0, 0, Loading!H603) -> 0 | AY5: =IF(Loading!I3<0, 0, Loading!I3) -> 0 | AZ5: =IF(Loading!I43<0, 0, Loading!I43) -> 0 | BA5: =IF(Loading!I83<0, 0, Loading!I83) -> 0 | BB5: =IF(Loading!I123<0, 0, Loading!I123) -> 0 | BC5: =IF(Loading!I163<0, 0, Loading!I163) -> 0 | BD5: =IF(Loading!I203<0, 0, Loading!I203) -> 0 | BE5: =IF(Loading!I243<0, 0, Loading!I243) -> 0 | BF5: =IF(Loading!I283<0, 0, Loading!I283) -> 0 | BG5: =IF(Loading!I323<0, 0, Loading!I323) -> 0 | BH5: =IF(Loading!I363<0, 0, Loading!I363) -> 0 | BI5: =IF(Loading!I403<0, 0, Loading!I403) -> 0 | BJ5: =IF(Loading!I443<0, 0, Loading!I443) -> 0 | BK5: =IF(Loading!I483<0, 0, Loading!I483) -> 0 | BL5: =IF(Loading!I523<0, 0, Loading!I523) -> 0 | BM5: =IF(Loading!I563<0, 0, Loading!I563) -> 0 | BN5: =IF(Loading!I603<0, 0, Loading!I603) -> 0 | BO5: =IF(Loading!J3<0, 0, Loading!J3) -> 0 | BP5: =IF(Loading!J43<0, 0, Loading!J43) -> 0 | BQ5: =IF(Loading!J83<0, 0, Loading!J83) -> 0 | BR5: =IF(Loading!J123<0, 0, Loading!J123) -> 0 | BS5: =IF(Loading!J163<0, 0, Loading!J163) -> 0 | BT5: =IF(Loading!J203<0, 0, Loading!J203) -> 0 | BU5: =IF(Loading!J243<0, 0, Loading!J243) -> 0 | BV5: =IF(Loading!J283<0, 0, Loading!J283) -> 0 | BW5: =IF(Loading!J323<0, 0, Loading!J323) -> 0 | BX5: =IF(Loading!J363<0, 0, Loading!J363) -> 0 | BY5: =IF(Loading!J403<0, 0, Loading!J403) -> 0 | BZ5: =IF(Loading!J443<0, 0, Loading!J443) -> 0 | CA5: =IF(Loading!J483<0, 0, Loading!J483) -> 0 | CB5: =IF(Loading!J523<0, 0, Loading!J523) -> 0 | CC5: =IF(Loading!J563<0, 0, Loading!J563) -> 0 | CD5: =IF(Loading!J603<0, 0, Loading!J603) -> 0 | CE5: =IF(Loading!K3<0, 0, Loading!K3) -> 0 | CF5: =IF(Loading!K43<0, 0, Loading!K43) -> 0 | CG5: =IF(Loading!K83<0, 0, Loading!K83) -> 0 | CH5: =IF(Loading!K123<0, 0, Loading!K123) -> 0 | CI5: =IF(Loading!K163<0, 0, Loading!K163) -> 0 | CJ5: =IF(Loading!K203<0, 0, Loading!K203) -> 0 | CK5: =IF(Loading!K243<0, 0, Loading!K243) -> 0 | CL5: =IF(Loading!K283<0, 0, Loading!K283) -> 0 | CM5: =IF(Loading!K323<0, 0, Loading!K323) -> 0 | CN5: =IF(Loading!K363<0, 0, Loading!K363) -> 0 | CO5: =IF(Loading!K403<0, 0, Loading!K403) -> 0 | CP5: =IF(Loading!K443<0, 0, Loading!K443) -> 0 | CQ5: =IF(Loading!K483<0, 0, Loading!K483) -> 0 | CR5: =IF(Loading!K523<0, 0, Loading!K523) -> 0 | CS5: =IF(Loading!K563<0, 0, Loading!K563) -> 0 | CT5: =IF(Loading!K603<0, 0, Loading!K603) -> 0 | CU5: =IF(Loading!L3<0, 0, Loading!L3) -> 0 | CV5: =IF(Loading!L43<0, 0, Loading!L43) -> 0 | CW5: =IF(Loading!L83<0, 0, Loading!L83) -> 0 | CX5: =IF(Loading!L123<0, 0, Loading!L123) -> 0 | CY5: =IF(Loading!L163<0, 0, Loading!L163) -> 0 | CZ5: =IF(Loading!L203<0, 0, Loading!L203) -> 0 | DA5: =IF(Loading!L243<0, 0, Loading!L243) -> 0 | DB5: =IF(Loading!L283<0, 0, Loading!L283) -> 0 | DC5: =IF(Loading!L323<0, 0, Loading!L323) -> 0 | DD5: =IF(Loading!L363<0, 0, Loading!L363) -> 0 | DE5: =IF(Loading!L403<0, 0, Loading!L403) -> 0 | DF5: =IF(Loading!L443<0, 0, Loading!L443) -> 0 | DG5: =IF(Loading!L483<0, 0, Loading!L483) -> 0 | DH5: =IF(Loading!L523<0, 0, Loading!L523) -> 0 | DI5: =IF(Loading!L563<0, 0, Loading!L563) -> 0 | DJ5: =IF(Loading!L603<0, 0, Loading!L603) -> 0 | DK5: =IF(Loading!M3<0, 0, Loading!M3) -> 0 | DL5: =IF(Loading!M43<0, 0, Loading!M43) -> 0 | DM5: =IF(Loading!M83<0, 0, Loading!M83) -> 0 | DN5: =IF(Loading!M123<0, 0, Loading!M123) -> 0 | DO5: =IF(Loading!M163<0, 0, Loading!M163) -> 0 | DP5: =IF(Loading!M203<0, 0, Loading!M203) -> 0 | DQ5: =IF(Loading!M243<0, 0, Loading!M243) -> 0 | DR5: =IF(Loading!M283<0, 0, Loading!M283) -> 0 | DS5: =IF(Loading!M323<0, 0, Loading!M323) -> 0 | DT5: =IF(Loading!M363<0, 0, Loading!M363) -> 0 | DU5: =IF(Loading!M403<0, 0, Loading!M403) -> 0 | DV5: =IF(Loading!M443<0, 0, Loading!M443) -> 0 | DW5: =IF(Loading!M483<0, 0, Loading!M483) -> 0 | DX5: =IF(Loading!M523<0, 0, Loading!M523) -> 0 | DY5: =IF(Loading!M563<0, 0, Loading!M563) -> 0 | DZ5: =IF(Loading!M603<0, 0, Loading!M603) -> 0 | EA5: =IF(Loading!N3<0, 0, Loading!N3) -> 0 | EB5: =IF(Loading!N43<0, 0, Loading!N43) -> 0 | EC5: =IF(Loading!N83<0, 0, Loading!N83) -> 0 | ED5: =IF(Loading!N123<0, 0, Loading!N123) -> 0 | EE5: =IF(Loading!N163<0, 0, Loading!N163) -> 0 | EF5: =IF(Loading!N203<0, 0, Loading!N203) -> 0 | EG5: =IF(Loading!N243<0, 0, Loading!N243) -> 0 | EH5: =IF(Loading!N283<0, 0, Loading!N283) -> 0 | EI5: =IF(Loading!N323<0, 0, Loading!N323) -> 0 | EJ5: =IF(Loading!N363<0, 0, Loading!N363) -> 0 | EK5: =IF(Loading!N403<0, 0, Loading!N403) -> 0 | EL5: =IF(Loading!N443<0, 0, Loading!N443) -> 0 | EM5: =IF(Loading!N483<0, 0, Loading!N483) -> 0 | EN5: =IF(Loading!N523<0, 0, Loading!N523) -> 0 | EO5: =IF(Loading!N563<0, 0, Loading!N563) -> 0 | EP5: =IF(Loading!N603<0, 0, Loading!N603) -> 0 | EQ5: =IF(Loading!O3<0, 0, Loading!O3) -> 0 | ER5: =IF(Loading!O43<0, 0, Loading!O43) -> 0 | ES5: =IF(Loading!O83<0, 0, Loading!O83) -> 0 | ET5: =IF(Loading!O123<0, 0, Loading!O123) -> 0 | EU5: =IF(Loading!O163<0, 0, Loading!O163) -> 0 | EV5: =IF(Loading!O203<0, 0, Loading!O203) -> 0 | EW5: =IF(Loading!O243<0, 0, Loading!O243) -> 0 | EX5: =IF(Loading!O283<0, 0, Loading!O283) -> 0 | EY5: =IF(Loading!O323<0, 0, Loading!O323) -> 0 | EZ5: =IF(Loading!O363<0, 0, Loading!O363) -> 0 | FA5: =IF(Loading!O403<0, 0, Loading!O403) -> 0 | FB5: =IF(Loading!O443<0, 0, Loading!O443) -> 0 | FC5: =IF(Loading!O483<0, 0, Loading!O483) -> 0 | FD5: =IF(Loading!O523<0, 0, Loading!O523) -> 0 | FE5: =IF(Loading!O563<0, 0, Loading!O563) -> 0 | FF5: =IF(Loading!O603<0, 0, Loading!O603) -> 0 | FG5: =IF(Loading!P3<0, 0, Loading!P3) -> 0 | FH5: =IF(Loading!P43<0, 0, Loading!P43) -> 0 | FI5: =IF(Loading!P83<0, 0, Loading!P83) -> 0 | FJ5: =IF(Loading!P123<0, 0, Loading!P123) -> 0 | FK5: =IF(Loading!P163<0, 0, Loading!P163) -> 0 | FL5: =IF(Loading!P203<0, 0, Loading!P203) -> 0 | FM5: =IF(Loading!P243<0, 0, Loading!P243) -> 0 | FN5: =IF(Loading!P283<0, 0, Loading!P283) -> 0 | FO5: =IF(Loading!P323<0, 0, Loading!P323) -> 0 | FP5: =IF(Loading!P363<0, 0, Loading!P363) -> 0 | FQ5: =IF(Loading!P403<0, 0, Loading!P403) -> 0 | FR5: =IF(Loading!P443<0, 0, Loading!P443) -> 0 | FS5: =IF(Loading!P483<0, 0, Loading!P483) -> 0 | FT5: =IF(Loading!P523<0, 0, Loading!P523) -> 0 | FU5: =IF(Loading!P563<0, 0, Loading!P563) -> 0 | FV5: =IF(Loading!P603<0, 0, Loading!P603) -> 0 | FW5: =IF(Loading!Q3<0, 0, Loading!Q3) -> 0 | FX5: =IF(Loading!Q43<0, 0, Loading!Q43) -> 0 | FY5: =IF(Loading!Q83<0, 0, Loading!Q83) -> 0 | FZ5: =IF(Loading!Q123<0, 0, Loading!Q123) -> 0 | GA5: =IF(Loading!Q163<0, 0, Loading!Q163) -> 0 | GB5: =IF(Loading!Q203<0, 0, Loading!Q203) -> 0 | GC5: =IF(Loading!Q243<0, 0, Loading!Q243) -> 0 | GD5: =IF(Loading!Q283<0, 0, Loading!Q283) -> 0 | GE5: =IF(Loading!Q323<0, 0, Loading!Q323) -> 0 | GF5: =IF(Loading!Q363<0, 0, Loading!Q363) -> 0 | GG5: =IF(Loading!Q403<0, 0, Loading!Q403) -> 0 | GH5: =IF(Loading!Q443<0, 0, Loading!Q443) -> 0 | GI5: =IF(Loading!Q483<0, 0, Loading!Q483) -> 0 | GJ5: =IF(Loading!Q523<0, 0, Loading!Q523) -> 0 | GK5: =IF(Loading!Q563<0, 0, Loading!Q563) -> 0 | GL5: =IF(Loading!Q603<0, 0, Loading!Q603) -> 0 | GM5: =IF(Loading!R3<0, 0, Loading!R3) -> 0 | GN5: =IF(Loading!R43<0, 0, Loading!R43) -> 0 | GO5: =IF(Loading!R83<0, 0, Loading!R83) -> 0 | GP5: =IF(Loading!R123<0, 0, Loading!R123) -> 0 | GQ5: =IF(Loading!R163<0, 0, Loading!R163) -> 0 | GR5: =IF(Loading!R203<0, 0, Loading!R203) -> 0 | GS5: =IF(Loading!R243<0, 0, Loading!R243) -> 0 | GT5: =IF(Loading!R283<0, 0, Loading!R283) -> 0 | GU5: =IF(Loading!R323<0, 0, Loading!R323) -> 0 | GV5: =IF(Loading!R363<0, 0, Loading!R363) -> 0 | GW5: =IF(Loading!R403<0, 0, Loading!R403) -> 0 | GX5: =IF(Loading!R443<0, 0, Loading!R443) -> 0 | GY5: =IF(Loading!R483<0, 0, Loading!R483) -> 0 | GZ5: =IF(Loading!R523<0, 0, Loading!R523) -> 0 | HA5: =IF(Loading!R563<0, 0, Loading!R563) -> 0 | HB5: =IF(Loading!R603<0, 0, Loading!R603) -> 0 | HC5: =IF(Loading!S3<0, 0, Loading!S3) -> 0 | HD5: =IF(Loading!S43<0, 0, Loading!S43) -> 0 | HE5: =IF(Loading!S83<0, 0, Loading!S83) -> 0 | HF5: =IF(Loading!S123<0, 0, Loading!S123) -> 0 | HG5: =IF(Loading!S163<0, 0, Loading!S163) -> 0 | HH5: =IF(Loading!S203<0, 0, Loading!S203) -> 0 | HI5: =IF(Loading!S243<0, 0, Loading!S243) -> 0 | HJ5: =IF(Loading!S283<0, 0, Loading!S283) -> 0 | HK5: =IF(Loading!S323<0, 0, Loading!S323) -> 0 | HL5: =IF(Loading!S363<0, 0, Loading!S363) -> 0 | HM5: =IF(Loading!S403<0, 0, Loading!S403) -> 0 | HN5: =IF(Loading!S443<0, 0, Loading!S443) -> 0 | HO5: =IF(Loading!S483<0, 0, Loading!S483) -> 0 | HP5: =IF(Loading!S523<0, 0, Loading!S523) -> 0 | HQ5: =IF(Loading!S563<0, 0, Loading!S563) -> 0 | HR5: =IF(Loading!S603<0, 0, Loading!S603) -> 0 | HS5: =IF(Loading!T3<0, 0, Loading!T3) -> 0 | HT5: =IF(Loading!T43<0, 0, Loading!T43) -> 0 | HU5: =IF(Loading!T83<0, 0, Loading!T83) -> 0 | HV5: =IF(Loading!T123<0, 0, Loading!T123) -> 0 | HW5: =IF(Loading!T163<0, 0, Loading!T163) -> 0 | HX5: =IF(Loading!T203<0, 0, Loading!T203) -> 0 | HY5: =IF(Loading!T243<0, 0, Loading!T243) -> 0 | HZ5: =IF(Loading!T283<0, 0, Loading!T283) -> 0 | IA5: =IF(Loading!T323<0, 0, Loading!T323) -> 0 | IB5: =IF(Loading!T363<0, 0, Loading!T363) -> 0 | IC5: =IF(Loading!T403<0, 0, Loading!T403) -> 0 | ID5: =IF(Loading!T443<0, 0, Loading!T443) -> 0 | IE5: =IF(Loading!T483<0, 0, Loading!T483) -> 0 | IF5: =IF(Loading!T523<0, 0, Loading!T523) -> 0 | IG5: =IF(Loading!T563<0, 0, Loading!T563) -> 0 | IH5: =IF(Loading!T603<0, 0, Loading!T603) -> 0 | II5: =IF(Loading!U3<0, 0, Loading!U3) -> 0 | IJ5: =IF(Loading!U43<0, 0, Loading!U43) -> 0 | IK5: =IF(Loading!U83<0, 0, Loading!U83) -> 0 | IL5: =IF(Loading!U123<0, 0, Loading!U123) -> 0 | IM5: =IF(Loading!U163<0, 0, Loading!U163) -> 0 | IN5: =IF(Loading!U203<0, 0, Loading!U203) -> 0 | IO5: =IF(Loading!U243<0, 0, Loading!U243) -> 0 | IP5: =IF(Loading!U283<0, 0, Loading!U283) -> 0 | IQ5: =IF(Loading!U323<0, 0, Loading!U323) -> 0 | IR5: =IF(Loading!U363<0, 0, Loading!U363) -> 0 | IS5: =IF(Loading!U403<0, 0, Loading!U403) -> 0 | IT5: =IF(Loading!U443<0, 0, Loading!U443) -> 0 | IU5: =IF(Loading!U483<0, 0, Loading!U483) -> 0 | IV5: =IF(Loading!U523<0, 0, Loading!U523) -> 0 | IW5: =IF(Loading!U563<0, 0, Loading!U563) -> 0 | IX5: =IF(Loading!U603<0, 0, Loading!U603) -> 0 | IY5: =IF(Loading!V3<0, 0, Loading!V3) -> 0 | IZ5: =IF(Loading!V43<0, 0, Loading!V43) -> 0 | JA5: =IF(Loading!V83<0, 0, Loading!V83) -> 0 | JB5: =IF(Loading!V123<0, 0, Loading!V123) -> 0 | JC5: =IF(Loading!V163<0, 0, Loading!V163) -> 0 | JD5: =IF(Loading!V203<0, 0, Loading!V203) -> 0 | JE5: =IF(Loading!V243<0, 0, Loading!V243) -> 0 | JF5: =IF(Loading!V283<0, 0, Loading!V283) -> 0 | JG5: =IF(Loading!V323<0, 0, Loading!V323) -> 0 | JH5: =IF(Loading!V363<0, 0, Loading!V363) -> 0 | JI5: =IF(Loading!V403<0, 0, Loading!V403) -> 0 | JJ5: =IF(Loading!V443<0, 0, Loading!V443) -> 0 | JK5: =IF(Loading!V483<0, 0, Loading!V483) -> 0 | JL5: =IF(Loading!V523<0, 0, Loading!V523) -> 0 | JM5: =IF(Loading!V563<0, 0, Loading!V563) -> 0 | JN5: =IF(Loading!V603<0, 0, Loading!V603) -> 0 | JO5: =IF(Loading!W3<0, 0, Loading!W3) -> 0 | JP5: =IF(Loading!W43<0, 0, Loading!W43) -> 0 | JQ5: =IF(Loading!W83<0, 0, Loading!W83) -> 0 | JR5: =IF(Loading!W123<0, 0, Loading!W123) -> 0 | JS5: =IF(Loading!W163<0, 0, Loading!W163) -> 0 | JT5: =IF(Loading!W203<0, 0, Loading!W203) -> 0 | JU5: =IF(Loading!W243<0, 0, Loading!W243) -> 0 | JV5: =IF(Loading!W283<0, 0, Loading!W283) -> 0 | JW5: =IF(Loading!W323<0, 0, Loading!W323) -> 0 | JX5: =IF(Loading!W363<0, 0, Loading!W363) -> 0 | JY5: =IF(Loading!W403<0, 0, Loading!W403) -> 0 | JZ5: =IF(Loading!W443<0, 0, Loading!W443) -> 0 | KA5: =IF(Loading!W483<0, 0, Loading!W483) -> 0 | KB5: =IF(Loading!W523<0, 0, Loading!W523) -> 0 | KC5: =IF(Loading!W563<0, 0, Loading!W563) -> 0 | KD5: =IF(Loading!W603<0, 0, Loading!W603) -> 0 | KE5: =IF(Loading!X3<0, 0, Loading!X3) -> 0 | KF5: =IF(Loading!X43<0, 0, Loading!X43) -> 0 | KG5: =IF(Loading!X83<0, 0, Loading!X83) -> 0 | KH5: =IF(Loading!X123<0, 0, Loading!X123) -> 0 | KI5: =IF(Loading!X163<0, 0, Loading!X163) -> 0 | KJ5: =IF(Loading!X203<0, 0, Loading!X203) -> 0 | KK5: =IF(Loading!X243<0, 0, Loading!X243) -> 0 | KL5: =IF(Loading!X283<0, 0, Loading!X283) -> 0 | KM5: =IF(Loading!X323<0, 0, Loading!X323) -> 0 | KN5: =IF(Loading!X363<0, 0, Loading!X363) -> 0 | KO5: =IF(Loading!X403<0, 0, Loading!X403) -> 0 | KP5: =IF(Loading!X443<0, 0, Loading!X443) -> 0 | KQ5: =IF(Loading!X483<0, 0, Loading!X483) -> 0 | KR5: =IF(Loading!X523<0, 0, Loading!X523) -> 0 | KS5: =IF(Loading!X563<0, 0, Loading!X563) -> 0 | KT5: =IF(Loading!X603<0, 0, Loading!X603) -> 0 | KU5: =IF(Loading!Y3<0, 0, Loading!Y3) -> 0 | KV5: =IF(Loading!Y43<0, 0, Loading!Y43) -> 0 | KW5: =IF(Loading!Y83<0, 0, Loading!Y83) -> 0 | KX5: =IF(Loading!Y123<0, 0, Loading!Y123) -> 0 | KY5: =IF(Loading!Y163<0, 0, Loading!Y163) -> 0 | KZ5: =IF(Loading!Y203<0, 0, Loading!Y203) -> 0 | LA5: =IF(Loading!Y243<0, 0, Loading!Y243) -> 0 | LB5: =IF(Loading!Y283<0, 0, Loading!Y283) -> 0 | LC5: =IF(Loading!Y323<0, 0, Loading!Y323) -> 0 | LD5: =IF(Loading!Y363<0, 0, Loading!Y363) -> 0 | LE5: =IF(Loading!Y403<0, 0, Loading!Y403) -> 0 | LF5: =IF(Loading!Y443<0, 0, Loading!Y443) -> 0 | LG5: =IF(Loading!Y483<0, 0, Loading!Y483) -> 0 | LH5: =IF(Loading!Y523<0, 0, Loading!Y523) -> 0 | LI5: =IF(Loading!Y563<0, 0, Loading!Y563) -> 0 | LJ5: =IF(Loading!Y603<0, 0, Loading!Y603) -> 0 | LK5: =IF(Loading!Z3<0, 0, Loading!Z3) -> 0 | LL5: =IF(Loading!Z43<0, 0, Loading!Z43) -> 0 | LM5: =IF(Loading!Z83<0, 0, Loading!Z83) -> 0 | LN5: =IF(Loading!Z123<0, 0, Loading!Z123) -> 0 | LO5: =IF(Loading!Z163<0, 0, Loading!Z163) -> 0 | LP5: =IF(Loading!Z203<0, 0, Loading!Z203) -> 0 | LQ5: =IF(Loading!Z243<0, 0, Loading!Z243) -> 0 | LR5: =IF(Loading!Z283<0, 0, Loading!Z283) -> 0 | LS5: =IF(Loading!Z323<0, 0, Loading!Z323) -> 0 | LT5: =IF(Loading!Z363<0, 0, Loading!Z363) -> 0 | LU5: =IF(Loading!Z403<0, 0, Loading!Z403) -> 0 | LV5: =IF(Loading!Z443<0, 0, Loading!Z443) -> 0 | LW5: =IF(Loading!Z483<0, 0, Loading!Z483) -> 0 | LX5: =IF(Loading!Z523<0, 0, Loading!Z523) -> 0 | LY5: =IF(Loading!Z563<0, 0, Loading!Z563) -> 0 | LZ5: =IF(Loading!Z603<0, 0, Loading!Z603) -> 0 | MA5: =IF(Loading!AA3<0, 0, Loading!AA3) -> 0 | MB5: =IF(Loading!AA43<0, 0, Loading!AA43) -> 0 | MC5: =IF(Loading!AA83<0, 0, Loading!AA83) -> 0 | MD5: =IF(Loading!AA123<0, 0, Loading!AA123) -> 0 | ME5: =IF(Loading!AA163<0, 0, Loading!AA163) -> 0 | MF5: =IF(Loading!AA203<0, 0, Loading!AA203) -> 0 | MG5: =IF(Loading!AA243<0, 0, Loading!AA243) -> 0 | MH5: =IF(Loading!AA283<0, 0, Loading!AA283) -> 0 | MI5: =IF(Loading!AA323<0, 0, Loading!AA323) -> 0 | MJ5: =IF(Loading!AA363<0, 0, Loading!AA363) -> 0 | MK5: =IF(Loading!AA403<0, 0, Loading!AA403) -> 0 | ML5: =IF(Loading!AA443<0, 0, Loading!AA443) -> 0 | MM5: =IF(Loading!AA483<0, 0, Loading!AA483) -> 0 | MN5: =IF(Loading!AA523<0, 0, Loading!AA523) -> 0 | MO5: =IF(Loading!AA563<0, 0, Loading!AA563) -> 0 | MP5: =IF(Loading!AA603<0, 0, Loading!AA603) -> 0 | MQ5: =IF(Loading!AB3<0, 0, Loading!AB3) -> 0 | MR5: =IF(Loading!AB43<0, 0, Loading!AB43) -> 0 | MS5: =IF(Loading!AB83<0, 0, Loading!AB83) -> 0 | MT5: =IF(Loading!AB123<0, 0, Loading!AB123) -> 0 | MU5: =IF(Loading!AB163<0, 0, Loading!AB163) -> 0 | MV5: =IF(Loading!AB203<0, 0, Loading!AB203) -> 0 | MW5: =IF(Loading!AB243<0, 0, Loading!AB243) -> 0 | MX5: =IF(Loading!AB283<0, 0, Loading!AB283) -> 0 | MY5: =IF(Loading!AB323<0, 0, Loading!AB323) -> 0 | MZ5: =IF(Loading!AB363<0, 0, Loading!AB363) -> 0 | NA5: =IF(Loading!AB403<0, 0, Loading!AB403) -> 0 | NB5: =IF(Loading!AB443<0, 0, Loading!AB443) -> 0 | NC5: =IF(Loading!AB483<0, 0, Loading!AB483) -> 0 | ND5: =IF(Loading!AB523<0, 0, Loading!AB523) -> 0 | NE5: =IF(Loading!AB563<0, 0, Loading!AB563) -> 0 | NF5: =IF(Loading!AB603<0, 0, Loading!AB603) -> 0 | NG5: =IF(Loading!AC3<0, 0, Loading!AC3) -> 0 | NH5: =IF(Loading!AC43<0, 0, Loading!AC43) -> 0 | NI5: =IF(Loading!AC83<0, 0, Loading!AC83) -> 0 | NJ5: =IF(Loading!AC123<0, 0, Loading!AC123) -> 0 | NK5: =IF(Loading!AC163<0, 0, Loading!AC163) -> 0 | NL5: =IF(Loading!AC203<0, 0, Loading!AC203) -> 0 | NM5: =IF(Loading!AC243<0, 0, Loading!AC243) -> 0 | NN5: =IF(Loading!AC283<0, 0, Loading!AC283) -> 0 | NO5: =IF(Loading!AC323<0, 0, Loading!AC323) -> 0 | NP5: =IF(Loading!AC363<0, 0, Loading!AC363) -> 0 | NQ5: =IF(Loading!AC403<0, 0, Loading!AC403) -> 0 | NR5: =IF(Loading!AC443<0, 0, Loading!AC443) -> 0 | NS5: =IF(Loading!AC483<0, 0, Loading!AC483) -> 0 | NT5: =IF(Loading!AC523<0, 0, Loading!AC523) -> 0 | NU5: =IF(Loading!AC563<0, 0, Loading!AC563) -> 0 | NV5: =IF(Loading!AC603<0, 0, Loading!AC603) -> 0 | NW5: =IF(Loading!AD3<0, 0, Loading!AD3) -> 0 | NX5: =IF(Loading!AD43<0, 0, Loading!AD43) -> 0 | NY5: =IF(Loading!AD83<0, 0, Loading!AD83) -> 0 | NZ5: =IF(Loading!AD123<0, 0, Loading!AD123) -> 0 | OA5: =IF(Loading!AD163<0, 0, Loading!AD163) -> 0 | OB5: =IF(Loading!AD203<0, 0, Loading!AD203) -> 0 | OC5: =IF(Loading!AD243<0, 0, Loading!AD243) -> 0 | OD5: =IF(Loading!AD283<0, 0, Loading!AD283) -> 0 | OE5: =IF(Loading!AD323<0, 0, Loading!AD323) -> 0 | OF5: =IF(Loading!AD363<0, 0, Loading!AD363) -> 0 | OG5: =IF(Loading!AD403<0, 0, Loading!AD403) -> 0 | OH5: =IF(Loading!AD443<0, 0, Loading!AD443) -> 0 | OI5: =IF(Loading!AD483<0, 0, Loading!AD483) -> 0 | OJ5: =IF(Loading!AD523<0, 0, Loading!AD523) -> 0 | OK5: =IF(Loading!AD563<0, 0, Loading!AD563) -> 0 | OL5: =IF(Loading!AD603<0, 0, Loading!AD603) -> 0 | OM5: =IF(Loading!AE3<0, 0, Loading!AE3) -> 0 | ON5: =IF(Loading!AE43<0, 0, Loading!AE43) -> 0 | OO5: =IF(Loading!AE83<0, 0, Loading!AE83) -> 0 | OP5: =IF(Loading!AE123<0, 0, Loading!AE123) -> 0 | OQ5: =IF(Loading!AE163<0, 0, Loading!AE163) -> 0 | OR5: =IF(Loading!AE203<0, 0, Loading!AE203) -> 0 | OS5: =IF(Loading!AE243<0, 0, Loading!AE243) -> 0 | OT5: =IF(Loading!AE283<0, 0, Loading!AE283) -> 0 | OU5: =IF(Loading!AE323<0, 0, Loading!AE323) -> 0 | OV5: =IF(Loading!AE363<0, 0, Loading!AE363) -> 0 | OW5: =IF(Loading!AE403<0, 0, Loading!AE403) -> 0 | OX5: =IF(Loading!AE443<0, 0, Loading!AE443) -> 0 | OY5: =IF(Loading!AE483<0, 0, Loading!AE483) -> 0 | OZ5: =IF(Loading!AE523<0, 0, Loading!AE523) -> 0 | PA5: =IF(Loading!AE563<0, 0, Loading!AE563) -> 0 | PB5: =IF(Loading!AE603<0, 0, Loading!AE603) -> 0 | PC5: =IF(Loading!AF3<0, 0, Loading!AF3) -> 0 | PD5: =IF(Loading!AF43<0, 0, Loading!AF43) -> 0 | PE5: =IF(Loading!AF83<0, 0, Loading!AF83) -> 0 | PF5: =IF(Loading!AF123<0, 0, Loading!AF123) -> 0 | PG5: =IF(Loading!AF163<0, 0, Loading!AF163) -> 0 | PH5: =IF(Loading!AF203<0, 0, Loading!AF203) -> 0 | PI5: =IF(Loading!AF243<0, 0, Loading!AF243) -> 0 | PJ5: =IF(Loading!AF283<0, 0, Loading!AF283) -> 0 | PK5: =IF(Loading!AF323<0, 0, Loading!AF323) -> 0 | PL5: =IF(Loading!AF363<0, 0, Loading!AF363) -> 0 | PM5: =IF(Loading!AF403<0, 0, Loading!AF403) -> 0 | PN5: =IF(Loading!AF443<0, 0, Loading!AF443) -> 0 | PO5: =IF(Loading!AF483<0, 0, Loading!AF483) -> 0 | PP5: =IF(Loading!AF523<0, 0, Loading!AF523) -> 0 | PQ5: =IF(Loading!AF563<0, 0, Loading!AF563) -> 0 | PR5: =IF(Loading!AF603<0, 0, Loading!AF603) -> 0 | PS5: =IF(Loading!AG3<0, 0, Loading!AG3) -> 0 | PT5: =IF(Loading!AG43<0, 0, Loading!AG43) -> 0 | PU5: =IF(Loading!AG83<0, 0, Loading!AG83) -> 0 | PV5: =IF(Loading!AG123<0, 0, Loading!AG123) -> 0 | PW5: =IF(Loading!AG163<0, 0, Loading!AG163) -> 0 | PX5: =IF(Loading!AG203<0, 0, Loading!AG203) -> 0 | PY5: =IF(Loading!AG243<0, 0, Loading!AG243) -> 0 | PZ5: =IF(Loading!AG283<0, 0, Loading!AG283) -> 0 | QA5: =IF(Loading!AG323<0, 0, Loading!AG323) -> 0 | QB5: =IF(Loading!AG363<0, 0, Loading!AG363) -> 0 | QC5: =IF(Loading!AG403<0, 0, Loading!AG403) -> 0 | QD5: =IF(Loading!AG443<0, 0, Loading!AG443) -> 0 | QE5: =IF(Loading!AG483<0, 0, Loading!AG483) -> 0 | QF5: =IF(Loading!AG523<0, 0, Loading!AG523) -> 0 | QG5: =IF(Loading!AG563<0, 0, Loading!AG563) -> 0 | QH5: =IF(Loading!AG603<0, 0, Loading!AG603) -> 0 | QI5: =IF(Loading!AH3<0, 0, Loading!AH3) -> 0 | QJ5: =IF(Loading!AH43<0, 0, Loading!AH43) -> 0 | QK5: =IF(Loading!AH83<0, 0, Loading!AH83) -> 0 | QL5: =IF(Loading!AH123<0, 0, Loading!AH123) -> 0 | QM5: =IF(Loading!AH163<0, 0, Loading!AH163) -> 0 | QN5: =IF(Loading!AH203<0, 0, Loading!AH203) -> 0 | QO5: =IF(Loading!AH243<0, 0, Loading!AH243) -> 0 | QP5: =IF(Loading!AH283<0, 0, Loading!AH283) -> 0 | QQ5: =IF(Loading!AH323<0, 0, Loading!AH323) -> 0 | QR5: =IF(Loading!AH363<0, 0, Loading!AH363) -> 0 | QS5: =IF(Loading!AH403<0, 0, Loading!AH403) -> 0 | QT5: =IF(Loading!AH443<0, 0, Loading!AH443) -> 0 | QU5: =IF(Loading!AH483<0, 0, Loading!AH483) -> 0 | QV5: =IF(Loading!AH523<0, 0, Loading!AH523) -> 0 | QW5: =IF(Loading!AH563<0, 0, Loading!AH563) -> 0 | QX5: =IF(Loading!AH603<0, 0, Loading!AH603) -> 0 | QY5: =IF(Loading!AI3<0, 0, Loading!AI3) -> 0 | QZ5: =IF(Loading!AI43<0, 0, Loading!AI43) -> 0 | RA5: =IF(Loading!AI83<0, 0, Loading!AI83) -> 0 | RB5: =IF(Loading!AI123<0, 0, Loading!AI123) -> 0 | RC5: =IF(Loading!AI163<0, 0, Loading!AI163) -> 0 | RD5: =IF(Loading!AI203<0, 0, Loading!AI203) -> 0 | RE5: =IF(Loading!AI243<0, 0, Loading!AI243) -> 0 | RF5: =IF(Loading!AI283<0, 0, Loading!AI283) -> 0 | RG5: =IF(Loading!AI323<0, 0, Loading!AI323) -> 0 | RH5: =IF(Loading!AI363<0, 0, Loading!AI363) -> 0 | RI5: =IF(Loading!AI403<0, 0, Loading!AI403) -> 0 | RJ5: =IF(Loading!AI443<0, 0, Loading!AI443) -> 0 | RK5: =IF(Loading!AI483<0, 0, Loading!AI483) -> 0 | RL5: =IF(Loading!AI523<0, 0, Loading!AI523) -> 0 | RM5: =IF(Loading!AI563<0, 0, Loading!AI563) -> 0 | RN5: =IF(Loading!AI603<0, 0, Loading!AI603) -> 0 | SN5: =(1+$Y$2)*MEDIAN(C5:C8) -> 0 | SO5: =(1+$Y$2)*MEDIAN(D5:D8) -> 0 | SP5: =(1+$Y$2)*MEDIAN(E5:E8) -> 0 | SQ5: =(1+$Y$2)*MEDIAN(F5:F8) -> 0 | SR5: =(1+$Y$2)*MEDIAN(G5:G8) -> 0 | SS5: =(1+$Y$2)*MEDIAN(H5:H8) -> 0 | ST5: =(1+$Y$2)*MEDIAN(I5:I8) -> 0 | SU5: =(1+$Y$2)*MEDIAN(J5:J8) -> 0 | ... ALS5: =(1+$Y$2)*MEDIAN(SH5:SH8) -> #NUM!
